Workbook
Name _RAN1: #REF!
Name ACCOUNTS_REVEIVABLE_FINANCING_1402: #REF!
Name BankName: [1]Codes!$A$1:$A$9
Name BankName: Codes!$A$1:$A$9
Name Banknames: [2]lookup!$B$2:$C$26
Name Banks: [3]Codes!#REF!
Name BLOCK_DISCOUNTING_140203: #REF!
Name BORDER1: #REF!
Name BRIDGING_FINANCE_140301: #REF!
Name CCYTYPE: [2]lookup!$F$2:$G$28
Name CENTRAL_GOVERNMENT_14010101: #REF!
Name CENTRAL_GOVERNMENT_14010201: #REF!
Name CENTRAL_GOVERNMENT_14010301: #REF!
Name CENTRAL_GOVERNMENT_14010401: #REF!
Name CENTRAL_GOVERNMENT_14010501: #REF!
Name CENTRAL_GOVERNMENT_14020101: #REF!
Name CENTRAL_GOVERNMENT_14020201: #REF!
Name CENTRAL_GOVERNMENT_14020301: #REF!
Name CENTRAL_GOVERNMENT_14030101: #REF!
Name CENTRAL_GOVERNMENT_14030201: #REF!
Name CENTRAL_GOVERNMENT_140401: #REF!
Name COMMERCIAL_BANKS_14010105: #REF!
Name COMMERCIAL_BANKS_14010205: #REF!
Name COMMERCIAL_BANKS_14010305: #REF!
Name COMMERCIAL_BANKS_14010405: #REF!
Name COMMERCIAL_BANKS_14010505: #REF!
Name COMMERCIAL_BANKS_14020105: #REF!
Name COMMERCIAL_BANKS_14020205: #REF!
Name COMMERCIAL_BANKS_14020305: #REF!
Name COMMERCIAL_BANKS_14030105: #REF!
Name COMMERCIAL_BANKS_14030205: #REF!
Name COMMERCIAL_BANKS_140405: #REF!
Name CONSUMERS_14010110: #REF!
Name CONSUMERS_14010210: #REF!
Name CONSUMERS_14010310: #REF!
Name CONSUMERS_14010410: #REF!
Name CONSUMERS_14010510: #REF!
Name CONSUMERS_14020110: #REF!
Name CONSUMERS_14020210: #REF!
Name CONSUMERS_14020310: #REF!
Name CONSUMERS_14030110: #REF!
Name CONSUMERS_14030210: #REF!
Name CONSUMERS_140410: #REF!
Name CUS_EQUITY: #REF!
Name DEMAND_140102: #REF!
Name DISCOUNTS_140105: #REF!
Name dot: "."
Name FACTORING_140201: #REF!
Name GENERAL_LOAN_PROVISION_140901: #REF!
Name INCORPORATED_BUSINESS_14010108: #REF!
Name INCORPORATED_BUSINESS_14010208: #REF!
Name INCORPORATED_BUSINESS_14010308: #REF!
Name INCORPORATED_BUSINESS_14010408: #REF!
Name INCORPORATED_BUSINESS_14010508: #REF!
Name INCORPORATED_BUSINESS_14020108: #REF!
Name INCORPORATED_BUSINESS_14020208: #REF!
Name INCORPORATED_BUSINESS_14020308: #REF!
Name INCORPORATED_BUSINESS_14030108: #REF!
Name INCORPORATED_BUSINESS_14030208: #REF!
Name INCORPORATED_BUSINESS_140408: #REF!

Sheet COVER PAGE
C2: CENTRAL BANK OF TRINIDAD AND TOBAGO
C4: Top 20 Borrowers and Depositors
C5: V1.1
C6: FOR
C7: Select Institution
C8: For the Quarter Ended:
C9: Month | F9: Select Month
C10: Year | F10: Select Year
C11: Date Submitted:
F13: mm/dd/yyyy

Sheet General Instructions
A1: Instructions for Licensees
A2: 1 | B2: On the Signature Worksheet, the name of the preparer and name of the authorized person approving the return must be entered.
A3: 2 | B3: Licensees are required to complete 6 worksheets (3 for borrowers and 3 for depositors) each categorized by Consumers, Business, and Government.
A4: 3 | B4: Licensees must list the top 20 borrowers and depositors for each worksheet i.e. Consumers, Business, Government labelled BC1, BC2, BC3 for the borrowers section and DC1, DC2, and DC3 for the depositors section.
A5: 4 | B5: On the Borrowers' worksheets, where a borrower group is to be listed, licensees may insert rows to accommodate the listing of all individual exposures within the borrower group. Rows should be inserted by right-clicking on the very first column on your left, which highlights the entire row, and then click insert.
A6: 5 | B6: Licensees should only enter data in the Unshaded cells in the worksheets i.e. Columns B to I; ; Cells K4 and L4 of the Worksheet titled "Borrowers - Consumers BC1"; and Cell K4 of the Worksheet titled "Depositors - Consumers DC1"; Column G in each worksheet should list the actual foreign currency amount and Column I should list the TTD equivalent.
A7: 6 | B7: The totals entered in Cells K4 and L4 on the "Borrowers - Consumers BC1" Worksheet and K4 of the "Depositors - Consumers DC1" Worksheet should equal the total loans and deposits respectively (i.e. consumers, business, and government) on your CB20.
A8: 7 | B8: Licensees must enter its total capital only in the "Borrowers - Consumers BC1" Worksheet and this total must equal the total capital on your CB20.
A9: 8 | B9: On the Depositors' Worksheets, if the "Type of Deposit" under Column E is a Savings or Demand Account, then select "NA" from the dropdown box under "Period of Deposit" in Column I. Alternatively, if you select "Time Deposit" under Column E, you should select the appropriate period of the Time Deposit from the dropdown box under Column I
A10: 9 | B10: CONVERTING TO .XLSX AND SAVING FOR SUBMISSION: Select the "Break Links and Save" button on the "COVER PAGE" tab to save the final version for submission. Follow the prompts to break all external links and save the return as .xlsx. Remember to save the file in the recommended naming convention "Institution Code_TOP20_V1.1_MMMYYYY". Once the steps above are completed the submission can be uploaded into GoAnywhere.

Sheet Borrowers - Consumers BC1
B3: TOP 20 BORROWERS AS AT QUARTER ENDED | D3: =CONCATENATE('COVER PAGE'!F9," ",'COVER PAGE'!F10) -> Select Month Select Year | K3: Total Loans TTD ($ '000) | L3: Total Capital TTD ($ '000)
B4: Borrower or Borrower Group Ranking | C4: Customer Name | D4: Borrower Group | E4: Status of Facility (Select from Dropdown box) | F4: TTD Borrowings ($ '000) | G4: FX BORROWINGS | J4: Total Borrowings TTD ($ '000)
G5: Borrowings in FX Currency ($'000) | H5: FX Currency (Select from Dropdown Box) | I5: TTD Equiv. Borrowings converted at rate used by FI TTD ($ '000) | K5: % of Total Loans | L5: % of Total Capital
B6: 1 | J6: =F6+I6 -> 0 | K6: =J6/$K$4 -> #DIV/0! | L6: =J6/$L$4 -> #DIV/0!
B7: 2 | J7: =F7+I7 -> 0 | K7: =J7/$K$4 -> #DIV/0! | L7: =J7/$L$4 -> #DIV/0!
B8: 3 | J8: =F8+I8 -> 0 | K8: =J8/$K$4 -> #DIV/0! | L8: =J8/$L$4 -> #DIV/0!
B9: 4 | J9: =F9+I9 -> 0 | K9: =J9/$K$4 -> #DIV/0! | L9: =J9/$L$4 -> #DIV/0!
B10: 5 | J10: =F10+I10 -> 0 | K10: =J10/$K$4 -> #DIV/0! | L10: =J10/$L$4 -> #DIV/0!
B11: 6 | J11: =F11+I11 -> 0 | K11: =J11/$K$4 -> #DIV/0! | L11: =J11/$L$4 -> #DIV/0!
B12: 7 | J12: =F12+I12 -> 0 | K12: =J12/$K$4 -> #DIV/0! | L12: =J12/$L$4 -> #DIV/0!
B13: 8 | J13: =F13+I13 -> 0 | K13: =J13/$K$4 -> #DIV/0! | L13: =J13/$L$4 -> #DIV/0!
B14: 9 | J14: =F14+I14 -> 0 | K14: =J14/$K$4 -> #DIV/0! | L14: =J14/$L$4 -> #DIV/0!
B15: 10 | J15: =F15+I15 -> 0 | K15: =J15/$K$4 -> #DIV/0! | L15: =J15/$L$4 -> #DIV/0!
B16: 11 | J16: =F16+I16 -> 0 | K16: =J16/$K$4 -> #DIV/0! | L16: =J16/$L$4 -> #DIV/0!
B17: 12 | J17: =F17+I17 -> 0 | K17: =J17/$K$4 -> #DIV/0! | L17: =J17/$L$4 -> #DIV/0!
... B25: 20 | J25: =F25+I25 -> 0 | K25: =J25/$K$4 -> #DIV/0! | L25: =J25/$L$4 -> #DIV/0!
B27: GRAND TOTAL | F27: =SUM(F6:F25) -> 0 | I27: =SUM(I6:I25) -> 0 | J27: =SUM(J6:J25) -> 0 | L27: =SUM(L6:L25) -> #DIV/0!

Sheet Borrowers - Business BC2
B3: TOP 20 BORROWERS AS AT QUARTER ENDED | D3: =CONCATENATE('COVER PAGE'!F9," ",'COVER PAGE'!F10) -> Select Month Select Year | K3: Total Loans TTD ($ '000) | L3: Total Capital TTD ($ '000)
B4: Borrower or Borrower Group Ranking | C4: Customer Name | D4: Borrower Group | E4: Status of Facility (Select from Dropdown Box) | F4: TTD Borrowings ($ '000) | G4: FX BORROWINGS | J4: Total Borrowings TTD ($ '000) | K4: ='Borrowers - Consumers BC1'!$K$4 -> 0 | L4: ='Borrowers - Consumers BC1'!$L$4 -> 0
G5: Borrowings in FX Currency ($'000) | H5: FX Currency (Select from Dropdown Box) | I5: TTD Equiv. Borrowings converted at rate used by FI TTD ($ '000) | K5: % of Total Loans | L5: % of Total Capital
B6: 1 | J6: =F6+I6 -> 0 | K6: =J6/$K$4 -> #DIV/0! | L6: =J6/$L$4 -> #DIV/0!
B7: 2 | J7: =F7+I7 -> 0 | K7: =J7/$K$4 -> #DIV/0! | L7: =J7/$L$4 -> #DIV/0!
B8: 3 | J8: =F8+I8 -> 0 | K8: =J8/$K$4 -> #DIV/0! | L8: =J8/$L$4 -> #DIV/0!
B9: 4 | J9: =F9+I9 -> 0 | K9: =J9/$K$4 -> #DIV/0! | L9: =J9/$L$4 -> #DIV/0!
B10: 5 | J10: =F10+I10 -> 0 | K10: =J10/$K$4 -> #DIV/0! | L10: =J10/$L$4 -> #DIV/0!
B11: 6 | J11: =F11+I11 -> 0 | K11: =J11/$K$4 -> #DIV/0! | L11: =J11/$L$4 -> #DIV/0!
B12: 7 | J12: =F12+I12 -> 0 | K12: =J12/$K$4 -> #DIV/0! | L12: =J12/$L$4 -> #DIV/0!
B13: 8 | J13: =F13+I13 -> 0 | K13: =J13/$K$4 -> #DIV/0! | L13: =J13/$L$4 -> #DIV/0!
B14: 9 | J14: =F14+I14 -> 0 | K14: =J14/$K$4 -> #DIV/0! | L14: =J14/$L$4 -> #DIV/0!
B15: 10 | J15: =F15+I15 -> 0 | K15: =J15/$K$4 -> #DIV/0! | L15: =J15/$L$4 -> #DIV/0!
B16: 11 | J16: =F16+I16 -> 0 | K16: =J16/$K$4 -> #DIV/0! | L16: =J16/$L$4 -> #DIV/0!
B17: 12 | J17: =F17+I17 -> 0 | K17: =J17/$K$4 -> #DIV/0! | L17: =J17/$L$4 -> #DIV/0!
... B25: 20 | J25: =F25+I25 -> 0 | K25: =J25/$K$4 -> #DIV/0! | L25: =J25/$L$4 -> #DIV/0!
B27: GRAND TOTAL | F27: =SUM(F6:F25) -> 0 | I27: =SUM(I6:I25) -> 0 | J27: =SUM(J6:J25) -> 0 | L27: =SUM(L6:L25) -> #DIV/0!

Sheet Borrowers - Govt BC3
B3: TOP 20 BORROWERS AS AT QUARTER ENDED | D3: =CONCATENATE('COVER PAGE'!F9," ",'COVER PAGE'!F10) -> Select Month Select Year | K3: Total Loans TTD ($ '000) | L3: Total Capital TTD ($ '000)
B4: Borrower or Borrower Group Ranking | C4: Customer Name | D4: Borrower Group | E4: Status of Facility (Select from Dropdown Box) | F4: TTD Borrowings ($ '000) | G4: FX BORROWINGS | J4: Total Borrowings TTD ($ '000) | K4: ='Borrowers - Consumers BC1'!K4 -> 0 | L4: ='Borrowers - Consumers BC1'!L4 -> 0
G5: Borrowings in FX Currency ($'000) | H5: FX Currency (Select from Dropdown Box) | I5: TTD Equiv. Borrowings converted at rate used by the FI TTD ($ '000) | K5: % of Total Loans | L5: % of Total Capital
B6: 1 | J6: =F6+I6 -> 0 | K6: =J6/$K$4 -> #DIV/0! | L6: =J6/$L$4 -> #DIV/0!
B7: 2 | J7: =F7+I7 -> 0 | K7: =J7/$K$4 -> #DIV/0! | L7: =J7/$L$4 -> #DIV/0!
B8: 3 | J8: =F8+I8 -> 0 | K8: =J8/$K$4 -> #DIV/0! | L8: =J8/$L$4 -> #DIV/0!
B9: 4 | J9: =F9+I9 -> 0 | K9: =J9/$K$4 -> #DIV/0! | L9: =J9/$L$4 -> #DIV/0!
B10: 5 | J10: =F10+I10 -> 0 | K10: =J10/$K$4 -> #DIV/0! | L10: =J10/$L$4 -> #DIV/0!
B11: 6 | J11: =F11+I11 -> 0 | K11: =J11/$K$4 -> #DIV/0! | L11: =J11/$L$4 -> #DIV/0!
B12: 7 | J12: =F12+I12 -> 0 | K12: =J12/$K$4 -> #DIV/0! | L12: =J12/$L$4 -> #DIV/0!
B13: 8 | J13: =F13+I13 -> 0 | K13: =J13/$K$4 -> #DIV/0! | L13: =J13/$L$4 -> #DIV/0!
B14: 9 | J14: =F14+I14 -> 0 | K14: =J14/$K$4 -> #DIV/0! | L14: =J14/$L$4 -> #DIV/0!
B15: 10 | J15: =F15+I15 -> 0 | K15: =J15/$K$4 -> #DIV/0! | L15: =J15/$L$4 -> #DIV/0!
B16: 11 | J16: =F16+I16 -> 0 | K16: =J16/$K$4 -> #DIV/0! | L16: =J16/$L$4 -> #DIV/0!
B17: 12 | J17: =F17+I17 -> 0 | K17: =J17/$K$4 -> #DIV/0! | L17: =J17/$L$4 -> #DIV/0!
... B25: 20 | J25: =F25+I25 -> 0 | K25: =J25/$K$4 -> #DIV/0! | L25: =J25/$L$4 -> #DIV/0!
B27: GRAND TOTAL | F27: =SUM(F6:F25) -> 0 | I27: =SUM(I6:I25) -> 0 | J27: =SUM(J6:J25) -> 0 | L27: =SUM(L6:L25) -> #DIV/0!

Sheet Depositors - Consumers DC1
B3: TOP 20 DEPOSITORS AS AT QUARTER ENDED | D3: =CONCATENATE('COVER PAGE'!F9," ",'COVER PAGE'!F10) -> Select Month Select Year | K3: Total Deposits TTD ($ '000) | L3: Total Capital TTD ($ '000)
B4: Ranking | C4: Customer Name | D4: TTD Deposits ($ '000) | E4: FX DEPOSITS | H4: Type of Deposit (Select from Dropdown Box) | I4: Period of Deposit (Original date to Maturity) Select from Dropdown Box | J4: Total Deposits TTD ($ '000) | L4: ='Borrowers - Consumers BC1'!L4 -> 0
E5: Deposits in FX Currency ($ '000) | F5: FX Currency (Select from Dropdown Box) | G5: TTD Equiv. Deposits converted at rate used by FI TTD ($ '000) | K5: % of Total Deposits | L5: Number of times x Capital
B6: 1 | J6: =D6+G6 -> 0 | K6: =J6/$K$4 -> #DIV/0! | L6: =J6/$L$4 -> #DIV/0!
B7: 2 | J7: =D7+G7 -> 0 | K7: =J7/$K$4 -> #DIV/0! | L7: =J7/$L$4 -> #DIV/0!
B8: 3 | J8: =D8+G8 -> 0 | K8: =J8/$K$4 -> #DIV/0! | L8: =J8/$L$4 -> #DIV/0!
B9: 4 | J9: =D9+G9 -> 0 | K9: =J9/$K$4 -> #DIV/0! | L9: =J9/$L$4 -> #DIV/0!
B10: 5 | J10: =D10+G10 -> 0 | K10: =J10/$K$4 -> #DIV/0! | L10: =J10/$L$4 -> #DIV/0!
B11: 6 | J11: =D11+G11 -> 0 | K11: =J11/$K$4 -> #DIV/0! | L11: =J11/$L$4 -> #DIV/0!
B12: 7 | J12: =D12+G12 -> 0 | K12: =J12/$K$4 -> #DIV/0! | L12: =J12/$L$4 -> #DIV/0!
B13: 8 | J13: =D13+G13 -> 0 | K13: =J13/$K$4 -> #DIV/0! | L13: =J13/$L$4 -> #DIV/0!
B14: 9 | J14: =D14+G14 -> 0 | K14: =J14/$K$4 -> #DIV/0! | L14: =J14/$L$4 -> #DIV/0!
B15: 10 | J15: =D15+G15 -> 0 | K15: =J15/$K$4 -> #DIV/0! | L15: =J15/$L$4 -> #DIV/0!
B16: 11 | J16: =D16+G16 -> 0 | K16: =J16/$K$4 -> #DIV/0! | L16: =J16/$L$4 -> #DIV/0!
B17: 12 | J17: =D17+G17 -> 0 | K17: =J17/$K$4 -> #DIV/0! | L17: =J17/$L$4 -> #DIV/0!
... B25: 20 | J25: =D25+G25 -> 0 | K25: =J25/$K$4 -> #DIV/0! | L25: =J25/$L$4 -> #DIV/0!
B27: GRAND TOTAL | D27: =SUM(D6:D25) -> 0 | G27: =SUM(G6:G25) -> 0 | I27: =SUM(I6:I25) -> 0 | J27: =SUM(J6:J25) -> 0

Sheet Depositors - Business DC2
B3: TOP 20 DEPOSITORS AS AT QUARTER ENDED | D3: =CONCATENATE('COVER PAGE'!F9," ",'COVER PAGE'!F10) -> Select Month Select Year | K3: Total Deposits TTD ($ '000) | L3: Total Capital TTD ($ '000)
B4: Ranking | C4: Customer Name | D4: TTD Deposits ($ '000) | E4: FX DEPOSITS | H4: Type of Deposit (Select from Dropdown Box) | I4: Period of Deposit (Original date to Maturity) Select from Dropdown Box | J4: Total Deposits TTD ($ '000) | K4: ='Depositors - Consumers DC1'!K4 -> 0 | L4: ='Borrowers - Consumers BC1'!L4 -> 0
E5: Deposits in FX Currency ($ '000) | F5: FX Currency (Select from Dropdown Box) | G5: TTD Equiv. Deposits converted at rate used by FI TTD ($ '000) | K5: % of Total Deposits | L5: Number of times x Capital
B6: 1 | J6: =D6+G6 -> 0 | K6: =J6/$K$4 -> #DIV/0! | L6: =J6/$L$4 -> #DIV/0!
B7: 2 | J7: =D7+G7 -> 0 | K7: =J7/$K$4 -> #DIV/0! | L7: =J7/$L$4 -> #DIV/0!
B8: 3 | J8: =D8+G8 -> 0 | K8: =J8/$K$4 -> #DIV/0! | L8: =J8/$L$4 -> #DIV/0!
B9: 4 | J9: =D9+G9 -> 0 | K9: =J9/$K$4 -> #DIV/0! | L9: =J9/$L$4 -> #DIV/0!
B10: 5 | J10: =D10+G10 -> 0 | K10: =J10/$K$4 -> #DIV/0! | L10: =J10/$L$4 -> #DIV/0!
B11: 6 | J11: =D11+G11 -> 0 | K11: =J11/$K$4 -> #DIV/0! | L11: =J11/$L$4 -> #DIV/0!
B12: 7 | J12: =D12+G12 -> 0 | K12: =J12/$K$4 -> #DIV/0! | L12: =J12/$L$4 -> #DIV/0!
B13: 8 | J13: =D13+G13 -> 0 | K13: =J13/$K$4 -> #DIV/0! | L13: =J13/$L$4 -> #DIV/0!
B14: 9 | J14: =D14+G14 -> 0 | K14: =J14/$K$4 -> #DIV/0! | L14: =J14/$L$4 -> #DIV/0!
B15: 10 | J15: =D15+G15 -> 0 | K15: =J15/$K$4 -> #DIV/0! | L15: =J15/$L$4 -> #DIV/0!
B16: 11 | J16: =D16+G16 -> 0 | K16: =J16/$K$4 -> #DIV/0! | L16: =J16/$L$4 -> #DIV/0!
B17: 12 | J17: =D17+G17 -> 0 | K17: =J17/$K$4 -> #DIV/0! | L17: =J17/$L$4 -> #DIV/0!
... B25: 20 | J25: =D25+G25 -> 0 | K25: =J25/$K$4 -> #DIV/0! | L25: =J25/$L$4 -> #DIV/0!
B27: GRAND TOTAL | D27: =SUM(D6:D25) -> 0 | G27: =SUM(G6:G25) -> 0 | I27: =SUM(I6:I25) -> 0 | J27: =SUM(J6:J25) -> 0

Sheet Depositors - Govt DC3
B3: TOP 20 DEPOSITORS AS AT QUARTER ENDED | D3: =CONCATENATE('COVER PAGE'!F9," ",'COVER PAGE'!F10) -> Select Month Select Year | K3: Total Deposits TTD ($ '000) | L3: Total Capital TTD ($ '000)
B4: Ranking | C4: Customer Name | D4: TTD Deposits ($ '000) | E4: FX DEPOSITS | H4: Type of Deposit (Select from Dropdown Box) | I4: Period of Deposit (Original date to Maturity) Select from Dropdown Box | J4: Total Deposits TTD ($ '000) | K4: ='Depositors - Consumers DC1'!K4 -> 0 | L4: ='Borrowers - Consumers BC1'!L4 -> 0
E5: Deposits in FX Currency ($ '000) | F5: FX Currency (Select from Dropdown Box) | G5: TTD Equiv. Deposits converted at rate used by FI TTD ($ '000) | K5: % of Total Deposits | L5: Number of times x Capital
B6: 1 | J6: =D6+G6 -> 0 | K6: =J6/$K$4 -> #DIV/0! | L6: =J6/$L$4 -> #DIV/0!
B7: 2 | J7: =D7+G7 -> 0 | K7: =J7/$K$4 -> #DIV/0! | L7: =J7/$L$4 -> #DIV/0!
B8: 3 | J8: =D8+G8 -> 0 | K8: =J8/$K$4 -> #DIV/0! | L8: =J8/$L$4 -> #DIV/0!
B9: 4 | J9: =D9+G9 -> 0 | K9: =J9/$K$4 -> #DIV/0! | L9: =J9/$L$4 -> #DIV/0!
B10: 5 | J10: =D10+G10 -> 0 | K10: =J10/$K$4 -> #DIV/0! | L10: =J10/$L$4 -> #DIV/0!
B11: 6 | J11: =D11+G11 -> 0 | K11: =J11/$K$4 -> #DIV/0! | L11: =J11/$L$4 -> #DIV/0!
B12: 7 | J12: =D12+G12 -> 0 | K12: =J12/$K$4 -> #DIV/0! | L12: =J12/$L$4 -> #DIV/0!
B13: 8 | J13: =D13+G13 -> 0 | K13: =J13/$K$4 -> #DIV/0! | L13: =J13/$L$4 -> #DIV/0!
B14: 9 | J14: =D14+G14 -> 0 | K14: =J14/$K$4 -> #DIV/0! | L14: =J14/$L$4 -> #DIV/0!
B15: 10 | J15: =D15+G15 -> 0 | K15: =J15/$K$4 -> #DIV/0! | L15: =J15/$L$4 -> #DIV/0!
B16: 11 | J16: =D16+G16 -> 0 | K16: =J16/$K$4 -> #DIV/0! | L16: =J16/$L$4 -> #DIV/0!
B17: 12 | J17: =D17+G17 -> 0 | K17: =J17/$K$4 -> #DIV/0! | L17: =J17/$L$4 -> #DIV/0!
... B25: 20 | J25: =D25+G25 -> 0 | K25: =J25/$K$4 -> #DIV/0! | L25: =J25/$L$4 -> #DIV/0!
B27: GRAND TOTAL | D27: =SUM(D6:D25) -> 0 | G27: =SUM(G6:G25) -> 0 | I27: =SUM(I6:I25) -> 0 | J27: =SUM(J6:J25) -> 0

Sheet SIGNATURE 
B6: Name of Person Completing Form | D6: Signature of Person Completing Form
B7: (Block Letters)
B12: Name of Authorised Official | D12: Signature of Authorised Official
B13: (Block Letters)
B18: Position/Office Held | D18: Date
B19: (Place Company Stamp)
B22: I hereby certify that data submitted in the e-copy submission are the exact values in the hard-copy return for this period.
B25: Name of Authorised Official
B28: Position/Office Held
B31: Date

Sheet Codes
A1: Select Institution | B1: - | D1: Select Year | E1: Select Month
A2: ANSA Bank Limited | B2: BBDA | D2: 2020 | E2: March
A3: ANSA Merchant Bank Limited | B3: AMAL | D3: 2021 | E3: June
A4: Caribbean Finance Company Limited | B4: CFC | D4: 2022 | E4: September
A5: CIBC Caribbean Bank Limited (Trinidad and Tobago) | B5: FCIB | D5: 2023 | E5: December
A6: Citibank (Trinidad & Tobago) Limited | B6: CITI | D6: 2024
A7: Citicorp Merchant Bank Limited | B7: CMBL | D7: 2025
A8: Development Finance Limited | B8: DFL | D8: 2026
A9: Fidelity Finance and Leasing Company Limited | B9: FFL | D9: 2027
A10: First Citizens Bank Limited | B10: FCB | D10: 2028
A11: First Citizens Depository Services Limited | B11: FCMT | D11: 2029
A12: First Citizens Trustee Services Limited | B12: FCTS | D12: 2030
A13: Guardian Group Trust Limited | B13: GAM | D13: 2031
A14: Island Finance Trinidad and Tobago Limited | B14: ISFL | D14: 2032
A15: JMMB Bank (T&T) Limited | B15: ICBL | D15: 2033
A16: JMMB Express Finance (T&T) Limited | B16: ITBM | D16: 2034
A17: Massy Finance GFC Limited | B17: GFC | D17: 2035
... A25: Scotiabank Trinidad and Tobago Limited | B25: BNS | D25: 2043
D26: 2044
D27: 2045
D28: 2046
D29: 2047
D30: 2048
D31: 2049
D32: 2050
