{"text_format":"1","workbook":"xlsx","n_sheets":36,"sheets":["Schedule Listing","1 Capital Ratios","2 RWA Summary","3 Capital","3A Capital from Subs","3B Supp. Subs. Info.","4 Allowance","5 Sovereign","6 PSEs","7 MDBs","8 Bank & Sec. Firms LT","8A Bank & Sec. Firms ST"," 9 Corp. & Sec. Firms LT","9A Corp. & Sec. Firms ST","10 Commercial Real Estate","11 Residential Mortgages","12 Other Retail","13 SBE Other Retail","14 Private Equity","15 Trading","16 Securitization Calcn","17 Other Assets","18 Off-Balance Sheet","19 Derivatives","20 Securitization Banking book","21 Market Risk - Foreign Exch.","21A Market  Risk - Trigger","21B Market Risk - IRR Spec.","21C Market Risk - IRR Gen.","21D Market Risk - Equity & Com.","21E Market Risk - Options","22 Op Risk","23 Obligor - Guarantor","24 Reconciliation","ASCII","Lists"],"not_rendered":{"charts":0,"images":1,"macros":1,"external_links":0,"defined_names":178,"comments":1,"pivot_tables":0},"unopened":[],"bounds":{"document_bytes":16777216,"sheet_cells":100000,"rows_first":2000,"rows_last":500,"rows_between":2000,"halvings":0,"cell_chars":16384,"cell_head_chars":4096},"cells_cut":0,"cells_raw":0,"read":"whole","date_system":"1900"}

{"sheet":"Schedule Listing","index":0,"n_rows":54,"n_cols":3,"rows_kept":54,"cut":false,"hidden":false,"merged":[[21,2,21,5],[23,2,23,5],[24,2,24,5],[20,2,20,5],[8,0,8,6],[9,0,9,1],[9,2,9,5],[10,0,10,1],[10,2,10,5],[11,0,11,1],[11,2,11,5],[12,0,12,1],[14,2,15,5],[18,2,18,5],[19,2,19,5],[25,2,25,5],[34,2,34,5],[37,2,37,5],[38,2,38,5],[39,2,39,5],[33,2,33,3],[35,2,35,5],[44,2,44,5],[36,2,36,5],[51,2,51,5],[52,2,52,5],[53,2,53,5],[40,2,40,5],[41,2,41,5],[42,2,42,5],[43,2,43,5]]}
[]
[]
[]
[]
[]
[]
[]
[]
["Basel II/ III Capital Adequacy Reporting - Credit, Market, and Operational Risk"]
["Institution Code",null,"Select Institution"]
["Return Date ",null,"Select Return Date"]
["Transaction Code",null,"S00.DP0003"]
[]
["(click on a schedule's name to jump to it)"]
[]
[]
["Schedules"]
["Number"]
[1,null,"Capital Ratios"]
[2,null,"Summary of Risk-weighted Assets"]
[3,null,"Capital Elements"]
["3A",null,"Qualifying Capital Issued Out of Subsidiaries"]
["3B",null,"Supplementary Subsidiary Information"]
[4,null,"Allowance for Impairment: Capital Treatment"]
[null,null,"Credit Risk:"]
[null,null,"   Banking Book Excluding Securitization -"]
[5,null,"   Sovereign"]
[6,null,"   PSEs"]
[7,null,"   MDBs"]
[8,null,"   Bank & Sec. Firms LT"]
["8A",null,"   Bank & Sec. Firms ST"]
[9,null,"   Corp. & Sec. Firms LT"]
["9A",null,"   Corp. & Sec. Firms ST"]
[10,null,"          Commercial Real Estate"]
[11,null,"Residential Mortgages"]
[12,null,"Other Retail (excl. SBEs treated as Other Retail)"]
[13,null,"SBEs treated as Other Retail"]
[14,null,"Equity"]
[15,null,"Trading Book"]
[16,null,"Securitization Calculations"]
[17,null,"Other credit risk-weighted assets"]
[18,null,"Off-balance Sheet Exposures Excluding Derivatives and Securitization Exposures"]
[19,null,"Derivatives"]
[20,null,"Banking Book Securitization Exposures"]
[null,null,"Minimum Capital Required for Market Risk"]
[21,null,"       Market risk - Foreign Exchange Risk"]
["21A",null,"       Market Risk - Trigger"]
["21B",null,"       Market Risk - Interest Rate Risk - Specific Risk"]
["21C",null,"       Market Risk - Interest Rate Risk - General Risk"]
["21D",null,"       Market Risk - Equity and Commodities Position Risk "]
["21E",null,"       Market Risk - Option"]
[22,null,"Minimum Capital Required for Operational Risk"]
[23,null,"Gross Exposures by Original Obligor and by Ultimate Guarantor"]
[24,null,"Balance Sheet Coverage by Risk Type and Reconciliation to Consolidated Balance Sheet"]

{"sheet":"1 Capital Ratios","index":1,"n_rows":14,"n_cols":8,"rows_kept":14,"cut":false,"hidden":false,"merged":[]}
["Schedule 1 - Capital Ratios",null,null,null,null,null,null,1]
["Return to Schedule Listing"]
["(TT$ 000)"]
[]
["A  Ratio Calculations"]
["Net Common Equity Tier 1 capital (%)",null,null,null,"C from schedule 3/ H from schedule 2","S01.DP0001","A"]
["Net Tier 1 capital (%)",null,null,null,"I from schedule 3/ H from schedule 2","S01.DP0002","B"]
["Total capital adequacy ratio (%)",null,null,null,"AF from schedule 3/ H from schedule 2","S01.DP0003","C"]
[]
[]
["Target Net Common Equity Tier 1 ratio (%)",null,null,null,null,"S01.DP0004"]
["Target Net Tier 1 ratio (%)",null,null,null,null,"S01.DP0005"]
["D-SIB Capital Charge Add-on",null,null,null,null,"S01.DP0006","D"]
["Target capital adequacy ratio (%)",null,null,null,null,"S01.DP0007","E (D+10)"]

{"sheet":"2 RWA Summary","index":2,"n_rows":40,"n_cols":5,"rows_kept":40,"cut":false,"hidden":false,"merged":[]}
["Schedule 2 - Summary of Risk-weighted Assets",2]
["Return to Schedule Listing"]
["(TT$ 000)"]
[]
["Credit Risk",null,null,"Total"]
[]
["Risk-weighted assets for:"]
["Banking Book exposures"]
["Sovereign",null,null,"S02.DP0001"]
["PSEs",null,null,"S02.DP0002"]
["MDBs",null,null,"S02.DP0003"]
["Bank & Sec. Firms LT",null,null,"S02.DP0004"]
["Bank & Sec. Firms ST",null,null,"S02.DP0005"]
["Corp & Sec. Firms LT",null,null,"S02.DP0006"]
["Corp & Sec. Firms ST",null,null,"S02.DP0007"]
["Commercial Real Estate",null,null,"S02.DP0008"]
["Residential Mortgages",null,null,"S02.DP0009"]
["    Other Retail",null,null,"S02.DP0010"]
["   SBE Other retail",null,null,"S02.DP0011"]
["Equity",null,null,"S02.DP0012"]
[]
["Trading Book",null,null,"S02.DP0013"]
[]
["Securitizations",null,null,"S02.DP0014"]
[]
["Subtotal",null,null,"S02.DP0015","A"]
[]
["Other credit risk-weighted assets",null,"F from Schedule 17","S02.DP0016","B"]
[]
["Total adjusted risk-weighted assets for credit risk",null,"A + B","S02.DP0017","C"]
[]
["Market Risk"]
["Capital charge","Market Risk schedules","S02.DP0018","D"]
["Risk-weighted assets - market risk",null,"D x 10","S02.DP0019","E"]
[]
["Operational Risk"]
["Capital charge ","D from Schedule 22","S02.DP0020","F"]
["Risk-weighted assets - operational risk",null,"F x 10","S02.DP0021","G"]
[]
["Total Risk-Weighted Assets",null,"C + E + G","S02.DP0022","H"]

{"sheet":"3 Capital","index":3,"n_rows":86,"n_cols":12,"rows_kept":86,"cut":false,"hidden":false,"merged":[[77,1,77,2],[76,1,76,2],[0,0,0,4],[5,9,5,10],[64,1,65,2],[64,7,65,7],[64,6,65,6],[32,1,32,2],[33,1,33,2]]}
["Schedule 3 - Capital Elements"]
[3,null,"Return to Schedule Listing"]
["(TT$ 000)"]
[]
["Calculation of Tier 1 Capital"]
[null,null,null,null,null,"Gross Value","Discount","Discounted Amount",null,"Qualifying Amount"]
["Common Equity Tier 1 Capital"]
[null,"Fully paid issued ordinary share capital",null,null,null,null,null,null,null,null,"S03.DP0001"]
[null,"Fully paid issued ordinary share capital surplus",null,null,null,null,null,null,null,null,"S03.DP0002"]
[null,"Statutory reserve fund",null,null,null,null,null,null,null,null,"S03.DP0003"]
[null,"Capital reserves - Excluding asset revaluation reserves",null,null,null,null,null,null,null,null,"S03.DP0004"]
[null,"General reserves - Excluding those for losses on assets",null,null,null,null,null,null,null,null,"S03.DP0005"]
[null,"Retained earnings - Audited",null,null,null,null,null,null,null,null,"S03.DP0006"]
[]
["Common Equity Tier 1 Capital Before Deductions",null,null,null,null,null,null,null,null,null,"S03.DP0007","A"]
["Deductions from Common Equity Tier 1 Capital"]
[null,"Bonus shares from capitalisation of asset revaluation reserves",null,null,null,null,null,null,null,"S03.DP0008"]
[null,"Curent Year losses",null,null,null,null,null,null,null,"S03.DP0009"]
[null,"Goodwill",null,null,null,null,null,null,null,"S03.DP0010","(B from schedule 17)"]
[null,"Other Intangibles assets",null,null,null,null,null,null,null,"S03.DP0011","(C from schedule 17)"]
[]
["Total Deductions",null,null,null,null,null,null,null,null,"S03.DP0012","B"]
["Net Common Equity Tier 1 Capital",null,null,null,null,null,null,null,null,null,"S03.DP0013","C (A-B)"]
[]
["Additional Tier 1 Capital"]
[null,"Fully paid issued perpetual non-cumulative preference shares",null,null,null,null,null,null,null,null,"S03.DP0014","D"]
[null,"Fully paid issued perpetual non-cumulative preference shares surplus",null,null,null,null,null,null,null,null,"S03.DP0015","E"]
[]
["Gross Additional Tier 1 Before Deductions",null,null,null,null,null,null,null,null,null,"S03.DP0016","F (D+E)"]
["Deductions from Additional Tier 1 Capital"]
[null,"Unsettled non-DvP trades 5 days late or more",null,null,null,null,null,null,null,"S03.DP0017","(50% of A schedule 17)"]
[null,"Gain on Sale from Securitization",null,null,null,null,null,null,null,"S03.DP0018","(A from schedule 16)"]
[null,"Credit-enhancing interest-only strips,\nnet of gain on sale",null,null,null,null,null,null,null,"S03.DP0019","(B from schedule 16)"]
[null,"Rated securitization exposures",null,null,null,null,null,null,null,"S03.DP0020","(C from schedule 16)"]
[null,"Other unrated securitization exposures",null,null,null,null,null,null,null,"S03.DP0021","(D from schedule 16)"]
[]
["Total Deductions",null,null,null,null,null,null,null,null,"S03.DP0022","G"]
[]
["Net Additional Tier 1 Capital",null,null,null,null,null,null,null,null,null,"S03.DP0023","H (F-G)"]
["Net Tier 1 Capital",null,null,null,null,null,null,null,null,null,"S03.DP0024","I (C+H)"]
[]
["Tier 2 Capital"]
[null,"Fully paid issued perpetual cumulative preference shares",null,null,null,null,null,null,null,null,"S03.DP0025","J"]
[null,"Fully paid issued perpetual cumulative preference shares surplus",null,null,null,null,null,null,null,null,"S03.DP0026","K"]
[null,"Limited life redeemable preference shares with a remaining maturity of :"]
[null,null,"a. One year or less",null,null,"S03.DP0027",0,"S03.DP0034"]
[null,null,"b. Over one year through two years",null,null,"S03.DP0028",0.2,"S03.DP0035"]
[null,null,"c. Over two years through three years",null,null,"S03.DP0029",0.4,"S03.DP0036"]
[null,null,"d. Over three years through four years",null,null,"S03.DP0030",0.6,"S03.DP0037"]
[null,null,"e. Over four years through five years",null,null,"S03.DP0031",0.8,"S03.DP0038"]
[null,null,"f. Over five years",null,null,"S03.DP0032",1,"S03.DP0039"]
[null,"Total limited life redeemable preference shares",null,null,"L (sum of a. to f.)","S03.DP0033"]
[null,"Total discounted limited life redeemable preference shares",null,null,null,null,"M","S03.DP0040"]
[null,"Bonus shares from capitalisation of reserves and unrealised asset revaluation reserves",null,null,null,null,null,null,null,null,"S03.DP0041","N"]
[null,"Hybrid capital instruments",null,null,null,null,null,null,null,null,"S03.DP0042","O"]
[null,"Subordinated term debt with remaining maturity of: "]
[null,null,"a. One year or less",null,null,"S03.DP0043",0,"S03.DP0050"]
[null,null,"b. Over one year through two years",null,null,"S03.DP0044",0.2,"S03.DP0051"]
[null,null,"c. Over two years through three years",null,null,"S03.DP0045",0.4,"S03.DP0052"]
[null,null,"d. Over three years through four years",null,null,"S03.DP0046",0.6,"S03.DP0053"]
[null,null,"e. Over four years through five years",null,null,"S03.DP0047",0.8,"S03.DP0054"]
[null,null,"f. Over five years",null,null,"S03.DP0048",1,"S03.DP0055"]
[null,"Total subordinated term debt",null,null,"P (sum of a. to f.)","S03.DP0049"]
[null,"Total discounted subordinated term debt",null,null,null,null,"Q","S03.DP0056"]
[null,"Aggregate discounted amount of limited life redeemable preference shares and subordinated term debt",null,null,null,null,"R (M+Q)","S03.DP0057"]
[]
[null,"Amount of limited life preference shares and subordinated term debt allowed",null,null,null,null,null,null,null,null,"S03.DP0058","S (lesser of R and 50% of I)"]
[null,"Asset revaluation reserves",null,null,"T","S03.DP0059",null,null,null,null,"S03.DP0060","U (lesser of T and 20% of I)"]
[null,"Unaudited undivided profits ",null,null,null,null,null,null,null,null,"S03.DP0061","V"]
[null,"General reserves/provisions for losses on assets",null,null,"W","S03.DP0062"]
[null,"Eligible reserves/provisions for losses on assets - 1.25% of net risk weighted  assets",null,null,null,null,null,null,null,null,"S03.DP0063","X"]
[null,"Disallowed reserves/provisions for losses on assets",null,null,"Y (W-X)","S03.DP0064"]
[]
["Tier 2 Capital Before Deductions",null,null,null,null,null,null,null,null,null,"S03.DP0065","Z (J+K+N+O+S+U+V+X)"]
["Deductions from Tier 2 Capital"]
[null,"Unsettled non-DvP trades 5 days late or more",null,null,null,null,null,null,null,"S03.DP0066","(50% of A schedule 17)"]
[null,"Credit-enhancing interest-only strips,\nnet of gain on sale",null,null,null,null,null,null,null,"S03.DP0067","(B from schedule 16)"]
[null,"Rated securitization exposures",null,null,null,null,null,null,null,"S03.DP0068","(C from schedule 16)"]
[null,"Other unrated securitization exposures",null,null,null,null,null,null,null,"S03.DP0069","(D from schedule 16)"]
[]
["Total Deductions",null,null,null,null,null,null,null,null,"S03.DP0070","AA"]
["Net Tier 2 Capital",null,null,null,null,null,null,null,null,null,"S03.DP0071","AB (Z-AA)"]
["Allowable Tier 2 Capital",null,null,null,null,null,null,null,null,null,"S03.DP0072","AC (lesser between AB and I)"]
["Qualifying Capital",null,null,null,null,null,null,null,null,null,"S03.DP0073","AD (AC+I)"]
[null,"Investments in Banking and financial subsidiaries",null,null,null,null,null,null,null,null,"S03.DP0074","AE"]
["Adjusted Qualifying Capital",null,null,null,null,null,null,null,null,null,"S03.DP0075","AF (AD-AE)"]

{"sheet":"3A Capital from Subs","index":4,"n_rows":11,"n_cols":28,"rows_kept":11,"cut":false,"hidden":false,"merged":[]}
["Schedule 3A - Qualifying Capital Issued Out of Subsidiaries"]
["3A",null,"Return to Schedule Listing"]
["(TT$ 000)"]
[null,null,null,null,null,null,null,"Sub. 1","Sub. 2","Sub. 3","Sub. 4","Sub. 5","Sub. 6","Sub. 7","Sub. 8","Sub. 9","Sub. 10","Sub. 11","Sub. 12","Sub. 13","Sub. 14","Sub. 15","Sub. 16","Sub. 17","Sub. 18","Sub. 19","Sub. 20","Total"]
["A","Qualifying capital issued out of subsidiaries that are banks"]
[]
[null,"Net Common Equity Tier 1 of the subsidiary, net of deductions",null,null,null,"A",null,"S03A.DP0001","S03A.DP0006","S03A.DP0011","S03A.DP0016","S03A.DP0021","S03A.DP0026","S03A.DP0031","S03A.DP0036","S03A.DP0041","S03A.DP0046","S03A.DP0051","S03A.DP0056","S03A.DP0061","S03A.DP0066","S03A.DP0071","S03A.DP0076","S03A.DP0081","S03A.DP0086","S03A.DP0091","S03A.DP0096","S03A.DP0101"]
[null,"Net Additional Tier 1 Capital",null,null,null,"B",null,"S03A.DP0002","S03A.DP0007","S03A.DP0012","S03A.DP0017","S03A.DP0022","S03A.DP0027","S03A.DP0032","S03A.DP0037","S03A.DP0042","S03A.DP0047","S03A.DP0052","S03A.DP0057","S03A.DP0062","S03A.DP0067","S03A.DP0072","S03A.DP0077","S03A.DP0082","S03A.DP0087","S03A.DP0092","S03A.DP0097","S03A.DP0102"]
[null,"Net Tier 1 Capital",null,null,null,"C",null,"S03A.DP0003","S03A.DP0008","S03A.DP0013","S03A.DP0018","S03A.DP0023","S03A.DP0028","S03A.DP0033","S03A.DP0038","S03A.DP0043","S03A.DP0048","S03A.DP0053","S03A.DP0058","S03A.DP0063","S03A.DP0068","S03A.DP0073","S03A.DP0078","S03A.DP0083","S03A.DP0088","S03A.DP0093","S03A.DP0098","S03A.DP0103"]
[null,"Net Tier 2 Capital",null,null,null,"D",null,"S03A.DP0004","S03A.DP0009","S03A.DP0014","S03A.DP0019","S03A.DP0024","S03A.DP0029","S03A.DP0034","S03A.DP0039","S03A.DP0044","S03A.DP0049","S03A.DP0054","S03A.DP0059","S03A.DP0064","S03A.DP0069","S03A.DP0074","S03A.DP0079","S03A.DP0084","S03A.DP0089","S03A.DP0094","S03A.DP0099","S03A.DP0104"]
[null,"Qualifying Capital",null,null,null,"E",null,"S03A.DP0005","S03A.DP0010","S03A.DP0015","S03A.DP0020","S03A.DP0025","S03A.DP0030","S03A.DP0035","S03A.DP0040","S03A.DP0045","S03A.DP0050","S03A.DP0055","S03A.DP0060","S03A.DP0065","S03A.DP0070","S03A.DP0075","S03A.DP0080","S03A.DP0085","S03A.DP0090","S03A.DP0095","S03A.DP0100","S03A.DP0105"]

{"sheet":"3B Supp. Subs. Info.","index":5,"n_rows":44,"n_cols":40,"rows_kept":44,"cut":false,"hidden":false,"merged":[]}
["Schedule 3B - Supplementary Subsidiary Information"]
["Return to Schedule Listing"]
["(TT$ 000)"]
[]
["Name of group:","S03B.DP0001"]
[]
["Companies within group","Capital","S03B.DP0074","S03B.DP0111","S03B.DP0148","S03B.DP0185","S03B.DP0222","S03B.DP0259","S03B.DP0296","S03B.DP0333","S03B.DP0370","S03B.DP0407","S03B.DP0444","S03B.DP0481","S03B.DP0518","S03B.DP0555","S03B.DP0592","S03B.DP0629","S03B.DP0666","S03B.DP0703","S03B.DP0740","S03B.DP0777","S03B.DP0814","S03B.DP0851","S03B.DP0888","S03B.DP0925","S03B.DP0962","S03B.DP0999","S03B.DP1036","S03B.DP1073","S03B.DP1110","S03B.DP1147","S03B.DP1184","S03B.DP1221","S03B.DP1258","S03B.DP1295","S03B.DP1332","Total Capital Positions","Total Participations in the Group","Consolidated Capital"]
["S03B.DP0002","S03B.DP0038","S03B.DP0075","S03B.DP0112","S03B.DP0149","S03B.DP0186","S03B.DP0223","S03B.DP0260","S03B.DP0297","S03B.DP0334","S03B.DP0371","S03B.DP0408","S03B.DP0445","S03B.DP0482","S03B.DP0519","S03B.DP0556","S03B.DP0593","S03B.DP0630","S03B.DP0667","S03B.DP0704","S03B.DP0741","S03B.DP0778","S03B.DP0815","S03B.DP0852","S03B.DP0889","S03B.DP0926","S03B.DP0963","S03B.DP1000","S03B.DP1037","S03B.DP1074","S03B.DP1111","S03B.DP1148","S03B.DP1185","S03B.DP1222","S03B.DP1259","S03B.DP1296","S03B.DP1333","S03B.DP1369","S03B.DP1406","S03B.DP1443"]
["S03B.DP0003","S03B.DP0039","S03B.DP0076","S03B.DP0113","S03B.DP0150","S03B.DP0187","S03B.DP0224","S03B.DP0261","S03B.DP0298","S03B.DP0335","S03B.DP0372","S03B.DP0409","S03B.DP0446","S03B.DP0483","S03B.DP0520","S03B.DP0557","S03B.DP0594","S03B.DP0631","S03B.DP0668","S03B.DP0705","S03B.DP0742","S03B.DP0779","S03B.DP0816","S03B.DP0853","S03B.DP0890","S03B.DP0927","S03B.DP0964","S03B.DP1001","S03B.DP1038","S03B.DP1075","S03B.DP1112","S03B.DP1149","S03B.DP1186","S03B.DP1223","S03B.DP1260","S03B.DP1297","S03B.DP1334","S03B.DP1370","S03B.DP1407","S03B.DP1444"]
["S03B.DP0004","S03B.DP0040","S03B.DP0077","S03B.DP0114","S03B.DP0151","S03B.DP0188","S03B.DP0225","S03B.DP0262","S03B.DP0299","S03B.DP0336","S03B.DP0373","S03B.DP0410","S03B.DP0447","S03B.DP0484","S03B.DP0521","S03B.DP0558","S03B.DP0595","S03B.DP0632","S03B.DP0669","S03B.DP0706","S03B.DP0743","S03B.DP0780","S03B.DP0817","S03B.DP0854","S03B.DP0891","S03B.DP0928","S03B.DP0965","S03B.DP1002","S03B.DP1039","S03B.DP1076","S03B.DP1113","S03B.DP1150","S03B.DP1187","S03B.DP1224","S03B.DP1261","S03B.DP1298","S03B.DP1335","S03B.DP1371","S03B.DP1408","S03B.DP1445"]
["S03B.DP0005","S03B.DP0041","S03B.DP0078","S03B.DP0115","S03B.DP0152","S03B.DP0189","S03B.DP0226","S03B.DP0263","S03B.DP0300","S03B.DP0337","S03B.DP0374","S03B.DP0411","S03B.DP0448","S03B.DP0485","S03B.DP0522","S03B.DP0559","S03B.DP0596","S03B.DP0633","S03B.DP0670","S03B.DP0707","S03B.DP0744","S03B.DP0781","S03B.DP0818","S03B.DP0855","S03B.DP0892","S03B.DP0929","S03B.DP0966","S03B.DP1003","S03B.DP1040","S03B.DP1077","S03B.DP1114","S03B.DP1151","S03B.DP1188","S03B.DP1225","S03B.DP1262","S03B.DP1299","S03B.DP1336","S03B.DP1372","S03B.DP1409","S03B.DP1446"]
["S03B.DP0006","S03B.DP0042","S03B.DP0079","S03B.DP0116","S03B.DP0153","S03B.DP0190","S03B.DP0227","S03B.DP0264","S03B.DP0301","S03B.DP0338","S03B.DP0375","S03B.DP0412","S03B.DP0449","S03B.DP0486","S03B.DP0523","S03B.DP0560","S03B.DP0597","S03B.DP0634","S03B.DP0671","S03B.DP0708","S03B.DP0745","S03B.DP0782","S03B.DP0819","S03B.DP0856","S03B.DP0893","S03B.DP0930","S03B.DP0967","S03B.DP1004","S03B.DP1041","S03B.DP1078","S03B.DP1115","S03B.DP1152","S03B.DP1189","S03B.DP1226","S03B.DP1263","S03B.DP1300","S03B.DP1337","S03B.DP1373","S03B.DP1410","S03B.DP1447"]
["S03B.DP0007","S03B.DP0043","S03B.DP0080","S03B.DP0117","S03B.DP0154","S03B.DP0191","S03B.DP0228","S03B.DP0265","S03B.DP0302","S03B.DP0339","S03B.DP0376","S03B.DP0413","S03B.DP0450","S03B.DP0487","S03B.DP0524","S03B.DP0561","S03B.DP0598","S03B.DP0635","S03B.DP0672","S03B.DP0709","S03B.DP0746","S03B.DP0783","S03B.DP0820","S03B.DP0857","S03B.DP0894","S03B.DP0931","S03B.DP0968","S03B.DP1005","S03B.DP1042","S03B.DP1079","S03B.DP1116","S03B.DP1153","S03B.DP1190","S03B.DP1227","S03B.DP1264","S03B.DP1301","S03B.DP1338","S03B.DP1374","S03B.DP1411","S03B.DP1448"]
["S03B.DP0008","S03B.DP0044","S03B.DP0081","S03B.DP0118","S03B.DP0155","S03B.DP0192","S03B.DP0229","S03B.DP0266","S03B.DP0303","S03B.DP0340","S03B.DP0377","S03B.DP0414","S03B.DP0451","S03B.DP0488","S03B.DP0525","S03B.DP0562","S03B.DP0599","S03B.DP0636","S03B.DP0673","S03B.DP0710","S03B.DP0747","S03B.DP0784","S03B.DP0821","S03B.DP0858","S03B.DP0895","S03B.DP0932","S03B.DP0969","S03B.DP1006","S03B.DP1043","S03B.DP1080","S03B.DP1117","S03B.DP1154","S03B.DP1191","S03B.DP1228","S03B.DP1265","S03B.DP1302","S03B.DP1339","S03B.DP1375","S03B.DP1412","S03B.DP1449"]
["S03B.DP0009","S03B.DP0045","S03B.DP0082","S03B.DP0119","S03B.DP0156","S03B.DP0193","S03B.DP0230","S03B.DP0267","S03B.DP0304","S03B.DP0341","S03B.DP0378","S03B.DP0415","S03B.DP0452","S03B.DP0489","S03B.DP0526","S03B.DP0563","S03B.DP0600","S03B.DP0637","S03B.DP0674","S03B.DP0711","S03B.DP0748","S03B.DP0785","S03B.DP0822","S03B.DP0859","S03B.DP0896","S03B.DP0933","S03B.DP0970","S03B.DP1007","S03B.DP1044","S03B.DP1081","S03B.DP1118","S03B.DP1155","S03B.DP1192","S03B.DP1229","S03B.DP1266","S03B.DP1303","S03B.DP1340","S03B.DP1376","S03B.DP1413","S03B.DP1450"]
["S03B.DP0010","S03B.DP0046","S03B.DP0083","S03B.DP0120","S03B.DP0157","S03B.DP0194","S03B.DP0231","S03B.DP0268","S03B.DP0305","S03B.DP0342","S03B.DP0379","S03B.DP0416","S03B.DP0453","S03B.DP0490","S03B.DP0527","S03B.DP0564","S03B.DP0601","S03B.DP0638","S03B.DP0675","S03B.DP0712","S03B.DP0749","S03B.DP0786","S03B.DP0823","S03B.DP0860","S03B.DP0897","S03B.DP0934","S03B.DP0971","S03B.DP1008","S03B.DP1045","S03B.DP1082","S03B.DP1119","S03B.DP1156","S03B.DP1193","S03B.DP1230","S03B.DP1267","S03B.DP1304","S03B.DP1341","S03B.DP1377","S03B.DP1414","S03B.DP1451"]
["S03B.DP0011","S03B.DP0047","S03B.DP0084","S03B.DP0121","S03B.DP0158","S03B.DP0195","S03B.DP0232","S03B.DP0269","S03B.DP0306","S03B.DP0343","S03B.DP0380","S03B.DP0417","S03B.DP0454","S03B.DP0491","S03B.DP0528","S03B.DP0565","S03B.DP0602","S03B.DP0639","S03B.DP0676","S03B.DP0713","S03B.DP0750","S03B.DP0787","S03B.DP0824","S03B.DP0861","S03B.DP0898","S03B.DP0935","S03B.DP0972","S03B.DP1009","S03B.DP1046","S03B.DP1083","S03B.DP1120","S03B.DP1157","S03B.DP1194","S03B.DP1231","S03B.DP1268","S03B.DP1305","S03B.DP1342","S03B.DP1378","S03B.DP1415","S03B.DP1452"]
["S03B.DP0012","S03B.DP0048","S03B.DP0085","S03B.DP0122","S03B.DP0159","S03B.DP0196","S03B.DP0233","S03B.DP0270","S03B.DP0307","S03B.DP0344","S03B.DP0381","S03B.DP0418","S03B.DP0455","S03B.DP0492","S03B.DP0529","S03B.DP0566","S03B.DP0603","S03B.DP0640","S03B.DP0677","S03B.DP0714","S03B.DP0751","S03B.DP0788","S03B.DP0825","S03B.DP0862","S03B.DP0899","S03B.DP0936","S03B.DP0973","S03B.DP1010","S03B.DP1047","S03B.DP1084","S03B.DP1121","S03B.DP1158","S03B.DP1195","S03B.DP1232","S03B.DP1269","S03B.DP1306","S03B.DP1343","S03B.DP1379","S03B.DP1416","S03B.DP1453"]
["S03B.DP0013","S03B.DP0049","S03B.DP0086","S03B.DP0123","S03B.DP0160","S03B.DP0197","S03B.DP0234","S03B.DP0271","S03B.DP0308","S03B.DP0345","S03B.DP0382","S03B.DP0419","S03B.DP0456","S03B.DP0493","S03B.DP0530","S03B.DP0567","S03B.DP0604","S03B.DP0641","S03B.DP0678","S03B.DP0715","S03B.DP0752","S03B.DP0789","S03B.DP0826","S03B.DP0863","S03B.DP0900","S03B.DP0937","S03B.DP0974","S03B.DP1011","S03B.DP1048","S03B.DP1085","S03B.DP1122","S03B.DP1159","S03B.DP1196","S03B.DP1233","S03B.DP1270","S03B.DP1307","S03B.DP1344","S03B.DP1380","S03B.DP1417","S03B.DP1454"]
["S03B.DP0014","S03B.DP0050","S03B.DP0087","S03B.DP0124","S03B.DP0161","S03B.DP0198","S03B.DP0235","S03B.DP0272","S03B.DP0309","S03B.DP0346","S03B.DP0383","S03B.DP0420","S03B.DP0457","S03B.DP0494","S03B.DP0531","S03B.DP0568","S03B.DP0605","S03B.DP0642","S03B.DP0679","S03B.DP0716","S03B.DP0753","S03B.DP0790","S03B.DP0827","S03B.DP0864","S03B.DP0901","S03B.DP0938","S03B.DP0975","S03B.DP1012","S03B.DP1049","S03B.DP1086","S03B.DP1123","S03B.DP1160","S03B.DP1197","S03B.DP1234","S03B.DP1271","S03B.DP1308","S03B.DP1345","S03B.DP1381","S03B.DP1418","S03B.DP1455"]
["S03B.DP0015","S03B.DP0051","S03B.DP0088","S03B.DP0125","S03B.DP0162","S03B.DP0199","S03B.DP0236","S03B.DP0273","S03B.DP0310","S03B.DP0347","S03B.DP0384","S03B.DP0421","S03B.DP0458","S03B.DP0495","S03B.DP0532","S03B.DP0569","S03B.DP0606","S03B.DP0643","S03B.DP0680","S03B.DP0717","S03B.DP0754","S03B.DP0791","S03B.DP0828","S03B.DP0865","S03B.DP0902","S03B.DP0939","S03B.DP0976","S03B.DP1013","S03B.DP1050","S03B.DP1087","S03B.DP1124","S03B.DP1161","S03B.DP1198","S03B.DP1235","S03B.DP1272","S03B.DP1309","S03B.DP1346","S03B.DP1382","S03B.DP1419","S03B.DP1456"]
["S03B.DP0016","S03B.DP0052","S03B.DP0089","S03B.DP0126","S03B.DP0163","S03B.DP0200","S03B.DP0237","S03B.DP0274","S03B.DP0311","S03B.DP0348","S03B.DP0385","S03B.DP0422","S03B.DP0459","S03B.DP0496","S03B.DP0533","S03B.DP0570","S03B.DP0607","S03B.DP0644","S03B.DP0681","S03B.DP0718","S03B.DP0755","S03B.DP0792","S03B.DP0829","S03B.DP0866","S03B.DP0903","S03B.DP0940","S03B.DP0977","S03B.DP1014","S03B.DP1051","S03B.DP1088","S03B.DP1125","S03B.DP1162","S03B.DP1199","S03B.DP1236","S03B.DP1273","S03B.DP1310","S03B.DP1347","S03B.DP1383","S03B.DP1420","S03B.DP1457"]
["S03B.DP0017","S03B.DP0053","S03B.DP0090","S03B.DP0127","S03B.DP0164","S03B.DP0201","S03B.DP0238","S03B.DP0275","S03B.DP0312","S03B.DP0349","S03B.DP0386","S03B.DP0423","S03B.DP0460","S03B.DP0497","S03B.DP0534","S03B.DP0571","S03B.DP0608","S03B.DP0645","S03B.DP0682","S03B.DP0719","S03B.DP0756","S03B.DP0793","S03B.DP0830","S03B.DP0867","S03B.DP0904","S03B.DP0941","S03B.DP0978","S03B.DP1015","S03B.DP1052","S03B.DP1089","S03B.DP1126","S03B.DP1163","S03B.DP1200","S03B.DP1237","S03B.DP1274","S03B.DP1311","S03B.DP1348","S03B.DP1384","S03B.DP1421","S03B.DP1458"]
["S03B.DP0018","S03B.DP0054","S03B.DP0091","S03B.DP0128","S03B.DP0165","S03B.DP0202","S03B.DP0239","S03B.DP0276","S03B.DP0313","S03B.DP0350","S03B.DP0387","S03B.DP0424","S03B.DP0461","S03B.DP0498","S03B.DP0535","S03B.DP0572","S03B.DP0609","S03B.DP0646","S03B.DP0683","S03B.DP0720","S03B.DP0757","S03B.DP0794","S03B.DP0831","S03B.DP0868","S03B.DP0905","S03B.DP0942","S03B.DP0979","S03B.DP1016","S03B.DP1053","S03B.DP1090","S03B.DP1127","S03B.DP1164","S03B.DP1201","S03B.DP1238","S03B.DP1275","S03B.DP1312","S03B.DP1349","S03B.DP1385","S03B.DP1422","S03B.DP1459"]
["S03B.DP0019","S03B.DP0055","S03B.DP0092","S03B.DP0129","S03B.DP0166","S03B.DP0203","S03B.DP0240","S03B.DP0277","S03B.DP0314","S03B.DP0351","S03B.DP0388","S03B.DP0425","S03B.DP0462","S03B.DP0499","S03B.DP0536","S03B.DP0573","S03B.DP0610","S03B.DP0647","S03B.DP0684","S03B.DP0721","S03B.DP0758","S03B.DP0795","S03B.DP0832","S03B.DP0869","S03B.DP0906","S03B.DP0943","S03B.DP0980","S03B.DP1017","S03B.DP1054","S03B.DP1091","S03B.DP1128","S03B.DP1165","S03B.DP1202","S03B.DP1239","S03B.DP1276","S03B.DP1313","S03B.DP1350","S03B.DP1386","S03B.DP1423","S03B.DP1460"]
["S03B.DP0020","S03B.DP0056","S03B.DP0093","S03B.DP0130","S03B.DP0167","S03B.DP0204","S03B.DP0241","S03B.DP0278","S03B.DP0315","S03B.DP0352","S03B.DP0389","S03B.DP0426","S03B.DP0463","S03B.DP0500","S03B.DP0537","S03B.DP0574","S03B.DP0611","S03B.DP0648","S03B.DP0685","S03B.DP0722","S03B.DP0759","S03B.DP0796","S03B.DP0833","S03B.DP0870","S03B.DP0907","S03B.DP0944","S03B.DP0981","S03B.DP1018","S03B.DP1055","S03B.DP1092","S03B.DP1129","S03B.DP1166","S03B.DP1203","S03B.DP1240","S03B.DP1277","S03B.DP1314","S03B.DP1351","S03B.DP1387","S03B.DP1424","S03B.DP1461"]
["S03B.DP0021","S03B.DP0057","S03B.DP0094","S03B.DP0131","S03B.DP0168","S03B.DP0205","S03B.DP0242","S03B.DP0279","S03B.DP0316","S03B.DP0353","S03B.DP0390","S03B.DP0427","S03B.DP0464","S03B.DP0501","S03B.DP0538","S03B.DP0575","S03B.DP0612","S03B.DP0649","S03B.DP0686","S03B.DP0723","S03B.DP0760","S03B.DP0797","S03B.DP0834","S03B.DP0871","S03B.DP0908","S03B.DP0945","S03B.DP0982","S03B.DP1019","S03B.DP1056","S03B.DP1093","S03B.DP1130","S03B.DP1167","S03B.DP1204","S03B.DP1241","S03B.DP1278","S03B.DP1315","S03B.DP1352","S03B.DP1388","S03B.DP1425","S03B.DP1462"]
["S03B.DP0022","S03B.DP0058","S03B.DP0095","S03B.DP0132","S03B.DP0169","S03B.DP0206","S03B.DP0243","S03B.DP0280","S03B.DP0317","S03B.DP0354","S03B.DP0391","S03B.DP0428","S03B.DP0465","S03B.DP0502","S03B.DP0539","S03B.DP0576","S03B.DP0613","S03B.DP0650","S03B.DP0687","S03B.DP0724","S03B.DP0761","S03B.DP0798","S03B.DP0835","S03B.DP0872","S03B.DP0909","S03B.DP0946","S03B.DP0983","S03B.DP1020","S03B.DP1057","S03B.DP1094","S03B.DP1131","S03B.DP1168","S03B.DP1205","S03B.DP1242","S03B.DP1279","S03B.DP1316","S03B.DP1353","S03B.DP1389","S03B.DP1426","S03B.DP1463"]
["S03B.DP0023","S03B.DP0059","S03B.DP0096","S03B.DP0133","S03B.DP0170","S03B.DP0207","S03B.DP0244","S03B.DP0281","S03B.DP0318","S03B.DP0355","S03B.DP0392","S03B.DP0429","S03B.DP0466","S03B.DP0503","S03B.DP0540","S03B.DP0577","S03B.DP0614","S03B.DP0651","S03B.DP0688","S03B.DP0725","S03B.DP0762","S03B.DP0799","S03B.DP0836","S03B.DP0873","S03B.DP0910","S03B.DP0947","S03B.DP0984","S03B.DP1021","S03B.DP1058","S03B.DP1095","S03B.DP1132","S03B.DP1169","S03B.DP1206","S03B.DP1243","S03B.DP1280","S03B.DP1317","S03B.DP1354","S03B.DP1390","S03B.DP1427","S03B.DP1464"]
["S03B.DP0024","S03B.DP0060","S03B.DP0097","S03B.DP0134","S03B.DP0171","S03B.DP0208","S03B.DP0245","S03B.DP0282","S03B.DP0319","S03B.DP0356","S03B.DP0393","S03B.DP0430","S03B.DP0467","S03B.DP0504","S03B.DP0541","S03B.DP0578","S03B.DP0615","S03B.DP0652","S03B.DP0689","S03B.DP0726","S03B.DP0763","S03B.DP0800","S03B.DP0837","S03B.DP0874","S03B.DP0911","S03B.DP0948","S03B.DP0985","S03B.DP1022","S03B.DP1059","S03B.DP1096","S03B.DP1133","S03B.DP1170","S03B.DP1207","S03B.DP1244","S03B.DP1281","S03B.DP1318","S03B.DP1355","S03B.DP1391","S03B.DP1428","S03B.DP1465"]
["S03B.DP0025","S03B.DP0061","S03B.DP0098","S03B.DP0135","S03B.DP0172","S03B.DP0209","S03B.DP0246","S03B.DP0283","S03B.DP0320","S03B.DP0357","S03B.DP0394","S03B.DP0431","S03B.DP0468","S03B.DP0505","S03B.DP0542","S03B.DP0579","S03B.DP0616","S03B.DP0653","S03B.DP0690","S03B.DP0727","S03B.DP0764","S03B.DP0801","S03B.DP0838","S03B.DP0875","S03B.DP0912","S03B.DP0949","S03B.DP0986","S03B.DP1023","S03B.DP1060","S03B.DP1097","S03B.DP1134","S03B.DP1171","S03B.DP1208","S03B.DP1245","S03B.DP1282","S03B.DP1319","S03B.DP1356","S03B.DP1392","S03B.DP1429","S03B.DP1466"]
["S03B.DP0026","S03B.DP0062","S03B.DP0099","S03B.DP0136","S03B.DP0173","S03B.DP0210","S03B.DP0247","S03B.DP0284","S03B.DP0321","S03B.DP0358","S03B.DP0395","S03B.DP0432","S03B.DP0469","S03B.DP0506","S03B.DP0543","S03B.DP0580","S03B.DP0617","S03B.DP0654","S03B.DP0691","S03B.DP0728","S03B.DP0765","S03B.DP0802","S03B.DP0839","S03B.DP0876","S03B.DP0913","S03B.DP0950","S03B.DP0987","S03B.DP1024","S03B.DP1061","S03B.DP1098","S03B.DP1135","S03B.DP1172","S03B.DP1209","S03B.DP1246","S03B.DP1283","S03B.DP1320","S03B.DP1357","S03B.DP1393","S03B.DP1430","S03B.DP1467"]
["S03B.DP0027","S03B.DP0063","S03B.DP0100","S03B.DP0137","S03B.DP0174","S03B.DP0211","S03B.DP0248","S03B.DP0285","S03B.DP0322","S03B.DP0359","S03B.DP0396","S03B.DP0433","S03B.DP0470","S03B.DP0507","S03B.DP0544","S03B.DP0581","S03B.DP0618","S03B.DP0655","S03B.DP0692","S03B.DP0729","S03B.DP0766","S03B.DP0803","S03B.DP0840","S03B.DP0877","S03B.DP0914","S03B.DP0951","S03B.DP0988","S03B.DP1025","S03B.DP1062","S03B.DP1099","S03B.DP1136","S03B.DP1173","S03B.DP1210","S03B.DP1247","S03B.DP1284","S03B.DP1321","S03B.DP1358","S03B.DP1394","S03B.DP1431","S03B.DP1468"]
["S03B.DP0028","S03B.DP0064","S03B.DP0101","S03B.DP0138","S03B.DP0175","S03B.DP0212","S03B.DP0249","S03B.DP0286","S03B.DP0323","S03B.DP0360","S03B.DP0397","S03B.DP0434","S03B.DP0471","S03B.DP0508","S03B.DP0545","S03B.DP0582","S03B.DP0619","S03B.DP0656","S03B.DP0693","S03B.DP0730","S03B.DP0767","S03B.DP0804","S03B.DP0841","S03B.DP0878","S03B.DP0915","S03B.DP0952","S03B.DP0989","S03B.DP1026","S03B.DP1063","S03B.DP1100","S03B.DP1137","S03B.DP1174","S03B.DP1211","S03B.DP1248","S03B.DP1285","S03B.DP1322","S03B.DP1359","S03B.DP1395","S03B.DP1432","S03B.DP1469"]
["S03B.DP0029","S03B.DP0065","S03B.DP0102","S03B.DP0139","S03B.DP0176","S03B.DP0213","S03B.DP0250","S03B.DP0287","S03B.DP0324","S03B.DP0361","S03B.DP0398","S03B.DP0435","S03B.DP0472","S03B.DP0509","S03B.DP0546","S03B.DP0583","S03B.DP0620","S03B.DP0657","S03B.DP0694","S03B.DP0731","S03B.DP0768","S03B.DP0805","S03B.DP0842","S03B.DP0879","S03B.DP0916","S03B.DP0953","S03B.DP0990","S03B.DP1027","S03B.DP1064","S03B.DP1101","S03B.DP1138","S03B.DP1175","S03B.DP1212","S03B.DP1249","S03B.DP1286","S03B.DP1323","S03B.DP1360","S03B.DP1396","S03B.DP1433","S03B.DP1470"]
["S03B.DP0030","S03B.DP0066","S03B.DP0103","S03B.DP0140","S03B.DP0177","S03B.DP0214","S03B.DP0251","S03B.DP0288","S03B.DP0325","S03B.DP0362","S03B.DP0399","S03B.DP0436","S03B.DP0473","S03B.DP0510","S03B.DP0547","S03B.DP0584","S03B.DP0621","S03B.DP0658","S03B.DP0695","S03B.DP0732","S03B.DP0769","S03B.DP0806","S03B.DP0843","S03B.DP0880","S03B.DP0917","S03B.DP0954","S03B.DP0991","S03B.DP1028","S03B.DP1065","S03B.DP1102","S03B.DP1139","S03B.DP1176","S03B.DP1213","S03B.DP1250","S03B.DP1287","S03B.DP1324","S03B.DP1361","S03B.DP1397","S03B.DP1434","S03B.DP1471"]
["S03B.DP0031","S03B.DP0067","S03B.DP0104","S03B.DP0141","S03B.DP0178","S03B.DP0215","S03B.DP0252","S03B.DP0289","S03B.DP0326","S03B.DP0363","S03B.DP0400","S03B.DP0437","S03B.DP0474","S03B.DP0511","S03B.DP0548","S03B.DP0585","S03B.DP0622","S03B.DP0659","S03B.DP0696","S03B.DP0733","S03B.DP0770","S03B.DP0807","S03B.DP0844","S03B.DP0881","S03B.DP0918","S03B.DP0955","S03B.DP0992","S03B.DP1029","S03B.DP1066","S03B.DP1103","S03B.DP1140","S03B.DP1177","S03B.DP1214","S03B.DP1251","S03B.DP1288","S03B.DP1325","S03B.DP1362","S03B.DP1398","S03B.DP1435","S03B.DP1472"]
["S03B.DP0032","S03B.DP0068","S03B.DP0105","S03B.DP0142","S03B.DP0179","S03B.DP0216","S03B.DP0253","S03B.DP0290","S03B.DP0327","S03B.DP0364","S03B.DP0401","S03B.DP0438","S03B.DP0475","S03B.DP0512","S03B.DP0549","S03B.DP0586","S03B.DP0623","S03B.DP0660","S03B.DP0697","S03B.DP0734","S03B.DP0771","S03B.DP0808","S03B.DP0845","S03B.DP0882","S03B.DP0919","S03B.DP0956","S03B.DP0993","S03B.DP1030","S03B.DP1067","S03B.DP1104","S03B.DP1141","S03B.DP1178","S03B.DP1215","S03B.DP1252","S03B.DP1289","S03B.DP1326","S03B.DP1363","S03B.DP1399","S03B.DP1436","S03B.DP1473"]
["S03B.DP0033","S03B.DP0069","S03B.DP0106","S03B.DP0143","S03B.DP0180","S03B.DP0217","S03B.DP0254","S03B.DP0291","S03B.DP0328","S03B.DP0365","S03B.DP0402","S03B.DP0439","S03B.DP0476","S03B.DP0513","S03B.DP0550","S03B.DP0587","S03B.DP0624","S03B.DP0661","S03B.DP0698","S03B.DP0735","S03B.DP0772","S03B.DP0809","S03B.DP0846","S03B.DP0883","S03B.DP0920","S03B.DP0957","S03B.DP0994","S03B.DP1031","S03B.DP1068","S03B.DP1105","S03B.DP1142","S03B.DP1179","S03B.DP1216","S03B.DP1253","S03B.DP1290","S03B.DP1327","S03B.DP1364","S03B.DP1400","S03B.DP1437","S03B.DP1474"]
["S03B.DP0034","S03B.DP0070","S03B.DP0107","S03B.DP0144","S03B.DP0181","S03B.DP0218","S03B.DP0255","S03B.DP0292","S03B.DP0329","S03B.DP0366","S03B.DP0403","S03B.DP0440","S03B.DP0477","S03B.DP0514","S03B.DP0551","S03B.DP0588","S03B.DP0625","S03B.DP0662","S03B.DP0699","S03B.DP0736","S03B.DP0773","S03B.DP0810","S03B.DP0847","S03B.DP0884","S03B.DP0921","S03B.DP0958","S03B.DP0995","S03B.DP1032","S03B.DP1069","S03B.DP1106","S03B.DP1143","S03B.DP1180","S03B.DP1217","S03B.DP1254","S03B.DP1291","S03B.DP1328","S03B.DP1365","S03B.DP1401","S03B.DP1438","S03B.DP1475"]
["S03B.DP0035","S03B.DP0071","S03B.DP0108","S03B.DP0145","S03B.DP0182","S03B.DP0219","S03B.DP0256","S03B.DP0293","S03B.DP0330","S03B.DP0367","S03B.DP0404","S03B.DP0441","S03B.DP0478","S03B.DP0515","S03B.DP0552","S03B.DP0589","S03B.DP0626","S03B.DP0663","S03B.DP0700","S03B.DP0737","S03B.DP0774","S03B.DP0811","S03B.DP0848","S03B.DP0885","S03B.DP0922","S03B.DP0959","S03B.DP0996","S03B.DP1033","S03B.DP1070","S03B.DP1107","S03B.DP1144","S03B.DP1181","S03B.DP1218","S03B.DP1255","S03B.DP1292","S03B.DP1329","S03B.DP1366","S03B.DP1402","S03B.DP1439","S03B.DP1476"]
["S03B.DP0036","S03B.DP0072","S03B.DP0109","S03B.DP0146","S03B.DP0183","S03B.DP0220","S03B.DP0257","S03B.DP0294","S03B.DP0331","S03B.DP0368","S03B.DP0405","S03B.DP0442","S03B.DP0479","S03B.DP0516","S03B.DP0553","S03B.DP0590","S03B.DP0627","S03B.DP0664","S03B.DP0701","S03B.DP0738","S03B.DP0775","S03B.DP0812","S03B.DP0849","S03B.DP0886","S03B.DP0923","S03B.DP0960","S03B.DP0997","S03B.DP1034","S03B.DP1071","S03B.DP1108","S03B.DP1145","S03B.DP1182","S03B.DP1219","S03B.DP1256","S03B.DP1293","S03B.DP1330","S03B.DP1367","S03B.DP1403","S03B.DP1440","S03B.DP1477"]
["S03B.DP0037","S03B.DP0073","S03B.DP0110","S03B.DP0147","S03B.DP0184","S03B.DP0221","S03B.DP0258","S03B.DP0295","S03B.DP0332","S03B.DP0369","S03B.DP0406","S03B.DP0443","S03B.DP0480","S03B.DP0517","S03B.DP0554","S03B.DP0591","S03B.DP0628","S03B.DP0665","S03B.DP0702","S03B.DP0739","S03B.DP0776","S03B.DP0813","S03B.DP0850","S03B.DP0887","S03B.DP0924","S03B.DP0961","S03B.DP0998","S03B.DP1035","S03B.DP1072","S03B.DP1109","S03B.DP1146","S03B.DP1183","S03B.DP1220","S03B.DP1257","S03B.DP1294","S03B.DP1331","S03B.DP1368","S03B.DP1404","S03B.DP1441","S03B.DP1478"]
[null,null,null,null,null,null,null,null,null,null,null,null,null,null,null,null,null,null,null,null,null,null,null,null,null,null,null,null,null,null,null,null,null,null,null,null,null,"S03B.DP1405","S03B.DP1442","S03B.DP1479"]

{"sheet":"4 Allowance","index":6,"n_rows":27,"n_cols":11,"rows_kept":27,"cut":false,"hidden":false,"merged":[[25,1,25,3],[11,0,11,3],[12,1,23,1],[16,2,16,3],[20,2,20,3],[23,2,23,3],[24,1,24,3],[12,2,12,3],[13,2,13,3],[14,2,14,3],[15,2,15,3],[17,2,17,3],[18,2,18,3],[21,2,21,3],[22,2,22,3]]}
["Schedule 4 - Allowance for Impairment:  Capital Treatment",null,null,null,null,null,null,null,null,null,4]
[null,null,"Return to Schedule Listing"]
["(TT$ 000)"]
[]
["General provision - total consolidated",null,null,null,null,null,null,null,null,"S04.DP0001"]
["Less: amount in respect of subsidiaries deconsolidated for capital purposes, and other adjustments",null,null,null,null,null,null,null,null,"S04.DP0002"]
["Net general provision ",null,null,null,null,null,null,null,null,"S04.DP0003","A"]
[]
[]
[]
[]
["Specific provisions and partial write-offs:",null,null,null,"Drawn","Undrawn Commitments","Repo-style Transactions","OTC Derivatives","Other off-balance sheet","Total Eligible"]
[null,"Banking Book","Sovereign",null,"S04.DP0004","S04.DP0015","S04.DP0026","S04.DP0034","S04.DP0042","S04.DP0052"]
[null,null,"PSEs",null,"S04.DP0005","S04.DP0016","S04.DP0027","S04.DP0035","S04.DP0043","S04.DP0053"]
[null,null,"MDBs",null,"S04.DP0006","S04.DP0017","S04.DP0028","S04.DP0036","S04.DP0044","S04.DP0054"]
[null,null,"Bank & Sec. Firms LT",null,"S04.DP0007","S04.DP0018","S04.DP0029","S04.DP0037","S04.DP0045","S04.DP0055"]
[null,null,"Bank & Sec. Firms ST",null,"S04.DP0008","S04.DP0019","S04.DP0030","S04.DP0038","S04.DP0046","S04.DP0056"]
[null,null,"Corp & Sec. Firms LT",null,"S04.DP0009","S04.DP0020","S04.DP0031","S04.DP0039","S04.DP0047","S04.DP0057"]
[null,null,"Corp & Sec. Firms St",null,"S04.DP0010","S04.DP0021","S04.DP0032","S04.DP0040","S04.DP0048","S04.DP0058"]
[null,null,"Commercial Real Estate",null,"S04.DP0011","S04.DP0022",null,null,"S04.DP0049","S04.DP0059"]
[null,null,"Retail Residential Mortgages",null,"S04.DP0012","S04.DP0023",null,null,null,"S04.DP0060"]
[null,null,"Other Retail",null,"S04.DP0013","S04.DP0024",null,null,"S04.DP0050","S04.DP0061"]
[null,null,"SBE other Retail",null,"S04.DP0014","S04.DP0025","S04.DP0033","S04.DP0041","S04.DP0051","S04.DP0062"]
[null,null,"Equity"]
[null,"Trading Book"]
[null,"Securitizations"]
[null,"Total specific provision ",null,null,null,null,null,null,null,"S04.DP0063","B"]

{"sheet":"5 Sovereign","index":7,"n_rows":77,"n_cols":12,"rows_kept":77,"cut":false,"hidden":false,"merged":[[5,1,5,3],[5,5,5,7],[1,0,1,2]]}
["Schedule 5 - Standardized Approach - credit risk-weighted assets",null,null,null,null,null,null,null,null,null,null,7]
["Return to Schedule Listing"]
["For Banking Book - Sovereign"]
["(TT$ 000)"]
[]
[null,"Before CRM",null,null,null,"Adjustments for CRM",null,null,null,"After CRM"]
["Risk weight","Notional Principal Amount","Gross* exposure (credit-equiv. amount for off B/S)","Net* exposure (credit-equiv. amount for off B/S)",null,"Redistribution of net exposure for guarantees, credit derivatives","Redistribution of net exposure for collateral (simple approach)","Adjustment to net exposure for collateral (comprehensive approach)",null,"Net exposure",null,"Risk-weighted Assets"]
["(a)",null,null,"(b)",null,"(c)","(d)","(e)",null,"(f = b+c+d+e)",null,"(g = a x f)"]
["Drawn",null,null,null,null,"**","**"]
["0% (T&T)",null,"S05.DP0001","S05.DP0012",null,"S05.DP0023","S05.DP0033","S05.DP0043",null,"S05.DP0054",null,"S05.DP0065"]
["0% (Foreign)",null,"S05.DP0002","S05.DP0013",null,"S05.DP0024","S05.DP0034","S05.DP0044",null,"S05.DP0055",null,"S05.DP0066"]
["20% (T&T)",null,"S05.DP0003","S05.DP0014",null,"S05.DP0025","S05.DP0035","S05.DP0045",null,"S05.DP0056",null,"S05.DP0067"]
["20% (Foreign)",null,"S05.DP0004","S05.DP0015",null,"S05.DP0026","S05.DP0036","S05.DP0046",null,"S05.DP0057",null,"S05.DP0068"]
["50% (T&T)",null,"S05.DP0005","S05.DP0016",null,"S05.DP0027","S05.DP0037","S05.DP0047",null,"S05.DP0058",null,"S05.DP0069"]
["50% (Foreign)",null,"S05.DP0006","S05.DP0017",null,"S05.DP0028","S05.DP0038","S05.DP0048",null,"S05.DP0059",null,"S05.DP0070"]
["100% (T&T)",null,"S05.DP0007","S05.DP0018",null,"S05.DP0029","S05.DP0039","S05.DP0049",null,"S05.DP0060",null,"S05.DP0071"]
["100% (Foreign)",null,"S05.DP0008","S05.DP0019",null,"S05.DP0030","S05.DP0040","S05.DP0050",null,"S05.DP0061",null,"S05.DP0072"]
["150% (T&T)",null,"S05.DP0009","S05.DP0020",null,"S05.DP0031","S05.DP0041","S05.DP0051",null,"S05.DP0062",null,"S05.DP0073"]
["150% (Foreign)",null,"S05.DP0010","S05.DP0021",null,"S05.DP0032","S05.DP0042","S05.DP0052",null,"S05.DP0063",null,"S05.DP0074"]
["Total",null,"S05.DP0011","S05.DP0022",null,null,null,"S05.DP0053",null,"S05.DP0064",null,"S05.DP0075"]
[]
["Undrawn Commitments",null,null,null,null,"**","**"]
["0% (T&T)","S05.DP0076","S05.DP0087","S05.DP0098",null,"S05.DP0109","S05.DP0119","S05.DP0129",null,"S05.DP0140",null,"S05.DP0151"]
["0% (Foreign)","S05.DP0077","S05.DP0088","S05.DP0099",null,"S05.DP0110","S05.DP0120","S05.DP0130",null,"S05.DP0141",null,"S05.DP0152"]
["20% (T&T)","S05.DP0078","S05.DP0089","S05.DP0100",null,"S05.DP0111","S05.DP0121","S05.DP0131",null,"S05.DP0142",null,"S05.DP0153"]
["20% (Foreign)","S05.DP0079","S05.DP0090","S05.DP0101",null,"S05.DP0112","S05.DP0122","S05.DP0132",null,"S05.DP0143",null,"S05.DP0154"]
["50% (T&T)","S05.DP0080","S05.DP0091","S05.DP0102",null,"S05.DP0113","S05.DP0123","S05.DP0133",null,"S05.DP0144",null,"S05.DP0155"]
["50% (Foreign)","S05.DP0081","S05.DP0092","S05.DP0103",null,"S05.DP0114","S05.DP0124","S05.DP0134",null,"S05.DP0145",null,"S05.DP0156"]
["100% (T&T)","S05.DP0082","S05.DP0093","S05.DP0104",null,"S05.DP0115","S05.DP0125","S05.DP0135",null,"S05.DP0146",null,"S05.DP0157"]
["100% (Foreign)","S05.DP0083","S05.DP0094","S05.DP0105",null,"S05.DP0116","S05.DP0126","S05.DP0136",null,"S05.DP0147",null,"S05.DP0158"]
["150% (T&T)","S05.DP0084","S05.DP0095","S05.DP0106",null,"S05.DP0117","S05.DP0127","S05.DP0137",null,"S05.DP0148",null,"S05.DP0159"]
["150% (Foreign)","S05.DP0085","S05.DP0096","S05.DP0107",null,"S05.DP0118","S05.DP0128","S05.DP0138",null,"S05.DP0149",null,"S05.DP0160"]
["Total","S05.DP0086","S05.DP0097","S05.DP0108",null,null,null,"S05.DP0139",null,"S05.DP0150",null,"S05.DP0161"]
[]
["Repo-style Transactions",null,null,null,null,"**","**"]
["0% (T&T)",null,"S05.DP0162","S05.DP0173",null,"S05.DP0184","S05.DP0194","S05.DP0204",null,"S05.DP0215",null,"S05.DP0226"]
["0% (Foreign)",null,"S05.DP0163","S05.DP0174",null,"S05.DP0185","S05.DP0195","S05.DP0205",null,"S05.DP0216",null,"S05.DP0227"]
["20% (T&T)",null,"S05.DP0164","S05.DP0175",null,"S05.DP0186","S05.DP0196","S05.DP0206",null,"S05.DP0217",null,"S05.DP0228"]
["20% (Foreign)",null,"S05.DP0165","S05.DP0176",null,"S05.DP0187","S05.DP0197","S05.DP0207",null,"S05.DP0218",null,"S05.DP0229"]
["50% (T&T)",null,"S05.DP0166","S05.DP0177",null,"S05.DP0188","S05.DP0198","S05.DP0208",null,"S05.DP0219",null,"S05.DP0230"]
["50% (Foreign)",null,"S05.DP0167","S05.DP0178",null,"S05.DP0189","S05.DP0199","S05.DP0209",null,"S05.DP0220",null,"S05.DP0231"]
["100% (T&T)",null,"S05.DP0168","S05.DP0179",null,"S05.DP0190","S05.DP0200","S05.DP0210",null,"S05.DP0221",null,"S05.DP0232"]
["100% (Foreign)",null,"S05.DP0169","S05.DP0180",null,"S05.DP0191","S05.DP0201","S05.DP0211",null,"S05.DP0222",null,"S05.DP0233"]
["150% (T&T)",null,"S05.DP0170","S05.DP0181",null,"S05.DP0192","S05.DP0202","S05.DP0212",null,"S05.DP0223",null,"S05.DP0234"]
["150% (Foreign)",null,"S05.DP0171","S05.DP0182",null,"S05.DP0193","S05.DP0203","S05.DP0213",null,"S05.DP0224",null,"S05.DP0235"]
["Total",null,"S05.DP0172","S05.DP0183",null,null,null,"S05.DP0214",null,"S05.DP0225",null,"S05.DP0236"]
[]
["Derivatives",null,null,null,null,"**","**"]
["0% (T&T)","S05.DP0237","S05.DP0248","S05.DP0259",null,"S05.DP0270","S05.DP0280","S05.DP0290",null,"S05.DP0301",null,"S05.DP0312"]
["0% (Foreign)","S05.DP0238","S05.DP0249","S05.DP0260",null,"S05.DP0271","S05.DP0281","S05.DP0291",null,"S05.DP0302",null,"S05.DP0313"]
["20% (T&T)","S05.DP0239","S05.DP0250","S05.DP0261",null,"S05.DP0272","S05.DP0282","S05.DP0292",null,"S05.DP0303",null,"S05.DP0314"]
["20% (Foreign)","S05.DP0240","S05.DP0251","S05.DP0262",null,"S05.DP0273","S05.DP0283","S05.DP0293",null,"S05.DP0304",null,"S05.DP0315"]
["50% (T&T)","S05.DP0241","S05.DP0252","S05.DP0263",null,"S05.DP0274","S05.DP0284","S05.DP0294",null,"S05.DP0305",null,"S05.DP0316"]
["50% (Foreign)","S05.DP0242","S05.DP0253","S05.DP0264",null,"S05.DP0275","S05.DP0285","S05.DP0295",null,"S05.DP0306",null,"S05.DP0317"]
["100% (T&T)","S05.DP0243","S05.DP0254","S05.DP0265",null,"S05.DP0276","S05.DP0286","S05.DP0296",null,"S05.DP0307",null,"S05.DP0318"]
["100% (Foreign)","S05.DP0244","S05.DP0255","S05.DP0266",null,"S05.DP0277","S05.DP0287","S05.DP0297",null,"S05.DP0308",null,"S05.DP0319"]
["150% (T&T)","S05.DP0245","S05.DP0256","S05.DP0267",null,"S05.DP0278","S05.DP0288","S05.DP0298",null,"S05.DP0309",null,"S05.DP0320"]
["150% (Foreign)","S05.DP0246","S05.DP0257","S05.DP0268",null,"S05.DP0279","S05.DP0289","S05.DP0299",null,"S05.DP0310",null,"S05.DP0321"]
["Total","S05.DP0247","S05.DP0258","S05.DP0269",null,null,null,"S05.DP0300",null,"S05.DP0311",null,"S05.DP0322"]
[]
["Other off-balance sheet",null,null,null,null,"**","**"]
["0% (T&T)","S05.DP0323","S05.DP0334","S05.DP0345",null,"S05.DP0356","S05.DP0366","S05.DP0376",null,"S05.DP0387",null,"S05.DP0398"]
["0% (Foreign)","S05.DP0324","S05.DP0335","S05.DP0346",null,"S05.DP0357","S05.DP0367","S05.DP0377",null,"S05.DP0388",null,"S05.DP0399"]
["20% (T&T)","S05.DP0325","S05.DP0336","S05.DP0347",null,"S05.DP0358","S05.DP0368","S05.DP0378",null,"S05.DP0389",null,"S05.DP0400"]
["20% (Foreign)","S05.DP0326","S05.DP0337","S05.DP0348",null,"S05.DP0359","S05.DP0369","S05.DP0379",null,"S05.DP0390",null,"S05.DP0401"]
["50% (T&T)","S05.DP0327","S05.DP0338","S05.DP0349",null,"S05.DP0360","S05.DP0370","S05.DP0380",null,"S05.DP0391",null,"S05.DP0402"]
["50% (Foreign)","S05.DP0328","S05.DP0339","S05.DP0350",null,"S05.DP0361","S05.DP0371","S05.DP0381",null,"S05.DP0392",null,"S05.DP0403"]
["100% (T&T)","S05.DP0329","S05.DP0340","S05.DP0351",null,"S05.DP0362","S05.DP0372","S05.DP0382",null,"S05.DP0393",null,"S05.DP0404"]
["100% (Foreign)","S05.DP0330","S05.DP0341","S05.DP0352",null,"S05.DP0363","S05.DP0373","S05.DP0383",null,"S05.DP0394",null,"S05.DP0405"]
["150% (T&T)","S05.DP0331","S05.DP0342","S05.DP0353",null,"S05.DP0364","S05.DP0374","S05.DP0384",null,"S05.DP0395",null,"S05.DP0406"]
["150% (Foreign)","S05.DP0332","S05.DP0343","S05.DP0354",null,"S05.DP0365","S05.DP0375","S05.DP0385",null,"S05.DP0396",null,"S05.DP0407"]
["Total","S05.DP0333","S05.DP0344","S05.DP0355",null,null,null,"S05.DP0386",null,"S05.DP0397",null,"S05.DP0408"]
[]
["Total",null,"S05.DP0409","S05.DP0410",null,null,null,null,null,null,null,"S05.DP0411"]
[]
[]
["** Must sum to zero."]

{"sheet":"6 PSEs","index":8,"n_rows":52,"n_cols":12,"rows_kept":52,"cut":false,"hidden":false,"merged":[[1,0,1,2],[5,1,5,3],[5,5,5,7]]}
["Schedule 6 - Standardized Approach - credit risk-weighted assets",null,null,null,null,null,null,null,null,null,null,7]
["Return to Schedule Listing"]
["For Banking Book - Public Sector Entities (PSEs)"]
["(TT$ 000)"]
[]
[null,"Before CRM",null,null,null,"Adjustments for CRM",null,null,null,"After CRM"]
["Risk weight","Notional Principal Amount","Gross* exposure (credit-equiv. amount for off B/S)","Net* exposure (credit-equiv. amount for off B/S)",null,"Redistribution of net exposure for guarantees, credit derivatives","Redistribution of net exposure for collateral (simple approach)","Adjustment to net exposure for collateral (comprehensive approach)",null,"Net exposure",null,"Risk-weighted Assets"]
["(a)",null,null,"(b)",null,"(c)","(d)","(e)",null,"(f = b+c+d+e)",null,"(g = a x f)"]
["Drawn",null,null,null,null,"**","**"]
["0%",null,null,null,null,"S06.DP0013","S06.DP0018","S06.DP0023",null,"S06.DP0029",null,"S06.DP0035"]
["20%",null,"S06.DP0002","S06.DP0008",null,"S06.DP0014","S06.DP0019","S06.DP0024",null,"S06.DP0030",null,"S06.DP0036"]
["50%",null,"S06.DP0003","S06.DP0009",null,"S06.DP0015","S06.DP0020","S06.DP0025",null,"S06.DP0031",null,"S06.DP0037"]
["100%",null,"S06.DP0004","S06.DP0010",null,"S06.DP0016","S06.DP0021","S06.DP0026",null,"S06.DP0032",null,"S06.DP0038"]
["150%",null,"S06.DP0005","S06.DP0011",null,"S06.DP0017","S06.DP0022","S06.DP0027",null,"S06.DP0033",null,"S06.DP0039"]
["Total",null,"S06.DP0006","S06.DP0012",null,null,null,"S06.DP0028",null,"S06.DP0034",null,"S06.DP0040"]
[]
["Undrawn Commitments",null,null,null,null,"**","**"]
["0%","S06.DP0041","S06.DP0047","S06.DP0053",null,"S06.DP0059","S06.DP0064","S06.DP0069",null,"S06.DP0075",null,"S06.DP0081"]
["20%","S06.DP0042","S06.DP0048","S06.DP0054",null,"S06.DP0060","S06.DP0065","S06.DP0070",null,"S06.DP0076",null,"S06.DP0082"]
["50%","S06.DP0043","S06.DP0049","S06.DP0055",null,"S06.DP0061","S06.DP0066","S06.DP0071",null,"S06.DP0077",null,"S06.DP0083"]
["100%","S06.DP0044","S06.DP0050","S06.DP0056",null,"S06.DP0062","S06.DP0067","S06.DP0072",null,"S06.DP0078",null,"S06.DP0084"]
["150%","S06.DP0045","S06.DP0051","S06.DP0057",null,"S06.DP0063","S06.DP0068","S06.DP0073",null,"S06.DP0079",null,"S06.DP0085"]
["Total","S06.DP0046","S06.DP0052","S06.DP0058",null,null,null,"S06.DP0074",null,"S06.DP0080",null,"S06.DP0086"]
[]
["Repo-style Transactions",null,null,null,null,"**","**"]
["0%",null,"S06.DP0087","S06.DP0093",null,"S06.DP0099","S06.DP0104","S06.DP0109",null,"S06.DP0115",null,"S06.DP0121"]
["20%",null,"S06.DP0088","S06.DP0094",null,"S06.DP0100","S06.DP0105","S06.DP0110",null,"S06.DP0116",null,"S06.DP0122"]
["50%",null,"S06.DP0089","S06.DP0095",null,"S06.DP0101","S06.DP0106","S06.DP0111",null,"S06.DP0117",null,"S06.DP0123"]
["100%",null,"S06.DP0090","S06.DP0096",null,"S06.DP0102","S06.DP0107","S06.DP0112",null,"S06.DP0118",null,"S06.DP0124"]
["150%",null,"S06.DP0091","S06.DP0097",null,"S06.DP0103","S06.DP0108","S06.DP0113",null,"S06.DP0119",null,"S06.DP0125"]
["Total",null,"S06.DP0092","S06.DP0098",null,null,null,"S06.DP0114",null,"S06.DP0120",null,"S06.DP0126"]
[]
["Derivatives",null,null,null,null,"**","**"]
["0%","S06.DP0127","S06.DP0133","S06.DP0139",null,"S06.DP0145","S06.DP0150","S06.DP0155",null,"S06.DP0161",null,"S06.DP0167"]
["20%","S06.DP0128","S06.DP0134","S06.DP0140",null,"S06.DP0146","S06.DP0151","S06.DP0156",null,"S06.DP0162",null,"S06.DP0168"]
["50%","S06.DP0129","S06.DP0135","S06.DP0141",null,"S06.DP0147","S06.DP0152","S06.DP0157",null,"S06.DP0163",null,"S06.DP0169"]
["100%","S06.DP0130","S06.DP0136","S06.DP0142",null,"S06.DP0148","S06.DP0153","S06.DP0158",null,"S06.DP0164",null,"S06.DP0170"]
["150%","S06.DP0131","S06.DP0137","S06.DP0143",null,"S06.DP0149","S06.DP0154","S06.DP0159",null,"S06.DP0165",null,"S06.DP0171"]
["Total","S06.DP0132","S06.DP0138","S06.DP0144",null,null,null,"S06.DP0160",null,"S06.DP0166",null,"S06.DP0172"]
[]
["Other off-balance sheet",null,null,null,null,"**","**"]
["0%","S06.DP0173","S06.DP0179","S06.DP0185",null,"S06.DP0191","S06.DP0196","S06.DP0201",null,"S06.DP0207",null,"S06.DP0213"]
["20%","S06.DP0174","S06.DP0180","S06.DP0186",null,"S06.DP0192","S06.DP0197","S06.DP0202",null,"S06.DP0208",null,"S06.DP0214"]
["50%","S06.DP0175","S06.DP0181","S06.DP0187",null,"S06.DP0193","S06.DP0198","S06.DP0203",null,"S06.DP0209",null,"S06.DP0215"]
["100%","S06.DP0176","S06.DP0182","S06.DP0188",null,"S06.DP0194","S06.DP0199","S06.DP0204",null,"S06.DP0210",null,"S06.DP0216"]
["150%","S06.DP0177","S06.DP0183","S06.DP0189",null,"S06.DP0195","S06.DP0200","S06.DP0205",null,"S06.DP0211",null,"S06.DP0217"]
["Total","S06.DP0178","S06.DP0184","S06.DP0190",null,null,null,"S06.DP0206",null,"S06.DP0212",null,"S06.DP0218"]
[]
["Total",null,"S06.DP0219","S06.DP0220",null,null,null,null,null,null,null,"S06.DP0221"]
[]
[]
["** Must sum to zero."]

{"sheet":"7 MDBs","index":9,"n_rows":52,"n_cols":12,"rows_kept":52,"cut":false,"hidden":false,"merged":[[1,0,1,2],[5,1,5,3],[5,5,5,7]]}
["Schedule 7 - Standardized Approach - credit risk-weighted assets",null,null,null,null,null,null,null,null,null,null,7]
["Return to Schedule Listing"]
["For Banking Book - Multilateral development banks (MDBs)"]
["(TT$ 000)"]
[]
[null,"Before CRM",null,null,null,"Adjustments for CRM",null,null,null,"After CRM"]
["Risk weight","Notional Principal Amount","Gross* exposure (credit-equiv. amount for off B/S)","Net* exposure (credit-equiv. amount for off B/S)",null,"Redistribution of net exposure for guarantees, credit derivatives","Redistribution of net exposure for collateral (simple approach)","Adjustment to net exposure for collateral (comprehensive approach)",null,"Net exposure",null,"Risk-weighted Assets"]
["(a)",null,null,"(b)",null,"(c)","(d)","(e)",null,"(f = b+c+d+e)",null,"(g = a x f)"]
["Drawn",null,null,null,null,"**","**"]
["0%",null,"S07.DP0001","S07.DP0007",null,"S07.DP0013","S07.DP0018","S07.DP0023",null,"S07.DP0029",null,"S07.DP0035"]
["20%",null,"S07.DP0002","S07.DP0008",null,"S07.DP0014","S07.DP0019","S07.DP0024",null,"S07.DP0030",null,"S07.DP0036"]
["50%",null,"S07.DP0003","S07.DP0009",null,"S07.DP0015","S07.DP0020","S07.DP0025",null,"S07.DP0031",null,"S07.DP0037"]
["100%",null,"S07.DP0004","S07.DP0010",null,"S07.DP0016","S07.DP0021","S07.DP0026",null,"S07.DP0032",null,"S07.DP0038"]
["150%",null,"S07.DP0005","S07.DP0011",null,"S07.DP0017","S07.DP0022","S07.DP0027",null,"S07.DP0033",null,"S07.DP0039"]
["Total",null,"S07.DP0006","S07.DP0012",null,null,null,"S07.DP0028",null,"S07.DP0034",null,"S07.DP0040"]
[]
["Undrawn Commitments",null,null,null,null,"**","**"]
["0%","S07.DP0041","S07.DP0047","S07.DP0053",null,"S07.DP0059","S07.DP0064","S07.DP0069",null,"S07.DP0075",null,"S07.DP0081"]
["20%","S07.DP0042","S07.DP0048","S07.DP0054",null,"S07.DP0060","S07.DP0065","S07.DP0070",null,"S07.DP0076",null,"S07.DP0082"]
["50%","S07.DP0043","S07.DP0049","S07.DP0055",null,"S07.DP0061","S07.DP0066","S07.DP0071",null,"S07.DP0077",null,"S07.DP0083"]
["100%","S07.DP0044","S07.DP0050","S07.DP0056",null,"S07.DP0062","S07.DP0067","S07.DP0072",null,"S07.DP0078",null,"S07.DP0084"]
["150%","S07.DP0045","S07.DP0051","S07.DP0057",null,"S07.DP0063","S07.DP0068","S07.DP0073",null,"S07.DP0079",null,"S07.DP0085"]
["Total","S07.DP0046","S07.DP0052","S07.DP0058",null,null,null,"S07.DP0074",null,"S07.DP0080",null,"S07.DP0086"]
[]
["Repo-style Transactions",null,null,null,null,"**","**"]
["0%",null,"S07.DP0087","S07.DP0093",null,"S07.DP0099","S07.DP0104","S07.DP0109",null,"S07.DP0115",null,"S07.DP0121"]
["20%",null,"S07.DP0088","S07.DP0094",null,"S07.DP0100","S07.DP0105","S07.DP0110",null,"S07.DP0116",null,"S07.DP0122"]
["50%",null,"S07.DP0089","S07.DP0095",null,"S07.DP0101","S07.DP0106","S07.DP0111",null,"S07.DP0117",null,"S07.DP0123"]
["100%",null,"S07.DP0090","S07.DP0096",null,"S07.DP0102","S07.DP0107","S07.DP0112",null,"S07.DP0118",null,"S07.DP0124"]
["150%",null,"S07.DP0091","S07.DP0097",null,"S07.DP0103","S07.DP0108","S07.DP0113",null,"S07.DP0119",null,"S07.DP0125"]
["Total",null,"S07.DP0092","S07.DP0098",null,null,null,"S07.DP0114",null,"S07.DP0120",null,"S07.DP0126"]
[]
["Derivatives",null,null,null,null,"**","**"]
["0%","S07.DP0127","S07.DP0133","S07.DP0139",null,"S07.DP0145","S07.DP0150","S07.DP0155",null,"S07.DP0161",null,"S07.DP0167"]
["20%","S07.DP0128","S07.DP0134","S07.DP0140",null,"S07.DP0146","S07.DP0151","S07.DP0156",null,"S07.DP0162",null,"S07.DP0168"]
["50%","S07.DP0129","S07.DP0135","S07.DP0141",null,"S07.DP0147","S07.DP0152","S07.DP0157",null,"S07.DP0163",null,"S07.DP0169"]
["100%","S07.DP0130","S07.DP0136","S07.DP0142",null,"S07.DP0148","S07.DP0153","S07.DP0158",null,"S07.DP0164",null,"S07.DP0170"]
["150%","S07.DP0131","S07.DP0137","S07.DP0143",null,"S07.DP0149","S07.DP0154","S07.DP0159",null,"S07.DP0165",null,"S07.DP0171"]
["Total","S07.DP0132","S07.DP0138","S07.DP0144",null,null,null,"S07.DP0160",null,"S07.DP0166",null,"S07.DP0172"]
[]
["Other off-balance sheet",null,null,null,null,"**","**"]
["0%","S07.DP0173","S07.DP0179","S07.DP0185",null,"S07.DP0191","S07.DP0196","S07.DP0201",null,"S07.DP0207",null,"S07.DP0213"]
["20%","S07.DP0174","S07.DP0180","S07.DP0186",null,"S07.DP0192","S07.DP0197","S07.DP0202",null,"S07.DP0208",null,"S07.DP0214"]
["50%","S07.DP0175","S07.DP0181","S07.DP0187",null,"S07.DP0193","S07.DP0198","S07.DP0203",null,"S07.DP0209",null,"S07.DP0215"]
["100%","S07.DP0176","S07.DP0182","S07.DP0188",null,"S07.DP0194","S07.DP0199","S07.DP0204",null,"S07.DP0210",null,"S07.DP0216"]
["150%","S07.DP0177","S07.DP0183","S07.DP0189",null,"S07.DP0195","S07.DP0200","S07.DP0205",null,"S07.DP0211",null,"S07.DP0217"]
["Total","S07.DP0178","S07.DP0184","S07.DP0190",null,null,null,"S07.DP0206",null,"S07.DP0212",null,"S07.DP0218"]
[]
["Total",null,"S07.DP0219","S07.DP0220",null,null,null,null,null,null,null,"S07.DP0221"]
[]
[]
["** Must sum to zero."]

{"sheet":"8 Bank & Sec. Firms LT","index":10,"n_rows":52,"n_cols":12,"rows_kept":52,"cut":false,"hidden":false,"merged":[[1,0,1,2],[5,1,5,3],[5,5,5,7]]}
["Schedule 8 - Standardized Approach - credit risk-weighted assets",null,null,null,null,null,null,null,null,null,null,7]
["Return to Schedule Listing"]
["For Banking Book - Bank & Securities Firms - Maturity > 3 months"]
["(TT$ 000)"]
[]
[null,"Before CRM",null,null,null,"Adjustments for CRM",null,null,null,"After CRM"]
["Risk weight","Notional Principal Amount","Gross* exposure (credit-equiv. amount for off B/S)","Net* exposure (credit-equiv. amount for off B/S)",null,"Redistribution of net exposure for guarantees, credit derivatives","Redistribution of net exposure for collateral (simple approach)","Adjustment to net exposure for collateral (comprehensive approach)",null,"Net exposure",null,"Risk-weighted Assets"]
["(a)",null,null,"(b)",null,"(c)","(d)","(e)",null,"(f = b+c+d+e)",null,"(g = a x f)"]
["Drawn",null,null,null,null,"**","**"]
["0%",null,null,null,null,"S08.DP0011","S08.DP0016","S08.DP0021",null,"S08.DP0027",null,"S08.DP0033"]
["20%",null,"S08.DP0001","S08.DP0006",null,"S08.DP0012","S08.DP0017","S08.DP0022",null,"S08.DP0028",null,"S08.DP0034"]
["50%",null,"S08.DP0002","S08.DP0007",null,"S08.DP0013","S08.DP0018","S08.DP0023",null,"S08.DP0029",null,"S08.DP0035"]
["100%",null,"S08.DP0003","S08.DP0008",null,"S08.DP0014","S08.DP0019","S08.DP0024",null,"S08.DP0030",null,"S08.DP0036"]
["150%",null,"S08.DP0004","S08.DP0009",null,"S08.DP0015","S08.DP0020","S08.DP0025",null,"S08.DP0031",null,"S08.DP0037"]
["Total",null,"S08.DP0005","S08.DP0010",null,null,null,"S08.DP0026",null,"S08.DP0032",null,"S08.DP0038"]
[]
["Undrawn Commitments",null,null,null,null,"**","**"]
["0%",null,null,null,null,"S08.DP0054","S08.DP0059","S08.DP0064",null,"S08.DP0070",null,"S08.DP0076"]
["20%","S08.DP0039","S08.DP0044","S08.DP0049",null,"S08.DP0055","S08.DP0060","S08.DP0065",null,"S08.DP0071",null,"S08.DP0077"]
["50%","S08.DP0040","S08.DP0045","S08.DP0050",null,"S08.DP0056","S08.DP0061","S08.DP0066",null,"S08.DP0072",null,"S08.DP0078"]
["100%","S08.DP0041","S08.DP0046","S08.DP0051",null,"S08.DP0057","S08.DP0062","S08.DP0067",null,"S08.DP0073",null,"S08.DP0079"]
["150%","S08.DP0042","S08.DP0047","S08.DP0052",null,"S08.DP0058","S08.DP0063","S08.DP0068",null,"S08.DP0074",null,"S08.DP0080"]
["Total","S08.DP0043","S08.DP0048","S08.DP0053",null,null,null,"S08.DP0069",null,"S08.DP0075",null,"S08.DP0081"]
[]
["Repo-style Transactions",null,null,null,null,"**","**"]
["0%",null,null,null,null,"S08.DP0092","S08.DP0097","S08.DP0102",null,"S08.DP0108",null,"S08.DP0114"]
["20%",null,"S08.DP0082","S08.DP0087",null,"S08.DP0093","S08.DP0098","S08.DP0103",null,"S08.DP0109",null,"S08.DP0115"]
["50%",null,"S08.DP0083","S08.DP0088",null,"S08.DP0094","S08.DP0099","S08.DP0104",null,"S08.DP0110",null,"S08.DP0116"]
["100%",null,"S08.DP0084","S08.DP0089",null,"S08.DP0095","S08.DP0100","S08.DP0105",null,"S08.DP0111",null,"S08.DP0117"]
["150%",null,"S08.DP0085","S08.DP0090",null,"S08.DP0096","S08.DP0101","S08.DP0106",null,"S08.DP0112",null,"S08.DP0118"]
["Total",null,"S08.DP0086","S08.DP0091",null,null,null,"S08.DP0107",null,"S08.DP0113",null,"S08.DP0119"]
[]
["Derivatives",null,null,null,null,"**","**"]
["0%",null,null,null,null,"S08.DP0135","S08.DP0140","S08.DP0145",null,"S08.DP0151",null,"S08.DP0157"]
["20%","S08.DP0120","S08.DP0125","S08.DP0130",null,"S08.DP0136","S08.DP0141","S08.DP0146",null,"S08.DP0152",null,"S08.DP0158"]
["50%","S08.DP0121","S08.DP0126","S08.DP0131",null,"S08.DP0137","S08.DP0142","S08.DP0147",null,"S08.DP0153",null,"S08.DP0159"]
["100%","S08.DP0122","S08.DP0127","S08.DP0132",null,"S08.DP0138","S08.DP0143","S08.DP0148",null,"S08.DP0154",null,"S08.DP0160"]
["150%","S08.DP0123","S08.DP0128","S08.DP0133",null,"S08.DP0139","S08.DP0144","S08.DP0149",null,"S08.DP0155",null,"S08.DP0161"]
["Total","S08.DP0124","S08.DP0129","S08.DP0134",null,null,null,"S08.DP0150",null,"S08.DP0156",null,"S08.DP0162"]
[]
["Other off-balance sheet",null,null,null,null,"**","**"]
["0%",null,null,null,null,"S08.DP0178","S08.DP0183","S08.DP0188",null,"S08.DP0194",null,"S08.DP0200"]
["20%","S08.DP0163","S08.DP0168","S08.DP0173",null,"S08.DP0179","S08.DP0184","S08.DP0189",null,"S08.DP0195",null,"S08.DP0201"]
["50%","S08.DP0164","S08.DP0169","S08.DP0174",null,"S08.DP0180","S08.DP0185","S08.DP0190",null,"S08.DP0196",null,"S08.DP0202"]
["100%","S08.DP0165","S08.DP0170","S08.DP0175",null,"S08.DP0181","S08.DP0186","S08.DP0191",null,"S08.DP0197",null,"S08.DP0203"]
["150%","S08.DP0166","S08.DP0171","S08.DP0176",null,"S08.DP0182","S08.DP0187","S08.DP0192",null,"S08.DP0198",null,"S08.DP0204"]
["Total","S08.DP0167","S08.DP0172","S08.DP0177",null,null,null,"S08.DP0193",null,"S08.DP0199",null,"S08.DP0205"]
[]
["Total",null,"S08.DP0206","S08.DP0207",null,null,null,null,null,null,null,"S08.DP0208"]
[]
[]
["** Must sum to zero."]

{"sheet":"8A Bank & Sec. Firms ST","index":11,"n_rows":52,"n_cols":12,"rows_kept":52,"cut":false,"hidden":false,"merged":[[1,0,1,2],[2,0,2,11],[5,1,5,3],[5,5,5,7]]}
["Schedule 8A - Standardized Approach - credit risk-weighted assets",null,null,null,null,null,null,null,null,null,null,5]
["Return to Schedule Listing"]
["For Banking Book - Bank - Maturity <= 3 months"]
["(TT$ 000)"]
[]
[null,"Before CRM",null,null,null,"Adjustments for CRM",null,null,null,"After CRM"]
["Risk weight","Notional Principal Amount","Gross* exposure (credit-equiv. amount for off B/S)","Net* exposure (credit-equiv. amount for off B/S)",null,"Redistribution of net exposure for guarantees, credit derivatives","Redistribution of net exposure for collateral (simple approach)","Adjustment to net exposure for collateral (comprehensive approach)",null,"Net exposure",null,"Risk-weighted Assets"]
["(a)",null,null,"(b)",null,"(c)","(d)","(e)",null,"(f = b+c+d+e)",null,"(g = a x f)"]
["Drawn",null,null,null,null,"**","**"]
["0%",null,null,null,null,"S08A.DP0011","S08A.DP0016","S08A.DP0021",null,"S08A.DP0027",null,"S08A.DP0033"]
["20%",null,"S08A.DP0001","S08A.DP0006",null,"S08A.DP0012","S08A.DP0017","S08A.DP0022",null,"S08A.DP0028",null,"S08A.DP0034"]
["50%",null,"S08A.DP0002","S08A.DP0007",null,"S08A.DP0013","S08A.DP0018","S08A.DP0023",null,"S08A.DP0029",null,"S08A.DP0035"]
["100%",null,"S08A.DP0003","S08A.DP0008",null,"S08A.DP0014","S08A.DP0019","S08A.DP0024",null,"S08A.DP0030",null,"S08A.DP0036"]
["150%",null,"S08A.DP0004","S08A.DP0009",null,"S08A.DP0015","S08A.DP0020","S08A.DP0025",null,"S08A.DP0031",null,"S08A.DP0037"]
["Total",null,"S08A.DP0005","S08A.DP0010",null,null,null,"S08A.DP0026",null,"S08A.DP0032",null,"S08A.DP0038"]
[]
["Undrawn Commitments",null,null,null,null,"**","**"]
["0%",null,null,null,null,"S08A.DP0054","S08A.DP0059","S08A.DP0064",null,"S08A.DP0070",null,"S08A.DP0076"]
["20%","S08A.DP0039","S08A.DP0044","S08A.DP0049",null,"S08A.DP0055","S08A.DP0060","S08A.DP0065",null,"S08A.DP0071",null,"S08A.DP0077"]
["50%","S08A.DP0040","S08A.DP0045","S08A.DP0050",null,"S08A.DP0056","S08A.DP0061","S08A.DP0066",null,"S08A.DP0072",null,"S08A.DP0078"]
["100%","S08A.DP0041","S08A.DP0046","S08A.DP0051",null,"S08A.DP0057","S08A.DP0062","S08A.DP0067",null,"S08A.DP0073",null,"S08A.DP0079"]
["150%","S08A.DP0042","S08A.DP0047","S08A.DP0052",null,"S08A.DP0058","S08A.DP0063","S08A.DP0068",null,"S08A.DP0074",null,"S08A.DP0080"]
["Total","S08A.DP0043","S08A.DP0048","S08A.DP0053",null,null,null,"S08A.DP0069",null,"S08A.DP0075",null,"S08A.DP0081"]
[]
["Repo-style Transactions",null,null,null,null,"**","**"]
["0%",null,null,null,null,"S08A.DP0092","S08A.DP0097","S08A.DP0102",null,"S08A.DP0108",null,"S08A.DP0114"]
["20%",null,"S08A.DP0082","S08A.DP0087",null,"S08A.DP0093","S08A.DP0098","S08A.DP0103",null,"S08A.DP0109",null,"S08A.DP0115"]
["50%",null,"S08A.DP0083","S08A.DP0088",null,"S08A.DP0094","S08A.DP0099","S08A.DP0104",null,"S08A.DP0110",null,"S08A.DP0116"]
["100%",null,"S08A.DP0084","S08A.DP0089",null,"S08A.DP0095","S08A.DP0100","S08A.DP0105",null,"S08A.DP0111",null,"S08A.DP0117"]
["150%",null,"S08A.DP0085","S08A.DP0090",null,"S08A.DP0096","S08A.DP0101","S08A.DP0106",null,"S08A.DP0112",null,"S08A.DP0118"]
["Total",null,"S08A.DP0086","S08A.DP0091",null,null,null,"S08A.DP0107",null,"S08A.DP0113",null,"S08A.DP0119"]
[]
["Derivatives",null,null,null,null,"**","**"]
["0%",null,null,null,null,"S08A.DP0135","S08A.DP0140","S08A.DP0145",null,"S08A.DP0151",null,"S08A.DP0157"]
["20%","S08A.DP0120","S08A.DP0125","S08A.DP0130",null,"S08A.DP0136","S08A.DP0141","S08A.DP0146",null,"S08A.DP0152",null,"S08A.DP0158"]
["50%","S08A.DP0121","S08A.DP0126","S08A.DP0131",null,"S08A.DP0137","S08A.DP0142","S08A.DP0147",null,"S08A.DP0153",null,"S08A.DP0159"]
["100%","S08A.DP0122","S08A.DP0127","S08A.DP0132",null,"S08A.DP0138","S08A.DP0143","S08A.DP0148",null,"S08A.DP0154",null,"S08A.DP0160"]
["150%","S08A.DP0123","S08A.DP0128","S08A.DP0133",null,"S08A.DP0139","S08A.DP0144","S08A.DP0149",null,"S08A.DP0155",null,"S08A.DP0161"]
["Total","S08A.DP0124","S08A.DP0129","S08A.DP0134",null,null,null,"S08A.DP0150",null,"S08A.DP0156",null,"S08A.DP0162"]
[]
["Other off-balance sheet",null,null,null,null,"**","**"]
["0%",null,null,null,null,"S08A.DP0178","S08A.DP0183","S08A.DP0188",null,"S08A.DP0194",null,"S08A.DP0200"]
["20%","S08A.DP0163","S08A.DP0168","S08A.DP0173",null,"S08A.DP0179","S08A.DP0184","S08A.DP0189",null,"S08A.DP0195",null,"S08A.DP0201"]
["50%","S08A.DP0164","S08A.DP0169","S08A.DP0174",null,"S08A.DP0180","S08A.DP0185","S08A.DP0190",null,"S08A.DP0196",null,"S08A.DP0202"]
["100%","S08A.DP0165","S08A.DP0170","S08A.DP0175",null,"S08A.DP0181","S08A.DP0186","S08A.DP0191",null,"S08A.DP0197",null,"S08A.DP0203"]
["150%","S08A.DP0166","S08A.DP0171","S08A.DP0176",null,"S08A.DP0182","S08A.DP0187","S08A.DP0192",null,"S08A.DP0198",null,"S08A.DP0204"]
["Total","S08A.DP0167","S08A.DP0172","S08A.DP0177",null,null,null,"S08A.DP0193",null,"S08A.DP0199",null,"S08A.DP0205"]
[]
["Total",null,"S08A.DP0206","S08A.DP0207",null,null,null,null,null,null,null,"S08A.DP0208"]
[]
[]
["** Must sum to zero."]

{"sheet":" 9 Corp. & Sec. Firms LT","index":12,"n_rows":52,"n_cols":12,"rows_kept":52,"cut":false,"hidden":false,"merged":[[1,0,1,2],[2,0,2,11],[5,1,5,3],[5,5,5,7]]}
["Schedule 9 - Standardized Approach - credit risk-weighted assets",null,null,null,null,null,null,null,null,null,null,5]
["Return to Schedule Listing"]
["For Banking Book - Corporate  - Maturity > 3 months "]
["(TT$ 000)"]
[]
[null,"Before CRM",null,null,null,"Adjustments for CRM",null,null,null,"After CRM"]
["Risk weight","Notional Principal Amount","Gross* exposure (credit-equiv. amount for off B/S)","Net* exposure (credit-equiv. amount for off B/S)",null,"Redistribution of net exposure for guarantees, credit derivatives","Redistribution of net exposure for collateral (simple approach)","Adjustment to net exposure for collateral (comprehensive approach)",null,"Net exposure",null,"Risk-weighted Assets"]
["(a)",null,null,"(b)",null,"(c)","(d)","(e)",null,"(f = b+c+d+e)",null,"(g = a x f)"]
["Drawn",null,null,null,null,"**","**"]
["0%",null,null,null,null,"S09.DP0011","S09.DP0016","S09.DP0021",null,"S09.DP0027",null,"S09.DP0033"]
["20%",null,"S09.DP0001","S09.DP0006",null,"S09.DP0012","S09.DP0017","S09.DP0022",null,"S09.DP0028",null,"S09.DP0034"]
["50%",null,"S09.DP0002","S09.DP0007",null,"S09.DP0013","S09.DP0018","S09.DP0023",null,"S09.DP0029",null,"S09.DP0035"]
["100%",null,"S09.DP0003","S09.DP0008",null,"S09.DP0014","S09.DP0019","S09.DP0024",null,"S09.DP0030",null,"S09.DP0036"]
["150%",null,"S09.DP0004","S09.DP0009",null,"S09.DP0015","S09.DP0020","S09.DP0025",null,"S09.DP0031",null,"S09.DP0037"]
["Total",null,"S09.DP0005","S09.DP0010",null,null,null,"S09.DP0026",null,"S09.DP0032",null,"S09.DP0038"]
[]
["Undrawn Commitments",null,null,null,null,"**","**"]
["0%",null,null,null,null,"S09.DP0054","S09.DP0059","S09.DP0064",null,"S09.DP0070",null,"S09.DP0076"]
["20%","S09.DP0039","S09.DP0044","S09.DP0049",null,"S09.DP0055","S09.DP0060","S09.DP0065",null,"S09.DP0071",null,"S09.DP0077"]
["50%","S09.DP0040","S09.DP0045","S09.DP0050",null,"S09.DP0056","S09.DP0061","S09.DP0066",null,"S09.DP0072",null,"S09.DP0078"]
["100%","S09.DP0041","S09.DP0046","S09.DP0051",null,"S09.DP0057","S09.DP0062","S09.DP0067",null,"S09.DP0073",null,"S09.DP0079"]
["150%","S09.DP0042","S09.DP0047","S09.DP0052",null,"S09.DP0058","S09.DP0063","S09.DP0068",null,"S09.DP0074",null,"S09.DP0080"]
["Total","S09.DP0043","S09.DP0048","S09.DP0053",null,null,null,"S09.DP0069",null,"S09.DP0075",null,"S09.DP0081"]
[]
["Repo-style Transactions",null,null,null,null,"**","**"]
["0%",null,null,null,null,"S09.DP0092","S09.DP0097","S09.DP0102",null,"S09.DP0108",null,"S09.DP0114"]
["20%",null,"S09.DP0082","S09.DP0087",null,"S09.DP0093","S09.DP0098","S09.DP0103",null,"S09.DP0109",null,"S09.DP0115"]
["50%",null,"S09.DP0083","S09.DP0088",null,"S09.DP0094","S09.DP0099","S09.DP0104",null,"S09.DP0110",null,"S09.DP0116"]
["100%",null,"S09.DP0084","S09.DP0089",null,"S09.DP0095","S09.DP0100","S09.DP0105",null,"S09.DP0111",null,"S09.DP0117"]
["150%",null,"S09.DP0085","S09.DP0090",null,"S09.DP0096","S09.DP0101","S09.DP0106",null,"S09.DP0112",null,"S09.DP0118"]
["Total",null,"S09.DP0086","S09.DP0091",null,null,null,"S09.DP0107",null,"S09.DP0113",null,"S09.DP0119"]
[]
["Derivatives",null,null,null,null,"**","**"]
["0%",null,null,null,null,"S09.DP0135","S09.DP0140","S09.DP0145",null,"S09.DP0151",null,"S09.DP0157"]
["20%","S09.DP0120","S09.DP0125","S09.DP0130",null,"S09.DP0136","S09.DP0141","S09.DP0146",null,"S09.DP0152",null,"S09.DP0158"]
["50%","S09.DP0121","S09.DP0126","S09.DP0131",null,"S09.DP0137","S09.DP0142","S09.DP0147",null,"S09.DP0153",null,"S09.DP0159"]
["100%","S09.DP0122","S09.DP0127","S09.DP0132",null,"S09.DP0138","S09.DP0143","S09.DP0148",null,"S09.DP0154",null,"S09.DP0160"]
["150%","S09.DP0123","S09.DP0128","S09.DP0133",null,"S09.DP0139","S09.DP0144","S09.DP0149",null,"S09.DP0155",null,"S09.DP0161"]
["Total","S09.DP0124","S09.DP0129","S09.DP0134",null,null,null,"S09.DP0150",null,"S09.DP0156",null,"S09.DP0162"]
[]
["Other off-balance sheet",null,null,null,null,"**","**"]
["0%",null,null,null,null,"S09.DP0178","S09.DP0183","S09.DP0188",null,"S09.DP0194",null,"S09.DP0200"]
["20%","S09.DP0163","S09.DP0168","S09.DP0173",null,"S09.DP0179","S09.DP0184","S09.DP0189",null,"S09.DP0195",null,"S09.DP0201"]
["50%","S09.DP0164","S09.DP0169","S09.DP0174",null,"S09.DP0180","S09.DP0185","S09.DP0190",null,"S09.DP0196",null,"S09.DP0202"]
["100%","S09.DP0165","S09.DP0170","S09.DP0175",null,"S09.DP0181","S09.DP0186","S09.DP0191",null,"S09.DP0197",null,"S09.DP0203"]
["150%","S09.DP0166","S09.DP0171","S09.DP0176",null,"S09.DP0182","S09.DP0187","S09.DP0192",null,"S09.DP0198",null,"S09.DP0204"]
["Total","S09.DP0167","S09.DP0172","S09.DP0177",null,null,null,"S09.DP0193",null,"S09.DP0199",null,"S09.DP0205"]
[]
["Total",null,"S09.DP0206","S09.DP0207",null,null,null,null,null,null,null,"S09.DP0208"]
[]
[]
["** Must sum to zero."]

{"sheet":"9A Corp. & Sec. Firms ST","index":13,"n_rows":52,"n_cols":12,"rows_kept":52,"cut":false,"hidden":false,"merged":[[1,0,1,2],[2,0,2,11],[5,1,5,3],[5,5,5,7]]}
["Schedule 9A - Standardized Approach - credit risk-weighted assets",null,null,null,null,null,null,null,null,null,null,5]
["Return to Schedule Listing"]
["For Banking Book - Corporate  - Maturity <=  3 months "]
["(TT$ 000)"]
[]
[null,"Before CRM",null,null,null,"Adjustments for CRM",null,null,null,"After CRM"]
["Risk weight","Notional Principal Amount","Gross* exposure (credit-equiv. amount for off B/S)","Net* exposure (credit-equiv. amount for off B/S)",null,"Redistribution of net exposure for guarantees, credit derivatives","Redistribution of net exposure for collateral (simple approach)","Adjustment to net exposure for collateral (comprehensive approach)",null,"Net exposure",null,"Risk-weighted Assets"]
["(a)",null,null,"(b)",null,"(c)","(d)","(e)",null,"(f = b+c+d+e)",null,"(g = a x f)"]
["Drawn",null,null,null,null,"**","**"]
["0%",null,null,null,null,"S09A.DP0011","S09A.DP0016","S09A.DP0021",null,"S09A.DP0027",null,"S09A.DP0033"]
["20%",null,"S09A.DP0001","S09A.DP0006",null,"S09A.DP0012","S09A.DP0017","S09A.DP0022",null,"S09A.DP0028",null,"S09A.DP0034"]
["50%",null,"S09A.DP0002","S09A.DP0007",null,"S09A.DP0013","S09A.DP0018","S09A.DP0023",null,"S09A.DP0029",null,"S09A.DP0035"]
["100%",null,"S09A.DP0003","S09A.DP0008",null,"S09A.DP0014","S09A.DP0019","S09A.DP0024",null,"S09A.DP0030",null,"S09A.DP0036"]
["150%",null,"S09A.DP0004","S09A.DP0009",null,"S09A.DP0015","S09A.DP0020","S09A.DP0025",null,"S09A.DP0031",null,"S09A.DP0037"]
["Total",null,"S09A.DP0005","S09A.DP0010",null,null,null,"S09A.DP0026",null,"S09A.DP0032",null,"S09A.DP0038"]
[]
["Undrawn Commitments",null,null,null,null,"**","**"]
["0%",null,null,null,null,"S09A.DP0054","S09A.DP0059","S09A.DP0064",null,"S09A.DP0070",null,"S09A.DP0076"]
["20%","S09A.DP0039","S09A.DP0044","S09A.DP0049",null,"S09A.DP0055","S09A.DP0060","S09A.DP0065",null,"S09A.DP0071",null,"S09A.DP0077"]
["50%","S09A.DP0040","S09A.DP0045","S09A.DP0050",null,"S09A.DP0056","S09A.DP0061","S09A.DP0066",null,"S09A.DP0072",null,"S09A.DP0078"]
["100%","S09A.DP0041","S09A.DP0046","S09A.DP0051",null,"S09A.DP0057","S09A.DP0062","S09A.DP0067",null,"S09A.DP0073",null,"S09A.DP0079"]
["150%","S09A.DP0042","S09A.DP0047","S09A.DP0052",null,"S09A.DP0058","S09A.DP0063","S09A.DP0068",null,"S09A.DP0074",null,"S09A.DP0080"]
["Total","S09A.DP0043","S09A.DP0048","S09A.DP0053",null,null,null,"S09A.DP0069",null,"S09A.DP0075",null,"S09A.DP0081"]
[]
["Repo-style Transactions",null,null,null,null,"**","**"]
["0%",null,null,null,null,"S09A.DP0092","S09A.DP0097","S09A.DP0102",null,"S09A.DP0108",null,"S09A.DP0114"]
["20%",null,"S09A.DP0082","S09A.DP0087",null,"S09A.DP0093","S09A.DP0098","S09A.DP0103",null,"S09A.DP0109",null,"S09A.DP0115"]
["50%",null,"S09A.DP0083","S09A.DP0088",null,"S09A.DP0094","S09A.DP0099","S09A.DP0104",null,"S09A.DP0110",null,"S09A.DP0116"]
["100%",null,"S09A.DP0084","S09A.DP0089",null,"S09A.DP0095","S09A.DP0100","S09A.DP0105",null,"S09A.DP0111",null,"S09A.DP0117"]
["150%",null,"S09A.DP0085","S09A.DP0090",null,"S09A.DP0096","S09A.DP0101","S09A.DP0106",null,"S09A.DP0112",null,"S09A.DP0118"]
["Total",null,"S09A.DP0086","S09A.DP0091",null,null,null,"S09A.DP0107",null,"S09A.DP0113",null,"S09A.DP0119"]
[]
["Derivatives",null,null,null,null,"**","**"]
["0%",null,null,null,null,"S09A.DP0135","S09A.DP0140","S09A.DP0145",null,"S09A.DP0151",null,"S09A.DP0157"]
["20%","S09A.DP0120","S09A.DP0125","S09A.DP0130",null,"S09A.DP0136","S09A.DP0141","S09A.DP0146",null,"S09A.DP0152",null,"S09A.DP0158"]
["50%","S09A.DP0121","S09A.DP0126","S09A.DP0131",null,"S09A.DP0137","S09A.DP0142","S09A.DP0147",null,"S09A.DP0153",null,"S09A.DP0159"]
["100%","S09A.DP0122","S09A.DP0127","S09A.DP0132",null,"S09A.DP0138","S09A.DP0143","S09A.DP0148",null,"S09A.DP0154",null,"S09A.DP0160"]
["150%","S09A.DP0123","S09A.DP0128","S09A.DP0133",null,"S09A.DP0139","S09A.DP0144","S09A.DP0149",null,"S09A.DP0155",null,"S09A.DP0161"]
["Total","S09A.DP0124","S09A.DP0129","S09A.DP0134",null,null,null,"S09A.DP0150",null,"S09A.DP0156",null,"S09A.DP0162"]
[]
["Other off-balance sheet",null,null,null,null,"**","**"]
["0%",null,null,null,null,"S09A.DP0178","S09A.DP0183","S09A.DP0188",null,"S09A.DP0194",null,"S09A.DP0200"]
["20%","S09A.DP0163","S09A.DP0168","S09A.DP0173",null,"S09A.DP0179","S09A.DP0184","S09A.DP0189",null,"S09A.DP0195",null,"S09A.DP0201"]
["50%","S09A.DP0164","S09A.DP0169","S09A.DP0174",null,"S09A.DP0180","S09A.DP0185","S09A.DP0190",null,"S09A.DP0196",null,"S09A.DP0202"]
["100%","S09A.DP0165","S09A.DP0170","S09A.DP0175",null,"S09A.DP0181","S09A.DP0186","S09A.DP0191",null,"S09A.DP0197",null,"S09A.DP0203"]
["150%","S09A.DP0166","S09A.DP0171","S09A.DP0176",null,"S09A.DP0182","S09A.DP0187","S09A.DP0192",null,"S09A.DP0198",null,"S09A.DP0204"]
["Total","S09A.DP0167","S09A.DP0172","S09A.DP0177",null,null,null,"S09A.DP0193",null,"S09A.DP0199",null,"S09A.DP0205"]
[]
["Total",null,"S09A.DP0206","S09A.DP0207",null,null,null,null,null,null,null,"S09A.DP0208"]
[]
[]
["** Must sum to zero."]

{"sheet":"10 Commercial Real Estate","index":14,"n_rows":34,"n_cols":12,"rows_kept":34,"cut":false,"hidden":false,"merged":[[1,0,1,2],[2,0,2,11],[5,1,5,3],[5,5,5,7]]}
["Schedule 10 - Standardized Approach - credit risk-weighted assets",null,null,null,null,null,null,null,null,null,null,5]
["Return to Schedule Listing"]
["For Banking Book - Commercial Real Estate"]
["(TT$ 000)"]
[]
[null,"Before CRM",null,null,null,"Adjustments for CRM",null,null,null,"After CRM"]
["Risk weight","Notional Principal Amount","Gross* exposure (credit-equiv. amount for off B/S)","Net* exposure (credit-equiv. amount for off B/S)",null,"Redistribution of net exposure for guarantees, credit derivatives","Redistribution of net exposure for collateral (simple approach)","Adjustment to net exposure for collateral (comprehensive approach)",null,"Net exposure",null,"Risk-weighted Assets"]
["(a)",null,null,"(b)",null,"(c)","(d)","(e)",null,"(f = b+c+d+e)",null,"(g = a x f)"]
["Drawn",null,null,null,null,"**","**"]
["0%",null,null,null,null,"S10.DP0009","S10.DP0013","S10.DP0017",null,"S10.DP0022",null,"S10.DP0027"]
["50%",null,"S10.DP0001","S10.DP0005",null,"S10.DP0010","S10.DP0014","S10.DP0018",null,"S10.DP0023",null,"S10.DP0028"]
["100%",null,"S10.DP0002","S10.DP0006",null,"S10.DP0011","S10.DP0015","S10.DP0019",null,"S10.DP0024",null,"S10.DP0029"]
["150%",null,"S10.DP0003","S10.DP0007",null,"S10.DP0012","S10.DP0016","S10.DP0020",null,"S10.DP0025",null,"S10.DP0030"]
["Total",null,"S10.DP0004","S10.DP0008",null,null,null,"S10.DP0021",null,"S10.DP0026",null,"S10.DP0031"]
[]
["Undrawn Commitments",null,null,null,null,"**","**"]
["0%",null,null,null,null,"S10.DP0044","S10.DP0048","S10.DP0052",null,"S10.DP0057",null,"S10.DP0062"]
["50%","S10.DP0032","S10.DP0036","S10.DP0040",null,"S10.DP0045","S10.DP0049","S10.DP0053",null,"S10.DP0058",null,"S10.DP0063"]
["100%","S10.DP0033","S10.DP0037","S10.DP0041",null,"S10.DP0046","S10.DP0050","S10.DP0054",null,"S10.DP0059",null,"S10.DP0064"]
["150%","S10.DP0034","S10.DP0038","S10.DP0042",null,"S10.DP0047","S10.DP0051","S10.DP0055",null,"S10.DP0060",null,"S10.DP0065"]
["Total","S10.DP0035","S10.DP0039","S10.DP0043",null,null,null,"S10.DP0056",null,"S10.DP0061",null,"S10.DP0066"]
[]
[]
["Other off-balance sheet",null,null,null,null,"**","**"]
["0%",null,null,null,null,"S10.DP0079","S10.DP0083","S10.DP0087",null,"S10.DP0092",null,"S10.DP0097"]
["50%","S10.DP0067","S10.DP0071","S10.DP0075",null,"S10.DP0080","S10.DP0084","S10.DP0088",null,"S10.DP0093",null,"S10.DP0098"]
["100%","S10.DP0068","S10.DP0072","S10.DP0076",null,"S10.DP0081","S10.DP0085","S10.DP0089",null,"S10.DP0094",null,"S10.DP0099"]
["150%","S10.DP0069","S10.DP0073","S10.DP0077",null,"S10.DP0082","S10.DP0086","S10.DP0090",null,"S10.DP0095",null,"S10.DP0100"]
["Total","S10.DP0070","S10.DP0074","S10.DP0078",null,null,null,"S10.DP0091",null,"S10.DP0096",null,"S10.DP0101"]
[]
["Total",null,"S10.DP0102","S10.DP0103",null,null,null,null,null,null,null,"S10.DP0104"]
[]
[]
["** Must sum to zero."]

{"sheet":"11 Residential Mortgages","index":15,"n_rows":28,"n_cols":12,"rows_kept":28,"cut":false,"hidden":false,"merged":[[1,0,1,2],[5,1,5,3],[5,5,5,7],[8,0,8,2]]}
["Schedule 11 - Standardized Approach - credit risk-weighted assets",null,null,null,null,null,null,null,null,null,null,9]
["Return to Schedule Listing"]
["For Banking Book - Residential Mortgages"]
["(TT$ 000)"]
[]
[null,"Before CRM",null,null,null,"Adjustments for CRM",null,null,null,"After CRM"]
["Risk weight","Notional Principal Amount","Gross* exposure (credit-equiv. amount for off B/S)","Net* exposure (credit-equiv. amount for off B/S)",null,"Redistribution of net exposure for guarantees, credit derivatives","Redistribution of net exposure for collateral (simple approach)","Adjustment to net exposure for collateral (comprehensive approach)",null,"Net exposure",null,"Risk-weighted Assets"]
["(a)",null,null,"(b)",null,"(c)","(d)","(e)",null,"(f = b+c+d+e)",null,"(g = a x f)"]
["Drawn",null,null,null,null,"**","**"]
["0%",null,null,null,null,"S11.DP0011","S11.DP0016","S11.DP0021",null,"S11.DP0027",null,"S11.DP0033"]
["35%",null,"S11.DP0001","S11.DP0006",null,"S11.DP0012","S11.DP0017","S11.DP0022",null,"S11.DP0028",null,"S11.DP0034"]
["50%",null,"S11.DP0002","S11.DP0007",null,"S11.DP0013","S11.DP0018","S11.DP0023",null,"S11.DP0029",null,"S11.DP0035"]
["75%",null,"S11.DP0003","S11.DP0008",null,"S11.DP0014","S11.DP0019","S11.DP0024",null,"S11.DP0030",null,"S11.DP0036"]
["100%",null,"S11.DP0004","S11.DP0009",null,"S11.DP0015","S11.DP0020","S11.DP0025",null,"S11.DP0031",null,"S11.DP0037"]
["Total",null,"S11.DP0005","S11.DP0010",null,null,null,"S11.DP0026",null,"S11.DP0032",null,"S11.DP0038"]
[]
["Undrawn Commitments",null,null,null,null,"**","**"]
["0%",null,null,null,null,"S11.DP0054","S11.DP0059","S11.DP0064",null,"S11.DP0070",null,"S11.DP0076"]
["35%","S11.DP0039","S11.DP0044","S11.DP0049",null,"S11.DP0055","S11.DP0060","S11.DP0065",null,"S11.DP0071",null,"S11.DP0077"]
["50%","S11.DP0040","S11.DP0045","S11.DP0050",null,"S11.DP0056","S11.DP0061","S11.DP0066",null,"S11.DP0072",null,"S11.DP0078"]
["75%","S11.DP0041","S11.DP0046","S11.DP0051",null,"S11.DP0057","S11.DP0062","S11.DP0067",null,"S11.DP0073",null,"S11.DP0079"]
["100%","S11.DP0042","S11.DP0047","S11.DP0052",null,"S11.DP0058","S11.DP0063","S11.DP0068",null,"S11.DP0074",null,"S11.DP0080"]
["Total","S11.DP0043","S11.DP0048","S11.DP0053",null,null,null,"S11.DP0069",null,"S11.DP0075",null,"S11.DP0081"]
[]
["Total",null,"S11.DP0082","S11.DP0083",null,null,null,null,null,null,null,"S11.DP0084"]
[]
[]
["** Must sum to zero."]

{"sheet":"12 Other Retail","index":16,"n_rows":36,"n_cols":12,"rows_kept":36,"cut":false,"hidden":false,"merged":[[1,0,1,2],[2,0,2,11],[5,1,5,3],[5,5,5,7],[8,0,8,2]]}
["Schedule 12  - Standardized Approach - credit risk-weighted assets",null,null,null,null,null,null,null,null,null,null,10]
["Return to Schedule Listing"]
["For Banking Book - Other Retail (excl. SBEs treated as Other Retail)"]
["(TT$ 000)"]
[]
[null,"Before CRM",null,null,null,"Adjustments for CRM",null,null,null,"After CRM"]
["Risk weight","Notional Principal Amount","Gross* exposure (credit-equiv. amount for off B/S)","Net* exposure (credit-equiv. amount for off B/S)",null,"Redistribution of net exposure for guarantees, credit derivatives","Redistribution of net exposure for collateral (simple approach)","Adjustment to net exposure for collateral (comprehensive approach)",null,"Net exposure",null,"Risk-weighted Assets"]
["(a)",null,null,"(b)",null,"(c)","(d)","(e)",null,"(f = b+c+d+e)",null,"(g = a x f)"]
["Drawn",null,null,null,null,"**","**"]
["0%",null,null,null,null,"S12.DP0011","S12.DP0016","S12.DP0021",null,"S12.DP0027",null,"S12.DP0033"]
["50%",null,"S12.DP0001","S12.DP0006",null,"S12.DP0012","S12.DP0017","S12.DP0022",null,"S12.DP0028",null,"S12.DP0034"]
["75%",null,"S12.DP0002","S12.DP0007",null,"S12.DP0013","S12.DP0018","S12.DP0023",null,"S12.DP0029",null,"S12.DP0035"]
["100%",null,"S12.DP0003","S12.DP0008",null,"S12.DP0014","S12.DP0019","S12.DP0024",null,"S12.DP0030",null,"S12.DP0036"]
["150%",null,"S12.DP0004","S12.DP0009",null,"S12.DP0015","S12.DP0020","S12.DP0025",null,"S12.DP0031",null,"S12.DP0037"]
["Total",null,"S12.DP0005","S12.DP0010",null,null,null,"S12.DP0026",null,"S12.DP0032",null,"S12.DP0038"]
[]
["Undrawn Commitments",null,null,null,null,"**","**"]
["0%",null,null,null,null,"S12.DP0054","S12.DP0059","S12.DP0064",null,"S12.DP0070",null,"S12.DP0076"]
["50%","S12.DP0039","S12.DP0044","S12.DP0049",null,"S12.DP0055","S12.DP0060","S12.DP0065",null,"S12.DP0071",null,"S12.DP0077"]
["75%","S12.DP0040","S12.DP0045","S12.DP0050",null,"S12.DP0056","S12.DP0061","S12.DP0066",null,"S12.DP0072",null,"S12.DP0078"]
["100%","S12.DP0041","S12.DP0046","S12.DP0051",null,"S12.DP0057","S12.DP0062","S12.DP0067",null,"S12.DP0073",null,"S12.DP0079"]
["150%","S12.DP0042","S12.DP0047","S12.DP0052",null,"S12.DP0058","S12.DP0063","S12.DP0068",null,"S12.DP0074",null,"S12.DP0080"]
["Total","S12.DP0043","S12.DP0048","S12.DP0053",null,null,null,"S12.DP0069",null,"S12.DP0075",null,"S12.DP0081"]
[]
["Other off-balance sheet",null,null,null,null,"**","**"]
["0%",null,null,null,null,"S12.DP0097","S12.DP0102","S12.DP0107",null,"S12.DP0113",null,"S12.DP0119"]
["50%","S12.DP0082","S12.DP0087","S12.DP0092",null,"S12.DP0098","S12.DP0103","S12.DP0108",null,"S12.DP0114",null,"S12.DP0120"]
["75%","S12.DP0083","S12.DP0088","S12.DP0093",null,"S12.DP0099","S12.DP0104","S12.DP0109",null,"S12.DP0115",null,"S12.DP0121"]
["100%","S12.DP0084","S12.DP0089","S12.DP0094",null,"S12.DP0100","S12.DP0105","S12.DP0110",null,"S12.DP0116",null,"S12.DP0122"]
["150%","S12.DP0085","S12.DP0090","S12.DP0095",null,"S12.DP0101","S12.DP0106","S12.DP0111",null,"S12.DP0117",null,"S12.DP0123"]
["Total","S12.DP0086","S12.DP0091","S12.DP0096",null,null,null,"S12.DP0112",null,"S12.DP0118",null,"S12.DP0124"]
[]
["Total",null,"S12.DP0125","S12.DP0126",null,null,null,null,null,null,null,"S12.DP0127"]
[]
[]
["** Must sum to zero."]

{"sheet":"13 SBE Other Retail","index":17,"n_rows":52,"n_cols":12,"rows_kept":52,"cut":false,"hidden":false,"merged":[[1,0,1,2],[5,1,5,3],[5,5,5,7],[8,0,8,2]]}
["Schedule 13  - Standardized Approach - credit risk-weighted assets",null,null,null,null,null,null,null,null,null,null,11]
["Return to Schedule Listing"]
["For Banking Book - SBEs treated as Other Retail"]
["(TT$ 000)"]
[]
[null,"Before CRM",null,null,null,"Adjustments for CRM",null,null,null,"After CRM"]
["Risk weight","Notional Principal Amount","Gross* exposure (credit-equiv. amount for off B/S)","Net* exposure (credit-equiv. amount for off B/S)",null,"Redistribution of net exposure for guarantees, credit derivatives","Redistribution of net exposure for collateral (simple approach)","Adjustment to net exposure for collateral (comprehensive approach)",null,"Net exposure",null,"Risk-weighted Assets"]
["(a)",null,null,"(b)",null,"(c)","(d)","(e)",null,"(f = b+c+d+e)",null,"(g = a x f)"]
["Drawn",null,null,null,null,"**","**"]
["0%",null,null,null,null,"S13.DP0011","S13.DP0016","S13.DP0021",null,"S13.DP0027",null,"S13.DP0033"]
["50%",null,"S13.DP0001","S13.DP0006",null,"S13.DP0012","S13.DP0017","S13.DP0022",null,"S13.DP0028",null,"S13.DP0034"]
["75%",null,"S13.DP0002","S13.DP0007",null,"S13.DP0013","S13.DP0018","S13.DP0023",null,"S13.DP0029",null,"S13.DP0035"]
["100%",null,"S13.DP0003","S13.DP0008",null,"S13.DP0014","S13.DP0019","S13.DP0024",null,"S13.DP0030",null,"S13.DP0036"]
["150%",null,"S13.DP0004","S13.DP0009",null,"S13.DP0015","S13.DP0020","S13.DP0025",null,"S13.DP0031",null,"S13.DP0037"]
["Total",null,"S13.DP0005","S13.DP0010",null,null,null,"S13.DP0026",null,"S13.DP0032",null,"S13.DP0038"]
[]
["Undrawn Commitments",null,null,null,null,"**","**"]
["0%",null,null,null,null,"S13.DP0054","S13.DP0059","S13.DP0064",null,"S13.DP0070",null,"S13.DP0076"]
["50%","S13.DP0039","S13.DP0044","S13.DP0049",null,"S13.DP0055","S13.DP0060","S13.DP0065",null,"S13.DP0071",null,"S13.DP0077"]
["75%","S13.DP0040","S13.DP0045","S13.DP0050",null,"S13.DP0056","S13.DP0061","S13.DP0066",null,"S13.DP0072",null,"S13.DP0078"]
["100%","S13.DP0041","S13.DP0046","S13.DP0051",null,"S13.DP0057","S13.DP0062","S13.DP0067",null,"S13.DP0073",null,"S13.DP0079"]
["150%","S13.DP0042","S13.DP0047","S13.DP0052",null,"S13.DP0058","S13.DP0063","S13.DP0068",null,"S13.DP0074",null,"S13.DP0080"]
["Total","S13.DP0043","S13.DP0048","S13.DP0053",null,null,null,"S13.DP0069",null,"S13.DP0075",null,"S13.DP0081"]
[]
["Repo-style Transactions",null,null,null,null,"**","**"]
["0%",null,null,null,null,"S13.DP0092","S13.DP0097","S13.DP0102",null,"S13.DP0108",null,"S13.DP0114"]
["50%",null,"S13.DP0082","S13.DP0087",null,"S13.DP0093","S13.DP0098","S13.DP0103",null,"S13.DP0109",null,"S13.DP0115"]
["75%",null,"S13.DP0083","S13.DP0088",null,"S13.DP0094","S13.DP0099","S13.DP0104",null,"S13.DP0110",null,"S13.DP0116"]
["100%",null,"S13.DP0084","S13.DP0089",null,"S13.DP0095","S13.DP0100","S13.DP0105",null,"S13.DP0111",null,"S13.DP0117"]
["150%",null,"S13.DP0085","S13.DP0090",null,"S13.DP0096","S13.DP0101","S13.DP0106",null,"S13.DP0112",null,"S13.DP0118"]
["Total",null,"S13.DP0086","S13.DP0091",null,null,null,"S13.DP0107",null,"S13.DP0113",null,"S13.DP0119"]
[]
["Derivatives",null,null,null,null,"**","**"]
["0%",null,null,null,null,"S13.DP0135","S13.DP0140","S13.DP0145",null,"S13.DP0151",null,"S13.DP0157"]
["50%","S13.DP0120","S13.DP0125","S13.DP0130",null,"S13.DP0136","S13.DP0141","S13.DP0146",null,"S13.DP0152",null,"S13.DP0158"]
["75%","S13.DP0121","S13.DP0126","S13.DP0131",null,"S13.DP0137","S13.DP0142","S13.DP0147",null,"S13.DP0153",null,"S13.DP0159"]
["100%","S13.DP0122","S13.DP0127","S13.DP0132",null,"S13.DP0138","S13.DP0143","S13.DP0148",null,"S13.DP0154",null,"S13.DP0160"]
["150%","S13.DP0123","S13.DP0128","S13.DP0133",null,"S13.DP0139","S13.DP0144","S13.DP0149",null,"S13.DP0155",null,"S13.DP0161"]
["Total","S13.DP0124","S13.DP0129","S13.DP0134",null,null,null,"S13.DP0150",null,"S13.DP0156",null,"S13.DP0162"]
[]
["Other off-balance sheet",null,null,null,null,"**","**"]
["0%",null,null,null,null,"S13.DP0178","S13.DP0183","S13.DP0188",null,"S13.DP0194",null,"S13.DP0200"]
["50%","S13.DP0163","S13.DP0168","S13.DP0173",null,"S13.DP0179","S13.DP0184","S13.DP0189",null,"S13.DP0195",null,"S13.DP0201"]
["75%","S13.DP0164","S13.DP0169","S13.DP0174",null,"S13.DP0180","S13.DP0185","S13.DP0190",null,"S13.DP0196",null,"S13.DP0202"]
["100%","S13.DP0165","S13.DP0170","S13.DP0175",null,"S13.DP0181","S13.DP0186","S13.DP0191",null,"S13.DP0197",null,"S13.DP0203"]
["150%","S13.DP0166","S13.DP0171","S13.DP0176",null,"S13.DP0182","S13.DP0187","S13.DP0192",null,"S13.DP0198",null,"S13.DP0204"]
["Total","S13.DP0167","S13.DP0172","S13.DP0177",null,null,null,"S13.DP0193",null,"S13.DP0199",null,"S13.DP0205"]
[]
["Total",null,"S13.DP0206","S13.DP0207",null,null,null,null,null,null,null,"S13.DP0208"]
[]
[]
["** Must sum to zero."]

{"sheet":"14 Private Equity","index":18,"n_rows":19,"n_cols":12,"rows_kept":19,"cut":false,"hidden":false,"merged":[[1,0,1,2],[5,1,5,3],[5,5,5,7]]}
["Schedule 14 - Standardized Approach - credit risk-weighted assets",null,null,null,null,null,null,null,null,null,null,12]
["Return to Schedule Listing"]
["For Banking Book Equity"]
["(TT$ 000)"]
[]
[null,"Before CRM",null,null,null,"Adjustments for CRM",null,null,null,"After CRM"]
["Risk weight","Notional Principal Amount","Gross* exposure (credit-equiv. amount for off B/S)","Net* exposure (credit-equiv. amount for off B/S)",null,"Redistribution of net exposure for guarantees, credit derivatives","Redistribution of net exposure for collateral (simple approach)","Adjustment to net exposure for collateral (comprehensive approach)",null,"Net exposure",null,"Risk-weighted Assets"]
["(a)",null,null,"(b)",null,"(c)","(d)","(e)",null,"(f = b+c+d+e)",null,"(g = a x f)"]
["Drawn",null,null,null,null,"**","**"]
["150%",null,"S14.DP0001","S14.DP0003",null,null,null,null,null,"S14.DP0005",null,"S14.DP0007"]
["Total",null,"S14.DP0002","S14.DP0004",null,null,null,null,null,"S14.DP0006",null,"S14.DP0008"]
[]
["Undrawn Commitments"]
["150%","S14.DP0009","S14.DP0011","S14.DP0013",null,null,null,null,null,"S14.DP0015",null,"S14.DP0017"]
["Total","S14.DP0010","S14.DP0012","S14.DP0014",null,null,null,null,null,"S14.DP0016",null,"S14.DP0018"]
[]
["Total",null,"S14.DP0019","S14.DP0020",null,null,null,null,null,null,null,"S14.DP0021"]
[]
["** Must sum to zero."]

{"sheet":"15 Trading","index":19,"n_rows":27,"n_cols":12,"rows_kept":27,"cut":false,"hidden":false,"merged":[[1,0,1,2],[5,1,5,2],[5,4,5,6]]}
["Schedule 15 - Standardized Approach - credit risk-weighted assets",null,null,null,null,null,null,null,null,null,null,13]
["Return to Schedule Listing"]
["For the Trading Book"]
["(TT$ 000)"]
[]
[null,"Before CRM",null,null,"Adjustments for CRM",null,null,null,"After CRM"]
["Risk weight","Notional Principal Amount","Exposure (credit-equiv. amount for off B/S)",null,"Redistribution of net exposure for guarantees, credit derivatives","Redistribution of net exposure for collateral (simple approach)","Adjustment to net exposure for collateral (comprehensive approach)",null,"Net exposure",null,"Risk-weighted Assets"]
["(a)",null,"(b)",null,"(c)","(d)","(e)",null,"(f = b+c+d+e)",null,"(g = a x f)"]
["Repo-style Transactions",null,null,null,"**"]
["0%",null,"S15.DP0001",null,"S15.DP0007",null,"S15.DP0012",null,"S15.DP0018",null,"S15.DP0024"]
["20%",null,"S15.DP0002",null,"S15.DP0008",null,"S15.DP0013",null,"S15.DP0019",null,"S15.DP0025"]
["50%",null,"S15.DP0003",null,"S15.DP0009",null,"S15.DP0014",null,"S15.DP0020",null,"S15.DP0026"]
["100%",null,"S15.DP0004",null,"S15.DP0010",null,"S15.DP0015",null,"S15.DP0021",null,"S15.DP0027"]
["150%",null,"S15.DP0005",null,"S15.DP0011",null,"S15.DP0016",null,"S15.DP0022",null,"S15.DP0028"]
["Total",null,"S15.DP0006",null,null,null,"S15.DP0017",null,"S15.DP0023",null,"S15.DP0029"]
[]
["Derivatives",null,null,null,"**"]
["0%","S15.DP0030","S15.DP0036",null,"S15.DP0042",null,"S15.DP0047",null,"S15.DP0053",null,"S15.DP0059"]
["20%","S15.DP0031","S15.DP0037",null,"S15.DP0043",null,"S15.DP0048",null,"S15.DP0054",null,"S15.DP0060"]
["50%","S15.DP0032","S15.DP0038",null,"S15.DP0044",null,"S15.DP0049",null,"S15.DP0055",null,"S15.DP0061"]
["100%","S15.DP0033","S15.DP0039",null,"S15.DP0045",null,"S15.DP0050",null,"S15.DP0056",null,"S15.DP0062"]
["150%","S15.DP0034","S15.DP0040",null,"S15.DP0046",null,"S15.DP0051",null,"S15.DP0057",null,"S15.DP0063"]
["Total","S15.DP0035","S15.DP0041",null,null,null,"S15.DP0052",null,"S15.DP0058",null,"S15.DP0064"]
[]
["Total",null,"S15.DP0065",null,null,null,null,null,null,null,"S15.DP0066"]
[]
["** Must sum to zero."]

{"sheet":"16 Securitization Calcn","index":20,"n_rows":99,"n_cols":11,"rows_kept":99,"cut":false,"hidden":false,"merged":[[53,0,53,1],[54,5,54,6],[35,8,35,9],[8,5,8,6],[14,3,14,4],[14,5,14,7],[16,2,16,5],[32,0,32,1],[88,4,88,5],[14,8,14,9],[76,3,76,6],[76,7,76,10],[77,3,77,4],[77,5,77,6],[77,7,77,8],[77,9,77,10],[33,5,33,6],[35,3,35,4],[35,5,35,7],[37,2,37,5]]}
["Schedule 16 - Securitization - credit risk treatment"]
[14,"Return to Schedule Listing"]
["For Banking Book - Securitization exposures "]
["(TT$ 000)"]
["Total exposures net of specific provisions",null,null,null,null,"A + B from Schedule 20","S16.DP0001"]
[]
["Of which:"]
["A Select originator securitization exposures"]
[]
[null,null,"Risk weight","Exposure","Risk-weighted Assets","Tier 1 Capital Deduction","Tier 2 Capital Deduction"]
[null,"Gain on sale",null,"S16.DP0002",null,"S16.DP0004",null,"A"]
[null,"Credit-enhancing interest-only strips,\nnet of gain on sale",null,"S16.DP0003",null,"S16.DP0005","S16.DP0006","B"]
[]
[]
[null,null,null,"Before CRM",null,"Adjustments for CRM",null,null,"After CRM"]
["B Rated exposures",null,"Risk weight","Gross* exposure (credit-equiv. amount for off B/S)","Net* exposure (credit-equiv. amount for off B/S)","Redistribution of net exposure for guarantees, credit derivatives","Redistribution of net exposure for collateral (simple approach)","Adjustment to net exposure for collateral (comprehensive approach)","Net exposure","Risk-weighted Assets"]
[]
[null,null,"(a)",null,"(b)","(c)","(d)","(e)","(f = b+c+d+e)","(g = a x f)"]
["B (i) Securitization exposures excluding resecuritization "]
["Originator",null,null,null,null,"**","**"]
[null,"AAA to AA- or A-1/F-1/P-1 or A-2/F-2/P-2","20%","S16.DP0007","S16.DP0012","S16.DP0017","S16.DP0021","S16.DP0025","S16.DP0030","S16.DP0035"]
[null,"A+ to A- or A-3/F-3/P-3","50%","S16.DP0008","S16.DP0013","S16.DP0018","S16.DP0022","S16.DP0026","S16.DP0031","S16.DP0036"]
[null,"BBB+ to BBB- ","100%","S16.DP0009","S16.DP0014","S16.DP0019","S16.DP0023","S16.DP0027","S16.DP0032","S16.DP0037"]
[null,"Rated below BBB- or A-3/F-3/P-3","Deduction","S16.DP0010","S16.DP0015","S16.DP0020","S16.DP0024","S16.DP0028","S16.DP0033"]
[null,"Subtotal - originator",null,"S16.DP0011","S16.DP0016",null,null,"S16.DP0029","S16.DP0034","S16.DP0038"]
["Investor",null,null,null,null,"**","**"]
[null,"AAA to AA- or A-1/F-1/P-1 or A-2/F-2/P-2","20%","S16.DP0039","S16.DP0046","S16.DP0053","S16.DP0058","S16.DP0063","S16.DP0070","S16.DP0077"]
[null,"A+ to A- or A-3/F-3/P-3","50%","S16.DP0040","S16.DP0047","S16.DP0054","S16.DP0059","S16.DP0064","S16.DP0071","S16.DP0078"]
[null,"BBB+ to BBB- ","100%","S16.DP0041","S16.DP0048","S16.DP0055","S16.DP0060","S16.DP0065","S16.DP0072","S16.DP0079"]
[null,"BB+ to BB-","350%","S16.DP0042","S16.DP0049","S16.DP0056","S16.DP0061","S16.DP0066","S16.DP0073","S16.DP0080"]
[null,"Rated below BB- or A-3/F-3/P-3","Deduction","S16.DP0043","S16.DP0050","S16.DP0057","S16.DP0062","S16.DP0067","S16.DP0074"]
[null,"Subtotal - investor",null,"S16.DP0044","S16.DP0051",null,null,"S16.DP0068","S16.DP0075","S16.DP0081"]
["Total rated securitization exposures excluding resecuritization ",null,null,"S16.DP0045","S16.DP0052",null,null,"S16.DP0069","S16.DP0076","S16.DP0082"]
[null,null,null,null,null,"** Must sum to zero"]
[]
[null,null,null,"Before CRM",null,"Adjustments for CRM",null,null,"After CRM"]
[null,null,"Risk weight","Gross* exposure (credit-equiv. amount for off B/S)","Net* exposure (credit-equiv. amount for off B/S)","Redistribution of net exposure for guarantees, credit derivatives","Redistribution of net exposure for collateral (simple approach)","Adjustment to net exposure for collateral (comprehensive approach)","Net exposure","Risk-weighted Assets"]
[]
[null,null,"(a)",null,"(b)","(c)","(d)","(e)","(f = b+c+d+e)","(g = a x f)"]
["B(ii) Resecuritization exposures"]
["Originator",null,null,null,null,"**","**"]
[null,"AAA to AA- or A-1/F-1/P-1","40%","S16.DP0083","S16.DP0088","S16.DP0093","S16.DP0097","S16.DP0101","S16.DP0106","S16.DP0111"]
[null,"A+ to A- or A-2/F-2/P-2 ","100%","S16.DP0084","S16.DP0089","S16.DP0094","S16.DP0098","S16.DP0102","S16.DP0107","S16.DP0112"]
[null,"BBB+ to BBB- or A-3/F-3/P-3","225%","S16.DP0085","S16.DP0090","S16.DP0095","S16.DP0099","S16.DP0103","S16.DP0108","S16.DP0113"]
[null,"Rated below BBB- and unrated or belowA-3/F-3/P-3","Deduction","S16.DP0086","S16.DP0091","S16.DP0096","S16.DP0100","S16.DP0104","S16.DP0109"]
[null,"Subtotal - originator",null,"S16.DP0087","S16.DP0092",null,null,"S16.DP0105","S16.DP0110","S16.DP0114"]
["Investor",null,null,null,null,"**","**"]
[null,"AAA to AA- or A-1/F-1/P-1","40%","S16.DP0115","S16.DP0122","S16.DP0129","S16.DP0134","S16.DP0139","S16.DP0146","S16.DP0153"]
[null,"A+ to A- or A-2/F-2/P-2 ","100%","S16.DP0116","S16.DP0123","S16.DP0130","S16.DP0135","S16.DP0140","S16.DP0147","S16.DP0154"]
[null,"BBB+ to BBB- or A-3/F-3/P-3","225%","S16.DP0117","S16.DP0124","S16.DP0131","S16.DP0136","S16.DP0141","S16.DP0148","S16.DP0155"]
[null,"BB+ to BB-","650%","S16.DP0118","S16.DP0125","S16.DP0132","S16.DP0137","S16.DP0142","S16.DP0149","S16.DP0156"]
[null,"B+ and below or unrated or belowA-3/F-3/P-3","Deduction","S16.DP0119","S16.DP0126","S16.DP0133","S16.DP0138","S16.DP0143","S16.DP0150"]
[null,"Subtotal - investor",null,"S16.DP0120","S16.DP0127",null,null,"S16.DP0144","S16.DP0151","S16.DP0157"]
["Total rated resecuritization exposures",null,null,"S16.DP0121","S16.DP0128",null,null,"S16.DP0145","S16.DP0152","S16.DP0158"]
[]
[]
["Total rated exposures",null,null,"S16.DP0159","S16.DP0160",null,null,"S16.DP0161","S16.DP0162","S16.DP0163"]
[]
["C Unrated exposures"]
["Originator"]
[null,"Most senior securitization exposures","S16.DP0164","S16.DP0168","S16.DP0174",null,null,"S16.DP0180","S16.DP0186","S16.DP0192"]
[null,"Eligible liquidity facilities","S16.DP0165","S16.DP0169","S16.DP0175",null,null,"S16.DP0181","S16.DP0187","S16.DP0193"]
[null,"Eligible servicer cash advance facilities","S16.DP0166","S16.DP0170","S16.DP0176",null,null,"S16.DP0182","S16.DP0188","S16.DP0194"]
[null,"Second loss positions in ABCPs ","S16.DP0167","S16.DP0171","S16.DP0177",null,null,"S16.DP0183","S16.DP0189","S16.DP0195"]
[null,"Other unrated exposures","Deduction","S16.DP0172","S16.DP0178",null,null,"S16.DP0184","S16.DP0190"]
[null,"Subtotal - originator",null,"S16.DP0173","S16.DP0179",null,null,"S16.DP0185","S16.DP0191","S16.DP0196"]
["Investor"]
[null,"Most senior securitization exposures","S16.DP0197","S16.DP0201","S16.DP0208",null,null,"S16.DP0215","S16.DP0222","S16.DP0229"]
[null,"Eligible liquidity facilities","S16.DP0198","S16.DP0202","S16.DP0209",null,null,"S16.DP0216","S16.DP0223","S16.DP0230"]
[null,"Eligible servicer cash advance facilities","S16.DP0199","S16.DP0203","S16.DP0210",null,null,"S16.DP0217","S16.DP0224","S16.DP0231"]
[null,"Second loss positions in ABCPs ","S16.DP0200","S16.DP0204","S16.DP0211",null,null,"S16.DP0218","S16.DP0225","S16.DP0232"]
[null,"Other unrated exposures","Deduction","S16.DP0205","S16.DP0212",null,null,"S16.DP0219","S16.DP0226"]
[null,"Subtotal - investor",null,"S16.DP0206","S16.DP0213",null,null,"S16.DP0220","S16.DP0227","S16.DP0233"]
["Total unrated exposures",null,null,"S16.DP0207","S16.DP0214",null,null,"S16.DP0221","S16.DP0228","S16.DP0234"]
[]
[]
["D Early amortization",null,null,"Uncontrolled amortization structures",null,null,null,"Controlled amortization structures"]
[null,null,null,"RWA for drawn exposures",null,"RWA for undrawn exposures",null,"RWA for drawn exposures",null,"RWA for undrawn exposures"]
[" ",null,null,"Before CCF","After CCF","Before CCF","After CCF","Before CCF","After CCF","Before CCF","After CCF"]
[null,"Retail Lines"]
[null,"Committed",null,"S16.DP0235","S16.DP0237","S16.DP0239","S16.DP0241","S16.DP0243","S16.DP0245","S16.DP0247","S16.DP0249"]
[null,"Uncommitted",null,"S16.DP0236","S16.DP0238","S16.DP0240","S16.DP0242","S16.DP0244","S16.DP0246","S16.DP0248","S16.DP0250"]
[null,"Non-retail Lines"]
[null,"Committed",null,"S16.DP0251","S16.DP0254","S16.DP0257","S16.DP0260","S16.DP0263","S16.DP0266","S16.DP0269","S16.DP0272"]
[null,"Uncommitted",null,"S16.DP0252","S16.DP0255","S16.DP0258","S16.DP0261","S16.DP0264","S16.DP0267","S16.DP0270","S16.DP0273"]
["Total",null,null,"S16.DP0253","S16.DP0256","S16.DP0259","S16.DP0262","S16.DP0265","S16.DP0268","S16.DP0271","S16.DP0274"]
[]
["Summary of credit-risk treatment of securitization exposures"]
[]
[null,null,null,"RWA","Tier 1 Capital Deduction","Tier 2 Capital Deduction"]
[null,"Gain on sale",null,null,"S16.DP0279"]
[null,"Credit-enhancing interest-only strips,\nnet of gain on sale",null,null,"S16.DP0280","S16.DP0284"]
[null,"Rated exposures",null,"S16.DP0275","S16.DP0281","S16.DP0285","C"]
[null,"Unrated exposures",null,"S16.DP0276"]
[null,"Other unrated exposures",null,null,"S16.DP0282","S16.DP0286","D"]
[null,"Early amortization charge",null,"S16.DP0277"]
["Total",null,null,"S16.DP0278","S16.DP0283","S16.DP0287"]
[]
[null,"** Must sum to zero."]

{"sheet":"17 Other Assets","index":21,"n_rows":37,"n_cols":7,"rows_kept":37,"cut":false,"hidden":false,"merged":[[8,0,8,1],[9,0,9,1],[10,0,10,1],[11,0,11,1],[12,0,12,1],[34,0,34,1],[13,0,13,1],[14,0,14,1],[15,0,15,1],[16,0,16,1],[25,0,25,3]]}
["Schedule 17 - Other Credit Risk-weighted Assets",null,null,null,null,38]
["Return to Schedule Listing"]
["(TT$ 000)"]
["A  Balance sheet assets "]
[null,null,null,"Balance","Risk Weight","Risk-weighted Assets"]
[null,null,null,"(a)","(b)","(c = a x b)"]
[]
["    Cash",null,null,"S17.DP0001",0]
["Gold bullion held in the institution's own vaults or on an allocated basis to the extent backed by bullion liabilities",null,null,"S17.DP0002",0]
["Cash items in the process of collection",null,null,"S17.DP0003",0.2,"S17.DP0017"]
["Premises, plant, equipement and other fixed assets",null,null,"S17.DP0004",1,"S17.DP0018"]
["Other investments (including non-consolidated investment participation in other companies)",null,null,"S17.DP0005",1,"S17.DP0019"]
["Investments in equity of other entities and holdings of investment funds (including investments in commercial entities) (where capital deduction is not required)",null,null,"S17.DP0006",1,"S17.DP0020"]
["Unallocated prepayments and accrued interest",null,null,"S17.DP0007",1,"S17.DP0021"]
["All other assets not included elsewhere",null,null,"S17.DP0008",1,"S17.DP0022"]
["Unsettled non-DvP trades less than 5 days late ",null,null,"S17.DP0009",1,"S17.DP0023"]
["Unsettled non-DvP trades 5 days late or more ",null,"A","S17.DP0010","Deduction"]
[]
["Others:"]
["Quoted shared/stocks",null,null,"S17.DP0011",1,"S17.DP0024"]
["Accounts receivable",null,null,"S17.DP0013",1,"S17.DP0026"]
["Goodwill",null,"B","S17.DP0014","Deduction"]
["Other intangible assets",null,"C","S17.DP0015","Deduction"]
["Total",null,null,"S17.DP0016",null,"S17.DP0027","D"]
[]
["B  Failed DvP Trades (banking and trading book)"]
[]
[null,null,null,"Positive Current Exposure","Risk multiplier","Risk-weighted Assets"]
[null,null,null,"(a)","(b)","(c = a x b x 10%)"]
["Number of working days after the agreed settlement date:"]
["From 5 to 15",null,null,"S17.DP0028",0.08,"S17.DP0032"]
["From 16 to 30",null,null,"S17.DP0029",0.5,"S17.DP0033"]
["From 31 to 45",null,null,"S17.DP0030",0.75,"S17.DP0034"]
["46 or more",null,null,"S17.DP0031",1,"S17.DP0035"]
["Total risk-weighted assets for failed DvP trades",null,null,null,null,"S17.DP0036","E"]
[]
["TOTAL  ",null,null,null,null,"S17.DP0037","F (D+E)"]

{"sheet":"18 Off-Balance Sheet","index":22,"n_rows":40,"n_cols":6,"rows_kept":40,"cut":false,"hidden":false,"merged":[[3,3,3,5],[4,3,4,5],[18,0,18,1],[18,3,18,5],[9,0,9,2],[9,3,9,5],[10,0,10,2],[10,3,10,5],[17,3,17,5]]}
["Schedule 18 - Off-balance Sheet Exposures"]
["Excluding Derivatives and Securitization Exposures"]
[39,"Return to Schedule Listing"]
["(TT$ 000)"]
[]
[]
[null,null,null,"Notional Principal Amount","Credit Conversion Factor (%)","Credit Equivalent Amount"]
[null,null,null,"(a)","(b)","(c=axb/100)"]
[]
["Undrawn commitments - excluding securitization exposures"]
["(i) Retail (incl. SBEs treated as Other Retail)",null,null,"Included in the Standardized Approach"]
[null,"Unconditionally cancellable at any time",null,"S18.DP0001","0%"]
[null,"Original maturity one year and under",null,"S18.DP0002","20%","S18.DP0007"]
[null,"Original maturity over one year",null,"S18.DP0003","50%","S18.DP0008"]
[null,"Commitments to provide certain off-balance sheet items [1]",null,"S18.DP0004","S18.DP0006","S18.DP0009"]
["Total",null,null,"S18.DP0005",null,"S18.DP0010"]
[]
[]
["(ii) Corporate ",null,null,"Included in the Standardized Approach"]
[null,"Unconditionally cancellable at any time",null,"S18.DP0011","0%"]
[null,"Original maturity one year and under",null,"S18.DP0012","20%","S18.DP0017"]
[null,"Original maturity over one year",null,"S18.DP0013","50%","S18.DP0018"]
[null,"Commitments to provide certain off-balance sheet items [1]",null,"S18.DP0014","S18.DP0016","S18.DP0019"]
["Total",null,null,"S18.DP0015",null,"S18.DP0020"]
[]
["Other off-balance sheet - excluding securitization exposures"]
[null,"Direct credit substitutes  -- excluding credit derivatives",null,"S18.DP0021","100%","S18.DP0031"]
[null,"Direct credit substitutes -- credit derivatives",null,"S18.DP0022","100%","S18.DP0032"]
[null,"Transaction-related contingencies",null,"S18.DP0023","50%","S18.DP0033"]
[null,"Short-term self-liquidating trade-related contingencies",null,"S18.DP0024","20%","S18.DP0034"]
[null,"Sale & repurchase agreements",null,"S18.DP0025","100%","S18.DP0035"]
[null,"Forward asset purchases",null,"S18.DP0026","100%","S18.DP0036"]
[null,"Forward forward deposits",null,"S18.DP0027","100%","S18.DP0037"]
[null,"Partly paid shares and securities",null,"S18.DP0028","100%","S18.DP0038"]
[null,"NIFs & RUFs",null,"S18.DP0029","50%","S18.DP0039"]
["Total",null,null,"S18.DP0030",null,"S18.DP0040"]
[]
["Total off-balance sheet",null,null,"S18.DP00301",null,"S18.DP0041"]
[]
[1,"Commitments where the off-balance sheet item attracts a lower credit conversion factor than the commitment."]

{"sheet":"19 Derivatives","index":23,"n_rows":123,"n_cols":19,"rows_kept":123,"cut":false,"hidden":false,"merged":[[122,17,122,18],[122,5,122,6],[122,7,122,8],[122,9,122,10],[122,11,122,12],[122,13,122,14],[122,15,122,16],[119,17,119,18],[121,5,121,6],[121,7,121,8],[121,9,121,10],[121,11,121,12],[121,13,121,14],[121,15,121,16],[121,17,121,18],[119,5,119,6],[119,7,119,8],[119,9,119,10],[119,11,119,12],[119,13,119,14],[119,15,119,16],[116,17,116,18],[118,5,118,6],[118,7,118,8],[118,9,118,10],[118,11,118,12],[118,13,118,14],[118,15,118,16],[118,17,118,18],[116,5,116,6],[116,7,116,8],[116,9,116,10],[116,11,116,12],[116,13,116,14],[116,15,116,16],[113,17,113,18],[115,5,115,6],[115,7,115,8],[115,9,115,10],[115,11,115,12],[115,13,115,14],[115,15,115,16],[115,17,115,18],[113,5,113,6],[113,7,113,8],[113,9,113,10],[113,11,113,12],[113,13,113,14],[113,15,113,16],[110,17,110,18],[111,5,111,6],[111,7,111,8],[111,9,111,10],[111,11,111,12],[111,13,111,14],[111,15,111,16],[111,17,111,18],[110,5,110,6],[110,7,110,8],[110,9,110,10],[110,11,110,12],[110,13,110,14],[110,15,110,16],[106,17,106,18],[109,5,109,6],[109,7,109,8],[109,9,109,10],[109,11,109,12],[109,13,109,14],[109,15,109,16],[109,17,109,18],[106,5,106,6],[106,7,106,8],[106,9,106,10],[106,11,106,12],[106,13,106,14],[106,15,106,16],[102,17,102,18],[105,5,105,6],[105,7,105,8],[105,9,105,10],[105,11,105,12],[105,13,105,14],[105,15,105,16],[105,17,105,18],[102,5,102,6],[102,7,102,8],[102,9,102,10],[102,11,102,12],[102,13,102,14],[102,15,102,16],[96,5,96,6],[96,7,96,8],[96,9,96,10],[96,11,96,12],[96,13,96,14],[96,15,96,16],[96,17,96,18],[97,17,97,18],[101,5,101,6],[101,7,101,8],[101,9,101,10],[101,11,101,12],[101,13,101,14],[101,15,101,16],[101,17,101,18],[97,5,97,6],[97,7,97,8],[97,9,97,10],[97,11,97,12],[97,13,97,14],[97,15,97,16],[91,17,91,18],[93,1,93,4],[93,5,93,6],[93,7,93,8],[93,9,93,10],[93,11,93,12],[93,13,93,14],[91,5,91,6],[91,7,91,8],[91,9,91,10],[91,11,91,12],[91,13,91,14],[91,15,91,16],[93,15,93,16],[93,17,93,18],[88,17,88,18],[90,5,90,6],[90,7,90,8],[90,9,90,10],[90,11,90,12],[90,13,90,14],[90,15,90,16],[90,17,90,18],[88,5,88,6],[88,7,88,8],[88,9,88,10],[88,11,88,12],[88,13,88,14],[88,15,88,16],[85,17,85,18],[87,5,87,6],[87,7,87,8],[87,9,87,10],[87,11,87,12],[87,13,87,14],[87,15,87,16],[87,17,87,18],[85,5,85,6],[85,7,85,8],[85,9,85,10],[85,11,85,12],[85,13,85,14],[85,15,85,16],[82,17,82,18],[84,5,84,6],[84,7,84,8],[84,9,84,10],[84,11,84,12],[84,13,84,14],[84,15,84,16],[84,17,84,18],[82,5,82,6],[82,7,82,8],[82,9,82,10],[82,11,82,12],[82,13,82,14],[82,15,82,16],[79,17,79,18],[80,5,80,6],[80,7,80,8],[80,9,80,10],[80,11,80,12],[80,13,80,14],[80,15,80,16],[80,17,80,18],[79,5,79,6],[79,7,79,8],[79,9,79,10],[79,11,79,12],[79,13,79,14],[79,15,79,16],[75,17,75,18],[78,5,78,6],[78,7,78,8],[78,9,78,10],[78,11,78,12],[78,13,78,14],[78,15,78,16],[78,17,78,18],[75,5,75,6],[75,7,75,8],[75,9,75,10],[75,11,75,12],[75,13,75,14],[75,15,75,16],[71,17,71,18],[74,5,74,6],[74,7,74,8],[74,9,74,10],[74,11,74,12],[74,13,74,14],[74,15,74,16],[74,17,74,18],[71,5,71,6],[71,7,71,8],[71,9,71,10],[71,11,71,12],[71,13,71,14],[71,15,71,16],[65,5,65,6],[65,7,65,8],[65,9,65,10],[65,11,65,12],[65,13,65,14],[65,15,65,16],[65,17,65,18],[66,17,66,18],[70,5,70,6],[70,7,70,8],[70,9,70,10],[70,11,70,12],[70,13,70,14],[70,15,70,16],[70,17,70,18],[66,5,66,6],[66,7,66,8],[66,9,66,10],[66,11,66,12],[66,13,66,14],[66,15,66,16],[43,17,43,18],[46,1,50,1],[51,1,55,1],[62,1,62,4],[62,5,62,6],[62,7,62,8],[62,9,62,10],[62,11,62,12],[43,5,43,6],[43,7,43,8],[43,9,43,10],[43,11,43,12],[43,13,43,14],[43,15,43,16],[62,13,62,14],[62,15,62,16],[62,17,62,18],[41,7,41,8],[41,9,41,10],[41,11,41,12],[41,13,41,14],[41,15,41,16],[41,17,41,18],[39,9,39,10],[39,11,39,12],[39,13,39,14],[39,15,39,16],[39,17,39,18],[37,7,37,8],[37,9,37,10],[37,11,37,12],[37,13,37,14],[37,15,37,16],[37,17,37,18],[36,1,40,1],[36,7,36,8],[36,9,36,10],[36,11,36,12],[36,13,36,14],[38,7,38,8],[38,9,38,10],[38,11,38,12],[38,13,38,14],[40,7,40,8],[40,9,40,10],[40,11,40,12],[40,13,40,14],[40,15,40,16],[40,17,40,18],[38,15,38,16],[38,17,38,18],[39,7,39,8],[33,17,33,18],[34,7,34,8],[34,9,34,10],[34,11,34,12],[34,13,34,14],[34,15,34,16],[34,17,34,18],[36,15,36,16],[36,17,36,18],[31,17,31,18],[32,7,32,8],[32,9,32,10],[32,11,32,12],[32,13,32,14],[32,15,32,16],[32,17,32,18],[31,1,35,1],[31,7,31,8],[31,9,31,10],[31,11,31,12],[31,13,31,14],[31,15,31,16],[33,7,33,8],[33,9,33,10],[33,11,33,12],[33,13,33,14],[35,7,35,8],[35,9,35,10],[35,11,35,12],[35,13,35,14],[35,15,35,16],[35,17,35,18],[33,15,33,16],[29,7,29,8],[29,9,29,10],[29,11,29,12],[29,13,29,14],[29,15,29,16],[29,17,29,18],[27,9,27,10],[27,11,27,12],[27,13,27,14],[27,15,27,16],[27,17,27,18],[25,7,25,8],[25,9,25,10],[25,11,25,12],[25,13,25,14],[25,15,25,16],[25,17,25,18],[24,1,28,1],[24,7,24,8],[24,9,24,10],[24,11,24,12],[24,13,24,14],[26,7,26,8],[26,9,26,10],[26,11,26,12],[26,13,26,14],[28,7,28,8],[28,9,28,10],[28,11,28,12],[28,13,28,14],[28,15,28,16],[28,17,28,18],[26,15,26,16],[26,17,26,18],[27,7,27,8],[21,17,21,18],[22,7,22,8],[22,9,22,10],[22,11,22,12],[22,13,22,14],[22,15,22,16],[22,17,22,18],[24,15,24,16],[24,17,24,18],[19,17,19,18],[20,7,20,8],[20,9,20,10],[20,11,20,12],[20,13,20,14],[20,15,20,16],[20,17,20,18],[19,1,23,1],[19,7,19,8],[19,9,19,10],[19,11,19,12],[19,13,19,14],[19,15,19,16],[21,7,21,8],[21,9,21,10],[21,11,21,12],[21,13,21,14],[23,7,23,8],[23,9,23,10],[23,11,23,12],[23,13,23,14],[23,15,23,16],[23,17,23,18],[21,15,21,16],[17,7,17,8],[17,9,17,10],[17,11,17,12],[17,13,17,14],[17,15,17,16],[17,17,17,18],[15,9,15,10],[15,11,15,12],[15,13,15,14],[15,15,15,16],[15,17,15,18],[13,7,13,8],[13,9,13,10],[13,11,13,12],[13,13,13,14],[13,15,13,16],[13,17,13,18],[12,1,16,1],[12,7,12,8],[12,9,12,10],[12,11,12,12],[12,13,12,14],[14,7,14,8],[14,9,14,10],[14,11,14,12],[14,13,14,14],[16,7,16,8],[16,9,16,10],[16,11,16,12],[16,13,16,14],[16,15,16,16],[16,17,16,18],[14,15,14,16],[14,17,14,18],[15,7,15,8],[9,17,9,18],[10,7,10,8],[10,9,10,10],[10,11,10,12],[10,13,10,14],[10,15,10,16],[10,17,10,18],[12,15,12,16],[12,17,12,18],[7,17,7,18],[8,7,8,8],[8,9,8,10],[8,11,8,12],[8,13,8,14],[8,15,8,16],[8,17,8,18],[7,1,11,1],[7,7,7,8],[7,9,7,10],[7,11,7,12],[7,13,7,14],[7,15,7,16],[9,7,9,8],[9,9,9,10],[9,11,9,12],[9,13,9,14],[11,7,11,8],[11,9,11,10],[11,11,11,12],[11,13,11,14],[11,15,11,16],[11,17,11,18],[9,15,9,16],[3,15,3,16],[3,17,3,18],[4,7,4,8],[4,9,4,10],[4,11,4,12],[4,13,4,14],[4,15,4,16],[4,17,4,18],[2,1,2,4],[3,5,3,6],[3,7,3,8],[3,9,3,10],[3,11,3,12],[3,13,3,14]]}
["Schedule 19 - Derivative Contracts"]
["Notional Amount and Counterparty Credit Risk Exposure (Current Exposure Methods)"]
[40,"Return to Schedule Listing"]
["(TT$ 000)",null,null,null,null,"Credit Derivative Contracts",null,"Interest Rate Contracts",null,"Foreign Exchange and Gold Contracts",null,"Equity-linked Contracts",null,"Precious Metals (Other than Gold Contracts)",null,"Other Commodity Contracts",null,"Total Contracts"]
[null,null,null,null,null,"Guarantor","Beneficiary","Total",null,"Total",null,"Total",null,"Total",null,"Total",null,"Total"]
["A","All Derivatives - Notional Principal Amount"]
["One year or less remaining term to maturity"]
[null,"OTC","Forwards",null,null,null,null,"S19.DP0009",null,"S19.DP0020",null,"S19.DP0031",null,"S19.DP0042",null,"S19.DP0053",null,"S19.DP0064"]
[null,null,"Swaps",null,null,"S19.DP0001","S19.DP0005","S19.DP0010",null,"S19.DP0021",null,"S19.DP0032",null,"S19.DP0043",null,"S19.DP0054",null,"S19.DP0065"]
[null,null,"Purchased Options",null,null,null,"S19.DP0006","S19.DP0011",null,"S19.DP0022",null,"S19.DP0033",null,"S19.DP0044",null,"S19.DP0055",null,"S19.DP0066"]
[null,null,"Written Options",null,null,"S19.DP0002",null,"S19.DP0012",null,"S19.DP0023",null,"S19.DP0034",null,"S19.DP0045",null,"S19.DP0056",null,"S19.DP0067"]
[null,null,"Total",null,null,"S19.DP0003","S19.DP0007","S19.DP0013",null,"S19.DP0024",null,"S19.DP0035",null,"S19.DP0046",null,"S19.DP0057",null,"S19.DP0068"]
[null,"Exch-traded","Futures - Long Positions",null,null,null,null,"S19.DP0014",null,"S19.DP0025",null,"S19.DP0036",null,"S19.DP0047",null,"S19.DP0058",null,"S19.DP0069"]
[null,null,"Futures - Short Positions",null,null,null,null,"S19.DP0015",null,"S19.DP0026",null,"S19.DP0037",null,"S19.DP0048",null,"S19.DP0059",null,"S19.DP0070"]
[null,null,"Purchased Options",null,null,null,null,"S19.DP0016",null,"S19.DP0027",null,"S19.DP0038",null,"S19.DP0049",null,"S19.DP0060",null,"S19.DP0071"]
[null,null,"Written Options",null,null,null,null,"S19.DP0017",null,"S19.DP0028",null,"S19.DP0039",null,"S19.DP0050",null,"S19.DP0061",null,"S19.DP0072"]
[null,null,"Total",null,null,null,null,"S19.DP0018",null,"S19.DP0029",null,"S19.DP0040",null,"S19.DP0051",null,"S19.DP0062",null,"S19.DP0073"]
[null,"Total",null,null,null,"S19.DP0004","S19.DP0008","S19.DP0019",null,"S19.DP0030",null,"S19.DP0041",null,"S19.DP0052",null,"S19.DP0063",null,"S19.DP0074"]
["Over one year to five years remaining term to maturity"]
[null,"OTC","Forwards",null,null,null,null,"S19.DP0083",null,"S19.DP0094",null,"S19.DP0105",null,"S19.DP0116",null,"S19.DP0127",null,"S19.DP0138"]
[null,null,"Swaps",null,null,"S19.DP0075","S19.DP0079","S19.DP0084",null,"S19.DP0095",null,"S19.DP0106",null,"S19.DP0117",null,"S19.DP0128",null,"S19.DP0139"]
[null,null,"Purchased Options",null,null,null,"S19.DP0080","S19.DP0085",null,"S19.DP0096",null,"S19.DP0107",null,"S19.DP0118",null,"S19.DP0129",null,"S19.DP0140"]
[null,null,"Written Options",null,null,"S19.DP0076",null,"S19.DP0086",null,"S19.DP0097",null,"S19.DP0108",null,"S19.DP0119",null,"S19.DP0130",null,"S19.DP0141"]
[null,null,"Total",null,null,"S19.DP0077","S19.DP0081","S19.DP0087",null,"S19.DP0098",null,"S19.DP0109",null,"S19.DP0120",null,"S19.DP0131",null,"S19.DP0142"]
[null,"Exch-traded","Futures - Long Positions",null,null,null,null,"S19.DP0088",null,"S19.DP0099",null,"S19.DP0110",null,"S19.DP0121",null,"S19.DP0132",null,"S19.DP0143"]
[null,null,"Futures - Short Positions",null,null,null,null,"S19.DP0089",null,"S19.DP0100",null,"S19.DP0111",null,"S19.DP0122",null,"S19.DP0133",null,"S19.DP0144"]
[null,null,"Purchased Options",null,null,null,null,"S19.DP0090",null,"S19.DP0101",null,"S19.DP0112",null,"S19.DP0123",null,"S19.DP0134",null,"S19.DP0145"]
[null,null,"Written Options",null,null,null,null,"S19.DP0091",null,"S19.DP0102",null,"S19.DP0113",null,"S19.DP0124",null,"S19.DP0135",null,"S19.DP0146"]
[null,null,"Total",null,null,null,null,"S19.DP0092",null,"S19.DP0103",null,"S19.DP0114",null,"S19.DP0125",null,"S19.DP0136",null,"S19.DP0147"]
[null,"Total",null,null,null,"S19.DP0078","S19.DP0082","S19.DP0093",null,"S19.DP0104",null,"S19.DP0115",null,"S19.DP0126",null,"S19.DP0137",null,"S19.DP0148"]
["Over five years remaining term to maturity"]
[null,"OTC","Forwards",null,null,null,null,"S19.DP0157",null,"S19.DP0168",null,"S19.DP0179",null,"S19.DP0190",null,"S19.DP0201",null,"S19.DP0212"]
[null,null,"Swaps",null,null,"S19.DP0149","S19.DP0153","S19.DP0158",null,"S19.DP0169",null,"S19.DP0180",null,"S19.DP0191",null,"S19.DP0202",null,"S19.DP0213"]
[null,null,"Purchased Options",null,null,null,"S19.DP0154","S19.DP0159",null,"S19.DP0170",null,"S19.DP0181",null,"S19.DP0192",null,"S19.DP0203",null,"S19.DP0214"]
[null,null,"Written Options",null,null,"S19.DP0150",null,"S19.DP0160",null,"S19.DP0171",null,"S19.DP0182",null,"S19.DP0193",null,"S19.DP0204",null,"S19.DP0215"]
[null,null,"Total",null,null,"S19.DP0151","S19.DP0155","S19.DP0161",null,"S19.DP0172",null,"S19.DP0183",null,"S19.DP0194",null,"S19.DP0205",null,"S19.DP0216"]
[null,"Exch-traded","Futures - Long Positions",null,null,null,null,"S19.DP0162",null,"S19.DP0173",null,"S19.DP0184",null,"S19.DP0195",null,"S19.DP0206",null,"S19.DP0217"]
[null,null,"Futures - Short Positions",null,null,null,null,"S19.DP0163",null,"S19.DP0174",null,"S19.DP0185",null,"S19.DP0196",null,"S19.DP0207",null,"S19.DP0218"]
[null,null,"Purchased Options",null,null,null,null,"S19.DP0164",null,"S19.DP0175",null,"S19.DP0186",null,"S19.DP0197",null,"S19.DP0208",null,"S19.DP0219"]
[null,null,"Written Options",null,null,null,null,"S19.DP0165",null,"S19.DP0176",null,"S19.DP0187",null,"S19.DP0198",null,"S19.DP0209",null,"S19.DP0220"]
[null,null,"Total",null,null,null,null,"S19.DP0166",null,"S19.DP0177",null,"S19.DP0188",null,"S19.DP0199",null,"S19.DP0210",null,"S19.DP0221"]
[null,"Total",null,null,null,"S19.DP0152","S19.DP0156","S19.DP0167",null,"S19.DP0178",null,"S19.DP0189",null,"S19.DP0200",null,"S19.DP0211",null,"S19.DP0222"]
[]
[null,null,null,null,null,"Credit Derivative Contracts",null,"Interest Rate Contracts",null,"Foreign Exchange and Gold Contracts",null,"Equity-linked Contracts",null,"Precious Metals (Other than Gold Contracts)",null,"Other Commodity Contracts",null,"Total Contracts"]
[null,null,null,null,null,"Total","of which: Trdg","Total","of which: Trdg","Total","of which: Trdg","Total","of which: Trdg","Total","of which: Trdg","Total","of which: Trdg","Total","of which: Trdg"]
["Total all derivatives - notional principal amount"]
[null,"OTC","Forwards",null,null,null,null,"S19.DP0232","S19.DP0243","S19.DP0254","S19.DP0265","S19.DP0276","S19.DP0287","S19.DP0298","S19.DP0309","S19.DP0320","S19.DP0331","S19.DP0342","S19.DP0353"]
[null,null,"Swaps",null,null,"S19.DP0223","S19.DP0227","S19.DP0233","S19.DP0244","S19.DP0255","S19.DP0266","S19.DP0277","S19.DP0288","S19.DP0299","S19.DP0310","S19.DP0321","S19.DP0332","S19.DP0343","S19.DP0354"]
[null,null,"Purchased Options",null,null,null,"S19.DP0228","S19.DP0234","S19.DP0245","S19.DP0256","S19.DP0267","S19.DP0278","S19.DP0289","S19.DP0300","S19.DP0311","S19.DP0322","S19.DP0333","S19.DP0344","S19.DP0355"]
[null,null,"Written Options",null,null,"S19.DP0224","S19.DP0229","S19.DP0235","S19.DP0246","S19.DP0257","S19.DP0268","S19.DP0279","S19.DP0290","S19.DP0301","S19.DP0312","S19.DP0323","S19.DP0334","S19.DP0345","S19.DP0356"]
[null,null,"Total",null,null,"S19.DP0225","S19.DP0230","S19.DP0236","S19.DP0247","S19.DP0258","S19.DP0269","S19.DP0280","S19.DP0291","S19.DP0302","S19.DP0313","S19.DP0324","S19.DP0335","S19.DP0346","S19.DP0357"]
[null,"Exch-traded","Futures - Long Positions",null,null,null,null,"S19.DP0237","S19.DP0248","S19.DP0259","S19.DP0270","S19.DP0281","S19.DP0292","S19.DP0303","S19.DP0314","S19.DP0325","S19.DP0336","S19.DP0347","S19.DP0358"]
[null,null,"Futures - Short Positions",null,null,null,null,"S19.DP0238","S19.DP0249","S19.DP0260","S19.DP0271","S19.DP0282","S19.DP0293","S19.DP0304","S19.DP0315","S19.DP0326","S19.DP0337","S19.DP0348","S19.DP0359"]
[null,null,"Purchased Options",null,null,null,null,"S19.DP0239","S19.DP0250","S19.DP0261","S19.DP0272","S19.DP0283","S19.DP0294","S19.DP0305","S19.DP0316","S19.DP0327","S19.DP0338","S19.DP0349","S19.DP0360"]
[null,null,"Written Options",null,null,null,null,"S19.DP0240","S19.DP0251","S19.DP0262","S19.DP0273","S19.DP0284","S19.DP0295","S19.DP0306","S19.DP0317","S19.DP0328","S19.DP0339","S19.DP0350","S19.DP0361"]
[null,null,"Total",null,null,null,null,"S19.DP0241","S19.DP0252","S19.DP0263","S19.DP0274","S19.DP0285","S19.DP0296","S19.DP0307","S19.DP0318","S19.DP0329","S19.DP0340","S19.DP0351","S19.DP0362"]
[null,"Total",null,null,null,"S19.DP0226","S19.DP0231","S19.DP0242","S19.DP0253","S19.DP0264","S19.DP0275","S19.DP0286","S19.DP0297","S19.DP0308","S19.DP0319","S19.DP0330","S19.DP0341","S19.DP0352","S19.DP0363"]
[]
["In respect of which:"]
[]
["B","Counterparty Credit Risk Exposure for Default Risk Capital Requirements"]
[]
["B(i)","Derivatives - \nCurrent Exposure Method",null,null,null,"Credit Derivative Contracts",null,"Interest Rate Contracts",null,"Foreign Exchange and Gold Contracts",null,"Equity-linked Contracts",null,"Precious Metals (Other than Gold Contracts)",null,"Other Commodity Contracts",null,"Total Contracts"]
["(a)","OTC"]
["Notional amount"]
[null,"Contracts held for trading purposes",null,null,null,"S19.DP0364",null,"S19.DP0365",null,"S19.DP0367",null,"S19.DP0369",null,"S19.DP0371",null,"S19.DP0373",null,"S19.DP0375"]
[null,"Contracts held for other than trading",null,null,null,null,null,"S19.DP0366",null,"S19.DP0368",null,"S19.DP0370",null,"S19.DP0372",null,"S19.DP0374",null,"S19.DP0376"]
["Replacement Cost (Market Value)"]
[null,"(a)","Contracts held for trading purposes"]
[null,null,"- All contracts before premissible netting"]
[null,null,null,"Gross positive replacement cost",null,"S19.DP0377",null,"S19.DP0379",null,"S19.DP0381",null,"S19.DP0383",null,"S19.DP0385",null,"S19.DP0387",null,"S19.DP0389"]
[null,null,null,"Gross negative replacement cost",null,"S19.DP0378",null,"S19.DP0380",null,"S19.DP0382",null,"S19.DP0384",null,"S19.DP0386",null,"S19.DP0388",null,"S19.DP0390"]
[null,"(b)","Contracts held for other than trading"]
[null,null,"- All contracts before permissible netting"]
[null,null,null,"Gross positive replacement cost",null,null,null,"S19.DP0391",null,"S19.DP0393",null,"S19.DP0395",null,"S19.DP0397",null,"S19.DP0399",null,"S19.DP0401"]
[null,null,null,"Gross negative replacement cost",null,null,null,"S19.DP0392",null,"S19.DP0394",null,"S19.DP0396",null,"S19.DP0398",null,"S19.DP0400",null,"S19.DP0402"]
[null,"(c)","Contracts subject to permissible netting"]
[null,null,"- Included in (a) and (b)"]
[null,null,null,"Gross positive replacement cost",null,"S19.DP0403",null,"S19.DP0406",null,"S19.DP0409",null,"S19.DP0412",null,"S19.DP0415",null,"S19.DP0418",null,"S19.DP0421"]
[null,null,null,"Gross negative replacement cost",null,"S19.DP0404",null,"S19.DP0407",null,"S19.DP0410",null,"S19.DP0413",null,"S19.DP0416",null,"S19.DP0419",null,"S19.DP0422"]
[null,null,null,"Net positive replacement cost",null,"S19.DP0405",null,"S19.DP0408",null,"S19.DP0411",null,"S19.DP0414",null,"S19.DP0417",null,"S19.DP0420",null,"S19.DP0423"]
[null,"(d)","Total Contracts - After permissible netting"]
[null,null,null,"Gross positive replacement cost",null,"S19.DP0424",null,"S19.DP0425",null,"S19.DP0426",null,"S19.DP0427",null,"S19.DP0428",null,"S19.DP0429",null,"S19.DP0430"]
["Potential Future Credit Exposure"]
[null,"Contracts not subject to permissible netting",null,null,null,"S19.DP0431",null,"S19.DP0433",null,"S19.DP0435",null,"S19.DP0437",null,"S19.DP0439",null,"S19.DP0441",null,"S19.DP0443"]
[null,"Contracts subject to permissible netting",null,null,null,"S19.DP0432",null,"S19.DP0434",null,"S19.DP0436",null,"S19.DP0438",null,"S19.DP0440",null,"S19.DP0442",null,"S19.DP0444"]
["Credit Equivalent Amount  - Gross of specific provisions"]
[null,"Contracts not subject to permissible netting",null,null,null,"S19.DP0445",null,"S19.DP0447",null,"S19.DP0449",null,"S19.DP0451",null,"S19.DP0453",null,"S19.DP0455",null,"S19.DP0457"]
[null,"Contracts subject to permissible netting",null,null,null,"S19.DP0446",null,"S19.DP0448",null,"S19.DP0450",null,"S19.DP0452",null,"S19.DP0454",null,"S19.DP0456",null,"S19.DP0458"]
["Credit Equivalent Amount  - Net of specific provisions"]
[null,"Contracts not subject to permissible netting",null,null,null,"S19.DP0459",null,"S19.DP0461",null,"S19.DP0463",null,"S19.DP0465",null,"S19.DP0467",null,"S19.DP0469",null,"S19.DP0471"]
[null,"Contracts subject to permissible netting",null,null,null,"S19.DP0460",null,"S19.DP0462",null,"S19.DP0464",null,"S19.DP0466",null,"S19.DP0468",null,"S19.DP0470",null,"S19.DP0472"]
[]
["B(i)","Derivatives - \nCurrent Exposure Method (cont'd)",null,null,null,"Credit Derivative Contracts",null,"Interest Rate Contracts",null,"Foreign Exchange and Gold Contracts",null,"Equity-linked Contracts",null,"Precious Metals (Other than Gold Contracts)",null,"Other Commodity Contracts",null,"Total Contracts"]
["(b)","Exchange-traded"]
["Notional amount"]
[null,"Contracts held for trading purposes",null,null,null,"S19.DP0473",null,"S19.DP0474",null,"S19.DP0476",null,"S19.DP0478",null,"S19.DP0480",null,"S19.DP0482",null,"S19.DP0484"]
[null,"Contracts held for other than trading",null,null,null,null,null,"S19.DP0475",null,"S19.DP0477",null,"S19.DP0479",null,"S19.DP0481",null,"S19.DP0483",null,"S19.DP0485"]
["Replacement Cost (Market Value)"]
[null,"(a)","Contracts held for trading purposes"]
[null,null,"- All contracts before premissible netting"]
[null,null,null,"Gross positive replacement cost",null,"S19.DP0486",null,"S19.DP0488",null,"S19.DP0490",null,"S19.DP0492",null,"S19.DP0494",null,"S19.DP0496",null,"S19.DP0498"]
[null,null,null,"Gross negative replacement cost",null,"S19.DP0487",null,"S19.DP0489",null,"S19.DP0491",null,"S19.DP0493",null,"S19.DP0495",null,"S19.DP0497",null,"S19.DP0499"]
[null,"(b)","Contracts held for other than trading"]
[null,null,"- All contracts before permissible netting"]
[null,null,null,"Gross positive replacement cost",null,null,null,"S19.DP0500",null,"S19.DP0502",null,"S19.DP0504",null,"S19.DP0506",null,"S19.DP0508",null,"S19.DP0510"]
[null,null,null,"Gross negative replacement cost",null,null,null,"S19.DP0501",null,"S19.DP0503",null,"S19.DP0505",null,"S19.DP0507",null,"S19.DP0509",null,"S19.DP0511"]
[null,"(c)","Contracts subject to permissible netting"]
[null,null,"- Included in (a) and (b)"]
[null,null,null,"Gross positive replacement cost",null,"S19.DP0512",null,"S19.DP0515",null,"S19.DP0518",null,"S19.DP0521",null,"S19.DP0524",null,"S19.DP0527",null,"S19.DP0530"]
[null,null,null,"Gross negative replacement cost",null,"S19.DP0513",null,"S19.DP0516",null,"S19.DP0519",null,"S19.DP0522",null,"S19.DP0525",null,"S19.DP0528",null,"S19.DP0531"]
[null,null,null,"Net positive replacement cost",null,"S19.DP0514",null,"S19.DP0517",null,"S19.DP0520",null,"S19.DP0523",null,"S19.DP0526",null,"S19.DP0529",null,"S19.DP0532"]
[null,"(d)","Total Contracts - After permissible netting"]
[null,null,null,"Gross positive replacement cost",null,"S19.DP0533",null,"S19.DP0534",null,"S19.DP0535",null,"S19.DP0536",null,"S19.DP0537",null,"S19.DP0538",null,"S19.DP0539"]
["Potential Future Credit Exposure"]
[null,"Contracts not subject to permissible netting",null,null,null,"S19.DP0540",null,"S19.DP0542",null,"S19.DP0544",null,"S19.DP0546",null,"S19.DP0548",null,"S19.DP0550",null,"S19.DP0552"]
[null,"Contracts subject to permissible netting",null,null,null,"S19.DP0541",null,"S19.DP0543",null,"S19.DP0545",null,"S19.DP0547",null,"S19.DP0549",null,"S19.DP0551",null,"S19.DP0553"]
["Credit Equivalent Amount  - Gross of specific provisions"]
[null,"Contracts not subject to permissible netting",null,null,null,"S19.DP0554",null,"S19.DP0556",null,"S19.DP0558",null,"S19.DP0560",null,"S19.DP0562",null,"S19.DP0564",null,"S19.DP0566"]
[null,"Contracts subject to permissible netting",null,null,null,"S19.DP0555",null,"S19.DP0557",null,"S19.DP0559",null,"S19.DP0561",null,"S19.DP0563",null,"S19.DP0565",null,"S19.DP0567"]
["Credit Equivalent Amount  - Net of specific provisions"]
[null,"Contracts not subject to permissible netting",null,null,null,"S19.DP0568",null,"S19.DP0570",null,"S19.DP0572",null,"S19.DP0574",null,"S19.DP0576",null,"S19.DP0578",null,"S19.DP0580"]
[null,"Contracts subject to permissible netting",null,null,null,"S19.DP0569",null,"S19.DP0571",null,"S19.DP0573",null,"S19.DP0575",null,"S19.DP0577",null,"S19.DP0579",null,"S19.DP0581"]

{"sheet":"20 Securitization Banking book","index":24,"n_rows":26,"n_cols":13,"rows_kept":26,"cut":false,"hidden":false,"merged":[[2,3,3,3],[2,5,2,6],[2,8,2,9],[3,0,3,2],[4,0,4,2]]}
["Schedule 20 - Banking Book Securitization Exposures"]
[41,null,"Return to Schedule Listing"]
["(TT$ 000)",null,null,"Credit conversion factor",null,"Originator",null,null,"Investor",null,null,"Total"]
[null,null,null,null,null,"Notional","Exposure (cred-equiv amt for off B/S)",null,"Notional","Exposure (cred-equiv amt for off B/S)",null,"Exposure (cred-equiv amt for off B/S)"]
["Included in the Standardized Approach",null,null,"(a)",null,"(b)","(c)",null,"(d)","(e)",null,"(f = c + e)"]
["On-balance sheet (gross of provisions)"]
[null,"Traditional",null,null,null,null,"S20.DP0001",null,null,"S20.DP0005",null,"S20.DP0009"]
[null,"Synthetic",null,null,null,null,"S20.DP0002",null,null,"S20.DP0006",null,"S20.DP0010"]
[null,"Less: specific provisions",null,null,null,null,"S20.DP0003",null,null,"S20.DP0007",null,"S20.DP0011"]
["Total, net of specific provisions",null,null,null,null,null,"S20.DP0004",null,null,"S20.DP0008",null,"S20.DP0012","A"]
[]
["Off-balance sheet (gross of provisions)"]
[null,"Traditional",null,null,null,null,"(c = a x b)",null,null,"(e = a x d)"]
[null,null,"Eligible liquidity facilities - original maturity of one year or less",0.2,null,"S20.DP0013","S20.DP0021",null,"S20.DP0028","S20.DP0036",null,"S20.DP0043"]
[null,null,"Eligible liquidity facilities - original maturity of over one year",0.5,null,"S20.DP0014","S20.DP0022",null,"S20.DP0029","S20.DP0037",null,"S20.DP0044"]
[null,null,"Eligible liquidity facilities - externally rated",1,null,"S20.DP0015","S20.DP0023",null,"S20.DP0030","S20.DP0038",null,"S20.DP0045"]
[null,null,"Eligible servicer cash advances facilities",0,null,"S20.DP0016",null,null,"S20.DP0031"]
[null,null,"Second loss positions in ABCPs",1,null,"S20.DP0017","S20.DP0024",null,"S20.DP0032","S20.DP0039",null,"S20.DP0046"]
[null,null,"Most senior securitization exposures",1,null,"S20.DP0018","S20.DP0025",null,"S20.DP0033","S20.DP0040",null,"S20.DP0047"]
[null,null,"Other unrated exposures",1,null,"S20.DP0019","S20.DP0026",null,"S20.DP0034","S20.DP0041",null,"S20.DP0048"]
[null,null,"Rated exposures",1,null,"S20.DP0020","S20.DP0027",null,"S20.DP0035","S20.DP0042",null,"S20.DP0049"]
[null,"Synthetic"]
[null,null,"Unrated exposures",1,null,"S20.DP0050","S20.DP0052",null,"S20.DP0056","S20.DP0058",null,"S20.DP0062"]
[null,null,"Rated exposures",1,null,"S20.DP0051","S20.DP0053",null,"S20.DP0057","S20.DP0059",null,"S20.DP0063"]
[null,"Less: specific provisions",null,null,null,null,"S20.DP0054",null,null,"S20.DP0060",null,"S20.DP0064"]
["Total, net of specific provisions",null,null,null,null,null,"S20.DP0055",null,null,"S20.DP0061",null,"S20.DP0065","B"]

{"sheet":"21 Market Risk - Foreign Exch.","index":25,"n_rows":128,"n_cols":41,"rows_kept":128,"cut":false,"hidden":false,"merged":[[16,2,16,3],[1,1,1,3],[4,0,4,2],[6,0,6,41],[7,32,7,40],[15,2,15,3],[42,2,42,3],[19,2,19,3],[20,2,20,3],[21,2,21,3],[22,2,22,3],[24,2,24,3],[25,2,25,3],[26,2,26,3],[27,2,27,3],[33,2,33,3],[34,2,34,3],[35,2,35,3],[123,0,123,2],[133,0,133,4],[75,2,75,3],[85,1,85,2],[92,0,92,4],[94,2,94,3],[95,2,96,2],[120,0,121,2]]}
["Schedule 21 - Minimum Capital Required for Market Risk"]
[42,"Return to Schedule Listing"]
["(TT$ 000)"]
[]
["A. Foreign Exchange Risk"]
[]
["FOREIGN CURRENCY POSITION (TT $'000)"]
[null,null,null,null,null,null,null,null,null,null,null,null,null,null,null,null,null,null,null,null,null,null,null,null,null,null,null,null,null,null,null,null,"OTHER"]
[null,null,null,null,"TOTAL",null,"USD",null,"CAD",null,"GBP",null,"EUR",null,"XCD",null,"BBD",null,"JMD",null,"GYD",null,"DKK",null,"INR",null,"JPY",null,"SEK",null,"CHF",null,"S21.DP0393",null,"S21.DP0422",null,"S21.DP0451",null,"S21.DP0480",null,"S21.DP0509"]
[1,null," ASSETS "]
[null,null,null,"FALSE"]
[11,null,"Liquid Funds ",null,"S21.DP0001",null,"S21.DP0029",null,"S21.DP0057",null,"S21.DP0085",null,"S21.DP0113",null,"S21.DP0141",null,"S21.DP0169",null,"S21.DP0197",null,"S21.DP0225",null,"S21.DP0253",null,"S21.DP0281",null,"S21.DP0309",null,"S21.DP0337",null,"S21.DP0365",null,"S21.DP0394",null,"S21.DP0423",null,"S21.DP0452",null,"S21.DP0481",null,"S21.DP0510"]
[null,null,"Of which:"]
[null,1101,"Cash",null,"S21.DP0002",null,"S21.DP0030",null,"S21.DP0058",null,"S21.DP0086",null,"S21.DP0114",null,"S21.DP0142",null,"S21.DP0170",null,"S21.DP0198",null,"S21.DP0226",null,"S21.DP0254",null,"S21.DP0282",null,"S21.DP0310",null,"S21.DP0338",null,"S21.DP0366",null,"S21.DP0395",null,"S21.DP0424",null,"S21.DP0453",null,"S21.DP0482",null,"S21.DP0511"]
[null,1103,"Due from Banks",null,"S21.DP0003",null,"S21.DP0031",null,"S21.DP0059",null,"S21.DP0087",null,"S21.DP0115",null,"S21.DP0143",null,"S21.DP0171",null,"S21.DP0199",null,"S21.DP0227",null,"S21.DP0255",null,"S21.DP0283",null,"S21.DP0311",null,"S21.DP0339",null,"S21.DP0367",null,"S21.DP0396",null,"S21.DP0425",null,"S21.DP0454",null,"S21.DP0483",null,"S21.DP0512"]
[null,1104,"Cash items in the process of collection",null,"S21.DP0004",null,"S21.DP0032",null,"S21.DP0060",null,"S21.DP0088",null,"S21.DP0116",null,"S21.DP0144",null,"S21.DP0172",null,"S21.DP0200",null,"S21.DP0228",null,"S21.DP0256",null,"S21.DP0284",null,"S21.DP0312",null,"S21.DP0340",null,"S21.DP0368",null,"S21.DP0397",null,"S21.DP0426",null,"S21.DP0455",null,"S21.DP0484",null,"S21.DP0513"]
[12,null,"Inter-Bank Funds Sold",null,"S21.DP0005",null,"S21.DP0033",null,"S21.DP0061",null,"S21.DP0089",null,"S21.DP0117",null,"S21.DP0145",null,"S21.DP0173",null,"S21.DP0201",null,"S21.DP0229",null,"S21.DP0257",null,"S21.DP0285",null,"S21.DP0313",null,"S21.DP0341",null,"S21.DP0369",null,"S21.DP0398",null,"S21.DP0427",null,"S21.DP0456",null,"S21.DP0485",null,"S21.DP0514"]
[13,null,"Investments",null,"S21.DP0006",null,"S21.DP0034",null,"S21.DP0062",null,"S21.DP0090",null,"S21.DP0118",null,"S21.DP0146",null,"S21.DP0174",null,"S21.DP0202",null,"S21.DP0230",null,"S21.DP0258",null,"S21.DP0286",null,"S21.DP0314",null,"S21.DP0342",null,"S21.DP0370",null,"S21.DP0399",null,"S21.DP0428",null,"S21.DP0457",null,"S21.DP0486",null,"S21.DP0515"]
[null,null,"Of which:"]
[null,1301,"Gov't T-bills (1 year and less)",null,"S21.DP0007",null,"S21.DP0035",null,"S21.DP0063",null,"S21.DP0091",null,"S21.DP0119",null,"S21.DP0147",null,"S21.DP0175",null,"S21.DP0203",null,"S21.DP0231",null,"S21.DP0259",null,"S21.DP0287",null,"S21.DP0315",null,"S21.DP0343",null,"S21.DP0371",null,"S21.DP0400",null,"S21.DP0429",null,"S21.DP0458",null,"S21.DP0487",null,"S21.DP0516"]
[null,1302,"Gov't securities (1 year and less)",null,"S21.DP0008",null,"S21.DP0036",null,"S21.DP0064",null,"S21.DP0092",null,"S21.DP0120",null,"S21.DP0148",null,"S21.DP0176",null,"S21.DP0204",null,"S21.DP0232",null,"S21.DP0260",null,"S21.DP0288",null,"S21.DP0316",null,"S21.DP0344",null,"S21.DP0372",null,"S21.DP0401",null,"S21.DP0430",null,"S21.DP0459",null,"S21.DP0488",null,"S21.DP0517"]
[null,null,"              Of which:           GOTT",null,"S21.DP0009",null,"S21.DP0037",null,"S21.DP0065",null,"S21.DP0093",null,"S21.DP0121",null,"S21.DP0149",null,"S21.DP0177",null,"S21.DP0205",null,"S21.DP0233",null,"S21.DP0261",null,"S21.DP0289",null,"S21.DP0317",null,"S21.DP0345",null,"S21.DP0373",null,"S21.DP0402",null,"S21.DP0431",null,"S21.DP0460",null,"S21.DP0489",null,"S21.DP0518"]
[null,1307,"Corporate securities (6 mths and less)",null,"S21.DP0010",null,"S21.DP0038",null,"S21.DP0066",null,"S21.DP0094",null,"S21.DP0122",null,"S21.DP0150",null,"S21.DP0178",null,"S21.DP0206",null,"S21.DP0234",null,"S21.DP0262",null,"S21.DP0290",null,"S21.DP0318",null,"S21.DP0346",null,"S21.DP0374",null,"S21.DP0403",null,"S21.DP0432",null,"S21.DP0461",null,"S21.DP0490",null,"S21.DP0519"]
[null,1308,"Time Deposits",null,"S21.DP0011",null,"S21.DP0039",null,"S21.DP0067",null,"S21.DP0095",null,"S21.DP0123",null,"S21.DP0151",null,"S21.DP0179",null,"S21.DP0207",null,"S21.DP0235",null,"S21.DP0263",null,"S21.DP0291",null,"S21.DP0319",null,"S21.DP0347",null,"S21.DP0375",null,"S21.DP0404",null,"S21.DP0433",null,"S21.DP0462",null,"S21.DP0491",null,"S21.DP0520"]
[null,130801,"Time deposits at commercial banks",null,"S21.DP0012",null,"S21.DP0040",null,"S21.DP0068",null,"S21.DP0096",null,"S21.DP0124",null,"S21.DP0152",null,"S21.DP0180",null,"S21.DP0208",null,"S21.DP0236",null,"S21.DP0264",null,"S21.DP0292",null,"S21.DP0320",null,"S21.DP0348",null,"S21.DP0376",null,"S21.DP0405",null,"S21.DP0434",null,"S21.DP0463",null,"S21.DP0492",null,"S21.DP0521"]
[null,130802,"Time deposits at financial institutions",null,"S21.DP0013",null,"S21.DP0041",null,"S21.DP0069",null,"S21.DP0097",null,"S21.DP0125",null,"S21.DP0153",null,"S21.DP0181",null,"S21.DP0209",null,"S21.DP0237",null,"S21.DP0265",null,"S21.DP0293",null,"S21.DP0321",null,"S21.DP0349",null,"S21.DP0377",null,"S21.DP0406",null,"S21.DP0435",null,"S21.DP0464",null,"S21.DP0493",null,"S21.DP0522"]
[14,null,"Loans",null,"S21.DP0014",null,"S21.DP0042",null,"S21.DP0070",null,"S21.DP0098",null,"S21.DP0126",null,"S21.DP0154",null,"S21.DP0182",null,"S21.DP0210",null,"S21.DP0238",null,"S21.DP0266",null,"S21.DP0294",null,"S21.DP0322",null,"S21.DP0350",null,"S21.DP0378",null,"S21.DP0407",null,"S21.DP0436",null,"S21.DP0465",null,"S21.DP0494",null,"S21.DP0523"]
[15,null,"Customers' Liability on Acceptances ",null,"S21.DP0015",null,"S21.DP0043",null,"S21.DP0071",null,"S21.DP0099",null,"S21.DP0127",null,"S21.DP0155",null,"S21.DP0183",null,"S21.DP0211",null,"S21.DP0239",null,"S21.DP0267",null,"S21.DP0295",null,"S21.DP0323",null,"S21.DP0351",null,"S21.DP0379",null,"S21.DP0408",null,"S21.DP0437",null,"S21.DP0466",null,"S21.DP0495",null,"S21.DP0524"]
[null,null,"Of which:"]
[null,1501," Bills for collection",null,"S21.DP0016",null,"S21.DP0044",null,"S21.DP0072",null,"S21.DP0100",null,"S21.DP0128",null,"S21.DP0156",null,"S21.DP0184",null,"S21.DP0212",null,"S21.DP0240",null,"S21.DP0268",null,"S21.DP0296",null,"S21.DP0324",null,"S21.DP0352",null,"S21.DP0380",null,"S21.DP0409",null,"S21.DP0438",null,"S21.DP0467",null,"S21.DP0496",null,"S21.DP0525"]
[null,1502,"Letters of credit",null,"S21.DP0017",null,"S21.DP0045",null,"S21.DP0073",null,"S21.DP0101",null,"S21.DP0129",null,"S21.DP0157",null,"S21.DP0185",null,"S21.DP0213",null,"S21.DP0241",null,"S21.DP0269",null,"S21.DP0297",null,"S21.DP0325",null,"S21.DP0353",null,"S21.DP0381",null,"S21.DP0410",null,"S21.DP0439",null,"S21.DP0468",null,"S21.DP0497",null,"S21.DP0526"]
[null,1504,"Guarantees",null,"S21.DP0018",null,"S21.DP0046",null,"S21.DP0074",null,"S21.DP0102",null,"S21.DP0130",null,"S21.DP0158",null,"S21.DP0186",null,"S21.DP0214",null,"S21.DP0242",null,"S21.DP0270",null,"S21.DP0298",null,"S21.DP0326",null,"S21.DP0354",null,"S21.DP0382",null,"S21.DP0411",null,"S21.DP0440",null,"S21.DP0469",null,"S21.DP0498",null,"S21.DP0527"]
[null,1506," Acceptances",null,"S21.DP0019",null,"S21.DP0047",null,"S21.DP0075",null,"S21.DP0103",null,"S21.DP0131",null,"S21.DP0159",null,"S21.DP0187",null,"S21.DP0215",null,"S21.DP0243",null,"S21.DP0271",null,"S21.DP0299",null,"S21.DP0327",null,"S21.DP0355",null,"S21.DP0383",null,"S21.DP0412",null,"S21.DP0441",null,"S21.DP0470",null,"S21.DP0499",null,"S21.DP0528"]
[16,null,"Equity in Subs. & Affiliates",null,"S21.DP0020",null,"S21.DP0048",null,"S21.DP0076",null,"S21.DP0104",null,"S21.DP0132",null,"S21.DP0160",null,"S21.DP0188",null,"S21.DP0216",null,"S21.DP0244",null,"S21.DP0272",null,"S21.DP0300",null,"S21.DP0328",null,"S21.DP0356",null,"S21.DP0384",null,"S21.DP0413",null,"S21.DP0442",null,"S21.DP0471",null,"S21.DP0500",null,"S21.DP0529"]
[17,null,"Accounts Receivable",null,"S21.DP0021",null,"S21.DP0049",null,"S21.DP0077",null,"S21.DP0105",null,"S21.DP0133",null,"S21.DP0161",null,"S21.DP0189",null,"S21.DP0217",null,"S21.DP0245",null,"S21.DP0273",null,"S21.DP0301",null,"S21.DP0329",null,"S21.DP0357",null,"S21.DP0385",null,"S21.DP0414",null,"S21.DP0443",null,"S21.DP0472",null,"S21.DP0501",null,"S21.DP0530"]
[19,null,"Prepaid Expenses & Other Assets",null,"S21.DP0022",null,"S21.DP0050",null,"S21.DP0078",null,"S21.DP0106",null,"S21.DP0134",null,"S21.DP0162",null,"S21.DP0190",null,"S21.DP0218",null,"S21.DP0246",null,"S21.DP0274",null,"S21.DP0302",null,"S21.DP0330",null,"S21.DP0358",null,"S21.DP0386",null,"S21.DP0415",null,"S21.DP0444",null,"S21.DP0473",null,"S21.DP0502",null,"S21.DP0531"]
[null,null,"Total Assets ",null,"S21.DP0023",null,"S21.DP0051",null,"S21.DP0079",null,"S21.DP0107",null,"S21.DP0135",null,"S21.DP0163",null,"S21.DP0191",null,"S21.DP0219",null,"S21.DP0247",null,"S21.DP0275",null,"S21.DP0303",null,"S21.DP0331",null,"S21.DP0359",null,"S21.DP0387",null,"S21.DP0416",null,"S21.DP0445",null,"S21.DP0474",null,"S21.DP0503",null,"S21.DP0532"]
[]
[20,null,"Memo Items",null,"S21.DP0024",null,"S21.DP0052",null,"S21.DP0080",null,"S21.DP0108",null,"S21.DP0136",null,"S21.DP0164",null,"S21.DP0192",null,"S21.DP0220",null,"S21.DP0248",null,"S21.DP0276",null,"S21.DP0304",null,"S21.DP0332",null,"S21.DP0360",null,"S21.DP0388",null,"S21.DP0417",null,"S21.DP0446",null,"S21.DP0475",null,"S21.DP0504",null,"S21.DP0533"]
[null,null,"……………………..",null,"S21.DP0025",null,"S21.DP0053",null,"S21.DP0081",null,"S21.DP0109",null,"S21.DP0137",null,"S21.DP0165",null,"S21.DP0193",null,"S21.DP0221",null,"S21.DP0249",null,"S21.DP0277",null,"S21.DP0305",null,"S21.DP0333",null,"S21.DP0361",null,"S21.DP0389",null,"S21.DP0418",null,"S21.DP0447",null,"S21.DP0476",null,"S21.DP0505",null,"S21.DP0534"]
[null,null,"……………………..",null,"S21.DP0026",null,"S21.DP0054",null,"S21.DP0082",null,"S21.DP0110",null,"S21.DP0138",null,"S21.DP0166",null,"S21.DP0194",null,"S21.DP0222",null,"S21.DP0250",null,"S21.DP0278",null,"S21.DP0306",null,"S21.DP0334",null,"S21.DP0362",null,"S21.DP0390",null,"S21.DP0419",null,"S21.DP0448",null,"S21.DP0477",null,"S21.DP0506",null,"S21.DP0535"]
[null,null,"……………………..",null,"S21.DP0027",null,"S21.DP0055",null,"S21.DP0083",null,"S21.DP0111",null,"S21.DP0139",null,"S21.DP0167",null,"S21.DP0195",null,"S21.DP0223",null,"S21.DP0251",null,"S21.DP0279",null,"S21.DP0307",null,"S21.DP0335",null,"S21.DP0363",null,"S21.DP0391",null,"S21.DP0420",null,"S21.DP0449",null,"S21.DP0478",null,"S21.DP0507",null,"S21.DP0536"]
["A.",null,"Total Assets +Memo Items",null,"S21.DP0028",null,"S21.DP0056",null,"S21.DP0084",null,"S21.DP0112",null,"S21.DP0140",null,"S21.DP0168",null,"S21.DP0196",null,"S21.DP0224",null,"S21.DP0252",null,"S21.DP0280",null,"S21.DP0308",null,"S21.DP0336",null,"S21.DP0364",null,"S21.DP0392",null,"S21.DP0421",null,"S21.DP0450",null,"S21.DP0479",null,"S21.DP0508",null,"S21.DP0537"]
[]
[]
[2,null," LIABILITIES"]
[]
[21,null,"Deposits ",null,"S21.DP0538",null,"S21.DP0557",null,"S21.DP0576",null,"S21.DP0595",null,"S21.DP0614",null,"S21.DP0633",null,"S21.DP0652",null,"S21.DP0671",null,"S21.DP0690",null,"S21.DP0709",null,"S21.DP0728",null,"S21.DP0747",null,"S21.DP0766",null,"S21.DP0785",null,"S21.DP0804",null,"S21.DP0823",null,"S21.DP0842",null,"S21.DP0861",null,"S21.DP0880"]
[22,null,"Inter-Bank Funds Bought",null,"S21.DP0539",null,"S21.DP0558",null,"S21.DP0577",null,"S21.DP0596",null,"S21.DP0615",null,"S21.DP0634",null,"S21.DP0653",null,"S21.DP0672",null,"S21.DP0691",null,"S21.DP0710",null,"S21.DP0729",null,"S21.DP0748",null,"S21.DP0767",null,"S21.DP0786",null,"S21.DP0805",null,"S21.DP0824",null,"S21.DP0843",null,"S21.DP0862",null,"S21.DP0881"]
[23,null,"Central Bank Funds",null,"S21.DP0540",null,"S21.DP0559",null,"S21.DP0578",null,"S21.DP0597",null,"S21.DP0616",null,"S21.DP0635",null,"S21.DP0654",null,"S21.DP0673",null,"S21.DP0692",null,"S21.DP0711",null,"S21.DP0730",null,"S21.DP0749",null,"S21.DP0768",null,"S21.DP0787",null,"S21.DP0806",null,"S21.DP0825",null,"S21.DP0844",null,"S21.DP0863",null,"S21.DP0882"]
[24,null,"Borrowings (Up to 1 Year)",null,"S21.DP0541",null,"S21.DP0560",null,"S21.DP0579",null,"S21.DP0598",null,"S21.DP0617",null,"S21.DP0636",null,"S21.DP0655",null,"S21.DP0674",null,"S21.DP0693",null,"S21.DP0712",null,"S21.DP0731",null,"S21.DP0750",null,"S21.DP0769",null,"S21.DP0788",null,"S21.DP0807",null,"S21.DP0826",null,"S21.DP0845",null,"S21.DP0864",null,"S21.DP0883"]
[null,null,"Of Which:"]
[null,2401," Central Bank",null,"S21.DP0542",null,"S21.DP0561",null,"S21.DP0580",null,"S21.DP0599",null,"S21.DP0618",null,"S21.DP0637",null,"S21.DP0656",null,"S21.DP0675",null,"S21.DP0694",null,"S21.DP0713",null,"S21.DP0732",null,"S21.DP0751",null,"S21.DP0770",null,"S21.DP0789",null,"S21.DP0808",null,"S21.DP0827",null,"S21.DP0846",null,"S21.DP0865",null,"S21.DP0884"]
[null,2402," Commercial banks",null,"S21.DP0543",null,"S21.DP0562",null,"S21.DP0581",null,"S21.DP0600",null,"S21.DP0619",null,"S21.DP0638",null,"S21.DP0657",null,"S21.DP0676",null,"S21.DP0695",null,"S21.DP0714",null,"S21.DP0733",null,"S21.DP0752",null,"S21.DP0771",null,"S21.DP0790",null,"S21.DP0809",null,"S21.DP0828",null,"S21.DP0847",null,"S21.DP0866",null,"S21.DP0885"]
[null,2403,"Other financial institutions",null,"S21.DP0544",null,"S21.DP0563",null,"S21.DP0582",null,"S21.DP0601",null,"S21.DP0620",null,"S21.DP0639",null,"S21.DP0658",null,"S21.DP0677",null,"S21.DP0696",null,"S21.DP0715",null,"S21.DP0734",null,"S21.DP0753",null,"S21.DP0772",null,"S21.DP0791",null,"S21.DP0810",null,"S21.DP0829",null,"S21.DP0848",null,"S21.DP0867",null,"S21.DP0886"]
[25,null,"Acceptances Executed",null,"S21.DP0545",null,"S21.DP0564",null,"S21.DP0583",null,"S21.DP0602",null,"S21.DP0621",null,"S21.DP0640",null,"S21.DP0659",null,"S21.DP0678",null,"S21.DP0697",null,"S21.DP0716",null,"S21.DP0735",null,"S21.DP0754",null,"S21.DP0773",null,"S21.DP0792",null,"S21.DP0811",null,"S21.DP0830",null,"S21.DP0849",null,"S21.DP0868",null,"S21.DP0887"]
[null,null,"Of Which:"]
[null,2501,"Bills of collection",null,"S21.DP0546",null,"S21.DP0565",null,"S21.DP0584",null,"S21.DP0603",null,"S21.DP0622",null,"S21.DP0641",null,"S21.DP0660",null,"S21.DP0679",null,"S21.DP0698",null,"S21.DP0717",null,"S21.DP0736",null,"S21.DP0755",null,"S21.DP0774",null,"S21.DP0793",null,"S21.DP0812",null,"S21.DP0831",null,"S21.DP0850",null,"S21.DP0869",null,"S21.DP0888"]
[null,2502,"Letters of credit",null,"S21.DP0547",null,"S21.DP0566",null,"S21.DP0585",null,"S21.DP0604",null,"S21.DP0623",null,"S21.DP0642",null,"S21.DP0661",null,"S21.DP0680",null,"S21.DP0699",null,"S21.DP0718",null,"S21.DP0737",null,"S21.DP0756",null,"S21.DP0775",null,"S21.DP0794",null,"S21.DP0813",null,"S21.DP0832",null,"S21.DP0851",null,"S21.DP0870",null,"S21.DP0889"]
[null,2504,"Guarantees",null,"S21.DP0548",null,"S21.DP0567",null,"S21.DP0586",null,"S21.DP0605",null,"S21.DP0624",null,"S21.DP0643",null,"S21.DP0662",null,"S21.DP0681",null,"S21.DP0700",null,"S21.DP0719",null,"S21.DP0738",null,"S21.DP0757",null,"S21.DP0776",null,"S21.DP0795",null,"S21.DP0814",null,"S21.DP0833",null,"S21.DP0852",null,"S21.DP0871",null,"S21.DP0890"]
[null,2506,"Acceptances ",null,"S21.DP0549",null,"S21.DP0568",null,"S21.DP0587",null,"S21.DP0606",null,"S21.DP0625",null,"S21.DP0644",null,"S21.DP0663",null,"S21.DP0682",null,"S21.DP0701",null,"S21.DP0720",null,"S21.DP0739",null,"S21.DP0758",null,"S21.DP0777",null,"S21.DP0796",null,"S21.DP0815",null,"S21.DP0834",null,"S21.DP0853",null,"S21.DP0872",null,"S21.DP0891"]
[26,null,"Other Current Liabilities",null,"S21.DP0550",null,"S21.DP0569",null,"S21.DP0588",null,"S21.DP0607",null,"S21.DP0626",null,"S21.DP0645",null,"S21.DP0664",null,"S21.DP0683",null,"S21.DP0702",null,"S21.DP0721",null,"S21.DP0740",null,"S21.DP0759",null,"S21.DP0778",null,"S21.DP0797",null,"S21.DP0816",null,"S21.DP0835",null,"S21.DP0854",null,"S21.DP0873",null,"S21.DP0892"]
[null,null,"Of Which:"]
[null,2605,"Accounts payable",null,"S21.DP0551",null,"S21.DP0570",null,"S21.DP0589",null,"S21.DP0608",null,"S21.DP0627",null,"S21.DP0646",null,"S21.DP0665",null,"S21.DP0684",null,"S21.DP0703",null,"S21.DP0722",null,"S21.DP0741",null,"S21.DP0760",null,"S21.DP0779",null,"S21.DP0798",null,"S21.DP0817",null,"S21.DP0836",null,"S21.DP0855",null,"S21.DP0874",null,"S21.DP0893"]
[27,null,"Long Term Liabilities",null,"S21.DP0552",null,"S21.DP0571",null,"S21.DP0590",null,"S21.DP0609",null,"S21.DP0628",null,"S21.DP0647",null,"S21.DP0666",null,"S21.DP0685",null,"S21.DP0704",null,"S21.DP0723",null,"S21.DP0742",null,"S21.DP0761",null,"S21.DP0780",null,"S21.DP0799",null,"S21.DP0818",null,"S21.DP0837",null,"S21.DP0856",null,"S21.DP0875",null,"S21.DP0894"]
[null,null,"Of Which:"]
[null,2701,"Central Bank",null,"S21.DP0553",null,"S21.DP0572",null,"S21.DP0591",null,"S21.DP0610",null,"S21.DP0629",null,"S21.DP0648",null,"S21.DP0667",null,"S21.DP0686",null,"S21.DP0705",null,"S21.DP0724",null,"S21.DP0743",null,"S21.DP0762",null,"S21.DP0781",null,"S21.DP0800",null,"S21.DP0819",null,"S21.DP0838",null,"S21.DP0857",null,"S21.DP0876",null,"S21.DP0895"]
[null,2702,"Commercial banks",null,"S21.DP0554",null,"S21.DP0573",null,"S21.DP0592",null,"S21.DP0611",null,"S21.DP0630",null,"S21.DP0649",null,"S21.DP0668",null,"S21.DP0687",null,"S21.DP0706",null,"S21.DP0725",null,"S21.DP0744",null,"S21.DP0763",null,"S21.DP0782",null,"S21.DP0801",null,"S21.DP0820",null,"S21.DP0839",null,"S21.DP0858",null,"S21.DP0877",null,"S21.DP0896"]
[null,2703,"Other financial institutions",null,"S21.DP0555",null,"S21.DP0574",null,"S21.DP0593",null,"S21.DP0612",null,"S21.DP0631",null,"S21.DP0650",null,"S21.DP0669",null,"S21.DP0688",null,"S21.DP0707",null,"S21.DP0726",null,"S21.DP0745",null,"S21.DP0764",null,"S21.DP0783",null,"S21.DP0802",null,"S21.DP0821",null,"S21.DP0840",null,"S21.DP0859",null,"S21.DP0878",null,"S21.DP0897"]
[null,null,"Total Liabilities",null,"S21.DP0556",null,"S21.DP0575",null,"S21.DP0594",null,"S21.DP0613",null,"S21.DP0632",null,"S21.DP0651",null,"S21.DP0670",null,"S21.DP0689",null,"S21.DP0708",null,"S21.DP0727",null,"S21.DP0746",null,"S21.DP0765",null,"S21.DP0784",null,"S21.DP0803",null,"S21.DP0822",null,"S21.DP0841",null,"S21.DP0860",null,"S21.DP0879",null,"S21.DP0898"]
[]
[28,null,"Memo Items",null,"S21.DP0899",null,"S21.DP0904",null,"S21.DP0909",null,"S21.DP0914",null,"S21.DP0919",null,"S21.DP0924",null,"S21.DP0929",null,"S21.DP0934",null,"S21.DP0939",null,"S21.DP0944",null,"S21.DP0949",null,"S21.DP0954",null,"S21.DP0959",null,"S21.DP0964",null,"S21.DP0969",null,"S21.DP0974",null,"S21.DP0979",null,"S21.DP0984",null,"S21.DP0989"]
[null,null,"……………………..",null,"S21.DP0900",null,"S21.DP0905",null,"S21.DP0910",null,"S21.DP0915",null,"S21.DP0920",null,"S21.DP0925",null,"S21.DP0930",null,"S21.DP0935",null,"S21.DP0940",null,"S21.DP0945",null,"S21.DP0950",null,"S21.DP0955",null,"S21.DP0960",null,"S21.DP0965",null,"S21.DP0970",null,"S21.DP0975",null,"S21.DP0980",null,"S21.DP0985",null,"S21.DP0990"]
[null,null,"……………………..",null,"S21.DP0901",null,"S21.DP0906",null,"S21.DP0911",null,"S21.DP0916",null,"S21.DP0921",null,"S21.DP0926",null,"S21.DP0931",null,"S21.DP0936",null,"S21.DP0941",null,"S21.DP0946",null,"S21.DP0951",null,"S21.DP0956",null,"S21.DP0961",null,"S21.DP0966",null,"S21.DP0971",null,"S21.DP0976",null,"S21.DP0981",null,"S21.DP0986",null,"S21.DP0991"]
[null,null,"……………………..",null,"S21.DP0902",null,"S21.DP0907",null,"S21.DP0912",null,"S21.DP0917",null,"S21.DP0922",null,"S21.DP0927",null,"S21.DP0932",null,"S21.DP0937",null,"S21.DP0942",null,"S21.DP0947",null,"S21.DP0952",null,"S21.DP0957",null,"S21.DP0962",null,"S21.DP0967",null,"S21.DP0972",null,"S21.DP0977",null,"S21.DP0982",null,"S21.DP0987",null,"S21.DP0992"]
[null,null,"Total Liabilities +Memo Items",null,"S21.DP0903",null,"S21.DP0908",null,"S21.DP0913",null,"S21.DP0918",null,"S21.DP0923",null,"S21.DP0928",null,"S21.DP0933",null,"S21.DP0938",null,"S21.DP0943",null,"S21.DP0948",null,"S21.DP0953",null,"S21.DP0958",null,"S21.DP0963",null,"S21.DP0968",null,"S21.DP0973",null,"S21.DP0978",null,"S21.DP0983",null,"S21.DP0988",null,"S21.DP0993"]
[]
[]
[3,null,"CAPITAL"]
[]
[null,null,"Total Capital ",null,"S21.DP0994",null,"S21.DP0997",null,"S21.DP1000",null,"S21.DP1003",null,"S21.DP1006",null,"S21.DP1009",null,"S21.DP1012",null,"S21.DP1015",null,"S21.DP1018",null,"S21.DP1021",null,"S21.DP1024",null,"S21.DP1027",null,"S21.DP1030",null,"S21.DP1033",null,"S21.DP1036",null,"S21.DP1039",null,"S21.DP1042",null,"S21.DP1045",null,"S21.DP1048"]
[]
[]
["B.","Total Capital + Liabilities +Memo Items",null,null,"S21.DP0995",null,"S21.DP0998",null,"S21.DP1001",null,"S21.DP1004",null,"S21.DP1007",null,"S21.DP1010",null,"S21.DP1013",null,"S21.DP1016",null,"S21.DP1019",null,"S21.DP1022",null,"S21.DP1025",null,"S21.DP1028",null,"S21.DP1031",null,"S21.DP1034",null,"S21.DP1037",null,"S21.DP1040",null,"S21.DP1043",null,"S21.DP1046",null,"S21.DP1049"]
[]
[null,"    NET  POSITION (A - B)",null,null,"S21.DP0996",null,"S21.DP0999",null,"S21.DP1002",null,"S21.DP1005",null,"S21.DP1008",null,"S21.DP1011",null,"S21.DP1014",null,"S21.DP1017",null,"S21.DP1020",null,"S21.DP1023",null,"S21.DP1026",null,"S21.DP1029",null,"S21.DP1032",null,"S21.DP1035",null,"S21.DP1038",null,"S21.DP1041",null,"S21.DP1044",null,"S21.DP1047",null,"S21.DP1050"]
[]
[]
[]
[]
[]
[]
["B. Foreign Exchange Risk - Positions (Long/Short)"]
[]
[null,null,"FOREIGN CURRENCY EXPOSURE"]
[null,null,"CURRENCY"," POSITION* "]
[null,null,null,"TT $'000"]
[null,null,null,"LONG/(SHORT)"]
[]
[null,null,{"$f":"G9","v":"USD"},"S21.DP1056"]
[null,null,{"$f":"I9","v":"CAD"},"S21.DP1057"]
[null,null,{"$f":"K9","v":"GBP"},"S21.DP1058"]
[null,null,{"$f":"M9","v":"EUR"},"S21.DP1059"]
[null,null,{"$f":"O9","v":"XCD"},"S21.DP1060"]
[null,null,{"$f":"Q9","v":"BBD"},"S21.DP1061"]
[null,null,{"$f":"S9","v":"JMD"},"S21.DP1062"]
[null,null,{"$f":"U9","v":"GYD"},"S21.DP1063"]
[null,null,{"$f":"W9","v":"DKK"},"S21.DP1064"]
[null,null,{"$f":"Y9","v":"INR"},"S21.DP1065"]
[null,null,{"$f":"AA9","v":"JPY"},"S21.DP1066"]
[null,null,{"$f":"AC9","v":"SEK"},"S21.DP1067"]
[null,null,{"$f":"AE9","v":"CHF"},"S21.DP1068"]
[null,null,"S21.DP1051","S21.DP1069"]
[null,null,"S21.DP1052","S21.DP1070"]
[null,null,"S21.DP1053","S21.DP1071"]
[null,null,"S21.DP1054","S21.DP1072"]
[null,null,"S21.DP1055","S21.DP1073"]
[null,null,"TOTAL LONG","S21.DP1074"]
[null,null,"TOTAL (SHORT)","S21.DP1075"]
[]
["Foreign Currency Exposure - Greater between the absolute value of the Total Long and Total Short"]
[null,null,null,"S21.DP1076","A"]
[]
["Foreign Currency Risk Capital Charge (Ax10%)",null,null,"S21.DP1077"]
[]
["Capital Charge for Foreign Exchange Options",null,null,"S21.DP1078"]
[]
["Total Capital Charge for Foreign Exchange Risk",null,null,"S21.DP1079"]

{"sheet":"21A Market  Risk - Trigger","index":26,"n_rows":12,"n_cols":4,"rows_kept":12,"cut":false,"hidden":false,"merged":[[1,1,1,3],[4,0,4,5]]}
["Schedule 21A - Minimum Capital Required for Market Risk"]
[42,"Return to Schedule Listing"]
["(TT$ 000)"]
[]
["Total MTM securities and associated derivatives : Do you need to enter data in the remaining market risk sheets?"]
[null,"Please fill the following two rows:"]
[]
[null,"Total marked to market securities and associated derivatives","S21A.DP0001","A"]
[null,"Total assets","S21A.DP0002","B"]
[null,"Ratio C (A/B)","S21A.DP0003","C"]
[]
[null,{"$f":"IF(C10=\"\",\"\",IF(C10>= 10%, \"You need to continue on, to fill out the remaining market risk sheets.\", \"Thank you for filling out your forms. You are not required to complete the interest rate and equity risks requirement, but please proceed to complete the commodity risk requirement on Schedule 21D.\"))","v":"You need to continue on, to fill out the remaining market risk sheets."}]

{"sheet":"21B Market Risk - IRR Spec.","index":27,"n_rows":31,"n_cols":5,"rows_kept":31,"cut":false,"hidden":false,"merged":[[1,1,1,3],[4,0,4,9],[14,1,14,3],[16,1,16,3]]}
["Schedule 21B - Minimum Capital Required for Market Risk"]
[42,"Return to Schedule Listing"]
["(TT$ 000)"]
[]
["Interest Rate Risk - Specific Risk - Applies to all marked to market debt or interest rate related securities in the trading and AFS books"]
[]
[null,"CALCULATION OF SPECIFIC RISK","Net Long or Short Position (A)","Risk Charge (B)","Capital Required  C  (A x B)"]
[1,"Government Debt Securities","S21B.DP0001",0,"S21B.DP0006"]
[2,"Qualifying Securities:"]
[2.1,"   6  mths. or under to maturity","S21B.DP0002",2.5000000000000001E-3,"S21B.DP0007"]
[2.2000000000000002,"   over 6 mths up to 2 yrs. to maturity","S21B.DP0003",0.01,"S21B.DP0008"]
[2.2999999999999998,"   over 2 yrs.  to maturity","S21B.DP0004",1.6E-2,"S21B.DP0009"]
[3,"Other","S21B.DP0005",0.08,"S21B.DP0010"]
[4,"Capital Required Against Specific Risk:",null,null,"S21B.DP0011"]
[5,"Capital Required Against General Risk (taken from IRR-Gen Schedule):",null,null,"S21B.DP0012"]
[6,"Capital Required Against Interest Rate Options (taken from SA - Interest Rate Options tab)",null,null,"S21B.DP0013"]
[7,"Total Capital Required Against Interest Rate Risk (Total of Rows: 4.0, 5.0,+ 6.0)",null,null,"S21B.DP0014"]
[8,"INTEREST RATE RISK EQUIVALENT ASSETS (Total capital required x Reciprocal CAR)",null,null,"S21B.DP0015"]
[]
[null,"  Notes:    Row 1:  Include Government Paper/securities  issued by national governments and other governments as approved by the Central Bank of Trinidad & Tobago"]
[null,"                Row 2:  Include securities issued by multi-lateral development banks approved by the Central Bank of Trinidad & Tobago"]
[]
[]
[]
[]
[]
[]
[]
[]
[]
[null,null,null," "]

{"sheet":"21C Market Risk - IRR Gen.","index":28,"n_rows":193,"n_cols":18,"rows_kept":193,"cut":false,"hidden":false,"merged":[[164,0,164,4],[166,2,166,5],[166,6,166,8],[166,9,166,16],[100,0,100,4],[102,2,102,5],[102,6,102,8],[102,9,102,16],[132,0,132,4],[134,2,134,5],[134,6,134,8],[134,9,134,16],[1,1,1,3],[70,2,70,5],[70,6,70,8],[70,9,70,16],[6,2,6,5],[6,6,6,8],[6,9,6,16],[36,0,36,4],[38,2,38,5],[38,6,38,8],[38,9,38,16],[68,0,68,4],[4,0,4,13]]}
["Schedule 21C - Minimum Capital Required for Market Risk"]
[42,"Return to Schedule Listing"]
["(TT$ 000)"]
[]
["A. Interest Rate Risk - General Risk (TT$ 000) - Applied to all marked to market debt or interest rate related securities in the trading and AFS books"]
[]
[null,"Time Band:","ZONE 1",null,null,null,"ZONE 2",null,null,"ZONE 3"]
[null,null,"0 - 1 mth","> 1 - 3 mths","> 3 - 6 mths","> 6 - 12 mths","> 1 - 1.9 yrs","> 1.9 - 2.8 yr","> 2.8 - 3.6 yr","> 3.6 - 4.3 yr","> 4.3 - 5.7 yr","> 5.7 - 7.3 yr","> 7.3 - 9.3 yr","> 9.3 - 10.6 y","> 10.6-12 yrs","> 12-20 yrs","> 20 yrs","Capital "]
[null,"Positions:"]
[1.1000000000000001,"Market Value of Long * Mduration","S21C.DP0001","S21C.DP0010","S21C.DP0019","S21C.DP0026","S21C.DP0036","S21C.DP0044","S21C.DP0051","S21C.DP0064","S21C.DP0071","S21C.DP0078","S21C.DP0085","S21C.DP0092","S21C.DP0099","S21C.DP0106","S21C.DP0113"]
[1.2,"Market Value of Short * Mduration","S21C.DP0002","S21C.DP0011","S21C.DP0020","S21C.DP0027","S21C.DP0037","S21C.DP0045","S21C.DP0052","S21C.DP0065","S21C.DP0072","S21C.DP0079","S21C.DP0086","S21C.DP0093","S21C.DP0100","S21C.DP0107","S21C.DP0114"]
["1A","Assumed change in yield",0.01,0.01,0.01,0.01,8.9999999999999993E-3,8.0000000000000002E-3,7.4999999999999997E-3,7.4999999999999997E-3,7.0000000000000001E-3,6.4999999999999997E-3,6.0000000000000001E-3,6.0000000000000001E-3,6.0000000000000001E-3,6.0000000000000001E-3,6.0000000000000001E-3]
[1.3,"Weighted Long Sensitivity(1.1*1A)","S21C.DP0003","S21C.DP0012","S21C.DP0021","S21C.DP0028","S21C.DP0038","S21C.DP0046","S21C.DP0053","S21C.DP0066","S21C.DP0073","S21C.DP0080","S21C.DP0087","S21C.DP0094","S21C.DP0101","S21C.DP0108","S21C.DP0115"]
[1.4,"Weighted Short Sensitivity(1.1 *1A)","S21C.DP0004","S21C.DP0013","S21C.DP0022","S21C.DP0029","S21C.DP0039","S21C.DP0047","S21C.DP0054","S21C.DP0067","S21C.DP0074","S21C.DP0081","S21C.DP0088","S21C.DP0095","S21C.DP0102","S21C.DP0109","S21C.DP0116"]
[1.5,"Matched","S21C.DP0005","S21C.DP0014","S21C.DP0023","S21C.DP0030","S21C.DP0040","S21C.DP0048","S21C.DP0055","S21C.DP0068","S21C.DP0075","S21C.DP0082","S21C.DP0089","S21C.DP0096","S21C.DP0103","S21C.DP0110","S21C.DP0117"]
[1.6,"Unmatched","S21C.DP0006","S21C.DP0015","S21C.DP0024","S21C.DP0031","S21C.DP0041","S21C.DP0049","S21C.DP0056","S21C.DP0069","S21C.DP0076","S21C.DP0083","S21C.DP0090","S21C.DP0097","S21C.DP0104","S21C.DP0111","S21C.DP0118"]
["1C","Capital Required",0.05,0.05,0.05,0.05,0.05,0.05,0.05,0.05,0.05,0.05,0.05,0.05,0.05,0.05,0.05]
[1.7,"Capital Charge 1","S21C.DP0007","S21C.DP0016","S21C.DP0025","S21C.DP0032","S21C.DP0042","S21C.DP0050","S21C.DP0057","S21C.DP0070","S21C.DP0077","S21C.DP0084","S21C.DP0091","S21C.DP0098","S21C.DP0105","S21C.DP0112","S21C.DP0119","S21C.DP0129"]
[2.1,"Resid. Matched",null,null,null,"S21C.DP0033",null,null,"S21C.DP0058",null,null,null,null,null,null,null,"S21C.DP0120"]
[2.2000000000000002,"Resid. Unmatched",null,null,null,"S21C.DP0034",null,null,"S21C.DP0059",null,null,null,null,null,null,null,"S21C.DP0121"]
["2C","Capital Required",null,null,null,0.4,null,null,0.3,null,null,null,null,null,null,null,0.3]
[2.2999999999999998,"Capital Charge 2",null,null,null,"S21C.DP0035",null,null,"S21C.DP0060",null,null,null,null,null,null,null,"S21C.DP0122","S21C.DP0130"]
[3.1,"Resid. Matched",null,null,null,null,null,null,"S21C.DP0061",null,null,null,null,null,null,null,"S21C.DP0123"]
[3.2,"Resid Unmatched",null,null,null,null,null,null,"S21C.DP0062",null,null,null,null,null,null,null,"S21C.DP0124"]
["3C","Capital Required",null,null,null,null,null,null,0.4,null,null,null,null,null,null,null,0.4]
[3.3,"Capital Charge 3",null,null,null,null,null,null,"S21C.DP0063",null,null,null,null,null,null,null,"S21C.DP0125","S21C.DP0131"]
[4.0999999999999996,"Resid. Matched",null,null,null,null,null,null,null,null,null,null,null,null,null,null,"S21C.DP0126"]
[4.2,"Resid. Unmatched",null,null,null,null,null,null,null,null,null,null,null,null,null,null,"S21C.DP0127"]
["4C","Capital Required",null,null,null,null,null,null,null,null,null,null,null,null,null,null,1]
[4.3,"Capital Charge 4",null,null,null,null,null,null,null,null,null,null,null,null,null,null,"S21C.DP0128","S21C.DP0132"]
[5.0999999999999996,"Capital Charge 5 ","S21C.DP0008","S21C.DP0017",null,null,null,null,null,null,null,null,null,null,null,null,null,"S21C.DP0133"]
[6,"Total Capital Charge","S21C.DP0009","S21C.DP0018",null,null,null,null,null,null,null,null,null,null,null,null,null,"S21C.DP0134"]
[7,"Interest Rate - General Risk Equivalent Assets (Total Capital Charge x Reciprocal CAR)  =",null,null,null,null,"S21C.DP0043",null,null,null,null,null,null,null,null,null,null,"S21C.DP0135"]
["Notes: Separate worksheets to be done for each currency in which there are significant interest rate risk exposures"]
[null,"1. For each source of Interest Rate Risk exposure, you are only required to fill in the long or short position in the appropriate Time Band according to duration."]
[]
["B. Interest Rate Risk - General Risk (US)"]
[]
[null,"Time Band:","ZONE 1",null,null,null,"ZONE 2",null,null,"ZONE 3"]
[null,null,"0 - 1 mth","> 1 - 3 mths","> 3 - 6 mths","> 6 - 12 mths","> 1 - 1.9 yrs","> 1.9 - 2.8 yr","> 2.8 - 3.6 yr","> 3.6 - 4.3 yr","> 4.3 - 5.7 yr","> 5.7 - 7.3 yr","> 7.3 - 9.3 yr","> 9.3 - 10.6 y","> 10.6-12 yrs","> 12-20 yrs","> 20 yrs","Capital "]
[null,"Positions:"]
[1.1000000000000001,"Market Value of Long * Mduration","S21C.DP0136","S21C.DP0145","S21C.DP0154","S21C.DP0161","S21C.DP0171","S21C.DP0179","S21C.DP0186","S21C.DP0199","S21C.DP0206","S21C.DP0213","S21C.DP0220","S21C.DP0227","S21C.DP0234","S21C.DP0241","S21C.DP0248"]
[1.2,"Market Value of Short * Mduration","S21C.DP0137","S21C.DP0146","S21C.DP0155","S21C.DP0162","S21C.DP0172","S21C.DP0180","S21C.DP0187","S21C.DP0200","S21C.DP0207","S21C.DP0214","S21C.DP0221","S21C.DP0228","S21C.DP0235","S21C.DP0242","S21C.DP0249"]
["1A","Assumed change in yield",0.01,0.01,0.01,0.01,8.9999999999999993E-3,8.0000000000000002E-3,7.4999999999999997E-3,7.4999999999999997E-3,7.0000000000000001E-3,6.4999999999999997E-3,6.0000000000000001E-3,6.0000000000000001E-3,6.0000000000000001E-3,6.0000000000000001E-3,6.0000000000000001E-3]
[1.3,"Weighted Long Sensitivity(1.1*1A)","S21C.DP0138","S21C.DP0147","S21C.DP0156","S21C.DP0163","S21C.DP0173","S21C.DP0181","S21C.DP0188","S21C.DP0201","S21C.DP0208","S21C.DP0215","S21C.DP0222","S21C.DP0229","S21C.DP0236","S21C.DP0243","S21C.DP0250"]
[1.4,"Weighted Short Sensitivity(1.1 *1A)","S21C.DP0139","S21C.DP0148","S21C.DP0157","S21C.DP0164","S21C.DP0174","S21C.DP0182","S21C.DP0189","S21C.DP0202","S21C.DP0209","S21C.DP0216","S21C.DP0223","S21C.DP0230","S21C.DP0237","S21C.DP0244","S21C.DP0251"]
[1.5,"Matched","S21C.DP0140","S21C.DP0149","S21C.DP0158","S21C.DP0165","S21C.DP0175","S21C.DP0183","S21C.DP0190","S21C.DP0203","S21C.DP0210","S21C.DP0217","S21C.DP0224","S21C.DP0231","S21C.DP0238","S21C.DP0245","S21C.DP0252"]
[1.6,"Unmatched","S21C.DP0141","S21C.DP0150","S21C.DP0159","S21C.DP0166","S21C.DP0176","S21C.DP0184","S21C.DP0191","S21C.DP0204","S21C.DP0211","S21C.DP0218","S21C.DP0225","S21C.DP0232","S21C.DP0239","S21C.DP0246","S21C.DP0253"]
["1C","Capital Required",0.05,0.05,0.05,0.05,0.05,0.05,0.05,0.05,0.05,0.05,0.05,0.05,0.05,0.05,0.05]
[1.7,"Capital Charge 1","S21C.DP0142","S21C.DP0151","S21C.DP0160","S21C.DP0167","S21C.DP0177","S21C.DP0185","S21C.DP0192","S21C.DP0205","S21C.DP0212","S21C.DP0219","S21C.DP0226","S21C.DP0233","S21C.DP0240","S21C.DP0247","S21C.DP0254","S21C.DP0264"]
[2.1,"Resid. Matched",null,null,null,"S21C.DP0168",null,null,"S21C.DP0193",null,null,null,null,null,null,null,"S21C.DP0255"]
[2.2000000000000002,"Resid. Unmatched",null,null,null,"S21C.DP0169",null,null,"S21C.DP0194",null,null,null,null,null,null,null,"S21C.DP0256"]
["2C","Capital Required",null,null,null,0.4,null,null,0.3,null,null,null,null,null,null,null,0.3]
[2.2999999999999998,"Capital Charge 2",null,null,null,"S21C.DP0170",null,null,"S21C.DP0195",null,null,null,null,null,null,null,"S21C.DP0257","S21C.DP0265"]
[3.1,"Resid. Matched",null,null,null,null,null,null,"S21C.DP0196",null,null,null,null,null,null,null,"S21C.DP0258"]
[3.2,"Resid Unmatched",null,null,null,null,null,null,"S21C.DP0197",null,null,null,null,null,null,null,"S21C.DP0259"]
["3C","Capital Required",null,null,null,null,null,null,0.4,null,null,null,null,null,null,null,0.4]
[3.3,"Capital Charge 3",null,null,null,null,null,null,"S21C.DP0198",null,null,null,null,null,null,null,"S21C.DP0260","S21C.DP0266"]
[4.0999999999999996,"Resid. Matched",null,null,null,null,null,null,null,null,null,null,null,null,null,null,"S21C.DP0261"]
[4.2,"Resid. Unmatched",null,null,null,null,null,null,null,null,null,null,null,null,null,null,"S21C.DP0262"]
["4C","Capital Required",null,null,null,null,null,null,null,null,null,null,null,null,null,null,1]
[4.3,"Capital Charge 4",null,null,null,null,null,null,null,null,null,null,null,null,null,null,"S21C.DP0263","S21C.DP0267"]
[5.0999999999999996,"Capital Charge 5 ","S21C.DP0143","S21C.DP0152",null,null,null,null,null,null,null,null,null,null,null,null,null,"S21C.DP0268"]
[6,"Total Capital Charge","S21C.DP0144","S21C.DP0153",null,null,null,null,null,null,null,null,null,null,null,null,null,"S21C.DP0269"]
[7,"Interest Rate - General Risk Equivalent Assets (Total Capital Charge x Reciprocal CAR)  =",null,null,null,null,"S21C.DP0178",null,null,null,null,null,null,null,null,null,null,"S21C.DP0270"]
["Notes: Separate worksheets to be done for each currency in which there are significant interest rate risk exposures"]
[null,"1. For each source of Interest Rate Risk exposure, you are only required to fill in the long or short position in the appropriate Time Band according to duration."]
[]
["C. Interest Rate Risk - General Risk (Yen)"]
[]
[null,"Time Band:","ZONE 1",null,null,null,"ZONE 2",null,null,"ZONE 3"]
[null,null,"0 - 1 mth","> 1 - 3 mths","> 3 - 6 mths","> 6 - 12 mths","> 1 - 1.9 yrs","> 1.9 - 2.8 yr","> 2.8 - 3.6 yr","> 3.6 - 4.3 yr","> 4.3 - 5.7 yr","> 5.7 - 7.3 yr","> 7.3 - 9.3 yr","> 9.3 - 10.6 y","> 10.6-12 yrs","> 12-20 yrs","> 20 yrs","Capital "]
[null,"Positions:"]
[1.1000000000000001,"Market Value of Long * Mduration","S21C.DP0271","S21C.DP0280","S21C.DP0289","S21C.DP0296","S21C.DP0306","S21C.DP0314","S21C.DP0321","S21C.DP0334","S21C.DP0341","S21C.DP0348","S21C.DP0355","S21C.DP0362","S21C.DP0369","S21C.DP0376","S21C.DP0383"]
[1.2,"Market Value of Short * Mduration","S21C.DP0272","S21C.DP0281","S21C.DP0290","S21C.DP0297","S21C.DP0307","S21C.DP0315","S21C.DP0322","S21C.DP0335","S21C.DP0342","S21C.DP0349","S21C.DP0356","S21C.DP0363","S21C.DP0370","S21C.DP0377","S21C.DP0384"]
["1A","Assumed change in yield",0.01,0.01,0.01,0.01,8.9999999999999993E-3,8.0000000000000002E-3,7.4999999999999997E-3,7.4999999999999997E-3,7.0000000000000001E-3,6.4999999999999997E-3,6.0000000000000001E-3,6.0000000000000001E-3,6.0000000000000001E-3,6.0000000000000001E-3,6.0000000000000001E-3]
[1.3,"Weighted Long Sensitivity(1.1*1A)","S21C.DP0273","S21C.DP0282","S21C.DP0291","S21C.DP0298","S21C.DP0308","S21C.DP0316","S21C.DP0323","S21C.DP0336","S21C.DP0343","S21C.DP0350","S21C.DP0357","S21C.DP0364","S21C.DP0371","S21C.DP0378","S21C.DP0385"]
[1.4,"Weighted Short Sensitivity(1.1 *1A)","S21C.DP0274","S21C.DP0283","S21C.DP0292","S21C.DP0299","S21C.DP0309","S21C.DP0317","S21C.DP0324","S21C.DP0337","S21C.DP0344","S21C.DP0351","S21C.DP0358","S21C.DP0365","S21C.DP0372","S21C.DP0379","S21C.DP0386"]
[1.5,"Matched","S21C.DP0275","S21C.DP0284","S21C.DP0293","S21C.DP0300","S21C.DP0310","S21C.DP0318","S21C.DP0325","S21C.DP0338","S21C.DP0345","S21C.DP0352","S21C.DP0359","S21C.DP0366","S21C.DP0373","S21C.DP0380","S21C.DP0387"]
[1.6,"Unmatched","S21C.DP0276","S21C.DP0285","S21C.DP0294","S21C.DP0301","S21C.DP0311","S21C.DP0319","S21C.DP0326","S21C.DP0339","S21C.DP0346","S21C.DP0353","S21C.DP0360","S21C.DP0367","S21C.DP0374","S21C.DP0381","S21C.DP0388"]
["1C","Capital Required",0.05,0.05,0.05,0.05,0.05,0.05,0.05,0.05,0.05,0.05,0.05,0.05,0.05,0.05,0.05]
[1.7,"Capital Charge 1","S21C.DP0277","S21C.DP0286","S21C.DP0295","S21C.DP0302","S21C.DP0312","S21C.DP0320","S21C.DP0327","S21C.DP0340","S21C.DP0347","S21C.DP0354","S21C.DP0361","S21C.DP0368","S21C.DP0375","S21C.DP0382","S21C.DP0389","S21C.DP0399"]
[2.1,"Resid. Matched",null,null,null,"S21C.DP0303",null,null,"S21C.DP0328",null,null,null,null,null,null,null,"S21C.DP0390"]
[2.2000000000000002,"Resid. Unmatched",null,null,null,"S21C.DP0304",null,null,"S21C.DP0329",null,null,null,null,null,null,null,"S21C.DP0391"]
["2C","Capital Required",null,null,null,0.4,null,null,0.3,null,null,null,null,null,null,null,0.3]
[2.2999999999999998,"Capital Charge 2",null,null,null,"S21C.DP0305",null,null,"S21C.DP0330",null,null,null,null,null,null,null,"S21C.DP0392","S21C.DP0400"]
[3.1,"Resid. Matched",null,null,null,null,null,null,"S21C.DP0331",null,null,null,null,null,null,null,"S21C.DP0393"]
[3.2,"Resid Unmatched",null,null,null,null,null,null,"S21C.DP0332",null,null,null,null,null,null,null,"S21C.DP0394"]
["3C","Capital Required",null,null,null,null,null,null,0.4,null,null,null,null,null,null,null,0.4]
[3.3,"Capital Charge 3",null,null,null,null,null,null,"S21C.DP0333",null,null,null,null,null,null,null,"S21C.DP0395","S21C.DP0401"]
[4.0999999999999996,"Resid. Matched",null,null,null,null,null,null,null,null,null,null,null,null,null,null,"S21C.DP0396"]
[4.2,"Resid. Unmatched",null,null,null,null,null,null,null,null,null,null,null,null,null,null,"S21C.DP0397"]
["4C","Capital Required",null,null,null,null,null,null,null,null,null,null,null,null,null,null,1]
[4.3,"Capital Charge 4",null,null,null,null,null,null,null,null,null,null,null,null,null,null,"S21C.DP0398","S21C.DP0402"]
[5.0999999999999996,"Capital Charge 5 ","S21C.DP0278","S21C.DP0287",null,null,null,null,null,null,null,null,null,null,null,null,null,"S21C.DP0403"]
[6,"Total Capital Charge","S21C.DP0279","S21C.DP0288",null,null,null,null,null,null,null,null,null,null,null,null,null,"S21C.DP0404"]
[7,"Interest Rate - General Risk Equivalent Assets (Total Capital Charge x Reciprocal CAR)  =",null,null,null,null,"S21C.DP0313",null,null,null,null,null,null,null,null,null,null,"S21C.DP0405"]
["Notes: Separate worksheets to be done for each currency in which there are significant interest rate risk exposures"]
[null,"1. For each source of Interest Rate Risk exposure, you are only required to fill in the long or short position in the appropriate Time Band according to duration."]
[]
["D. Interest Rate Risk - General Risk (Euro)"]
[]
[null,"Time Band:","ZONE 1",null,null,null,"ZONE 2",null,null,"ZONE 3"]
[null,null,"0 - 1 mth","> 1 - 3 mths","> 3 - 6 mths","> 6 - 12 mths","> 1 - 1.9 yrs","> 1.9 - 2.8 yr","> 2.8 - 3.6 yr","> 3.6 - 4.3 yr","> 4.3 - 5.7 yr","> 5.7 - 7.3 yr","> 7.3 - 9.3 yr","> 9.3 - 10.6 y","> 10.6-12 yrs","> 12-20 yrs","> 20 yrs","Capital "]
[null,"Positions:"]
[1.1000000000000001,"Market Value of Long * Mduration","S21C.DP0406","S21C.DP0415","S21C.DP0424","S21C.DP0431","S21C.DP0441","S21C.DP0449","S21C.DP0456","S21C.DP0469","S21C.DP0476","S21C.DP0483","S21C.DP0490","S21C.DP0497","S21C.DP0504","S21C.DP0511","S21C.DP0518"]
[1.2,"Market Value of Short * Mduration","S21C.DP0407","S21C.DP0416","S21C.DP0425","S21C.DP0432","S21C.DP0442","S21C.DP0450","S21C.DP0457","S21C.DP0470","S21C.DP0477","S21C.DP0484","S21C.DP0491","S21C.DP0498","S21C.DP0505","S21C.DP0512","S21C.DP0519"]
["1A","Assumed change in yield",0.01,0.01,0.01,0.01,8.9999999999999993E-3,8.0000000000000002E-3,7.4999999999999997E-3,7.4999999999999997E-3,7.0000000000000001E-3,6.4999999999999997E-3,6.0000000000000001E-3,6.0000000000000001E-3,6.0000000000000001E-3,6.0000000000000001E-3,6.0000000000000001E-3]
[1.3,"Weighted Long Sensitivity(1.1*1A)","S21C.DP0408","S21C.DP0417","S21C.DP0426","S21C.DP0433","S21C.DP0443","S21C.DP0451","S21C.DP0458","S21C.DP0471","S21C.DP0478","S21C.DP0485","S21C.DP0492","S21C.DP0499","S21C.DP0506","S21C.DP0513","S21C.DP0520"]
[1.4,"Weighted Short Sensitivity(1.1 *1A)","S21C.DP0409","S21C.DP0418","S21C.DP0427","S21C.DP0434","S21C.DP0444","S21C.DP0452","S21C.DP0459","S21C.DP0472","S21C.DP0479","S21C.DP0486","S21C.DP0493","S21C.DP0500","S21C.DP0507","S21C.DP0514","S21C.DP0521"]
[1.5,"Matched","S21C.DP0410","S21C.DP0419","S21C.DP0428","S21C.DP0435","S21C.DP0445","S21C.DP0453","S21C.DP0460","S21C.DP0473","S21C.DP0480","S21C.DP0487","S21C.DP0494","S21C.DP0501","S21C.DP0508","S21C.DP0515","S21C.DP0522"]
[1.6,"Unmatched","S21C.DP0411","S21C.DP0420","S21C.DP0429","S21C.DP0436","S21C.DP0446","S21C.DP0454","S21C.DP0461","S21C.DP0474","S21C.DP0481","S21C.DP0488","S21C.DP0495","S21C.DP0502","S21C.DP0509","S21C.DP0516","S21C.DP0523"]
["1C","Capital Required",0.05,0.05,0.05,0.05,0.05,0.05,0.05,0.05,0.05,0.05,0.05,0.05,0.05,0.05,0.05]
[1.7,"Capital Charge 1","S21C.DP0412","S21C.DP0421","S21C.DP0430","S21C.DP0437","S21C.DP0447","S21C.DP0455","S21C.DP0462","S21C.DP0475","S21C.DP0482","S21C.DP0489","S21C.DP0496","S21C.DP0503","S21C.DP0510","S21C.DP0517","S21C.DP0524","S21C.DP0534"]
[2.1,"Resid. Matched",null,null,null,"S21C.DP0438",null,null,"S21C.DP0463",null,null,null,null,null,null,null,"S21C.DP0525"]
[2.2000000000000002,"Resid. Unmatched",null,null,null,"S21C.DP0439",null,null,"S21C.DP0464",null,null,null,null,null,null,null,"S21C.DP0526"]
["2C","Capital Required",null,null,null,0.4,null,null,0.3,null,null,null,null,null,null,null,0.3]
[2.2999999999999998,"Capital Charge 2",null,null,null,"S21C.DP0440",null,null,"S21C.DP0465",null,null,null,null,null,null,null,"S21C.DP0527","S21C.DP0535"]
[3.1,"Resid. Matched",null,null,null,null,null,null,"S21C.DP0466",null,null,null,null,null,null,null,"S21C.DP0528"]
[3.2,"Resid Unmatched",null,null,null,null,null,null,"S21C.DP0467",null,null,null,null,null,null,null,"S21C.DP0529"]
["3C","Capital Required",null,null,null,null,null,null,0.4,null,null,null,null,null,null,null,0.4]
[3.3,"Capital Charge 3",null,null,null,null,null,null,"S21C.DP0468",null,null,null,null,null,null,null,"S21C.DP0530","S21C.DP0536"]
[4.0999999999999996,"Resid. Matched",null,null,null,null,null,null,null,null,null,null,null,null,null,null,"S21C.DP0531"]
[4.2,"Resid. Unmatched",null,null,null,null,null,null,null,null,null,null,null,null,null,null,"S21C.DP0532"]
["4C","Capital Required",null,null,null,null,null,null,null,null,null,null,null,null,null,null,1]
[4.3,"Capital Charge 4",null,null,null,null,null,null,null,null,null,null,null,null,null,null,"S21C.DP0533","S21C.DP0537"]
[5.0999999999999996,"Capital Charge 5 ","S21C.DP0413","S21C.DP0422",null,null,null,null,null,null,null,null,null,null,null,null,null,"S21C.DP0538"]
[6,"Total Capital Charge","S21C.DP0414","S21C.DP0423",null,null,null,null,null,null,null,null,null,null,null,null,null,"S21C.DP0539"]
[7,"Interest Rate - General Risk Equivalent Assets (Total Capital Charge x Reciprocal CAR)  =",null,null,null,null,"S21C.DP0448",null,null,null,null,null,null,null,null,null,null,"S21C.DP0540"]
["Notes: Separate worksheets to be done for each currency in which there are significant interest rate risk exposures"]
[null,"1. For each source of Interest Rate Risk exposure, you are only required to fill in the long or short position in the appropriate Time Band according to duration."]
[]
["E. Interest Rate Risk - General Risk (Sterling)"]
[]
[null,"Time Band:","ZONE 1",null,null,null,"ZONE 2",null,null,"ZONE 3"]
[null,null,"0 - 1 mth","> 1 - 3 mths","> 3 - 6 mths","> 6 - 12 mths","> 1 - 1.9 yrs","> 1.9 - 2.8 yr","> 2.8 - 3.6 yr","> 3.6 - 4.3 yr","> 4.3 - 5.7 yr","> 5.7 - 7.3 yr","> 7.3 - 9.3 yr","> 9.3 - 10.6 y","> 10.6-12 yrs","> 12-20 yrs","> 20 yrs","Capital "]
[null,"Positions:"]
[1.1000000000000001,"Market Value of Long * Mduration","S21C.DP0541","S21C.DP0550","S21C.DP0559","S21C.DP0566","S21C.DP0576","S21C.DP0584","S21C.DP0591","S21C.DP0604","S21C.DP0611","S21C.DP0618","S21C.DP0625","S21C.DP0632","S21C.DP0639","S21C.DP0646","S21C.DP0653"]
[1.2,"Market Value of Short * Mduration","S21C.DP0542","S21C.DP0551","S21C.DP0560","S21C.DP0567","S21C.DP0577","S21C.DP0585","S21C.DP0592","S21C.DP0605","S21C.DP0612","S21C.DP0619","S21C.DP0626","S21C.DP0633","S21C.DP0640","S21C.DP0647","S21C.DP0654"]
["1A","Assumed change in yield",0.01,0.01,0.01,0.01,8.9999999999999993E-3,8.0000000000000002E-3,7.4999999999999997E-3,7.4999999999999997E-3,7.0000000000000001E-3,6.4999999999999997E-3,6.0000000000000001E-3,6.0000000000000001E-3,6.0000000000000001E-3,6.0000000000000001E-3,6.0000000000000001E-3]
[1.3,"Weighted Long Sensitivity(1.1*1A)","S21C.DP0543","S21C.DP0552","S21C.DP0561","S21C.DP0568","S21C.DP0578","S21C.DP0586","S21C.DP0593","S21C.DP0606","S21C.DP0613","S21C.DP0620","S21C.DP0627","S21C.DP0634","S21C.DP0641","S21C.DP0648","S21C.DP0655"]
[1.4,"Weighted Short Sensitivity(1.1 *1A)","S21C.DP0544","S21C.DP0553","S21C.DP0562","S21C.DP0569","S21C.DP0579","S21C.DP0587","S21C.DP0594","S21C.DP0607","S21C.DP0614","S21C.DP0621","S21C.DP0628","S21C.DP0635","S21C.DP0642","S21C.DP0649","S21C.DP0656"]
[1.5,"Matched","S21C.DP0545","S21C.DP0554","S21C.DP0563","S21C.DP0570","S21C.DP0580","S21C.DP0588","S21C.DP0595","S21C.DP0608","S21C.DP0615","S21C.DP0622","S21C.DP0629","S21C.DP0636","S21C.DP0643","S21C.DP0650","S21C.DP0657"]
[1.6,"Unmatched","S21C.DP0546","S21C.DP0555","S21C.DP0564","S21C.DP0571","S21C.DP0581","S21C.DP0589","S21C.DP0596","S21C.DP0609","S21C.DP0616","S21C.DP0623","S21C.DP0630","S21C.DP0637","S21C.DP0644","S21C.DP0651","S21C.DP0658"]
["1C","Capital Required",0.05,0.05,0.05,0.05,0.05,0.05,0.05,0.05,0.05,0.05,0.05,0.05,0.05,0.05,0.05]
[1.7,"Capital Charge 1","S21C.DP0547","S21C.DP0556","S21C.DP0565","S21C.DP0572","S21C.DP0582","S21C.DP0590","S21C.DP0597","S21C.DP0610","S21C.DP0617","S21C.DP0624","S21C.DP0631","S21C.DP0638","S21C.DP0645","S21C.DP0652","S21C.DP0659","S21C.DP0669"]
[2.1,"Resid. Matched",null,null,null,"S21C.DP0573",null,null,"S21C.DP0598",null,null,null,null,null,null,null,"S21C.DP0660"]
[2.2000000000000002,"Resid. Unmatched",null,null,null,"S21C.DP0574",null,null,"S21C.DP0599",null,null,null,null,null,null,null,"S21C.DP0661"]
["2C","Capital Required",null,null,null,0.4,null,null,0.3,null,null,null,null,null,null,null,0.3]
[2.2999999999999998,"Capital Charge 2",null,null,null,"S21C.DP0575",null,null,"S21C.DP0600",null,null,null,null,null,null,null,"S21C.DP0662","S21C.DP0670"]
[3.1,"Resid. Matched",null,null,null,null,null,null,"S21C.DP0601",null,null,null,null,null,null,null,"S21C.DP0663"]
[3.2,"Resid Unmatched",null,null,null,null,null,null,"S21C.DP0602",null,null,null,null,null,null,null,"S21C.DP0664"]
["3C","Capital Required",null,null,null,null,null,null,0.4,null,null,null,null,null,null,null,0.4]
[3.3,"Capital Charge 3",null,null,null,null,null,null,"S21C.DP0603",null,null,null,null,null,null,null,"S21C.DP0665","S21C.DP0671"]
[4.0999999999999996,"Resid. Matched",null,null,null,null,null,null,null,null,null,null,null,null,null,null,"S21C.DP0666"]
[4.2,"Resid. Unmatched",null,null,null,null,null,null,null,null,null,null,null,null,null,null,"S21C.DP0667"]
["4C","Capital Required",null,null,null,null,null,null,null,null,null,null,null,null,null,null,1]
[4.3,"Capital Charge 4",null,null,null,null,null,null,null,null,null,null,null,null,null,null,"S21C.DP0668","S21C.DP0672"]
[5.0999999999999996,"Capital Charge 5 ","S21C.DP0548","S21C.DP0557",null,null,null,null,null,null,null,null,null,null,null,null,null,"S21C.DP0673"]
[6,"Total Capital Charge","S21C.DP0549","S21C.DP0558",null,null,null,null,null,null,null,null,null,null,null,null,null,"S21C.DP0674"]
[7,"Interest Rate - General Risk Equivalent Assets (Total Capital Charge x Reciprocal CAR)  =",null,null,null,null,"S21C.DP0583",null,null,null,null,null,null,null,null,null,null,"S21C.DP0675"]
["Notes: Separate worksheets to be done for each currency in which there are significant interest rate risk exposures"]
[null,"1. For each source of Interest Rate Risk exposure, you are only required to fill in the long or short position in the appropriate Time Band according to duration."]
[]
["F. Interest Rate Risk - General Risk (CAD)"]
[]
[null,"Time Band:","ZONE 1",null,null,null,"ZONE 2",null,null,"ZONE 3"]
[null,null,"0 - 1 mth","> 1 - 3 mths","> 3 - 6 mths","> 6 - 12 mths","> 1 - 1.9 yrs","> 1.9 - 2.8 yr","> 2.8 - 3.6 yr","> 3.6 - 4.3 yr","> 4.3 - 5.7 yr","> 5.7 - 7.3 yr","> 7.3 - 9.3 yr","> 9.3 - 10.6 y","> 10.6-12 yrs","> 12-20 yrs","> 20 yrs","Capital "]
[null,"Positions:"]
[1.1000000000000001,"Market Value of Long * Mduration","S21C.DP0676","S21C.DP0685","S21C.DP0694","S21C.DP0701","S21C.DP0711","S21C.DP0719","S21C.DP0726","S21C.DP0739","S21C.DP0746","S21C.DP0753","S21C.DP0760","S21C.DP0767","S21C.DP0774","S21C.DP0781","S21C.DP0788"]
[1.2,"Market Value of Short * Mduration","S21C.DP0677","S21C.DP0686","S21C.DP0695","S21C.DP0702","S21C.DP0712","S21C.DP0720","S21C.DP0727","S21C.DP0740","S21C.DP0747","S21C.DP0754","S21C.DP0761","S21C.DP0768","S21C.DP0775","S21C.DP0782","S21C.DP0789"]
["1A","Assumed change in yield",0.01,0.01,0.01,0.01,8.9999999999999993E-3,8.0000000000000002E-3,7.4999999999999997E-3,7.4999999999999997E-3,7.0000000000000001E-3,6.4999999999999997E-3,6.0000000000000001E-3,6.0000000000000001E-3,6.0000000000000001E-3,6.0000000000000001E-3,6.0000000000000001E-3]
[1.3,"Weighted Long Sensitivity(1.1*1A)","S21C.DP0678","S21C.DP0687","S21C.DP0696","S21C.DP0703","S21C.DP0713","S21C.DP0721","S21C.DP0728","S21C.DP0741","S21C.DP0748","S21C.DP0755","S21C.DP0762","S21C.DP0769","S21C.DP0776","S21C.DP0783","S21C.DP0790"]
[1.4,"Weighted Short Sensitivity(1.1 *1A)","S21C.DP0679","S21C.DP0688","S21C.DP0697","S21C.DP0704","S21C.DP0714","S21C.DP0722","S21C.DP0729","S21C.DP0742","S21C.DP0749","S21C.DP0756","S21C.DP0763","S21C.DP0770","S21C.DP0777","S21C.DP0784","S21C.DP0791"]
[1.5,"Matched","S21C.DP0680","S21C.DP0689","S21C.DP0698","S21C.DP0705","S21C.DP0715","S21C.DP0723","S21C.DP0730","S21C.DP0743","S21C.DP0750","S21C.DP0757","S21C.DP0764","S21C.DP0771","S21C.DP0778","S21C.DP0785","S21C.DP0792"]
[1.6,"Unmatched","S21C.DP0681","S21C.DP0690","S21C.DP0699","S21C.DP0706","S21C.DP0716","S21C.DP0724","S21C.DP0731","S21C.DP0744","S21C.DP0751","S21C.DP0758","S21C.DP0765","S21C.DP0772","S21C.DP0779","S21C.DP0786","S21C.DP0793"]
["1C","Capital Required",0.05,0.05,0.05,0.05,0.05,0.05,0.05,0.05,0.05,0.05,0.05,0.05,0.05,0.05,0.05]
[1.7,"Capital Charge 1","S21C.DP0682","S21C.DP0691","S21C.DP0700","S21C.DP0707","S21C.DP0717","S21C.DP0725","S21C.DP0732","S21C.DP0745","S21C.DP0752","S21C.DP0759","S21C.DP0766","S21C.DP0773","S21C.DP0780","S21C.DP0787","S21C.DP0794","S21C.DP0804"]
[2.1,"Resid. Matched",null,null,null,"S21C.DP0708",null,null,"S21C.DP0733",null,null,null,null,null,null,null,"S21C.DP0795"]
[2.2000000000000002,"Resid. Unmatched",null,null,null,"S21C.DP0709",null,null,"S21C.DP0734",null,null,null,null,null,null,null,"S21C.DP0796"]
["2C","Capital Required",null,null,null,0.4,null,null,0.3,null,null,null,null,null,null,null,0.3]
[2.2999999999999998,"Capital Charge 2",null,null,null,"S21C.DP0710",null,null,"S21C.DP0735",null,null,null,null,null,null,null,"S21C.DP0797","S21C.DP0805"]
[3.1,"Resid. Matched",null,null,null,null,null,null,"S21C.DP0736",null,null,null,null,null,null,null,"S21C.DP0798"]
[3.2,"Resid Unmatched",null,null,null,null,null,null,"S21C.DP0737",null,null,null,null,null,null,null,"S21C.DP0799"]
["3C","Capital Required",null,null,null,null,null,null,0.4,null,null,null,null,null,null,null,0.4]
[3.3,"Capital Charge 3",null,null,null,null,null,null,"S21C.DP0738",null,null,null,null,null,null,null,"S21C.DP0800","S21C.DP0806"]
[4.0999999999999996,"Resid. Matched",null,null,null,null,null,null,null,null,null,null,null,null,null,null,"S21C.DP0801"]
[4.2,"Resid. Unmatched",null,null,null,null,null,null,null,null,null,null,null,null,null,null,"S21C.DP0802"]
["4C","Capital Required",null,null,null,null,null,null,null,null,null,null,null,null,null,null,1]
[4.3,"Capital Charge 4",null,null,null,null,null,null,null,null,null,null,null,null,null,null,"S21C.DP0803","S21C.DP0807"]
[5.0999999999999996,"Capital Charge 5 ","S21C.DP0683","S21C.DP0692",null,null,null,null,null,null,null,null,null,null,null,null,null,"S21C.DP0808"]
[6,"Total Capital Charge","S21C.DP0684","S21C.DP0693",null,null,null,null,null,null,null,null,null,null,null,null,null,"S21C.DP0809"]
[7,"Interest Rate - General Risk Equivalent Assets (Total Capital Charge x Reciprocal CAR)  =",null,null,null,null,"S21C.DP0718",null,null,null,null,null,null,null,null,null,null,"S21C.DP0810"]

{"sheet":"21D Market Risk - Equity & Com.","index":29,"n_rows":30,"n_cols":8,"rows_kept":30,"cut":false,"hidden":false,"merged":[[12,1,12,6],[13,1,13,6],[14,1,14,6],[7,6,8,6],[4,0,4,5],[7,2,8,2],[7,3,8,3],[7,4,8,4],[7,5,8,5],[7,7,8,7],[10,1,10,6],[11,1,11,6],[1,1,1,3],[28,1,28,6],[21,7,22,7],[24,1,24,6],[25,1,25,6],[26,1,26,6],[27,1,27,6],[21,2,22,2],[21,3,22,3],[21,4,22,4],[21,5,22,5],[21,6,22,6],[18,0,18,4]]}
["Schedule 21D - Minimum Capital Required for Market Risk"]
[42,"Return to Schedule Listing"]
["(TT$ 000)"]
[]
["A. Market Risk - Equity Risk - All market to market equity securities in the trading and AFS books"]
[]
[]
[null,null,"Gross Long\nA","Gross Short\nB","Gross Equity Position\nC (A+B)","Net Open Position\nD (A-B)","Gross Position\nE (8% of C)","Net Open\nF (8% of D)"]
[null,null,null,null,"(Col. A + B)","(Col. A - B)","(8 % of Total C)","(8% of Total D)"]
[null,"Total Equity Instruments ","S21D.DP0001","S21D.DP0002","S21D.DP0003","S21D.DP0004","S21D.DP0005","S21D.DP0006"]
[1,"Capital Required Against Specific Risks (Total E)",null,null,null,null,null,"S21D.DP0007"]
[2,"Capital Required Against General Risks (Total F)",null,null,null,null,null,"S21D.DP0008"]
[3,"Capital Required Against Equity options  ",null,null,null,null,null,"S21D.DP0009"]
[4,"Total Capital Requirement Against Equity Position Risks  (Total of Rows: 1, 2 + 3)",null,null,null,null,null,"S21D.DP0010"]
[5,"EQUITY POSITION RISK EQUIVALENT ASSETS  (Total Capital Requirement x Reciprocal of CAR)",null,null,null,null,null,"S21D.DP0011"]
[]
[]
[]
["B. Market Risk - Commodities Risk - In trading, banking and AFS books"]
[]
[]
[null,null,"Gross Long\nA","Gross Short\nB","Gross Position\nC (A+B)","Net Open Position\nD (A-B)","Net Open\nE (15% of D)","Gross Position\nF (3% of C)"]
[null,null,null,null,"(Col. A + B)","(Col. A - B)","(15 % of Total D)","(3% of Total C)"]
[null,"Total Commodity Instruments","S21D.DP0012","S21D.DP0013","S21D.DP0014","S21D.DP0015","S21D.DP0016","S21D.DP0017"]
[1,"Capital Required Against Directional Risks (Total E)",null,null,null,null,null,"S21D.DP0018"]
[2,"Capital Required Against Basis, Interest Rate & Forward Gap Risks (Total F)",null,null,null,null,null,"S21D.DP0019"]
[3,"Capital Required Against Commodity Options  ",null,null,null,null,null,"S21D.DP0020"]
[4,"Total Capital Required Against Commodity Position Risks (Total Rows: 1, 2 + 3) ",null,null,null,null,null,"S21D.DP0021"]
[5,"COMMODITY  POSITION RISK EQUIVALENT ASSETS  (Total Capital Required x CAR Reciprocal)",null,null,null,null,null,"S21D.DP0022"]
["Note:  Commodity positions should be expressed in terms of a standard unit of measurement (e.g. barrels, kilos etc) and the net position converted at spot rate to domestic currency."]

{"sheet":"21E Market Risk - Options","index":30,"n_rows":234,"n_cols":16,"rows_kept":234,"cut":false,"hidden":false,"merged":[[126,0,126,3],[181,0,181,3],[6,1,6,4],[6,5,6,7],[6,8,6,15],[4,0,4,3],[1,1,1,3],[71,0,71,3]]}
["Schedule 21E - Minimum Capital Required for Market Risk"]
[42,"Return to Schedule Listing"]
["(TT$ 000)"]
[]
["A. Market Risk - Options "]
[]
["For underlying instrument:","ZONE 1",null,null,null,"ZONE 2",null,null,"ZONE 3"]
["Maturity Time Band","0 - 1 mth","> 1 - 3 mths","> 3 - 6 mths","> 6 - 12 mths","> 1 - 1.9 yrs","> 1.9 - 2.8 yr","> 2.8 - 3.6 yr","> 3.6 - 4.3 yr","> 4.3 - 5.7 yr","> 5.7 - 7.3 yr","> 7.3 - 9.3 yr","> 9.3 - 10.6 y","> 10.6-12 yrs","> 12-20 yrs","> 20 yrs"]
["Specific Risk for 'Government' Securities",0,0,0,0,0,0,0,0,0,0,0,0,0,0,0]
["Specific Risk for 'Qualifying' Securities",2.5000000000000001E-3,2.5000000000000001E-3,2.5000000000000001E-3,0.01,0.01,1.6E-2,1.6E-2,1.6E-2,1.6E-2,1.6E-2,1.6E-2,1.6E-2,1.6E-2,1.6E-2,1.6E-2]
["Specific Risk for 'Other' Securities",0.08,0.08,0.08,0.08,0.08,0.08,0.08,0.08,0.08,0.08,0.08,0.08,0.08,0.08,0.08]
[]
["Duration Time Band","0 - 1 mth","> 1 - 3 mths","> 3 - 6 mths","> 6 - 12 mths","> 1 - 1.9 yrs","> 1.9 - 2.8 yr","> 2.8 - 3.6 yr","> 3.6 - 4.3 yr","> 4.3 - 5.7 yr","> 5.7 - 7.3 yr","> 7.3 - 9.3 yr","> 9.3 - 10.6 y","> 10.6-12 yrs","> 12-20 yrs","> 20 yrs"]
["Position","S21E.DP0001","S21E.DP0003","S21E.DP0005","S21E.DP0007","S21E.DP0009","S21E.DP0011","S21E.DP0013","S21E.DP0015","S21E.DP0017","S21E.DP0019","S21E.DP0021","S21E.DP0023","S21E.DP0025","S21E.DP0027","S21E.DP0029"]
["Assumed change in yield",0.01,0.01,0.01,0.01,8.9999999999999993E-3,8.0000000000000002E-3,7.4999999999999997E-3,7.4999999999999997E-3,7.0000000000000001E-3,6.4999999999999997E-3,6.0000000000000001E-3,6.0000000000000001E-3,6.0000000000000001E-3,6.0000000000000001E-3,6.0000000000000001E-3]
["General Market Risk","S21E.DP0002","S21E.DP0004","S21E.DP0006","S21E.DP0008","S21E.DP0010","S21E.DP0012","S21E.DP0014","S21E.DP0016","S21E.DP0018","S21E.DP0020","S21E.DP0022","S21E.DP0024","S21E.DP0026","S21E.DP0028","S21E.DP0030"]
[]
[null,"Market Value of the Underlying Security","Market Value of the Option","Risk Charge (Total Market Risk + Specific Risk)","Amount the Option is IN the money","Capital Charge"]
["Long cash and Long put"]
["S21E.DL0001","S21E.DL0005",null,"S21E.DL0011","S21E.DL0015","S21E.DL0017"]
[null,"S21E.DL00051",null,"S21E.DL00111","S21E.DL00151","S21E.DL00171"]
[null,"S21E.DL00052",null,"S21E.DL00112","S21E.DL00152","S21E.DL00172"]
[null,"S21E.DL00053",null,"S21E.DL00113","S21E.DL00153","S21E.DL00173"]
[null,"S21E.DL00054",null,"S21E.DL00114","S21E.DL00154","S21E.DL00174"]
[null,"S21E.DL00055",null,"S21E.DL00115","S21E.DL00155","S21E.DL00175"]
[null,"S21E.DL00056",null,"S21E.DL00116","S21E.DL00156","S21E.DL00176"]
[null,"S21E.DL00057",null,"S21E.DL00117","S21E.DL00157","S21E.DL00177"]
[null,"S21E.DL00058",null,"S21E.DL00118","S21E.DL00158","S21E.DL00178"]
[null,"S21E.DL00059",null,"S21E.DL00119","S21E.DL00159","S21E.DL00179"]
["Total",null,null,null,null,"S21E.DP0031"]
["Short cash and Long call"]
["S21E.DL0002","S21E.DL0006",null,"S21E.DL0012","S21E.DL0016","S21E.DL0018"]
[null,"S21E.DL00061",null,"S21E.DL00121","S21E.DL00161","S21E.DL00181"]
[null,"S21E.DL00062",null,"S21E.DL00122","S21E.DL00162","S21E.DL00182"]
[null,"S21E.DL00063",null,"S21E.DL00123","S21E.DL00163","S21E.DL00183"]
[null,"S21E.DL00064",null,"S21E.DL00124","S21E.DL00164","S21E.DL00184"]
[null,"S21E.DL00065",null,"S21E.DL00125","S21E.DL00165","S21E.DL00185"]
[null,"S21E.DL00066",null,"S21E.DL00126","S21E.DL00166","S21E.DL00186"]
[null,"S21E.DL00067",null,"S21E.DL00127","S21E.DL00167","S21E.DL00187"]
[null,"S21E.DL00068",null,"S21E.DL00128","S21E.DL00168","S21E.DL00188"]
[null,"S21E.DL00069",null,"S21E.DL00129","S21E.DL00169","S21E.DL00189"]
["Total ",null,null,null,null,"S21E.DP0032"]
["Long call"]
["S21E.DL0003","S21E.DL0007","S21E.DL0009","S21E.DL0013",null,"S21E.DL0019"]
[null,"S21E.DL00071","S21E.DL00091","S21E.DL00131",null,"S21E.DL00191"]
[null,"S21E.DL00072","S21E.DL00092","S21E.DL00132",null,"S21E.DL00192"]
[null,"S21E.DL00073","S21E.DL00093","S21E.DL00133",null,"S21E.DL00193"]
[null,"S21E.DL00074","S21E.DL00094","S21E.DL00134",null,"S21E.DL00194"]
[null,"S21E.DL00075","S21E.DL00095","S21E.DL00135",null,"S21E.DL00195"]
[null,"S21E.DL00076","S21E.DL00096","S21E.DL00136",null,"S21E.DL00196"]
[null,"S21E.DL00077","S21E.DL00097","S21E.DL00137",null,"S21E.DL00197"]
[null,"S21E.DL00078","S21E.DL00098","S21E.DL00138",null,"S21E.DL00198"]
[null,"S21E.DL00079","S21E.DL00099","S21E.DL00139",null,"S21E.DL00199"]
["Total",null,null,null,null,"S21E.DP0033"]
["Long Put"]
["S21E.DL0004","S21E.DL0008","S21E.DL0010","S21E.DL0014",null,"S21E.DL0020"]
[null,"S21E.DL00081","S21E.DL00101","S21E.DL00141",null,"S21E.DL00201"]
[null,"S21E.DL00082","S21E.DL00102","S21E.DL00142",null,"S21E.DL00202"]
[null,"S21E.DL00083","S21E.DL00103","S21E.DL00143",null,"S21E.DL00203"]
[null,"S21E.DL00084","S21E.DL00104","S21E.DL00144",null,"S21E.DL00204"]
[null,"S21E.DL00085","S21E.DL00105","S21E.DL00145",null,"S21E.DL00205"]
[null,"S21E.DL00086","S21E.DL00106","S21E.DL00146",null,"S21E.DL00206"]
[null,"S21E.DL00087","S21E.DL00107","S21E.DL00147",null,"S21E.DL00207"]
[null,"S21E.DL00088","S21E.DL00108","S21E.DL00148",null,"S21E.DL00208"]
[null,"S21E.DL00089","S21E.DL00109","S21E.DL00149",null,"S21E.DL00209"]
["Total ",null,null,null,null,"S21E.DP0034"]
["To obtain the 'Risk Charge': Please insert Duration of underlying security in row 11 and you will obtain the respective 'general market risk' (Row 13). This must be added to the respective value for specific risk of the security."]
[]
["Total Capital Charge for Interest Rate Options:",null,null,null,null,"S21E.DP0035"]
[]
[]
["B. Equity Options "]
[]
[null,"Market Value of the Underlying Security","Market Value of the Option","Risk Charge","Amount the Option is IN the money","Capital Charge"]
["Long cash and Long put"]
["S21E.DL0021","S21E.DL0025",null,{"$f":"0.08+0.08","v":0.16},"S21E.DL0031","S21E.DL0033"]
[null,"S21E.DL00251",null,0.16,"S21E.DL00311","S21E.DL00331"]
[null,"S21E.DL00252",null,0.16,"S21E.DL00312","S21E.DL00332"]
[null,"S21E.DL00253",null,0.16,"S21E.DL00313","S21E.DL00333"]
[null,"S21E.DL00254",null,0.16,"S21E.DL00314","S21E.DL00334"]
[null,"S21E.DL00255",null,0.16,"S21E.DL00315","S21E.DL00335"]
[null,"S21E.DL00256",null,0.16,"S21E.DL00316","S21E.DL00336"]
[null,"S21E.DL00257",null,0.16,"S21E.DL00317","S21E.DL00337"]
[null,"S21E.DL00258",null,0.16,"S21E.DL00318","S21E.DL00338"]
[null,"S21E.DL00259",null,0.16,"S21E.DL00319","S21E.DL00339"]
["Total ",null,null,null,null,"S21E.DP0036"]
["Short cash and Long call"]
["S21E.DL0022","S21E.DL0026",null,{"$f":"0.08+0.08","v":0.16},"S21E.DL0032","S21E.DL0034"]
[null,"S21E.DL00261",null,0.16,"S21E.DL00321","S21E.DL00341"]
[null,"S21E.DL00262",null,0.16,"S21E.DL00322","S21E.DL00342"]
[null,"S21E.DL00263",null,0.16,"S21E.DL00323","S21E.DL00343"]
[null,"S21E.DL00264",null,0.16,"S21E.DL00324","S21E.DL00344"]
[null,"S21E.DL00265",null,0.16,"S21E.DL00325","S21E.DL00345"]
[null,"S21E.DL00266",null,0.16,"S21E.DL00326","S21E.DL00346"]
[null,"S21E.DL00267",null,0.16,"S21E.DL00327","S21E.DL00347"]
[null,"S21E.DL00268",null,0.16,"S21E.DL00328","S21E.DL00348"]
[null,"S21E.DL00269",null,0.16,"S21E.DL00329","S21E.DL00349"]
["Total ",null,null,null,null,"S21E.DP0037"]
["Long call"]
["S21E.DL0023","S21E.DL0027","S21E.DL0029",{"$f":"0.08+0.08","v":0.16},null,"S21E.DL0035"]
[null,"S21E.DL00271","S21E.DL00291",0.16,null,"S21E.DL00351"]
[null,"S21E.DL00272","S21E.DL00292",0.16,null,"S21E.DL00352"]
[null,"S21E.DL00273","S21E.DL00293",0.16,null,"S21E.DL00353"]
[null,"S21E.DL00274","S21E.DL00294",0.16,null,"S21E.DL00354"]
[null,"S21E.DL00275","S21E.DL00295",0.16,null,"S21E.DL00355"]
[null,"S21E.DL00276","S21E.DL00296",0.16,null,"S21E.DL00356"]
[null,"S21E.DL00277","S21E.DL00297",0.16,null,"S21E.DL00357"]
[null,"S21E.DL00278","S21E.DL00298",0.16,null,"S21E.DL00358"]
[null,"S21E.DL00279","S21E.DL00299",0.16,null,"S21E.DL00359"]
["Total ",null,null,null,null,"S21E.DP0038"]
["Long Put"]
["S21E.DL0024","S21E.DL0028","S21E.DL0030",{"$f":"0.08+0.08","v":0.16},null,"S21E.DL0036"]
[null,"S21E.DL00281","S21E.DL00301",0.16,null,"S21E.DL00361"]
[null,"S21E.DL00282","S21E.DL00302",0.16,null,"S21E.DL00362"]
[null,"S21E.DL00283","S21E.DL00303",0.16,null,"S21E.DL00363"]
[null,"S21E.DL00284","S21E.DL00304",0.16,null,"S21E.DL00364"]
[null,"S21E.DL00285","S21E.DL00305",0.16,null,"S21E.DL00365"]
[null,"S21E.DL00286","S21E.DL00306",0.16,null,"S21E.DL00366"]
[null,"S21E.DL00287","S21E.DL00307",0.16,null,"S21E.DL00367"]
[null,"S21E.DL00288","S21E.DL00308",0.16,null,"S21E.DL00368"]
[null,"S21E.DL00289","S21E.DL00309",0.16,null,"S21E.DL00369"]
["Total ",null,null,null,null,"S21E.DP0039"]
[]
["Total Capital Charge for Equity Options:",null,null,null,null,"S21E.DP0040"]
[]
[]
["C. Foreign Exchange Options "]
[]
[null,"Market Value of the Underlying Security","Market Value of the Option","Risk Charge","Amount the Option is IN the money","Capital Charge"]
["Long cash and Long put"]
["S21E.DL0037","S21E.DL0041",null,0.1,"S21E.DL0047","S21E.DL0049"]
[null,"S21E.DL00411",null,0.1,"S21E.DL00471","S21E.DL00491"]
[null,"S21E.DL00412",null,0.1,"S21E.DL00472","S21E.DL00492"]
[null,"S21E.DL00413",null,0.1,"S21E.DL00473","S21E.DL00493"]
[null,"S21E.DL00414",null,0.1,"S21E.DL00474","S21E.DL00494"]
[null,"S21E.DL00415",null,0.1,"S21E.DL00475","S21E.DL00495"]
[null,"S21E.DL00416",null,0.1,"S21E.DL00476","S21E.DL00496"]
[null,"S21E.DL00417",null,0.1,"S21E.DL00477","S21E.DL00497"]
[null,"S21E.DL00418",null,0.1,"S21E.DL00478","S21E.DL00498"]
[null,"S21E.DL00419",null,0.1,"S21E.DL00479","S21E.DL00499"]
["Total ",null,null,null,null,"S21E.DP0041"]
["Short cash and Long call"]
["S21E.DL0038","S21E.DL0042",null,0.1,"S21E.DL0048","S21E.DL0050"]
[null,"S21E.DL00421",null,0.1,"S21E.DL00481","S21E.DL00501"]
[null,"S21E.DL00422",null,0.1,"S21E.DL00482","S21E.DL00502"]
[null,"S21E.DL00423",null,0.1,"S21E.DL00483","S21E.DL00503"]
[null,"S21E.DL00424",null,0.1,"S21E.DL00484","S21E.DL00504"]
[null,"S21E.DL00425",null,0.1,"S21E.DL00485","S21E.DL00505"]
[null,"S21E.DL00426",null,0.1,"S21E.DL00486","S21E.DL00506"]
[null,"S21E.DL00427",null,0.1,"S21E.DL00487","S21E.DL00507"]
[null,"S21E.DL00428",null,0.1,"S21E.DL00488","S21E.DL00508"]
[null,"S21E.DL00429",null,0.1,"S21E.DL00489","S21E.DL00509"]
["Total ",null,null,null,null,"S21E.DP0042"]
["Long call"]
["S21E.DL0039","S21E.DL0043","S21E.DL0045",0.1,null,"S21E.DL0051"]
[null,"S21E.DL00431","S21E.DL00451",0.1,null,"S21E.DL00511"]
[null,"S21E.DL00432","S21E.DL00452",0.1,null,"S21E.DL00512"]
[null,"S21E.DL00433","S21E.DL00453",0.1,null,"S21E.DL00513"]
[null,"S21E.DL00434","S21E.DL00454",0.1,null,"S21E.DL00514"]
[null,"S21E.DL00435","S21E.DL00455",0.1,null,"S21E.DL00515"]
[null,"S21E.DL00436","S21E.DL00456",0.1,null,"S21E.DL00516"]
[null,"S21E.DL00437","S21E.DL00457",0.1,null,"S21E.DL00517"]
[null,"S21E.DL00438","S21E.DL00458",0.1,null,"S21E.DL00518"]
[null,"S21E.DL00439","S21E.DL00459",0.1,null,"S21E.DL00519"]
["Total ",null,null,null,null,"S21E.DP0043"]
["Long Put"]
["S21E.DL0040","S21E.DL0044","S21E.DL0046",0.1,null,"S21E.DL0052"]
[null,"S21E.DL00441","S21E.DL00461",0.1,null,"S21E.DL00521"]
[null,"S21E.DL00442","S21E.DL00462",0.1,null,"S21E.DL00522"]
[null,"S21E.DL00443","S21E.DL00463",0.1,null,"S21E.DL00523"]
[null,"S21E.DL00444","S21E.DL00464",0.1,null,"S21E.DL00524"]
[null,"S21E.DL00445","S21E.DL00465",0.1,null,"S21E.DL00525"]
[null,"S21E.DL00446","S21E.DL00466",0.1,null,"S21E.DL00526"]
[null,"S21E.DL00447","S21E.DL00467",0.1,null,"S21E.DL00527"]
[null,"S21E.DL00448","S21E.DL00468",0.1,null,"S21E.DL00528"]
[null,"S21E.DL00449","S21E.DL00469",0.1,null,"S21E.DL00529"]
["Total ",null,null,null,null,"S21E.DP0044"]
[]
["Total Capital Charge for Foreign Exchange Options:",null,null,null,null,"S21E.DP0045"]
[]
[]
["D. Commodity Options "]
[]
[null,"Market Value of the Underlying Security","Market Value of the Option","Risk Charge","Amount the Option is IN the money","Capital Charge"]
["Long cash and Long put"]
["S21E.DL0053","S21E.DL0057",null,0.18,"S21E.DL0063","S21E.DL0065"]
[null,"S21E.DL00571",null,0.18,"S21E.DL00631","S21E.DL00651"]
[null,"S21E.DL00572",null,0.18,"S21E.DL00632","S21E.DL00652"]
[null,"S21E.DL00573",null,0.18,"S21E.DL00633","S21E.DL00653"]
[null,"S21E.DL00574",null,0.18,"S21E.DL00634","S21E.DL00654"]
[null,"S21E.DL00575",null,0.18,"S21E.DL00635","S21E.DL00655"]
[null,"S21E.DL00576",null,0.18,"S21E.DL00636","S21E.DL00656"]
[null,"S21E.DL00577",null,0.18,"S21E.DL00637","S21E.DL00657"]
[null,"S21E.DL00578",null,0.18,"S21E.DL00638","S21E.DL00658"]
[null,"S21E.DL00579",null,0.18,"S21E.DL00639","S21E.DL00659"]
["Total ",null,null,null,null,"S21E.DP0046"]
["Short cash and Long call"]
["S21E.DL0054","S21E.DL0058",null,0.18,"S21E.DL0064","S21E.DL0066"]
[null,"S21E.DL00581",null,0.18,"S21E.DL00641","S21E.DL00661"]
[null,"S21E.DL00582",null,0.18,"S21E.DL00642","S21E.DL00662"]
[null,"S21E.DL00583",null,0.18,"S21E.DL00643","S21E.DL00663"]
[null,"S21E.DL00584",null,0.18,"S21E.DL00644","S21E.DL00664"]
[null,"S21E.DL00585",null,0.18,"S21E.DL00645","S21E.DL00665"]
[null,"S21E.DL00586",null,0.18,"S21E.DL00646","S21E.DL00666"]
[null,"S21E.DL00587",null,0.18,"S21E.DL00647","S21E.DL00667"]
[null,"S21E.DL00588",null,0.18,"S21E.DL00648","S21E.DL00668"]
[null,"S21E.DL00589",null,0.18,"S21E.DL00649","S21E.DL00669"]
["Total ",null,null,null,null,"S21E.DP0047"]
["Long call"]
["S21E.DL0055","S21E.DL0059","S21E.DL0061",0.18,null,"S21E.DL0067"]
[null,"S21E.DL00591","S21E.DL00611",0.18,null,"S21E.DL00671"]
[null,"S21E.DL00592","S21E.DL00612",0.18,null,"S21E.DL00672"]
[null,"S21E.DL00593","S21E.DL00613",0.18,null,"S21E.DL00673"]
[null,"S21E.DL00594","S21E.DL00614",0.18,null,"S21E.DL00674"]
[null,"S21E.DL00595","S21E.DL00615",0.18,null,"S21E.DL00675"]
[null,"S21E.DL00596","S21E.DL00616",0.18,null,"S21E.DL00676"]
[null,"S21E.DL00597","S21E.DL00617",0.18,null,"S21E.DL00677"]
[null,"S21E.DL00598","S21E.DL00618",0.18,null,"S21E.DL00678"]
[null,"S21E.DL00599","S21E.DL00619",0.18,null,"S21E.DL00679"]
["Total ",null,null,null,null,"S21E.DP0048"]
["Long Put"]
["S21E.DL0056","S21E.DL0060","S21E.DL0062",0.18,null,"S21E.DL0068"]
[null,"S21E.DL00601","S21E.DL00621",0.18,null,"S21E.DL00681"]
[null,"S21E.DL00602","S21E.DL00622",0.18,null,"S21E.DL00682"]
[null,"S21E.DL00603","S21E.DL00623",0.18,null,"S21E.DL00683"]
[null,"S21E.DL00604","S21E.DL00624",0.18,null,"S21E.DL00684"]
[null,"S21E.DL00605","S21E.DL00625",0.18,null,"S21E.DL00685"]
[null,"S21E.DL00606","S21E.DL00626",0.18,null,"S21E.DL00686"]
[null,"S21E.DL00607","S21E.DL00627",0.18,null,"S21E.DL00687"]
[null,"S21E.DL00608","S21E.DL00628",0.18,null,"S21E.DL00688"]
[null,"S21E.DL00609","S21E.DL00629",0.18,null,"S21E.DL00689"]
["Total ",null,null,null,null,"S21E.DP0049"]
[]
["Total Capital Charge for Commodity Options:",null,null,null,null,"S21E.DP0050"]

{"sheet":"22 Op Risk","index":31,"n_rows":23,"n_cols":12,"rows_kept":23,"cut":false,"hidden":false,"merged":[[5,3,5,4],[5,6,5,7],[5,9,5,10],[18,0,18,3],[4,0,4,3]]}
["Schedule 22 - Minimum Capital Required for Operational Risk",null,null,null,null,null,null,null,null,null,null,43]
["Return to Schedule Listing"]
["(TT$ 000)"]
[]
["Standardised Approach"]
[null,null,null,"Year 1*",null,null,"Year 2*",null,null,"Year 3*"]
["Business line:","Beta",null,"Gross Inc.","Charge",null,"Gross Inc.","Charge",null,"Gross Inc.","Charge"]
[null,"(a)",null,"(b)","(c=a x b)",null,"(d)","(e=a x d)",null,"(f)","(g=a x f)"]
["Corporate finance",0.18,null,"S22.DP0001","S22.DP0011",null,"S22.DP0022","S22.DP0032",null,"S22.DP0043","S22.DP0053"]
["Trading & sales",0.18,null,"S22.DP0002","S22.DP0012",null,"S22.DP0023","S22.DP0033",null,"S22.DP0044","S22.DP0054"]
["Retail banking",0.12,null,"S22.DP0003","S22.DP0013",null,"S22.DP0024","S22.DP0034",null,"S22.DP0045","S22.DP0055"]
["Commercial banking",0.15,null,"S22.DP0004","S22.DP0014",null,"S22.DP0025","S22.DP0035",null,"S22.DP0046","S22.DP0056"]
["Payment & settlement",0.18,null,"S22.DP0005","S22.DP0015",null,"S22.DP0026","S22.DP0036",null,"S22.DP0047","S22.DP0057"]
["Agency services",0.15,null,"S22.DP0006","S22.DP0016",null,"S22.DP0027","S22.DP0037",null,"S22.DP0048","S22.DP0058"]
["Asset management",0.12,null,"S22.DP0007","S22.DP0017",null,"S22.DP0028","S22.DP0038",null,"S22.DP0049","S22.DP0059"]
["Retail brokerage",0.12,null,"S22.DP0008","S22.DP0018",null,"S22.DP0029","S22.DP0039",null,"S22.DP0050","S22.DP0060"]
["Other",0.18,null,"S22.DP0009","S22.DP0019",null,"S22.DP0030","S22.DP0040",null,"S22.DP0051","S22.DP0061"]
["Total",null,null,"S22.DP0010","S22.DP0020",null,"S22.DP0031","S22.DP0041",null,"S22.DP0052","S22.DP0062"]
["Total business (total or zero, whichever is greater)",null,null,null,"S22.DP0021","A",null,"S22.DP0042","B",null,"S22.DP0063","C"]
[]
["Capital charge",null,null,null,null,null,null,null,null,"Ave. of A, B, C","S22.DP0064","D"]
[]
["* Rolling four quarters. Year 3 captures the most recent rolling four quarters ending with the current quarter."]

{"sheet":"23 Obligor - Guarantor","index":32,"n_rows":27,"n_cols":11,"rows_kept":27,"cut":false,"hidden":false,"merged":[[3,3,3,8],[3,10,4,10],[25,0,25,8],[26,0,26,8]]}
["Schedule 23 Gross* Exposures** by Original Obligor and by Ultimate Guarantor",null,null,null,null,null,null,null,null,null,44]
["Return to Schedule Listing"]
["(TT$ 000)"]
[null,null,null,"Guaranteed Exposure, by Ultimate Guarantor",null,null,null,null,null,null,"Exposure Not\nGuaranteed\n(exposure to original obligor)"]
[null,"Pre-CRM Exposure\nby Original Obligor*",null,"Sovereign","PSEs","Bank","Securities Firms","Corporate ","Other entities"]
[null,"(a)",null,"(b)","(c)","(d)","(e)","(f)","(g)",null,"(h = a - [b+c+d+e+f+g])"]
["Standardized"]
["Banking Book"]
["Sovereign","S23.DP0001",null,"S23.DP0014","S23.DP0027","S23.DP0040","S23.DP0053","S23.DP0066","S23.DP0079",null,"S23.DP0092"]
["PSEs","S23.DP0002",null,"S23.DP0015","S23.DP0028","S23.DP0041","S23.DP0054","S23.DP0067","S23.DP0080",null,"S23.DP0093"]
["MDBs","S23.DP0003",null,"S23.DP0016","S23.DP0029","S23.DP0042","S23.DP0055","S23.DP0068","S23.DP0081",null,"S23.DP0094"]
["Bank & Sec. Firms LT","S23.DP0004",null,"S23.DP0017","S23.DP0030","S23.DP0043","S23.DP0056","S23.DP0069","S23.DP0082",null,"S23.DP0095"]
["Bank & Sec. Firms ST","S23.DP0005",null,"S23.DP0018","S23.DP0031","S23.DP0044","S23.DP0057","S23.DP0070","S23.DP0083",null,"S23.DP0096"]
["Corp & Sec. Firms LT","S23.DP0006",null,"S23.DP0019","S23.DP0032","S23.DP0045","S23.DP0058","S23.DP0071","S23.DP0084",null,"S23.DP0097"]
["Corp & Sec. Firms ST","S23.DP0007",null,"S23.DP0020","S23.DP0033","S23.DP0046","S23.DP0059","S23.DP0072","S23.DP0085",null,"S23.DP0098"]
["Commercial Real Estate","S23.DP0008",null,"S23.DP0021","S23.DP0034","S23.DP0047","S23.DP0060","S23.DP0073","S23.DP0086",null,"S23.DP0099"]
["Residential Mortgages","S23.DP0009",null,"S23.DP0022","S23.DP0035","S23.DP0048","S23.DP0061","S23.DP0074","S23.DP0087",null,"S23.DP0100"]
["Other Retail","S23.DP0010",null,"S23.DP0023","S23.DP0036","S23.DP0049","S23.DP0062","S23.DP0075","S23.DP0088",null,"S23.DP0101"]
["SBE Retail","S23.DP0011",null,"S23.DP0024","S23.DP0037","S23.DP0050","S23.DP0063","S23.DP0076","S23.DP0089",null,"S23.DP0102"]
["Trading Book","S23.DP0012",null,"S23.DP0025","S23.DP0038","S23.DP0051","S23.DP0064","S23.DP0077","S23.DP0090",null,"S23.DP0103"]
[]
["Total exposures**","S23.DP0013",null,"S23.DP0026","S23.DP0039","S23.DP0052","S23.DP0065","S23.DP0078","S23.DP0091",null,"S23.DP0104"]
[]
[]
[]
["*  Gross of all allowances for credit loss.  "]
["**  Exposures subject to credit risk, excluding equity and securitization-related exposures."]

{"sheet":"24 Reconciliation","index":33,"n_rows":62,"n_cols":9,"rows_kept":62,"cut":false,"hidden":false,"merged":[[34,0,34,3],[10,0,10,3],[4,4,4,6],[4,7,5,7],[4,8,5,8],[9,0,9,3],[23,0,23,3],[24,0,24,3],[15,0,15,1]]}
["Schedule 24 - Balance Sheet Coverage by Risk Type"]
["and"]
["Reconciliation to Consolidated Balance Sheet"]
[45,"Return to Schedule Listing"]
["(TT$ 000)",null,null,null,"Gross Exposure [1]\nbefore credit risk mitigation",null,null,"Specific provision and partial write-offs","Exposure before CRM, net of specific provision and partial write-offs"]
["Balance Sheet Items Falling Under:",null,null,null,"Drawn","Repo-style Transactions","Total"]
[null,null,null,null,"(a)","(b)","(c = a + b)","(d)","(e = c - d)"]
["Credit Risk"]
["Sovereign",null,null,null,"S24.DP0001","S24.DP0018","S24.DP0029","S24.DP0046","S24.DP0062"]
["PSEs",null,null,null,"S24.DP0002","S24.DP0019","S24.DP0030","S24.DP0047","S24.DP0063"]
["MDBs",null,null,null,"S24.DP0003","S24.DP0020","S24.DP0031","S24.DP0048","S24.DP0064"]
["Bank & Sec. Firms LT",null,null,null,"S24.DP0004","S24.DP0021","S24.DP0032","S24.DP0049","S24.DP0065"]
["Bank & Sec. Firms ST",null,null,null,"S24.DP0005","S24.DP0022","S24.DP0033","S24.DP0050","S24.DP0066"]
["Corp & Sec. Firms LT",null,null,null,"S24.DP0006","S24.DP0023","S24.DP0034","S24.DP0051","S24.DP0067"]
["Corp & Sec. Firms ST",null,null,null,"S24.DP0007","S24.DP0024","S24.DP0035","S24.DP0052","S24.DP0068"]
["    Commercial Real Estate",null,null,null,"S24.DP0008",null,"S24.DP0036","S24.DP0053","S24.DP0069"]
["Residential Mortgages",null,null,null,"S24.DP0009",null,"S24.DP0037","S24.DP0054","S24.DP0070"]
["Other Retail",null,null,null,"S24.DP0010",null,"S24.DP0038","S24.DP0055","S24.DP0071"]
["SBE  Retail",null,null,null,"S24.DP0011","S24.DP0025","S24.DP0039","S24.DP0056","S24.DP0072"]
["Equities",null,null,null,"S24.DP0012",null,"S24.DP0040","S24.DP0057","S24.DP0073"]
[" Securitization-related assets",null,null,null,"S24.DP0013",null,"S24.DP0041","S24.DP0058","S24.DP0074"]
["Other Credit Risk Weighted Assets",null,null,null,"S24.DP0014",null,"S24.DP0042","S24.DP0059","S24.DP0075"]
["Subtotal",null,null,null,"S24.DP0015","S24.DP0026","S24.DP0043","S24.DP0060","S24.DP0076"]
["Less: exposures related to liabilities and non-cash repo-style transactions included above",null,null,null,"S24.DP0016","S24.DP0027","S24.DP0044",null,"S24.DP0077"]
["Total assets subject to credit risk",null,null,null,"S24.DP0017","S24.DP0028","S24.DP0045","S24.DP0061","S24.DP0078"]
[]
["Market risk - balance sheet assets subject to specific risk"]
["Deposits with regulated financial institutions",null,null,null,"S24.DP0079",null,"S24.DP0087",null,"S24.DP0092"]
["Debt securities",null,null,null,"S24.DP0080","S24.DP0084","S24.DP0088",null,"S24.DP0093"]
["Equity securities",null,null,null,"S24.DP0081","S24.DP0085","S24.DP0089",null,"S24.DP0094"]
["Other assets subject to specific market risk",null,null,null,"S24.DP0082",null,"S24.DP0090",null,"S24.DP0095"]
["Total assets subject to specific market risk",null,null,null,"S24.DP0083","S24.DP0086","S24.DP0091",null,"S24.DP0096"]
[]
["Less balance sheet assets included in both credit and specific market risk:"]
["Trading book repo-style transactions (assets)",null,null,null,null,"S24.DP0097","S24.DP0098",null,"S24.DP0099"]
[]
["Total ''on-balance sheet'' assets for purposes of capital ratios",null,null,null,"S24.DP0100","S24.DP0101","S24.DP0102",null,"S24.DP0103"]
[]
["Less:"]
["General provision on balance sheet assets for capital purposes",null,null,null,null,null,null,null,"S24.DP0104"]
["'On-balance sheet'' securitization exposures recognized for capital ratio but not for consolidated balance sheet purposes",null,null,null,null,null,null,null,"S24.DP0105"]
["Adjustments to reflect differences in balance sheet exposure amounts resulting from:"]
["- measurement bases used for accounting purposes (fair values)",null,null,null,null,null,null,null,"S24.DP0106"]
["- recognition bases used for accounting purposes (settlement / trade date) ",null,null,null,null,null,null,null,"S24.DP0107"]
[]
["Plus:"]
["Securitization-related assets not recognized for capital ratio calculations but consolidated for balance sheet purposes"]
[null,"Non-derecognized securitized assets (own assets)",null,null,null,null,null,"S24.DP0108"]
[null,"Consolidated securitization assets (e.g. third party assets)",null,null,null,null,null,"S24.DP0109"]
[null,"Other",null,null,null,null,null,"S24.DP0110"]
[null,"Total",null,null,null,null,null,null,"S24.DP0111"]
["Other",null,null,null,null,null,null,null,"S24.DP0112"]
[]
["Less:"]
["Investments in deconsolidated subsidiaries (equity method excluding goodwill and intangibles)",null,null,null,null,null,null,null,"S24.DP0113"]
["Balances due to/from deconsolidated subsidiaries",null,null,null,null,null,null,null,"S24.DP0114"]
[]
["Plus:"]
["Deconsolidated subsidiaries' total balance sheet assets",null,null,null,null,null,null,null,"S24.DP0115"]
["Other",null,null,null,null,null,null,null,"S24.DP0116"]
[]
["Total assets per consolidated balance sheet",null,null,null,null,null,null,null,"S24.DP0117"]

{"sheet":"ASCII","index":34,"n_rows":5737,"n_cols":4,"rows_kept":5737,"cut":false,"hidden":false,"merged":[]}
["DATE",{"$f":"'Schedule Listing'!C11","v":"Select Return Date"},"FREQ","m"]
["SERIESNAME",{"$f":"LOWER(VLOOKUP('Schedule Listing'!$C$10,Lists!$A$1:$B$27,2,0))","v":"fame code"}]
["CB100B2.S01.DP0001",{"$f":"'1 Capital Ratios'!$F$6","v":"S01.DP0001"}]
["CB100B2.S01.DP0002",{"$f":"'1 Capital Ratios'!$F$7","v":"S01.DP0002"}]
["CB100B2.S01.DP0003",{"$f":"'1 Capital Ratios'!$F$8","v":"S01.DP0003"}]
["CB100B2.S01.DP0004",{"$f":"'1 Capital Ratios'!$F$11","v":"S01.DP0004"}]
["CB100B2.S01.DP0005",{"$f":"'1 Capital Ratios'!$F$12","v":"S01.DP0005"}]
["CB100B2.S01.DP0006",{"$f":"'1 Capital Ratios'!$F$13","v":"S01.DP0006"}]
["CB100B2.S01.DP0007",{"$f":"'1 Capital Ratios'!$F$14","v":"S01.DP0007"}]
["CB100B2.S02.DP0001",{"$f":"'2 RWA Summary'!$D$9","v":"S02.DP0001"}]
["CB100B2.S02.DP0002",{"$f":"'2 RWA Summary'!$D$10","v":"S02.DP0002"}]
["CB100B2.S02.DP0003",{"$f":"'2 RWA Summary'!$D$11","v":"S02.DP0003"}]
["CB100B2.S02.DP0004",{"$f":"'2 RWA Summary'!$D$12","v":"S02.DP0004"}]
["CB100B2.S02.DP0005",{"$f":"'2 RWA Summary'!$D$13","v":"S02.DP0005"}]
["CB100B2.S02.DP0006",{"$f":"'2 RWA Summary'!$D$14","v":"S02.DP0006"}]
["CB100B2.S02.DP0007",{"$f":"'2 RWA Summary'!$D$15","v":"S02.DP0007"}]
["CB100B2.S02.DP0008",{"$f":"'2 RWA Summary'!$D$16","v":"S02.DP0008"}]
["CB100B2.S02.DP0009",{"$f":"'2 RWA Summary'!$D$17","v":"S02.DP0009"}]
["CB100B2.S02.DP0010",{"$f":"'2 RWA Summary'!$D$18","v":"S02.DP0010"}]
["CB100B2.S02.DP0011",{"$f":"'2 RWA Summary'!$D$19","v":"S02.DP0011"}]
["CB100B2.S02.DP0012",{"$f":"'2 RWA Summary'!$D$20","v":"S02.DP0012"}]
["CB100B2.S02.DP0013",{"$f":"'2 RWA Summary'!$D$22","v":"S02.DP0013"}]
["CB100B2.S02.DP0014",{"$f":"'2 RWA Summary'!$D$24","v":"S02.DP0014"}]
["CB100B2.S02.DP0015",{"$f":"'2 RWA Summary'!$D$26","v":"S02.DP0015"}]
["CB100B2.S02.DP0016",{"$f":"'2 RWA Summary'!$D$28","v":"S02.DP0016"}]
["CB100B2.S02.DP0017",{"$f":"'2 RWA Summary'!$D$30","v":"S02.DP0017"}]
["CB100B2.S02.DP0018",{"$f":"'2 RWA Summary'!$C$33","v":"S02.DP0018"}]
["CB100B2.S02.DP0019",{"$f":"'2 RWA Summary'!$D$34","v":"S02.DP0019"}]
["CB100B2.S02.DP0020",{"$f":"'2 RWA Summary'!$C$37","v":"S02.DP0020"}]
["CB100B2.S02.DP0021",{"$f":"'2 RWA Summary'!$D$38","v":"S02.DP0021"}]
["CB100B2.S02.DP0022",{"$f":"'2 RWA Summary'!$D$40","v":"S02.DP0022"}]
["CB100B2.S03.DP0001",{"$f":"'3 Capital'!$K$8","v":"S03.DP0001"}]
["CB100B2.S03.DP0002",{"$f":"'3 Capital'!$K$9","v":"S03.DP0002"}]
["CB100B2.S03.DP0003",{"$f":"'3 Capital'!$K$10","v":"S03.DP0003"}]
["CB100B2.S03.DP0004",{"$f":"'3 Capital'!$K$11","v":"S03.DP0004"}]
["CB100B2.S03.DP0005",{"$f":"'3 Capital'!$K$12","v":"S03.DP0005"}]
["CB100B2.S03.DP0006",{"$f":"'3 Capital'!$K$13","v":"S03.DP0006"}]
["CB100B2.S03.DP0007",{"$f":"'3 Capital'!$K$15","v":"S03.DP0007"}]
["CB100B2.S03.DP0008",{"$f":"'3 Capital'!$J$17","v":"S03.DP0008"}]
["CB100B2.S03.DP0009",{"$f":"'3 Capital'!$J$18","v":"S03.DP0009"}]
["CB100B2.S03.DP0010",{"$f":"'3 Capital'!$J$19","v":"S03.DP0010"}]
["CB100B2.S03.DP0011",{"$f":"'3 Capital'!$J$20","v":"S03.DP0011"}]
["CB100B2.S03.DP0012",{"$f":"'3 Capital'!$J$22","v":"S03.DP0012"}]
["CB100B2.S03.DP0013",{"$f":"'3 Capital'!$K$23","v":"S03.DP0013"}]
["CB100B2.S03.DP0014",{"$f":"'3 Capital'!$K$26","v":"S03.DP0014"}]
["CB100B2.S03.DP0015",{"$f":"'3 Capital'!$K$27","v":"S03.DP0015"}]
["CB100B2.S03.DP0016",{"$f":"'3 Capital'!$K$29","v":"S03.DP0016"}]
["CB100B2.S03.DP0017",{"$f":"'3 Capital'!$J$31","v":"S03.DP0017"}]
["CB100B2.S03.DP0018",{"$f":"'3 Capital'!$J$32","v":"S03.DP0018"}]
["CB100B2.S03.DP0019",{"$f":"'3 Capital'!$J$33","v":"S03.DP0019"}]
["CB100B2.S03.DP0020",{"$f":"'3 Capital'!$J$34","v":"S03.DP0020"}]
["CB100B2.S03.DP0021",{"$f":"'3 Capital'!$J$35","v":"S03.DP0021"}]
["CB100B2.S03.DP0022",{"$f":"'3 Capital'!$J$37","v":"S03.DP0022"}]
["CB100B2.S03.DP0023",{"$f":"'3 Capital'!$K$39","v":"S03.DP0023"}]
["CB100B2.S03.DP0024",{"$f":"'3 Capital'!$K$40","v":"S03.DP0024"}]
["CB100B2.S03.DP0025",{"$f":"'3 Capital'!$K$43","v":"S03.DP0025"}]
["CB100B2.S03.DP0026",{"$f":"'3 Capital'!$K$44","v":"S03.DP0026"}]
["CB100B2.S03.DP0027",{"$f":"'3 Capital'!$F$46","v":"S03.DP0027"}]
["CB100B2.S03.DP0028",{"$f":"'3 Capital'!$F$47","v":"S03.DP0028"}]
["CB100B2.S03.DP0029",{"$f":"'3 Capital'!$F$48","v":"S03.DP0029"}]
["CB100B2.S03.DP0030",{"$f":"'3 Capital'!$F$49","v":"S03.DP0030"}]
["CB100B2.S03.DP0031",{"$f":"'3 Capital'!$F$50","v":"S03.DP0031"}]
["CB100B2.S03.DP0032",{"$f":"'3 Capital'!$F$51","v":"S03.DP0032"}]
["CB100B2.S03.DP0033",{"$f":"'3 Capital'!$F$52","v":"S03.DP0033"}]
["CB100B2.S03.DP0034",{"$f":"'3 Capital'!$H$46","v":"S03.DP0034"}]
["CB100B2.S03.DP0035",{"$f":"'3 Capital'!$H$47","v":"S03.DP0035"}]
["CB100B2.S03.DP0036",{"$f":"'3 Capital'!$H$48","v":"S03.DP0036"}]
["CB100B2.S03.DP0037",{"$f":"'3 Capital'!$H$49","v":"S03.DP0037"}]
["CB100B2.S03.DP0038",{"$f":"'3 Capital'!$H$50","v":"S03.DP0038"}]
["CB100B2.S03.DP0039",{"$f":"'3 Capital'!$H$51","v":"S03.DP0039"}]
["CB100B2.S03.DP0040",{"$f":"'3 Capital'!$H$53","v":"S03.DP0040"}]
["CB100B2.S03.DP0041",{"$f":"'3 Capital'!$K$54","v":"S03.DP0041"}]
["CB100B2.S03.DP0042",{"$f":"'3 Capital'!$K$55","v":"S03.DP0042"}]
["CB100B2.S03.DP0043",{"$f":"'3 Capital'!$F$57","v":"S03.DP0043"}]
["CB100B2.S03.DP0044",{"$f":"'3 Capital'!$F$58","v":"S03.DP0044"}]
["CB100B2.S03.DP0045",{"$f":"'3 Capital'!$F$59","v":"S03.DP0045"}]
["CB100B2.S03.DP0046",{"$f":"'3 Capital'!$F$60","v":"S03.DP0046"}]
["CB100B2.S03.DP0047",{"$f":"'3 Capital'!$F$61","v":"S03.DP0047"}]
["CB100B2.S03.DP0048",{"$f":"'3 Capital'!$F$62","v":"S03.DP0048"}]
["CB100B2.S03.DP0049",{"$f":"'3 Capital'!$F$63","v":"S03.DP0049"}]
["CB100B2.S03.DP0050",{"$f":"'3 Capital'!$H$57","v":"S03.DP0050"}]
["CB100B2.S03.DP0051",{"$f":"'3 Capital'!$H$58","v":"S03.DP0051"}]
["CB100B2.S03.DP0052",{"$f":"'3 Capital'!$H$59","v":"S03.DP0052"}]
["CB100B2.S03.DP0053",{"$f":"'3 Capital'!$H$60","v":"S03.DP0053"}]
["CB100B2.S03.DP0054",{"$f":"'3 Capital'!$H$61","v":"S03.DP0054"}]
["CB100B2.S03.DP0055",{"$f":"'3 Capital'!$H$62","v":"S03.DP0055"}]
["CB100B2.S03.DP0056",{"$f":"'3 Capital'!$H$64","v":"S03.DP0056"}]
["CB100B2.S03.DP0057",{"$f":"'3 Capital'!$H$65","v":"S03.DP0057"}]
["CB100B2.S03.DP0058",{"$f":"'3 Capital'!$K$67","v":"S03.DP0058"}]
["CB100B2.S03.DP0059",{"$f":"'3 Capital'!$F$68","v":"S03.DP0059"}]
["CB100B2.S03.DP0060",{"$f":"'3 Capital'!$K$68","v":"S03.DP0060"}]
["CB100B2.S03.DP0061",{"$f":"'3 Capital'!$K$69","v":"S03.DP0061"}]
["CB100B2.S03.DP0062",{"$f":"'3 Capital'!$F$70","v":"S03.DP0062"}]
["CB100B2.S03.DP0063",{"$f":"'3 Capital'!$K$71","v":"S03.DP0063"}]
["CB100B2.S03.DP0064",{"$f":"'3 Capital'!$F$72","v":"S03.DP0064"}]
["CB100B2.S03.DP0065",{"$f":"'3 Capital'!$K$74","v":"S03.DP0065"}]
["CB100B2.S03.DP0066",{"$f":"'3 Capital'!$J$76","v":"S03.DP0066"}]
["CB100B2.S03.DP0067",{"$f":"'3 Capital'!$J$77","v":"S03.DP0067"}]
["CB100B2.S03.DP0068",{"$f":"'3 Capital'!$J$78","v":"S03.DP0068"}]
["CB100B2.S03.DP0069",{"$f":"'3 Capital'!$J$79","v":"S03.DP0069"}]
["CB100B2.S03.DP0070",{"$f":"'3 Capital'!$J$81","v":"S03.DP0070"}]
["CB100B2.S03.DP0071",{"$f":"'3 Capital'!$K$82","v":"S03.DP0071"}]
["CB100B2.S03.DP0072",{"$f":"'3 Capital'!$K$83","v":"S03.DP0072"}]
["CB100B2.S03.DP0073",{"$f":"'3 Capital'!$K$84","v":"S03.DP0073"}]
["CB100B2.S03.DP0074",{"$f":"'3 Capital'!$K$85","v":"S03.DP0074"}]
["CB100B2.S03.DP0075",{"$f":"'3 Capital'!$K$86","v":"S03.DP0075"}]
["CB100B2.S04.DP0001",{"$f":"'4 Allowance'!$J$5","v":"S04.DP0001"}]
["CB100B2.S04.DP0002",{"$f":"'4 Allowance'!$J$6","v":"S04.DP0002"}]
["CB100B2.S04.DP0003",{"$f":"'4 Allowance'!$J$7","v":"S04.DP0003"}]
["CB100B2.S04.DP0004",{"$f":"'4 Allowance'!$E$13","v":"S04.DP0004"}]
["CB100B2.S04.DP0005",{"$f":"'4 Allowance'!$E$14","v":"S04.DP0005"}]
["CB100B2.S04.DP0006",{"$f":"'4 Allowance'!$E$15","v":"S04.DP0006"}]
["CB100B2.S04.DP0007",{"$f":"'4 Allowance'!$E$16","v":"S04.DP0007"}]
["CB100B2.S04.DP0008",{"$f":"'4 Allowance'!$E$17","v":"S04.DP0008"}]
["CB100B2.S04.DP0009",{"$f":"'4 Allowance'!$E$18","v":"S04.DP0009"}]
["CB100B2.S04.DP0010",{"$f":"'4 Allowance'!$E$19","v":"S04.DP0010"}]
["CB100B2.S04.DP0011",{"$f":"'4 Allowance'!$E$20","v":"S04.DP0011"}]
["CB100B2.S04.DP0012",{"$f":"'4 Allowance'!$E$21","v":"S04.DP0012"}]
["CB100B2.S04.DP0013",{"$f":"'4 Allowance'!$E$22","v":"S04.DP0013"}]
["CB100B2.S04.DP0014",{"$f":"'4 Allowance'!$E$23","v":"S04.DP0014"}]
["CB100B2.S04.DP0015",{"$f":"'4 Allowance'!$F$13","v":"S04.DP0015"}]
["CB100B2.S04.DP0016",{"$f":"'4 Allowance'!$F$14","v":"S04.DP0016"}]
["CB100B2.S04.DP0017",{"$f":"'4 Allowance'!$F$15","v":"S04.DP0017"}]
["CB100B2.S04.DP0018",{"$f":"'4 Allowance'!$F$16","v":"S04.DP0018"}]
["CB100B2.S04.DP0019",{"$f":"'4 Allowance'!$F$17","v":"S04.DP0019"}]
["CB100B2.S04.DP0020",{"$f":"'4 Allowance'!$F$18","v":"S04.DP0020"}]
["CB100B2.S04.DP0021",{"$f":"'4 Allowance'!$F$19","v":"S04.DP0021"}]
["CB100B2.S04.DP0022",{"$f":"'4 Allowance'!$F$20","v":"S04.DP0022"}]
["CB100B2.S04.DP0023",{"$f":"'4 Allowance'!$F$21","v":"S04.DP0023"}]
["CB100B2.S04.DP0024",{"$f":"'4 Allowance'!$F$22","v":"S04.DP0024"}]
["CB100B2.S04.DP0025",{"$f":"'4 Allowance'!$F$23","v":"S04.DP0025"}]
["CB100B2.S04.DP0026",{"$f":"'4 Allowance'!$G$13","v":"S04.DP0026"}]
["CB100B2.S04.DP0027",{"$f":"'4 Allowance'!$G$14","v":"S04.DP0027"}]
["CB100B2.S04.DP0028",{"$f":"'4 Allowance'!$G$15","v":"S04.DP0028"}]
["CB100B2.S04.DP0029",{"$f":"'4 Allowance'!$G$16","v":"S04.DP0029"}]
["CB100B2.S04.DP0030",{"$f":"'4 Allowance'!$G$17","v":"S04.DP0030"}]
["CB100B2.S04.DP0031",{"$f":"'4 Allowance'!$G$18","v":"S04.DP0031"}]
["CB100B2.S04.DP0032",{"$f":"'4 Allowance'!$G$19","v":"S04.DP0032"}]
["CB100B2.S04.DP0033",{"$f":"'4 Allowance'!$G$23","v":"S04.DP0033"}]
["CB100B2.S04.DP0034",{"$f":"'4 Allowance'!$H$13","v":"S04.DP0034"}]
["CB100B2.S04.DP0035",{"$f":"'4 Allowance'!$H$14","v":"S04.DP0035"}]
["CB100B2.S04.DP0036",{"$f":"'4 Allowance'!$H$15","v":"S04.DP0036"}]
["CB100B2.S04.DP0037",{"$f":"'4 Allowance'!$H$16","v":"S04.DP0037"}]
["CB100B2.S04.DP0038",{"$f":"'4 Allowance'!$H$17","v":"S04.DP0038"}]
["CB100B2.S04.DP0039",{"$f":"'4 Allowance'!$H$18","v":"S04.DP0039"}]
["CB100B2.S04.DP0040",{"$f":"'4 Allowance'!$H$19","v":"S04.DP0040"}]
["CB100B2.S04.DP0041",{"$f":"'4 Allowance'!$H$23","v":"S04.DP0041"}]
["CB100B2.S04.DP0042",{"$f":"'4 Allowance'!$I$13","v":"S04.DP0042"}]
["CB100B2.S04.DP0043",{"$f":"'4 Allowance'!$I$14","v":"S04.DP0043"}]
["CB100B2.S04.DP0044",{"$f":"'4 Allowance'!$I$15","v":"S04.DP0044"}]
["CB100B2.S04.DP0045",{"$f":"'4 Allowance'!$I$16","v":"S04.DP0045"}]
["CB100B2.S04.DP0046",{"$f":"'4 Allowance'!$I$17","v":"S04.DP0046"}]
["CB100B2.S04.DP0047",{"$f":"'4 Allowance'!$I$18","v":"S04.DP0047"}]
["CB100B2.S04.DP0048",{"$f":"'4 Allowance'!$I$19","v":"S04.DP0048"}]
["CB100B2.S04.DP0049",{"$f":"'4 Allowance'!$I$20","v":"S04.DP0049"}]
["CB100B2.S04.DP0050",{"$f":"'4 Allowance'!$I$22","v":"S04.DP0050"}]
["CB100B2.S04.DP0051",{"$f":"'4 Allowance'!$I$23","v":"S04.DP0051"}]
["CB100B2.S04.DP0052",{"$f":"'4 Allowance'!$J$13","v":"S04.DP0052"}]
["CB100B2.S04.DP0053",{"$f":"'4 Allowance'!$J$14","v":"S04.DP0053"}]
["CB100B2.S04.DP0054",{"$f":"'4 Allowance'!$J$15","v":"S04.DP0054"}]
["CB100B2.S04.DP0055",{"$f":"'4 Allowance'!$J$16","v":"S04.DP0055"}]
["CB100B2.S04.DP0056",{"$f":"'4 Allowance'!$J$17","v":"S04.DP0056"}]
["CB100B2.S04.DP0057",{"$f":"'4 Allowance'!$J$18","v":"S04.DP0057"}]
["CB100B2.S04.DP0058",{"$f":"'4 Allowance'!$J$19","v":"S04.DP0058"}]
["CB100B2.S04.DP0059",{"$f":"'4 Allowance'!$J$20","v":"S04.DP0059"}]
["CB100B2.S04.DP0060",{"$f":"'4 Allowance'!$J$21","v":"S04.DP0060"}]
["CB100B2.S04.DP0061",{"$f":"'4 Allowance'!$J$22","v":"S04.DP0061"}]
["CB100B2.S04.DP0062",{"$f":"'4 Allowance'!$J$23","v":"S04.DP0062"}]
["CB100B2.S04.DP0063",{"$f":"'4 Allowance'!$J$27","v":"S04.DP0063"}]
["CB100B2.S05.DP0001",{"$f":"'5 Sovereign'!$C$10","v":"S05.DP0001"}]
["CB100B2.S05.DP0002",{"$f":"'5 Sovereign'!$C$11","v":"S05.DP0002"}]
["CB100B2.S05.DP0003",{"$f":"'5 Sovereign'!$C$12","v":"S05.DP0003"}]
["CB100B2.S05.DP0004",{"$f":"'5 Sovereign'!$C$13","v":"S05.DP0004"}]
["CB100B2.S05.DP0005",{"$f":"'5 Sovereign'!$C$14","v":"S05.DP0005"}]
["CB100B2.S05.DP0006",{"$f":"'5 Sovereign'!$C$15","v":"S05.DP0006"}]
["CB100B2.S05.DP0007",{"$f":"'5 Sovereign'!$C$16","v":"S05.DP0007"}]
["CB100B2.S05.DP0008",{"$f":"'5 Sovereign'!$C$17","v":"S05.DP0008"}]
["CB100B2.S05.DP0009",{"$f":"'5 Sovereign'!$C$18","v":"S05.DP0009"}]
["CB100B2.S05.DP0010",{"$f":"'5 Sovereign'!$C$19","v":"S05.DP0010"}]
["CB100B2.S05.DP0011",{"$f":"'5 Sovereign'!$C$20","v":"S05.DP0011"}]
["CB100B2.S05.DP0012",{"$f":"'5 Sovereign'!$D$10","v":"S05.DP0012"}]
["CB100B2.S05.DP0013",{"$f":"'5 Sovereign'!$D$11","v":"S05.DP0013"}]
["CB100B2.S05.DP0014",{"$f":"'5 Sovereign'!$D$12","v":"S05.DP0014"}]
["CB100B2.S05.DP0015",{"$f":"'5 Sovereign'!$D$13","v":"S05.DP0015"}]
["CB100B2.S05.DP0016",{"$f":"'5 Sovereign'!$D$14","v":"S05.DP0016"}]
["CB100B2.S05.DP0017",{"$f":"'5 Sovereign'!$D$15","v":"S05.DP0017"}]
["CB100B2.S05.DP0018",{"$f":"'5 Sovereign'!$D$16","v":"S05.DP0018"}]
["CB100B2.S05.DP0019",{"$f":"'5 Sovereign'!$D$17","v":"S05.DP0019"}]
["CB100B2.S05.DP0020",{"$f":"'5 Sovereign'!$D$18","v":"S05.DP0020"}]
["CB100B2.S05.DP0021",{"$f":"'5 Sovereign'!$D$19","v":"S05.DP0021"}]
["CB100B2.S05.DP0022",{"$f":"'5 Sovereign'!$D$20","v":"S05.DP0022"}]
["CB100B2.S05.DP0023",{"$f":"'5 Sovereign'!$F$10","v":"S05.DP0023"}]
["CB100B2.S05.DP0024",{"$f":"'5 Sovereign'!$F$11","v":"S05.DP0024"}]
["CB100B2.S05.DP0025",{"$f":"'5 Sovereign'!$F$12","v":"S05.DP0025"}]
["CB100B2.S05.DP0026",{"$f":"'5 Sovereign'!$F$13","v":"S05.DP0026"}]
["CB100B2.S05.DP0027",{"$f":"'5 Sovereign'!$F$14","v":"S05.DP0027"}]
["CB100B2.S05.DP0028",{"$f":"'5 Sovereign'!$F$15","v":"S05.DP0028"}]
["CB100B2.S05.DP0029",{"$f":"'5 Sovereign'!$F$16","v":"S05.DP0029"}]
["CB100B2.S05.DP0030",{"$f":"'5 Sovereign'!$F$17","v":"S05.DP0030"}]
["CB100B2.S05.DP0031",{"$f":"'5 Sovereign'!$F$18","v":"S05.DP0031"}]
["CB100B2.S05.DP0032",{"$f":"'5 Sovereign'!$F$19","v":"S05.DP0032"}]
["CB100B2.S05.DP0033",{"$f":"'5 Sovereign'!$G$10","v":"S05.DP0033"}]
["CB100B2.S05.DP0034",{"$f":"'5 Sovereign'!$G$11","v":"S05.DP0034"}]
["CB100B2.S05.DP0035",{"$f":"'5 Sovereign'!$G$12","v":"S05.DP0035"}]
["CB100B2.S05.DP0036",{"$f":"'5 Sovereign'!$G$13","v":"S05.DP0036"}]
["CB100B2.S05.DP0037",{"$f":"'5 Sovereign'!$G$14","v":"S05.DP0037"}]
["CB100B2.S05.DP0038",{"$f":"'5 Sovereign'!$G$15","v":"S05.DP0038"}]
["CB100B2.S05.DP0039",{"$f":"'5 Sovereign'!$G$16","v":"S05.DP0039"}]
["CB100B2.S05.DP0040",{"$f":"'5 Sovereign'!$G$17","v":"S05.DP0040"}]
["CB100B2.S05.DP0041",{"$f":"'5 Sovereign'!$G$18","v":"S05.DP0041"}]
["CB100B2.S05.DP0042",{"$f":"'5 Sovereign'!$G$19","v":"S05.DP0042"}]
["CB100B2.S05.DP0043",{"$f":"'5 Sovereign'!$H$10","v":"S05.DP0043"}]
["CB100B2.S05.DP0044",{"$f":"'5 Sovereign'!$H$11","v":"S05.DP0044"}]
["CB100B2.S05.DP0045",{"$f":"'5 Sovereign'!$H$12","v":"S05.DP0045"}]
["CB100B2.S05.DP0046",{"$f":"'5 Sovereign'!$H$13","v":"S05.DP0046"}]
["CB100B2.S05.DP0047",{"$f":"'5 Sovereign'!$H$14","v":"S05.DP0047"}]
["CB100B2.S05.DP0048",{"$f":"'5 Sovereign'!$H$15","v":"S05.DP0048"}]
["CB100B2.S05.DP0049",{"$f":"'5 Sovereign'!$H$16","v":"S05.DP0049"}]
["CB100B2.S05.DP0050",{"$f":"'5 Sovereign'!$H$17","v":"S05.DP0050"}]
["CB100B2.S05.DP0051",{"$f":"'5 Sovereign'!$H$18","v":"S05.DP0051"}]
["CB100B2.S05.DP0052",{"$f":"'5 Sovereign'!$H$19","v":"S05.DP0052"}]
["CB100B2.S05.DP0053",{"$f":"'5 Sovereign'!$H$20","v":"S05.DP0053"}]
["CB100B2.S05.DP0054",{"$f":"'5 Sovereign'!$J$10","v":"S05.DP0054"}]
["CB100B2.S05.DP0055",{"$f":"'5 Sovereign'!$J$11","v":"S05.DP0055"}]
["CB100B2.S05.DP0056",{"$f":"'5 Sovereign'!$J$12","v":"S05.DP0056"}]
["CB100B2.S05.DP0057",{"$f":"'5 Sovereign'!$J$13","v":"S05.DP0057"}]
["CB100B2.S05.DP0058",{"$f":"'5 Sovereign'!$J$14","v":"S05.DP0058"}]
["CB100B2.S05.DP0059",{"$f":"'5 Sovereign'!$J$15","v":"S05.DP0059"}]
["CB100B2.S05.DP0060",{"$f":"'5 Sovereign'!$J$16","v":"S05.DP0060"}]
["CB100B2.S05.DP0061",{"$f":"'5 Sovereign'!$J$17","v":"S05.DP0061"}]
["CB100B2.S05.DP0062",{"$f":"'5 Sovereign'!$J$18","v":"S05.DP0062"}]
["CB100B2.S05.DP0063",{"$f":"'5 Sovereign'!$J$19","v":"S05.DP0063"}]
["CB100B2.S05.DP0064",{"$f":"'5 Sovereign'!$J$20","v":"S05.DP0064"}]
["CB100B2.S05.DP0065",{"$f":"'5 Sovereign'!$L$10","v":"S05.DP0065"}]
["CB100B2.S05.DP0066",{"$f":"'5 Sovereign'!$L$11","v":"S05.DP0066"}]
["CB100B2.S05.DP0067",{"$f":"'5 Sovereign'!$L$12","v":"S05.DP0067"}]
["CB100B2.S05.DP0068",{"$f":"'5 Sovereign'!$L$13","v":"S05.DP0068"}]
["CB100B2.S05.DP0069",{"$f":"'5 Sovereign'!$L$14","v":"S05.DP0069"}]
["CB100B2.S05.DP0070",{"$f":"'5 Sovereign'!$L$15","v":"S05.DP0070"}]
["CB100B2.S05.DP0071",{"$f":"'5 Sovereign'!$L$16","v":"S05.DP0071"}]
["CB100B2.S05.DP0072",{"$f":"'5 Sovereign'!$L$17","v":"S05.DP0072"}]
["CB100B2.S05.DP0073",{"$f":"'5 Sovereign'!$L$18","v":"S05.DP0073"}]
["CB100B2.S05.DP0074",{"$f":"'5 Sovereign'!$L$19","v":"S05.DP0074"}]
["CB100B2.S05.DP0075",{"$f":"'5 Sovereign'!$L$20","v":"S05.DP0075"}]
["CB100B2.S05.DP0076",{"$f":"'5 Sovereign'!$B$23","v":"S05.DP0076"}]
["CB100B2.S05.DP0077",{"$f":"'5 Sovereign'!$B$24","v":"S05.DP0077"}]
["CB100B2.S05.DP0078",{"$f":"'5 Sovereign'!$B$25","v":"S05.DP0078"}]
["CB100B2.S05.DP0079",{"$f":"'5 Sovereign'!$B$26","v":"S05.DP0079"}]
["CB100B2.S05.DP0080",{"$f":"'5 Sovereign'!$B$27","v":"S05.DP0080"}]
["CB100B2.S05.DP0081",{"$f":"'5 Sovereign'!$B$28","v":"S05.DP0081"}]
["CB100B2.S05.DP0082",{"$f":"'5 Sovereign'!$B$29","v":"S05.DP0082"}]
["CB100B2.S05.DP0083",{"$f":"'5 Sovereign'!$B$30","v":"S05.DP0083"}]
["CB100B2.S05.DP0084",{"$f":"'5 Sovereign'!$B$31","v":"S05.DP0084"}]
["CB100B2.S05.DP0085",{"$f":"'5 Sovereign'!$B$32","v":"S05.DP0085"}]
["CB100B2.S05.DP0086",{"$f":"'5 Sovereign'!$B$33","v":"S05.DP0086"}]
["CB100B2.S05.DP0087",{"$f":"'5 Sovereign'!$C$23","v":"S05.DP0087"}]
["CB100B2.S05.DP0088",{"$f":"'5 Sovereign'!$C$24","v":"S05.DP0088"}]
["CB100B2.S05.DP0089",{"$f":"'5 Sovereign'!$C$25","v":"S05.DP0089"}]
["CB100B2.S05.DP0090",{"$f":"'5 Sovereign'!$C$26","v":"S05.DP0090"}]
["CB100B2.S05.DP0091",{"$f":"'5 Sovereign'!$C$27","v":"S05.DP0091"}]
["CB100B2.S05.DP0092",{"$f":"'5 Sovereign'!$C$28","v":"S05.DP0092"}]
["CB100B2.S05.DP0093",{"$f":"'5 Sovereign'!$C$29","v":"S05.DP0093"}]
["CB100B2.S05.DP0094",{"$f":"'5 Sovereign'!$C$30","v":"S05.DP0094"}]
["CB100B2.S05.DP0095",{"$f":"'5 Sovereign'!$C$31","v":"S05.DP0095"}]
["CB100B2.S05.DP0096",{"$f":"'5 Sovereign'!$C$32","v":"S05.DP0096"}]
["CB100B2.S05.DP0097",{"$f":"'5 Sovereign'!$C$33","v":"S05.DP0097"}]
["CB100B2.S05.DP0098",{"$f":"'5 Sovereign'!$D$23","v":"S05.DP0098"}]
["CB100B2.S05.DP0099",{"$f":"'5 Sovereign'!$D$24","v":"S05.DP0099"}]
["CB100B2.S05.DP0100",{"$f":"'5 Sovereign'!$D$25","v":"S05.DP0100"}]
["CB100B2.S05.DP0101",{"$f":"'5 Sovereign'!$D$26","v":"S05.DP0101"}]
["CB100B2.S05.DP0102",{"$f":"'5 Sovereign'!$D$27","v":"S05.DP0102"}]
["CB100B2.S05.DP0103",{"$f":"'5 Sovereign'!$D$28","v":"S05.DP0103"}]
["CB100B2.S05.DP0104",{"$f":"'5 Sovereign'!$D$29","v":"S05.DP0104"}]
["CB100B2.S05.DP0105",{"$f":"'5 Sovereign'!$D$30","v":"S05.DP0105"}]
["CB100B2.S05.DP0106",{"$f":"'5 Sovereign'!$D$31","v":"S05.DP0106"}]
["CB100B2.S05.DP0107",{"$f":"'5 Sovereign'!$D$32","v":"S05.DP0107"}]
["CB100B2.S05.DP0108",{"$f":"'5 Sovereign'!$D$33","v":"S05.DP0108"}]
["CB100B2.S05.DP0109",{"$f":"'5 Sovereign'!$F$23","v":"S05.DP0109"}]
["CB100B2.S05.DP0110",{"$f":"'5 Sovereign'!$F$24","v":"S05.DP0110"}]
["CB100B2.S05.DP0111",{"$f":"'5 Sovereign'!$F$25","v":"S05.DP0111"}]
["CB100B2.S05.DP0112",{"$f":"'5 Sovereign'!$F$26","v":"S05.DP0112"}]
["CB100B2.S05.DP0113",{"$f":"'5 Sovereign'!$F$27","v":"S05.DP0113"}]
["CB100B2.S05.DP0114",{"$f":"'5 Sovereign'!$F$28","v":"S05.DP0114"}]
["CB100B2.S05.DP0115",{"$f":"'5 Sovereign'!$F$29","v":"S05.DP0115"}]
["CB100B2.S05.DP0116",{"$f":"'5 Sovereign'!$F$30","v":"S05.DP0116"}]
["CB100B2.S05.DP0117",{"$f":"'5 Sovereign'!$F$31","v":"S05.DP0117"}]
["CB100B2.S05.DP0118",{"$f":"'5 Sovereign'!$F$32","v":"S05.DP0118"}]
["CB100B2.S05.DP0119",{"$f":"'5 Sovereign'!$G$23","v":"S05.DP0119"}]
["CB100B2.S05.DP0120",{"$f":"'5 Sovereign'!$G$24","v":"S05.DP0120"}]
["CB100B2.S05.DP0121",{"$f":"'5 Sovereign'!$G$25","v":"S05.DP0121"}]
["CB100B2.S05.DP0122",{"$f":"'5 Sovereign'!$G$26","v":"S05.DP0122"}]
["CB100B2.S05.DP0123",{"$f":"'5 Sovereign'!$G$27","v":"S05.DP0123"}]
["CB100B2.S05.DP0124",{"$f":"'5 Sovereign'!$G$28","v":"S05.DP0124"}]
["CB100B2.S05.DP0125",{"$f":"'5 Sovereign'!$G$29","v":"S05.DP0125"}]
["CB100B2.S05.DP0126",{"$f":"'5 Sovereign'!$G$30","v":"S05.DP0126"}]
["CB100B2.S05.DP0127",{"$f":"'5 Sovereign'!$G$31","v":"S05.DP0127"}]
["CB100B2.S05.DP0128",{"$f":"'5 Sovereign'!$G$32","v":"S05.DP0128"}]
["CB100B2.S05.DP0129",{"$f":"'5 Sovereign'!$H$23","v":"S05.DP0129"}]
["CB100B2.S05.DP0130",{"$f":"'5 Sovereign'!$H$24","v":"S05.DP0130"}]
["CB100B2.S05.DP0131",{"$f":"'5 Sovereign'!$H$25","v":"S05.DP0131"}]
["CB100B2.S05.DP0132",{"$f":"'5 Sovereign'!$H$26","v":"S05.DP0132"}]
["CB100B2.S05.DP0133",{"$f":"'5 Sovereign'!$H$27","v":"S05.DP0133"}]
["CB100B2.S05.DP0134",{"$f":"'5 Sovereign'!$H$28","v":"S05.DP0134"}]
["CB100B2.S05.DP0135",{"$f":"'5 Sovereign'!$H$29","v":"S05.DP0135"}]
["CB100B2.S05.DP0136",{"$f":"'5 Sovereign'!$H$30","v":"S05.DP0136"}]
["CB100B2.S05.DP0137",{"$f":"'5 Sovereign'!$H$31","v":"S05.DP0137"}]
["CB100B2.S05.DP0138",{"$f":"'5 Sovereign'!$H$32","v":"S05.DP0138"}]
["CB100B2.S05.DP0139",{"$f":"'5 Sovereign'!$H$33","v":"S05.DP0139"}]
["CB100B2.S05.DP0140",{"$f":"'5 Sovereign'!$J$23","v":"S05.DP0140"}]
["CB100B2.S05.DP0141",{"$f":"'5 Sovereign'!$J$24","v":"S05.DP0141"}]
["CB100B2.S05.DP0142",{"$f":"'5 Sovereign'!$J$25","v":"S05.DP0142"}]
["CB100B2.S05.DP0143",{"$f":"'5 Sovereign'!$J$26","v":"S05.DP0143"}]
["CB100B2.S05.DP0144",{"$f":"'5 Sovereign'!$J$27","v":"S05.DP0144"}]
["CB100B2.S05.DP0145",{"$f":"'5 Sovereign'!$J$28","v":"S05.DP0145"}]
["CB100B2.S05.DP0146",{"$f":"'5 Sovereign'!$J$29","v":"S05.DP0146"}]
["CB100B2.S05.DP0147",{"$f":"'5 Sovereign'!$J$30","v":"S05.DP0147"}]
["CB100B2.S05.DP0148",{"$f":"'5 Sovereign'!$J$31","v":"S05.DP0148"}]
["CB100B2.S05.DP0149",{"$f":"'5 Sovereign'!$J$32","v":"S05.DP0149"}]
["CB100B2.S05.DP0150",{"$f":"'5 Sovereign'!$J$33","v":"S05.DP0150"}]
["CB100B2.S05.DP0151",{"$f":"'5 Sovereign'!$L$23","v":"S05.DP0151"}]
["CB100B2.S05.DP0152",{"$f":"'5 Sovereign'!$L$24","v":"S05.DP0152"}]
["CB100B2.S05.DP0153",{"$f":"'5 Sovereign'!$L$25","v":"S05.DP0153"}]
["CB100B2.S05.DP0154",{"$f":"'5 Sovereign'!$L$26","v":"S05.DP0154"}]
["CB100B2.S05.DP0155",{"$f":"'5 Sovereign'!$L$27","v":"S05.DP0155"}]
["CB100B2.S05.DP0156",{"$f":"'5 Sovereign'!$L$28","v":"S05.DP0156"}]
["CB100B2.S05.DP0157",{"$f":"'5 Sovereign'!$L$29","v":"S05.DP0157"}]
["CB100B2.S05.DP0158",{"$f":"'5 Sovereign'!$L$30","v":"S05.DP0158"}]
["CB100B2.S05.DP0159",{"$f":"'5 Sovereign'!$L$31","v":"S05.DP0159"}]
["CB100B2.S05.DP0160",{"$f":"'5 Sovereign'!$L$32","v":"S05.DP0160"}]
["CB100B2.S05.DP0161",{"$f":"'5 Sovereign'!$L$33","v":"S05.DP0161"}]
["CB100B2.S05.DP0162",{"$f":"'5 Sovereign'!$C$36","v":"S05.DP0162"}]
["CB100B2.S05.DP0163",{"$f":"'5 Sovereign'!$C$37","v":"S05.DP0163"}]
["CB100B2.S05.DP0164",{"$f":"'5 Sovereign'!$C$38","v":"S05.DP0164"}]
["CB100B2.S05.DP0165",{"$f":"'5 Sovereign'!$C$39","v":"S05.DP0165"}]
["CB100B2.S05.DP0166",{"$f":"'5 Sovereign'!$C$40","v":"S05.DP0166"}]
["CB100B2.S05.DP0167",{"$f":"'5 Sovereign'!$C$41","v":"S05.DP0167"}]
["CB100B2.S05.DP0168",{"$f":"'5 Sovereign'!$C$42","v":"S05.DP0168"}]
["CB100B2.S05.DP0169",{"$f":"'5 Sovereign'!$C$43","v":"S05.DP0169"}]
["CB100B2.S05.DP0170",{"$f":"'5 Sovereign'!$C$44","v":"S05.DP0170"}]
["CB100B2.S05.DP0171",{"$f":"'5 Sovereign'!$C$45","v":"S05.DP0171"}]
["CB100B2.S05.DP0172",{"$f":"'5 Sovereign'!$C$46","v":"S05.DP0172"}]
["CB100B2.S05.DP0173",{"$f":"'5 Sovereign'!$D$36","v":"S05.DP0173"}]
["CB100B2.S05.DP0174",{"$f":"'5 Sovereign'!$D$37","v":"S05.DP0174"}]
["CB100B2.S05.DP0175",{"$f":"'5 Sovereign'!$D$38","v":"S05.DP0175"}]
["CB100B2.S05.DP0176",{"$f":"'5 Sovereign'!$D$39","v":"S05.DP0176"}]
["CB100B2.S05.DP0177",{"$f":"'5 Sovereign'!$D$40","v":"S05.DP0177"}]
["CB100B2.S05.DP0178",{"$f":"'5 Sovereign'!$D$41","v":"S05.DP0178"}]
["CB100B2.S05.DP0179",{"$f":"'5 Sovereign'!$D$42","v":"S05.DP0179"}]
["CB100B2.S05.DP0180",{"$f":"'5 Sovereign'!$D$43","v":"S05.DP0180"}]
["CB100B2.S05.DP0181",{"$f":"'5 Sovereign'!$D$44","v":"S05.DP0181"}]
["CB100B2.S05.DP0182",{"$f":"'5 Sovereign'!$D$45","v":"S05.DP0182"}]
["CB100B2.S05.DP0183",{"$f":"'5 Sovereign'!$D$46","v":"S05.DP0183"}]
["CB100B2.S05.DP0184",{"$f":"'5 Sovereign'!$F$36","v":"S05.DP0184"}]
["CB100B2.S05.DP0185",{"$f":"'5 Sovereign'!$F$37","v":"S05.DP0185"}]
["CB100B2.S05.DP0186",{"$f":"'5 Sovereign'!$F$38","v":"S05.DP0186"}]
["CB100B2.S05.DP0187",{"$f":"'5 Sovereign'!$F$39","v":"S05.DP0187"}]
["CB100B2.S05.DP0188",{"$f":"'5 Sovereign'!$F$40","v":"S05.DP0188"}]
["CB100B2.S05.DP0189",{"$f":"'5 Sovereign'!$F$41","v":"S05.DP0189"}]
["CB100B2.S05.DP0190",{"$f":"'5 Sovereign'!$F$42","v":"S05.DP0190"}]
["CB100B2.S05.DP0191",{"$f":"'5 Sovereign'!$F$43","v":"S05.DP0191"}]
["CB100B2.S05.DP0192",{"$f":"'5 Sovereign'!$F$44","v":"S05.DP0192"}]
["CB100B2.S05.DP0193",{"$f":"'5 Sovereign'!$F$45","v":"S05.DP0193"}]
["CB100B2.S05.DP0194",{"$f":"'5 Sovereign'!$G$36","v":"S05.DP0194"}]
["CB100B2.S05.DP0195",{"$f":"'5 Sovereign'!$G$37","v":"S05.DP0195"}]
["CB100B2.S05.DP0196",{"$f":"'5 Sovereign'!$G$38","v":"S05.DP0196"}]
["CB100B2.S05.DP0197",{"$f":"'5 Sovereign'!$G$39","v":"S05.DP0197"}]
["CB100B2.S05.DP0198",{"$f":"'5 Sovereign'!$G$40","v":"S05.DP0198"}]
["CB100B2.S05.DP0199",{"$f":"'5 Sovereign'!$G$41","v":"S05.DP0199"}]
["CB100B2.S05.DP0200",{"$f":"'5 Sovereign'!$G$42","v":"S05.DP0200"}]
["CB100B2.S05.DP0201",{"$f":"'5 Sovereign'!$G$43","v":"S05.DP0201"}]
["CB100B2.S05.DP0202",{"$f":"'5 Sovereign'!$G$44","v":"S05.DP0202"}]
["CB100B2.S05.DP0203",{"$f":"'5 Sovereign'!$G$45","v":"S05.DP0203"}]
["CB100B2.S05.DP0204",{"$f":"'5 Sovereign'!$H$36","v":"S05.DP0204"}]
["CB100B2.S05.DP0205",{"$f":"'5 Sovereign'!$H$37","v":"S05.DP0205"}]
["CB100B2.S05.DP0206",{"$f":"'5 Sovereign'!$H$38","v":"S05.DP0206"}]
["CB100B2.S05.DP0207",{"$f":"'5 Sovereign'!$H$39","v":"S05.DP0207"}]
["CB100B2.S05.DP0208",{"$f":"'5 Sovereign'!$H$40","v":"S05.DP0208"}]
["CB100B2.S05.DP0209",{"$f":"'5 Sovereign'!$H$41","v":"S05.DP0209"}]
["CB100B2.S05.DP0210",{"$f":"'5 Sovereign'!$H$42","v":"S05.DP0210"}]
["CB100B2.S05.DP0211",{"$f":"'5 Sovereign'!$H$43","v":"S05.DP0211"}]
["CB100B2.S05.DP0212",{"$f":"'5 Sovereign'!$H$44","v":"S05.DP0212"}]
["CB100B2.S05.DP0213",{"$f":"'5 Sovereign'!$H$45","v":"S05.DP0213"}]
["CB100B2.S05.DP0214",{"$f":"'5 Sovereign'!$H$46","v":"S05.DP0214"}]
["CB100B2.S05.DP0215",{"$f":"'5 Sovereign'!$J$36","v":"S05.DP0215"}]
["CB100B2.S05.DP0216",{"$f":"'5 Sovereign'!$J$37","v":"S05.DP0216"}]
["CB100B2.S05.DP0217",{"$f":"'5 Sovereign'!$J$38","v":"S05.DP0217"}]
["CB100B2.S05.DP0218",{"$f":"'5 Sovereign'!$J$39","v":"S05.DP0218"}]
["CB100B2.S05.DP0219",{"$f":"'5 Sovereign'!$J$40","v":"S05.DP0219"}]
["CB100B2.S05.DP0220",{"$f":"'5 Sovereign'!$J$41","v":"S05.DP0220"}]
["CB100B2.S05.DP0221",{"$f":"'5 Sovereign'!$J$42","v":"S05.DP0221"}]
["CB100B2.S05.DP0222",{"$f":"'5 Sovereign'!$J$43","v":"S05.DP0222"}]
["CB100B2.S05.DP0223",{"$f":"'5 Sovereign'!$J$44","v":"S05.DP0223"}]
["CB100B2.S05.DP0224",{"$f":"'5 Sovereign'!$J$45","v":"S05.DP0224"}]
["CB100B2.S05.DP0225",{"$f":"'5 Sovereign'!$J$46","v":"S05.DP0225"}]
["CB100B2.S05.DP0226",{"$f":"'5 Sovereign'!$L$36","v":"S05.DP0226"}]
["CB100B2.S05.DP0227",{"$f":"'5 Sovereign'!$L$37","v":"S05.DP0227"}]
["CB100B2.S05.DP0228",{"$f":"'5 Sovereign'!$L$38","v":"S05.DP0228"}]
["CB100B2.S05.DP0229",{"$f":"'5 Sovereign'!$L$39","v":"S05.DP0229"}]
["CB100B2.S05.DP0230",{"$f":"'5 Sovereign'!$L$40","v":"S05.DP0230"}]
["CB100B2.S05.DP0231",{"$f":"'5 Sovereign'!$L$41","v":"S05.DP0231"}]
["CB100B2.S05.DP0232",{"$f":"'5 Sovereign'!$L$42","v":"S05.DP0232"}]
["CB100B2.S05.DP0233",{"$f":"'5 Sovereign'!$L$43","v":"S05.DP0233"}]
["CB100B2.S05.DP0234",{"$f":"'5 Sovereign'!$L$44","v":"S05.DP0234"}]
["CB100B2.S05.DP0235",{"$f":"'5 Sovereign'!$L$45","v":"S05.DP0235"}]
["CB100B2.S05.DP0236",{"$f":"'5 Sovereign'!$L$46","v":"S05.DP0236"}]
["CB100B2.S05.DP0237",{"$f":"'5 Sovereign'!$B$49","v":"S05.DP0237"}]
["CB100B2.S05.DP0238",{"$f":"'5 Sovereign'!$B$50","v":"S05.DP0238"}]
["CB100B2.S05.DP0239",{"$f":"'5 Sovereign'!$B$51","v":"S05.DP0239"}]
["CB100B2.S05.DP0240",{"$f":"'5 Sovereign'!$B$52","v":"S05.DP0240"}]
["CB100B2.S05.DP0241",{"$f":"'5 Sovereign'!$B$53","v":"S05.DP0241"}]
["CB100B2.S05.DP0242",{"$f":"'5 Sovereign'!$B$54","v":"S05.DP0242"}]
["CB100B2.S05.DP0243",{"$f":"'5 Sovereign'!$B$55","v":"S05.DP0243"}]
["CB100B2.S05.DP0244",{"$f":"'5 Sovereign'!$B$56","v":"S05.DP0244"}]
["CB100B2.S05.DP0245",{"$f":"'5 Sovereign'!$B$57","v":"S05.DP0245"}]
["CB100B2.S05.DP0246",{"$f":"'5 Sovereign'!$B$58","v":"S05.DP0246"}]
["CB100B2.S05.DP0247",{"$f":"'5 Sovereign'!$B$59","v":"S05.DP0247"}]
["CB100B2.S05.DP0248",{"$f":"'5 Sovereign'!$C$49","v":"S05.DP0248"}]
["CB100B2.S05.DP0249",{"$f":"'5 Sovereign'!$C$50","v":"S05.DP0249"}]
["CB100B2.S05.DP0250",{"$f":"'5 Sovereign'!$C$51","v":"S05.DP0250"}]
["CB100B2.S05.DP0251",{"$f":"'5 Sovereign'!$C$52","v":"S05.DP0251"}]
["CB100B2.S05.DP0252",{"$f":"'5 Sovereign'!$C$53","v":"S05.DP0252"}]
["CB100B2.S05.DP0253",{"$f":"'5 Sovereign'!$C$54","v":"S05.DP0253"}]
["CB100B2.S05.DP0254",{"$f":"'5 Sovereign'!$C$55","v":"S05.DP0254"}]
["CB100B2.S05.DP0255",{"$f":"'5 Sovereign'!$C$56","v":"S05.DP0255"}]
["CB100B2.S05.DP0256",{"$f":"'5 Sovereign'!$C$57","v":"S05.DP0256"}]
["CB100B2.S05.DP0257",{"$f":"'5 Sovereign'!$C$58","v":"S05.DP0257"}]
["CB100B2.S05.DP0258",{"$f":"'5 Sovereign'!$C$59","v":"S05.DP0258"}]
["CB100B2.S05.DP0259",{"$f":"'5 Sovereign'!$D$49","v":"S05.DP0259"}]
["CB100B2.S05.DP0260",{"$f":"'5 Sovereign'!$D$50","v":"S05.DP0260"}]
["CB100B2.S05.DP0261",{"$f":"'5 Sovereign'!$D$51","v":"S05.DP0261"}]
["CB100B2.S05.DP0262",{"$f":"'5 Sovereign'!$D$52","v":"S05.DP0262"}]
["CB100B2.S05.DP0263",{"$f":"'5 Sovereign'!$D$53","v":"S05.DP0263"}]
["CB100B2.S05.DP0264",{"$f":"'5 Sovereign'!$D$54","v":"S05.DP0264"}]
["CB100B2.S05.DP0265",{"$f":"'5 Sovereign'!$D$55","v":"S05.DP0265"}]
["CB100B2.S05.DP0266",{"$f":"'5 Sovereign'!$D$56","v":"S05.DP0266"}]
["CB100B2.S05.DP0267",{"$f":"'5 Sovereign'!$D$57","v":"S05.DP0267"}]
["CB100B2.S05.DP0268",{"$f":"'5 Sovereign'!$D$58","v":"S05.DP0268"}]
["CB100B2.S05.DP0269",{"$f":"'5 Sovereign'!$D$59","v":"S05.DP0269"}]
["CB100B2.S05.DP0270",{"$f":"'5 Sovereign'!$F$49","v":"S05.DP0270"}]
["CB100B2.S05.DP0271",{"$f":"'5 Sovereign'!$F$50","v":"S05.DP0271"}]
["CB100B2.S05.DP0272",{"$f":"'5 Sovereign'!$F$51","v":"S05.DP0272"}]
["CB100B2.S05.DP0273",{"$f":"'5 Sovereign'!$F$52","v":"S05.DP0273"}]
["CB100B2.S05.DP0274",{"$f":"'5 Sovereign'!$F$53","v":"S05.DP0274"}]
["CB100B2.S05.DP0275",{"$f":"'5 Sovereign'!$F$54","v":"S05.DP0275"}]
["CB100B2.S05.DP0276",{"$f":"'5 Sovereign'!$F$55","v":"S05.DP0276"}]
["CB100B2.S05.DP0277",{"$f":"'5 Sovereign'!$F$56","v":"S05.DP0277"}]
["CB100B2.S05.DP0278",{"$f":"'5 Sovereign'!$F$57","v":"S05.DP0278"}]
["CB100B2.S05.DP0279",{"$f":"'5 Sovereign'!$F$58","v":"S05.DP0279"}]
["CB100B2.S05.DP0280",{"$f":"'5 Sovereign'!$G$49","v":"S05.DP0280"}]
["CB100B2.S05.DP0281",{"$f":"'5 Sovereign'!$G$50","v":"S05.DP0281"}]
["CB100B2.S05.DP0282",{"$f":"'5 Sovereign'!$G$51","v":"S05.DP0282"}]
["CB100B2.S05.DP0283",{"$f":"'5 Sovereign'!$G$52","v":"S05.DP0283"}]
["CB100B2.S05.DP0284",{"$f":"'5 Sovereign'!$G$53","v":"S05.DP0284"}]
["CB100B2.S05.DP0285",{"$f":"'5 Sovereign'!$G$54","v":"S05.DP0285"}]
["CB100B2.S05.DP0286",{"$f":"'5 Sovereign'!$G$55","v":"S05.DP0286"}]
["CB100B2.S05.DP0287",{"$f":"'5 Sovereign'!$G$56","v":"S05.DP0287"}]
["CB100B2.S05.DP0288",{"$f":"'5 Sovereign'!$G$57","v":"S05.DP0288"}]
["CB100B2.S05.DP0289",{"$f":"'5 Sovereign'!$G$58","v":"S05.DP0289"}]
["CB100B2.S05.DP0290",{"$f":"'5 Sovereign'!$H$49","v":"S05.DP0290"}]
["CB100B2.S05.DP0291",{"$f":"'5 Sovereign'!$H$50","v":"S05.DP0291"}]
["CB100B2.S05.DP0292",{"$f":"'5 Sovereign'!$H$51","v":"S05.DP0292"}]
["CB100B2.S05.DP0293",{"$f":"'5 Sovereign'!$H$52","v":"S05.DP0293"}]
["CB100B2.S05.DP0294",{"$f":"'5 Sovereign'!$H$53","v":"S05.DP0294"}]
["CB100B2.S05.DP0295",{"$f":"'5 Sovereign'!$H$54","v":"S05.DP0295"}]
["CB100B2.S05.DP0296",{"$f":"'5 Sovereign'!$H$55","v":"S05.DP0296"}]
["CB100B2.S05.DP0297",{"$f":"'5 Sovereign'!$H$56","v":"S05.DP0297"}]
["CB100B2.S05.DP0298",{"$f":"'5 Sovereign'!$H$57","v":"S05.DP0298"}]
["CB100B2.S05.DP0299",{"$f":"'5 Sovereign'!$H$58","v":"S05.DP0299"}]
["CB100B2.S05.DP0300",{"$f":"'5 Sovereign'!$H$59","v":"S05.DP0300"}]
["CB100B2.S05.DP0301",{"$f":"'5 Sovereign'!$J$49","v":"S05.DP0301"}]
["CB100B2.S05.DP0302",{"$f":"'5 Sovereign'!$J$50","v":"S05.DP0302"}]
["CB100B2.S05.DP0303",{"$f":"'5 Sovereign'!$J$51","v":"S05.DP0303"}]
["CB100B2.S05.DP0304",{"$f":"'5 Sovereign'!$J$52","v":"S05.DP0304"}]
["CB100B2.S05.DP0305",{"$f":"'5 Sovereign'!$J$53","v":"S05.DP0305"}]
["CB100B2.S05.DP0306",{"$f":"'5 Sovereign'!$J$54","v":"S05.DP0306"}]
["CB100B2.S05.DP0307",{"$f":"'5 Sovereign'!$J$55","v":"S05.DP0307"}]
["CB100B2.S05.DP0308",{"$f":"'5 Sovereign'!$J$56","v":"S05.DP0308"}]
["CB100B2.S05.DP0309",{"$f":"'5 Sovereign'!$J$57","v":"S05.DP0309"}]
["CB100B2.S05.DP0310",{"$f":"'5 Sovereign'!$J$58","v":"S05.DP0310"}]
["CB100B2.S05.DP0311",{"$f":"'5 Sovereign'!$J$59","v":"S05.DP0311"}]
["CB100B2.S05.DP0312",{"$f":"'5 Sovereign'!$L$49","v":"S05.DP0312"}]
["CB100B2.S05.DP0313",{"$f":"'5 Sovereign'!$L$50","v":"S05.DP0313"}]
["CB100B2.S05.DP0314",{"$f":"'5 Sovereign'!$L$51","v":"S05.DP0314"}]
["CB100B2.S05.DP0315",{"$f":"'5 Sovereign'!$L$52","v":"S05.DP0315"}]
["CB100B2.S05.DP0316",{"$f":"'5 Sovereign'!$L$53","v":"S05.DP0316"}]
["CB100B2.S05.DP0317",{"$f":"'5 Sovereign'!$L$54","v":"S05.DP0317"}]
["CB100B2.S05.DP0318",{"$f":"'5 Sovereign'!$L$55","v":"S05.DP0318"}]
["CB100B2.S05.DP0319",{"$f":"'5 Sovereign'!$L$56","v":"S05.DP0319"}]
["CB100B2.S05.DP0320",{"$f":"'5 Sovereign'!$L$57","v":"S05.DP0320"}]
["CB100B2.S05.DP0321",{"$f":"'5 Sovereign'!$L$58","v":"S05.DP0321"}]
["CB100B2.S05.DP0322",{"$f":"'5 Sovereign'!$L$59","v":"S05.DP0322"}]
["CB100B2.S05.DP0323",{"$f":"'5 Sovereign'!$B$62","v":"S05.DP0323"}]
["CB100B2.S05.DP0324",{"$f":"'5 Sovereign'!$B$63","v":"S05.DP0324"}]
["CB100B2.S05.DP0325",{"$f":"'5 Sovereign'!$B$64","v":"S05.DP0325"}]
["CB100B2.S05.DP0326",{"$f":"'5 Sovereign'!$B$65","v":"S05.DP0326"}]
["CB100B2.S05.DP0327",{"$f":"'5 Sovereign'!$B$66","v":"S05.DP0327"}]
["CB100B2.S05.DP0328",{"$f":"'5 Sovereign'!$B$67","v":"S05.DP0328"}]
["CB100B2.S05.DP0329",{"$f":"'5 Sovereign'!$B$68","v":"S05.DP0329"}]
["CB100B2.S05.DP0330",{"$f":"'5 Sovereign'!$B$69","v":"S05.DP0330"}]
["CB100B2.S05.DP0331",{"$f":"'5 Sovereign'!$B$70","v":"S05.DP0331"}]
["CB100B2.S05.DP0332",{"$f":"'5 Sovereign'!$B$71","v":"S05.DP0332"}]
["CB100B2.S05.DP0333",{"$f":"'5 Sovereign'!$B$72","v":"S05.DP0333"}]
["CB100B2.S05.DP0334",{"$f":"'5 Sovereign'!$C$62","v":"S05.DP0334"}]
["CB100B2.S05.DP0335",{"$f":"'5 Sovereign'!$C$63","v":"S05.DP0335"}]
["CB100B2.S05.DP0336",{"$f":"'5 Sovereign'!$C$64","v":"S05.DP0336"}]
["CB100B2.S05.DP0337",{"$f":"'5 Sovereign'!$C$65","v":"S05.DP0337"}]
["CB100B2.S05.DP0338",{"$f":"'5 Sovereign'!$C$66","v":"S05.DP0338"}]
["CB100B2.S05.DP0339",{"$f":"'5 Sovereign'!$C$67","v":"S05.DP0339"}]
["CB100B2.S05.DP0340",{"$f":"'5 Sovereign'!$C$68","v":"S05.DP0340"}]
["CB100B2.S05.DP0341",{"$f":"'5 Sovereign'!$C$69","v":"S05.DP0341"}]
["CB100B2.S05.DP0342",{"$f":"'5 Sovereign'!$C$70","v":"S05.DP0342"}]
["CB100B2.S05.DP0343",{"$f":"'5 Sovereign'!$C$71","v":"S05.DP0343"}]
["CB100B2.S05.DP0344",{"$f":"'5 Sovereign'!$C$72","v":"S05.DP0344"}]
["CB100B2.S05.DP0345",{"$f":"'5 Sovereign'!$D$62","v":"S05.DP0345"}]
["CB100B2.S05.DP0346",{"$f":"'5 Sovereign'!$D$63","v":"S05.DP0346"}]
["CB100B2.S05.DP0347",{"$f":"'5 Sovereign'!$D$64","v":"S05.DP0347"}]
["CB100B2.S05.DP0348",{"$f":"'5 Sovereign'!$D$65","v":"S05.DP0348"}]
["CB100B2.S05.DP0349",{"$f":"'5 Sovereign'!$D$66","v":"S05.DP0349"}]
["CB100B2.S05.DP0350",{"$f":"'5 Sovereign'!$D$67","v":"S05.DP0350"}]
["CB100B2.S05.DP0351",{"$f":"'5 Sovereign'!$D$68","v":"S05.DP0351"}]
["CB100B2.S05.DP0352",{"$f":"'5 Sovereign'!$D$69","v":"S05.DP0352"}]
["CB100B2.S05.DP0353",{"$f":"'5 Sovereign'!$D$70","v":"S05.DP0353"}]
["CB100B2.S05.DP0354",{"$f":"'5 Sovereign'!$D$71","v":"S05.DP0354"}]
["CB100B2.S05.DP0355",{"$f":"'5 Sovereign'!$D$72","v":"S05.DP0355"}]
["CB100B2.S05.DP0356",{"$f":"'5 Sovereign'!$F$62","v":"S05.DP0356"}]
["CB100B2.S05.DP0357",{"$f":"'5 Sovereign'!$F$63","v":"S05.DP0357"}]
["CB100B2.S05.DP0358",{"$f":"'5 Sovereign'!$F$64","v":"S05.DP0358"}]
["CB100B2.S05.DP0359",{"$f":"'5 Sovereign'!$F$65","v":"S05.DP0359"}]
["CB100B2.S05.DP0360",{"$f":"'5 Sovereign'!$F$66","v":"S05.DP0360"}]
["CB100B2.S05.DP0361",{"$f":"'5 Sovereign'!$F$67","v":"S05.DP0361"}]
["CB100B2.S05.DP0362",{"$f":"'5 Sovereign'!$F$68","v":"S05.DP0362"}]
["CB100B2.S05.DP0363",{"$f":"'5 Sovereign'!$F$69","v":"S05.DP0363"}]
["CB100B2.S05.DP0364",{"$f":"'5 Sovereign'!$F$70","v":"S05.DP0364"}]
["CB100B2.S05.DP0365",{"$f":"'5 Sovereign'!$F$71","v":"S05.DP0365"}]
["CB100B2.S05.DP0366",{"$f":"'5 Sovereign'!$G$62","v":"S05.DP0366"}]
["CB100B2.S05.DP0367",{"$f":"'5 Sovereign'!$G$63","v":"S05.DP0367"}]
["CB100B2.S05.DP0368",{"$f":"'5 Sovereign'!$G$64","v":"S05.DP0368"}]
["CB100B2.S05.DP0369",{"$f":"'5 Sovereign'!$G$65","v":"S05.DP0369"}]
["CB100B2.S05.DP0370",{"$f":"'5 Sovereign'!$G$66","v":"S05.DP0370"}]
["CB100B2.S05.DP0371",{"$f":"'5 Sovereign'!$G$67","v":"S05.DP0371"}]
["CB100B2.S05.DP0372",{"$f":"'5 Sovereign'!$G$68","v":"S05.DP0372"}]
["CB100B2.S05.DP0373",{"$f":"'5 Sovereign'!$G$69","v":"S05.DP0373"}]
["CB100B2.S05.DP0374",{"$f":"'5 Sovereign'!$G$70","v":"S05.DP0374"}]
["CB100B2.S05.DP0375",{"$f":"'5 Sovereign'!$G$71","v":"S05.DP0375"}]
["CB100B2.S05.DP0376",{"$f":"'5 Sovereign'!$H$62","v":"S05.DP0376"}]
["CB100B2.S05.DP0377",{"$f":"'5 Sovereign'!$H$63","v":"S05.DP0377"}]
["CB100B2.S05.DP0378",{"$f":"'5 Sovereign'!$H$64","v":"S05.DP0378"}]
["CB100B2.S05.DP0379",{"$f":"'5 Sovereign'!$H$65","v":"S05.DP0379"}]
["CB100B2.S05.DP0380",{"$f":"'5 Sovereign'!$H$66","v":"S05.DP0380"}]
["CB100B2.S05.DP0381",{"$f":"'5 Sovereign'!$H$67","v":"S05.DP0381"}]
["CB100B2.S05.DP0382",{"$f":"'5 Sovereign'!$H$68","v":"S05.DP0382"}]
["CB100B2.S05.DP0383",{"$f":"'5 Sovereign'!$H$69","v":"S05.DP0383"}]
["CB100B2.S05.DP0384",{"$f":"'5 Sovereign'!$H$70","v":"S05.DP0384"}]
["CB100B2.S05.DP0385",{"$f":"'5 Sovereign'!$H$71","v":"S05.DP0385"}]
["CB100B2.S05.DP0386",{"$f":"'5 Sovereign'!$H$72","v":"S05.DP0386"}]
["CB100B2.S05.DP0387",{"$f":"'5 Sovereign'!$J$62","v":"S05.DP0387"}]
["CB100B2.S05.DP0388",{"$f":"'5 Sovereign'!$J$63","v":"S05.DP0388"}]
["CB100B2.S05.DP0389",{"$f":"'5 Sovereign'!$J$64","v":"S05.DP0389"}]
["CB100B2.S05.DP0390",{"$f":"'5 Sovereign'!$J$65","v":"S05.DP0390"}]
["CB100B2.S05.DP0391",{"$f":"'5 Sovereign'!$J$66","v":"S05.DP0391"}]
["CB100B2.S05.DP0392",{"$f":"'5 Sovereign'!$J$67","v":"S05.DP0392"}]
["CB100B2.S05.DP0393",{"$f":"'5 Sovereign'!$J$68","v":"S05.DP0393"}]
["CB100B2.S05.DP0394",{"$f":"'5 Sovereign'!$J$69","v":"S05.DP0394"}]
["CB100B2.S05.DP0395",{"$f":"'5 Sovereign'!$J$70","v":"S05.DP0395"}]
["CB100B2.S05.DP0396",{"$f":"'5 Sovereign'!$J$71","v":"S05.DP0396"}]
["CB100B2.S05.DP0397",{"$f":"'5 Sovereign'!$J$72","v":"S05.DP0397"}]
["CB100B2.S05.DP0398",{"$f":"'5 Sovereign'!$L$62","v":"S05.DP0398"}]
["CB100B2.S05.DP0399",{"$f":"'5 Sovereign'!$L$63","v":"S05.DP0399"}]
["CB100B2.S05.DP0400",{"$f":"'5 Sovereign'!$L$64","v":"S05.DP0400"}]
["CB100B2.S05.DP0401",{"$f":"'5 Sovereign'!$L$65","v":"S05.DP0401"}]
["CB100B2.S05.DP0402",{"$f":"'5 Sovereign'!$L$66","v":"S05.DP0402"}]
["CB100B2.S05.DP0403",{"$f":"'5 Sovereign'!$L$67","v":"S05.DP0403"}]
["CB100B2.S05.DP0404",{"$f":"'5 Sovereign'!$L$68","v":"S05.DP0404"}]
["CB100B2.S05.DP0405",{"$f":"'5 Sovereign'!$L$69","v":"S05.DP0405"}]
["CB100B2.S05.DP0406",{"$f":"'5 Sovereign'!$L$70","v":"S05.DP0406"}]
["CB100B2.S05.DP0407",{"$f":"'5 Sovereign'!$L$71","v":"S05.DP0407"}]
["CB100B2.S05.DP0408",{"$f":"'5 Sovereign'!$L$72","v":"S05.DP0408"}]
["CB100B2.S05.DP0409",{"$f":"'5 Sovereign'!$C$74","v":"S05.DP0409"}]
["CB100B2.S05.DP0410",{"$f":"'5 Sovereign'!$D$74","v":"S05.DP0410"}]
["CB100B2.S05.DP0411",{"$f":"'5 Sovereign'!$L$74","v":"S05.DP0411"}]
["CB100B2.S06.DP0002",{"$f":"'6 PSEs'!$C$11","v":"S06.DP0002"}]
["CB100B2.S06.DP0003",{"$f":"'6 PSEs'!$C$12","v":"S06.DP0003"}]
["CB100B2.S06.DP0004",{"$f":"'6 PSEs'!$C$13","v":"S06.DP0004"}]
["CB100B2.S06.DP0005",{"$f":"'6 PSEs'!$C$14","v":"S06.DP0005"}]
["CB100B2.S06.DP0006",{"$f":"'6 PSEs'!$C$15","v":"S06.DP0006"}]
["CB100B2.S06.DP0008",{"$f":"'6 PSEs'!$D$11","v":"S06.DP0008"}]
["CB100B2.S06.DP0009",{"$f":"'6 PSEs'!$D$12","v":"S06.DP0009"}]
["CB100B2.S06.DP0010",{"$f":"'6 PSEs'!$D$13","v":"S06.DP0010"}]
["CB100B2.S06.DP0011",{"$f":"'6 PSEs'!$D$14","v":"S06.DP0011"}]
["CB100B2.S06.DP0012",{"$f":"'6 PSEs'!$D$15","v":"S06.DP0012"}]
["CB100B2.S06.DP0013",{"$f":"'6 PSEs'!$F$10","v":"S06.DP0013"}]
["CB100B2.S06.DP0014",{"$f":"'6 PSEs'!$F$11","v":"S06.DP0014"}]
["CB100B2.S06.DP0015",{"$f":"'6 PSEs'!$F$12","v":"S06.DP0015"}]
["CB100B2.S06.DP0016",{"$f":"'6 PSEs'!$F$13","v":"S06.DP0016"}]
["CB100B2.S06.DP0017",{"$f":"'6 PSEs'!$F$14","v":"S06.DP0017"}]
["CB100B2.S06.DP0018",{"$f":"'6 PSEs'!$G$10","v":"S06.DP0018"}]
["CB100B2.S06.DP0019",{"$f":"'6 PSEs'!$G$11","v":"S06.DP0019"}]
["CB100B2.S06.DP0020",{"$f":"'6 PSEs'!$G$12","v":"S06.DP0020"}]
["CB100B2.S06.DP0021",{"$f":"'6 PSEs'!$G$13","v":"S06.DP0021"}]
["CB100B2.S06.DP0022",{"$f":"'6 PSEs'!$G$14","v":"S06.DP0022"}]
["CB100B2.S06.DP0023",{"$f":"'6 PSEs'!$H$10","v":"S06.DP0023"}]
["CB100B2.S06.DP0024",{"$f":"'6 PSEs'!$H$11","v":"S06.DP0024"}]
["CB100B2.S06.DP0025",{"$f":"'6 PSEs'!$H$12","v":"S06.DP0025"}]
["CB100B2.S06.DP0026",{"$f":"'6 PSEs'!$H$13","v":"S06.DP0026"}]
["CB100B2.S06.DP0027",{"$f":"'6 PSEs'!$H$14","v":"S06.DP0027"}]
["CB100B2.S06.DP0028",{"$f":"'6 PSEs'!$H$15","v":"S06.DP0028"}]
["CB100B2.S06.DP0029",{"$f":"'6 PSEs'!$J$10","v":"S06.DP0029"}]
["CB100B2.S06.DP0030",{"$f":"'6 PSEs'!$J$11","v":"S06.DP0030"}]
["CB100B2.S06.DP0031",{"$f":"'6 PSEs'!$J$12","v":"S06.DP0031"}]
["CB100B2.S06.DP0032",{"$f":"'6 PSEs'!$J$13","v":"S06.DP0032"}]
["CB100B2.S06.DP0033",{"$f":"'6 PSEs'!$J$14","v":"S06.DP0033"}]
["CB100B2.S06.DP0034",{"$f":"'6 PSEs'!$J$15","v":"S06.DP0034"}]
["CB100B2.S06.DP0035",{"$f":"'6 PSEs'!$L$10","v":"S06.DP0035"}]
["CB100B2.S06.DP0036",{"$f":"'6 PSEs'!$L$11","v":"S06.DP0036"}]
["CB100B2.S06.DP0037",{"$f":"'6 PSEs'!$L$12","v":"S06.DP0037"}]
["CB100B2.S06.DP0038",{"$f":"'6 PSEs'!$L$13","v":"S06.DP0038"}]
["CB100B2.S06.DP0039",{"$f":"'6 PSEs'!$L$14","v":"S06.DP0039"}]
["CB100B2.S06.DP0040",{"$f":"'6 PSEs'!$L$15","v":"S06.DP0040"}]
["CB100B2.S06.DP0041",{"$f":"'6 PSEs'!$B$18","v":"S06.DP0041"}]
["CB100B2.S06.DP0042",{"$f":"'6 PSEs'!$B$19","v":"S06.DP0042"}]
["CB100B2.S06.DP0043",{"$f":"'6 PSEs'!$B$20","v":"S06.DP0043"}]
["CB100B2.S06.DP0044",{"$f":"'6 PSEs'!$B$21","v":"S06.DP0044"}]
["CB100B2.S06.DP0045",{"$f":"'6 PSEs'!$B$22","v":"S06.DP0045"}]
["CB100B2.S06.DP0046",{"$f":"'6 PSEs'!$B$23","v":"S06.DP0046"}]
["CB100B2.S06.DP0047",{"$f":"'6 PSEs'!$C$18","v":"S06.DP0047"}]
["CB100B2.S06.DP0048",{"$f":"'6 PSEs'!$C$19","v":"S06.DP0048"}]
["CB100B2.S06.DP0049",{"$f":"'6 PSEs'!$C$20","v":"S06.DP0049"}]
["CB100B2.S06.DP0050",{"$f":"'6 PSEs'!$C$21","v":"S06.DP0050"}]
["CB100B2.S06.DP0051",{"$f":"'6 PSEs'!$C$22","v":"S06.DP0051"}]
["CB100B2.S06.DP0052",{"$f":"'6 PSEs'!$C$23","v":"S06.DP0052"}]
["CB100B2.S06.DP0053",{"$f":"'6 PSEs'!$D$18","v":"S06.DP0053"}]
["CB100B2.S06.DP0054",{"$f":"'6 PSEs'!$D$19","v":"S06.DP0054"}]
["CB100B2.S06.DP0055",{"$f":"'6 PSEs'!$D$20","v":"S06.DP0055"}]
["CB100B2.S06.DP0056",{"$f":"'6 PSEs'!$D$21","v":"S06.DP0056"}]
["CB100B2.S06.DP0057",{"$f":"'6 PSEs'!$D$22","v":"S06.DP0057"}]
["CB100B2.S06.DP0058",{"$f":"'6 PSEs'!$D$23","v":"S06.DP0058"}]
["CB100B2.S06.DP0059",{"$f":"'6 PSEs'!$F$18","v":"S06.DP0059"}]
["CB100B2.S06.DP0060",{"$f":"'6 PSEs'!$F$19","v":"S06.DP0060"}]
["CB100B2.S06.DP0061",{"$f":"'6 PSEs'!$F$20","v":"S06.DP0061"}]
["CB100B2.S06.DP0062",{"$f":"'6 PSEs'!$F$21","v":"S06.DP0062"}]
["CB100B2.S06.DP0063",{"$f":"'6 PSEs'!$F$22","v":"S06.DP0063"}]
["CB100B2.S06.DP0064",{"$f":"'6 PSEs'!$G$18","v":"S06.DP0064"}]
["CB100B2.S06.DP0065",{"$f":"'6 PSEs'!$G$19","v":"S06.DP0065"}]
["CB100B2.S06.DP0066",{"$f":"'6 PSEs'!$G$20","v":"S06.DP0066"}]
["CB100B2.S06.DP0067",{"$f":"'6 PSEs'!$G$21","v":"S06.DP0067"}]
["CB100B2.S06.DP0068",{"$f":"'6 PSEs'!$G$22","v":"S06.DP0068"}]
["CB100B2.S06.DP0069",{"$f":"'6 PSEs'!$H$18","v":"S06.DP0069"}]
["CB100B2.S06.DP0070",{"$f":"'6 PSEs'!$H$19","v":"S06.DP0070"}]
["CB100B2.S06.DP0071",{"$f":"'6 PSEs'!$H$20","v":"S06.DP0071"}]
["CB100B2.S06.DP0072",{"$f":"'6 PSEs'!$H$21","v":"S06.DP0072"}]
["CB100B2.S06.DP0073",{"$f":"'6 PSEs'!$H$22","v":"S06.DP0073"}]
["CB100B2.S06.DP0074",{"$f":"'6 PSEs'!$H$23","v":"S06.DP0074"}]
["CB100B2.S06.DP0075",{"$f":"'6 PSEs'!$J$18","v":"S06.DP0075"}]
["CB100B2.S06.DP0076",{"$f":"'6 PSEs'!$J$19","v":"S06.DP0076"}]
["CB100B2.S06.DP0077",{"$f":"'6 PSEs'!$J$20","v":"S06.DP0077"}]
["CB100B2.S06.DP0078",{"$f":"'6 PSEs'!$J$21","v":"S06.DP0078"}]
["CB100B2.S06.DP0079",{"$f":"'6 PSEs'!$J$22","v":"S06.DP0079"}]
["CB100B2.S06.DP0080",{"$f":"'6 PSEs'!$J$23","v":"S06.DP0080"}]
["CB100B2.S06.DP0081",{"$f":"'6 PSEs'!$L$18","v":"S06.DP0081"}]
["CB100B2.S06.DP0082",{"$f":"'6 PSEs'!$L$19","v":"S06.DP0082"}]
["CB100B2.S06.DP0083",{"$f":"'6 PSEs'!$L$20","v":"S06.DP0083"}]
["CB100B2.S06.DP0084",{"$f":"'6 PSEs'!$L$21","v":"S06.DP0084"}]
["CB100B2.S06.DP0085",{"$f":"'6 PSEs'!$L$22","v":"S06.DP0085"}]
["CB100B2.S06.DP0086",{"$f":"'6 PSEs'!$L$23","v":"S06.DP0086"}]
["CB100B2.S06.DP0087",{"$f":"'6 PSEs'!$C$26","v":"S06.DP0087"}]
["CB100B2.S06.DP0088",{"$f":"'6 PSEs'!$C$27","v":"S06.DP0088"}]
["CB100B2.S06.DP0089",{"$f":"'6 PSEs'!$C$28","v":"S06.DP0089"}]
["CB100B2.S06.DP0090",{"$f":"'6 PSEs'!$C$29","v":"S06.DP0090"}]
["CB100B2.S06.DP0091",{"$f":"'6 PSEs'!$C$30","v":"S06.DP0091"}]
["CB100B2.S06.DP0092",{"$f":"'6 PSEs'!$C$31","v":"S06.DP0092"}]
["CB100B2.S06.DP0093",{"$f":"'6 PSEs'!$D$26","v":"S06.DP0093"}]
["CB100B2.S06.DP0094",{"$f":"'6 PSEs'!$D$27","v":"S06.DP0094"}]
["CB100B2.S06.DP0095",{"$f":"'6 PSEs'!$D$28","v":"S06.DP0095"}]
["CB100B2.S06.DP0096",{"$f":"'6 PSEs'!$D$29","v":"S06.DP0096"}]
["CB100B2.S06.DP0097",{"$f":"'6 PSEs'!$D$30","v":"S06.DP0097"}]
["CB100B2.S06.DP0098",{"$f":"'6 PSEs'!$D$31","v":"S06.DP0098"}]
["CB100B2.S06.DP0099",{"$f":"'6 PSEs'!$F$26","v":"S06.DP0099"}]
["CB100B2.S06.DP0100",{"$f":"'6 PSEs'!$F$27","v":"S06.DP0100"}]
["CB100B2.S06.DP0101",{"$f":"'6 PSEs'!$F$28","v":"S06.DP0101"}]
["CB100B2.S06.DP0102",{"$f":"'6 PSEs'!$F$29","v":"S06.DP0102"}]
["CB100B2.S06.DP0103",{"$f":"'6 PSEs'!$F$30","v":"S06.DP0103"}]
["CB100B2.S06.DP0104",{"$f":"'6 PSEs'!$G$26","v":"S06.DP0104"}]
["CB100B2.S06.DP0105",{"$f":"'6 PSEs'!$G$27","v":"S06.DP0105"}]
["CB100B2.S06.DP0106",{"$f":"'6 PSEs'!$G$28","v":"S06.DP0106"}]
["CB100B2.S06.DP0107",{"$f":"'6 PSEs'!$G$29","v":"S06.DP0107"}]
["CB100B2.S06.DP0108",{"$f":"'6 PSEs'!$G$30","v":"S06.DP0108"}]
["CB100B2.S06.DP0109",{"$f":"'6 PSEs'!$H$26","v":"S06.DP0109"}]
["CB100B2.S06.DP0110",{"$f":"'6 PSEs'!$H$27","v":"S06.DP0110"}]
["CB100B2.S06.DP0111",{"$f":"'6 PSEs'!$H$28","v":"S06.DP0111"}]
["CB100B2.S06.DP0112",{"$f":"'6 PSEs'!$H$29","v":"S06.DP0112"}]
["CB100B2.S06.DP0113",{"$f":"'6 PSEs'!$H$30","v":"S06.DP0113"}]
["CB100B2.S06.DP0114",{"$f":"'6 PSEs'!$H$31","v":"S06.DP0114"}]
["CB100B2.S06.DP0115",{"$f":"'6 PSEs'!$J$26","v":"S06.DP0115"}]
["CB100B2.S06.DP0116",{"$f":"'6 PSEs'!$J$27","v":"S06.DP0116"}]
["CB100B2.S06.DP0117",{"$f":"'6 PSEs'!$J$28","v":"S06.DP0117"}]
["CB100B2.S06.DP0118",{"$f":"'6 PSEs'!$J$29","v":"S06.DP0118"}]
["CB100B2.S06.DP0119",{"$f":"'6 PSEs'!$J$30","v":"S06.DP0119"}]
["CB100B2.S06.DP0120",{"$f":"'6 PSEs'!$J$31","v":"S06.DP0120"}]
["CB100B2.S06.DP0121",{"$f":"'6 PSEs'!$L$26","v":"S06.DP0121"}]
["CB100B2.S06.DP0122",{"$f":"'6 PSEs'!$L$27","v":"S06.DP0122"}]
["CB100B2.S06.DP0123",{"$f":"'6 PSEs'!$L$28","v":"S06.DP0123"}]
["CB100B2.S06.DP0124",{"$f":"'6 PSEs'!$L$29","v":"S06.DP0124"}]
["CB100B2.S06.DP0125",{"$f":"'6 PSEs'!$L$30","v":"S06.DP0125"}]
["CB100B2.S06.DP0126",{"$f":"'6 PSEs'!$L$31","v":"S06.DP0126"}]
["CB100B2.S06.DP0127",{"$f":"'6 PSEs'!$B$34","v":"S06.DP0127"}]
["CB100B2.S06.DP0128",{"$f":"'6 PSEs'!$B$35","v":"S06.DP0128"}]
["CB100B2.S06.DP0129",{"$f":"'6 PSEs'!$B$36","v":"S06.DP0129"}]
["CB100B2.S06.DP0130",{"$f":"'6 PSEs'!$B$37","v":"S06.DP0130"}]
["CB100B2.S06.DP0131",{"$f":"'6 PSEs'!$B$38","v":"S06.DP0131"}]
["CB100B2.S06.DP0132",{"$f":"'6 PSEs'!$B$39","v":"S06.DP0132"}]
["CB100B2.S06.DP0133",{"$f":"'6 PSEs'!$C$34","v":"S06.DP0133"}]
["CB100B2.S06.DP0134",{"$f":"'6 PSEs'!$C$35","v":"S06.DP0134"}]
["CB100B2.S06.DP0135",{"$f":"'6 PSEs'!$C$36","v":"S06.DP0135"}]
["CB100B2.S06.DP0136",{"$f":"'6 PSEs'!$C$37","v":"S06.DP0136"}]
["CB100B2.S06.DP0137",{"$f":"'6 PSEs'!$C$38","v":"S06.DP0137"}]
["CB100B2.S06.DP0138",{"$f":"'6 PSEs'!$C$39","v":"S06.DP0138"}]
["CB100B2.S06.DP0139",{"$f":"'6 PSEs'!$D$34","v":"S06.DP0139"}]
["CB100B2.S06.DP0140",{"$f":"'6 PSEs'!$D$35","v":"S06.DP0140"}]
["CB100B2.S06.DP0141",{"$f":"'6 PSEs'!$D$36","v":"S06.DP0141"}]
["CB100B2.S06.DP0142",{"$f":"'6 PSEs'!$D$37","v":"S06.DP0142"}]
["CB100B2.S06.DP0143",{"$f":"'6 PSEs'!$D$38","v":"S06.DP0143"}]
["CB100B2.S06.DP0144",{"$f":"'6 PSEs'!$D$39","v":"S06.DP0144"}]
["CB100B2.S06.DP0145",{"$f":"'6 PSEs'!$F$34","v":"S06.DP0145"}]
["CB100B2.S06.DP0146",{"$f":"'6 PSEs'!$F$35","v":"S06.DP0146"}]
["CB100B2.S06.DP0147",{"$f":"'6 PSEs'!$F$36","v":"S06.DP0147"}]
["CB100B2.S06.DP0148",{"$f":"'6 PSEs'!$F$37","v":"S06.DP0148"}]
["CB100B2.S06.DP0149",{"$f":"'6 PSEs'!$F$38","v":"S06.DP0149"}]
["CB100B2.S06.DP0150",{"$f":"'6 PSEs'!$G$34","v":"S06.DP0150"}]
["CB100B2.S06.DP0151",{"$f":"'6 PSEs'!$G$35","v":"S06.DP0151"}]
["CB100B2.S06.DP0152",{"$f":"'6 PSEs'!$G$36","v":"S06.DP0152"}]
["CB100B2.S06.DP0153",{"$f":"'6 PSEs'!$G$37","v":"S06.DP0153"}]
["CB100B2.S06.DP0154",{"$f":"'6 PSEs'!$G$38","v":"S06.DP0154"}]
["CB100B2.S06.DP0155",{"$f":"'6 PSEs'!$H$34","v":"S06.DP0155"}]
["CB100B2.S06.DP0156",{"$f":"'6 PSEs'!$H$35","v":"S06.DP0156"}]
["CB100B2.S06.DP0157",{"$f":"'6 PSEs'!$H$36","v":"S06.DP0157"}]
["CB100B2.S06.DP0158",{"$f":"'6 PSEs'!$H$37","v":"S06.DP0158"}]
["CB100B2.S06.DP0159",{"$f":"'6 PSEs'!$H$38","v":"S06.DP0159"}]
["CB100B2.S06.DP0160",{"$f":"'6 PSEs'!$H$39","v":"S06.DP0160"}]
["CB100B2.S06.DP0161",{"$f":"'6 PSEs'!$J$34","v":"S06.DP0161"}]
["CB100B2.S06.DP0162",{"$f":"'6 PSEs'!$J$35","v":"S06.DP0162"}]
["CB100B2.S06.DP0163",{"$f":"'6 PSEs'!$J$36","v":"S06.DP0163"}]
["CB100B2.S06.DP0164",{"$f":"'6 PSEs'!$J$37","v":"S06.DP0164"}]
["CB100B2.S06.DP0165",{"$f":"'6 PSEs'!$J$38","v":"S06.DP0165"}]
["CB100B2.S06.DP0166",{"$f":"'6 PSEs'!$J$39","v":"S06.DP0166"}]
["CB100B2.S06.DP0167",{"$f":"'6 PSEs'!$L$34","v":"S06.DP0167"}]
["CB100B2.S06.DP0168",{"$f":"'6 PSEs'!$L$35","v":"S06.DP0168"}]
["CB100B2.S06.DP0169",{"$f":"'6 PSEs'!$L$36","v":"S06.DP0169"}]
["CB100B2.S06.DP0170",{"$f":"'6 PSEs'!$L$37","v":"S06.DP0170"}]
["CB100B2.S06.DP0171",{"$f":"'6 PSEs'!$L$38","v":"S06.DP0171"}]
["CB100B2.S06.DP0172",{"$f":"'6 PSEs'!$L$39","v":"S06.DP0172"}]
["CB100B2.S06.DP0173",{"$f":"'6 PSEs'!$B$42","v":"S06.DP0173"}]
["CB100B2.S06.DP0174",{"$f":"'6 PSEs'!$B$43","v":"S06.DP0174"}]
["CB100B2.S06.DP0175",{"$f":"'6 PSEs'!$B$44","v":"S06.DP0175"}]
["CB100B2.S06.DP0176",{"$f":"'6 PSEs'!$B$45","v":"S06.DP0176"}]
["CB100B2.S06.DP0177",{"$f":"'6 PSEs'!$B$46","v":"S06.DP0177"}]
["CB100B2.S06.DP0178",{"$f":"'6 PSEs'!$B$47","v":"S06.DP0178"}]
["CB100B2.S06.DP0179",{"$f":"'6 PSEs'!$C$42","v":"S06.DP0179"}]
["CB100B2.S06.DP0180",{"$f":"'6 PSEs'!$C$43","v":"S06.DP0180"}]
["CB100B2.S06.DP0181",{"$f":"'6 PSEs'!$C$44","v":"S06.DP0181"}]
["CB100B2.S06.DP0182",{"$f":"'6 PSEs'!$C$45","v":"S06.DP0182"}]
["CB100B2.S06.DP0183",{"$f":"'6 PSEs'!$C$46","v":"S06.DP0183"}]
["CB100B2.S06.DP0184",{"$f":"'6 PSEs'!$C$47","v":"S06.DP0184"}]
["CB100B2.S06.DP0185",{"$f":"'6 PSEs'!$D$42","v":"S06.DP0185"}]
["CB100B2.S06.DP0186",{"$f":"'6 PSEs'!$D$43","v":"S06.DP0186"}]
["CB100B2.S06.DP0187",{"$f":"'6 PSEs'!$D$44","v":"S06.DP0187"}]
["CB100B2.S06.DP0188",{"$f":"'6 PSEs'!$D$45","v":"S06.DP0188"}]
["CB100B2.S06.DP0189",{"$f":"'6 PSEs'!$D$46","v":"S06.DP0189"}]
["CB100B2.S06.DP0190",{"$f":"'6 PSEs'!$D$47","v":"S06.DP0190"}]
["CB100B2.S06.DP0191",{"$f":"'6 PSEs'!$F$42","v":"S06.DP0191"}]
["CB100B2.S06.DP0192",{"$f":"'6 PSEs'!$F$43","v":"S06.DP0192"}]
["CB100B2.S06.DP0193",{"$f":"'6 PSEs'!$F$44","v":"S06.DP0193"}]
["CB100B2.S06.DP0194",{"$f":"'6 PSEs'!$F$45","v":"S06.DP0194"}]
["CB100B2.S06.DP0195",{"$f":"'6 PSEs'!$F$46","v":"S06.DP0195"}]
["CB100B2.S06.DP0196",{"$f":"'6 PSEs'!$G$42","v":"S06.DP0196"}]
["CB100B2.S06.DP0197",{"$f":"'6 PSEs'!$G$43","v":"S06.DP0197"}]
["CB100B2.S06.DP0198",{"$f":"'6 PSEs'!$G$44","v":"S06.DP0198"}]
["CB100B2.S06.DP0199",{"$f":"'6 PSEs'!$G$45","v":"S06.DP0199"}]
["CB100B2.S06.DP0200",{"$f":"'6 PSEs'!$G$46","v":"S06.DP0200"}]
["CB100B2.S06.DP0201",{"$f":"'6 PSEs'!$H$42","v":"S06.DP0201"}]
["CB100B2.S06.DP0202",{"$f":"'6 PSEs'!$H$43","v":"S06.DP0202"}]
["CB100B2.S06.DP0203",{"$f":"'6 PSEs'!$H$44","v":"S06.DP0203"}]
["CB100B2.S06.DP0204",{"$f":"'6 PSEs'!$H$45","v":"S06.DP0204"}]
["CB100B2.S06.DP0205",{"$f":"'6 PSEs'!$H$46","v":"S06.DP0205"}]
["CB100B2.S06.DP0206",{"$f":"'6 PSEs'!$H$47","v":"S06.DP0206"}]
["CB100B2.S06.DP0207",{"$f":"'6 PSEs'!$J$42","v":"S06.DP0207"}]
["CB100B2.S06.DP0208",{"$f":"'6 PSEs'!$J$43","v":"S06.DP0208"}]
["CB100B2.S06.DP0209",{"$f":"'6 PSEs'!$J$44","v":"S06.DP0209"}]
["CB100B2.S06.DP0210",{"$f":"'6 PSEs'!$J$45","v":"S06.DP0210"}]
["CB100B2.S06.DP0211",{"$f":"'6 PSEs'!$J$46","v":"S06.DP0211"}]
["CB100B2.S06.DP0212",{"$f":"'6 PSEs'!$J$47","v":"S06.DP0212"}]
["CB100B2.S06.DP0213",{"$f":"'6 PSEs'!$L$42","v":"S06.DP0213"}]
["CB100B2.S06.DP0214",{"$f":"'6 PSEs'!$L$43","v":"S06.DP0214"}]
["CB100B2.S06.DP0215",{"$f":"'6 PSEs'!$L$44","v":"S06.DP0215"}]
["CB100B2.S06.DP0216",{"$f":"'6 PSEs'!$L$45","v":"S06.DP0216"}]
["CB100B2.S06.DP0217",{"$f":"'6 PSEs'!$L$46","v":"S06.DP0217"}]
["CB100B2.S06.DP0218",{"$f":"'6 PSEs'!$L$47","v":"S06.DP0218"}]
["CB100B2.S06.DP0219",{"$f":"'6 PSEs'!$C$49","v":"S06.DP0219"}]
["CB100B2.S06.DP0220",{"$f":"'6 PSEs'!$D$49","v":"S06.DP0220"}]
["CB100B2.S06.DP0221",{"$f":"'6 PSEs'!$L$49","v":"S06.DP0221"}]
["CB100B2.S07.DP0001",{"$f":"'7 MDBs'!$C$10","v":"S07.DP0001"}]
["CB100B2.S07.DP0002",{"$f":"'7 MDBs'!$C$11","v":"S07.DP0002"}]
["CB100B2.S07.DP0003",{"$f":"'7 MDBs'!$C$12","v":"S07.DP0003"}]
["CB100B2.S07.DP0004",{"$f":"'7 MDBs'!$C$13","v":"S07.DP0004"}]
["CB100B2.S07.DP0005",{"$f":"'7 MDBs'!$C$14","v":"S07.DP0005"}]
["CB100B2.S07.DP0006",{"$f":"'7 MDBs'!$C$15","v":"S07.DP0006"}]
["CB100B2.S07.DP0007",{"$f":"'7 MDBs'!$D$10","v":"S07.DP0007"}]
["CB100B2.S07.DP0008",{"$f":"'7 MDBs'!$D$11","v":"S07.DP0008"}]
["CB100B2.S07.DP0009",{"$f":"'7 MDBs'!$D$12","v":"S07.DP0009"}]
["CB100B2.S07.DP0010",{"$f":"'7 MDBs'!$D$13","v":"S07.DP0010"}]
["CB100B2.S07.DP0011",{"$f":"'7 MDBs'!$D$14","v":"S07.DP0011"}]
["CB100B2.S07.DP0012",{"$f":"'7 MDBs'!$D$15","v":"S07.DP0012"}]
["CB100B2.S07.DP0013",{"$f":"'7 MDBs'!$F$10","v":"S07.DP0013"}]
["CB100B2.S07.DP0014",{"$f":"'7 MDBs'!$F$11","v":"S07.DP0014"}]
["CB100B2.S07.DP0015",{"$f":"'7 MDBs'!$F$12","v":"S07.DP0015"}]
["CB100B2.S07.DP0016",{"$f":"'7 MDBs'!$F$13","v":"S07.DP0016"}]
["CB100B2.S07.DP0017",{"$f":"'7 MDBs'!$F$14","v":"S07.DP0017"}]
["CB100B2.S07.DP0018",{"$f":"'7 MDBs'!$G$10","v":"S07.DP0018"}]
["CB100B2.S07.DP0019",{"$f":"'7 MDBs'!$G$11","v":"S07.DP0019"}]
["CB100B2.S07.DP0020",{"$f":"'7 MDBs'!$G$12","v":"S07.DP0020"}]
["CB100B2.S07.DP0021",{"$f":"'7 MDBs'!$G$13","v":"S07.DP0021"}]
["CB100B2.S07.DP0022",{"$f":"'7 MDBs'!$G$14","v":"S07.DP0022"}]
["CB100B2.S07.DP0023",{"$f":"'7 MDBs'!$H$10","v":"S07.DP0023"}]
["CB100B2.S07.DP0024",{"$f":"'7 MDBs'!$H$11","v":"S07.DP0024"}]
["CB100B2.S07.DP0025",{"$f":"'7 MDBs'!$H$12","v":"S07.DP0025"}]
["CB100B2.S07.DP0026",{"$f":"'7 MDBs'!$H$13","v":"S07.DP0026"}]
["CB100B2.S07.DP0027",{"$f":"'7 MDBs'!$H$14","v":"S07.DP0027"}]
["CB100B2.S07.DP0028",{"$f":"'7 MDBs'!$H$15","v":"S07.DP0028"}]
["CB100B2.S07.DP0029",{"$f":"'7 MDBs'!$J$10","v":"S07.DP0029"}]
["CB100B2.S07.DP0030",{"$f":"'7 MDBs'!$J$11","v":"S07.DP0030"}]
["CB100B2.S07.DP0031",{"$f":"'7 MDBs'!$J$12","v":"S07.DP0031"}]
["CB100B2.S07.DP0032",{"$f":"'7 MDBs'!$J$13","v":"S07.DP0032"}]
["CB100B2.S07.DP0033",{"$f":"'7 MDBs'!$J$14","v":"S07.DP0033"}]
["CB100B2.S07.DP0034",{"$f":"'7 MDBs'!$J$15","v":"S07.DP0034"}]
["CB100B2.S07.DP0035",{"$f":"'7 MDBs'!$L$10","v":"S07.DP0035"}]
["CB100B2.S07.DP0036",{"$f":"'7 MDBs'!$L$11","v":"S07.DP0036"}]
["CB100B2.S07.DP0037",{"$f":"'7 MDBs'!$L$12","v":"S07.DP0037"}]
["CB100B2.S07.DP0038",{"$f":"'7 MDBs'!$L$13","v":"S07.DP0038"}]
["CB100B2.S07.DP0039",{"$f":"'7 MDBs'!$L$14","v":"S07.DP0039"}]
["CB100B2.S07.DP0040",{"$f":"'7 MDBs'!$L$15","v":"S07.DP0040"}]
["CB100B2.S07.DP0041",{"$f":"'7 MDBs'!$B$18","v":"S07.DP0041"}]
["CB100B2.S07.DP0042",{"$f":"'7 MDBs'!$B$19","v":"S07.DP0042"}]
["CB100B2.S07.DP0043",{"$f":"'7 MDBs'!$B$20","v":"S07.DP0043"}]
["CB100B2.S07.DP0044",{"$f":"'7 MDBs'!$B$21","v":"S07.DP0044"}]
["CB100B2.S07.DP0045",{"$f":"'7 MDBs'!$B$22","v":"S07.DP0045"}]
["CB100B2.S07.DP0046",{"$f":"'7 MDBs'!$B$23","v":"S07.DP0046"}]
["CB100B2.S07.DP0047",{"$f":"'7 MDBs'!$C$18","v":"S07.DP0047"}]
["CB100B2.S07.DP0048",{"$f":"'7 MDBs'!$C$19","v":"S07.DP0048"}]
["CB100B2.S07.DP0049",{"$f":"'7 MDBs'!$C$20","v":"S07.DP0049"}]
["CB100B2.S07.DP0050",{"$f":"'7 MDBs'!$C$21","v":"S07.DP0050"}]
["CB100B2.S07.DP0051",{"$f":"'7 MDBs'!$C$22","v":"S07.DP0051"}]
["CB100B2.S07.DP0052",{"$f":"'7 MDBs'!$C$23","v":"S07.DP0052"}]
["CB100B2.S07.DP0053",{"$f":"'7 MDBs'!$D$18","v":"S07.DP0053"}]
["CB100B2.S07.DP0054",{"$f":"'7 MDBs'!$D$19","v":"S07.DP0054"}]
["CB100B2.S07.DP0055",{"$f":"'7 MDBs'!$D$20","v":"S07.DP0055"}]
["CB100B2.S07.DP0056",{"$f":"'7 MDBs'!$D$21","v":"S07.DP0056"}]
["CB100B2.S07.DP0057",{"$f":"'7 MDBs'!$D$22","v":"S07.DP0057"}]
["CB100B2.S07.DP0058",{"$f":"'7 MDBs'!$D$23","v":"S07.DP0058"}]
["CB100B2.S07.DP0059",{"$f":"'7 MDBs'!$F$18","v":"S07.DP0059"}]
["CB100B2.S07.DP0060",{"$f":"'7 MDBs'!$F$19","v":"S07.DP0060"}]
["CB100B2.S07.DP0061",{"$f":"'7 MDBs'!$F$20","v":"S07.DP0061"}]
["CB100B2.S07.DP0062",{"$f":"'7 MDBs'!$F$21","v":"S07.DP0062"}]
["CB100B2.S07.DP0063",{"$f":"'7 MDBs'!$F$22","v":"S07.DP0063"}]
["CB100B2.S07.DP0064",{"$f":"'7 MDBs'!$G$18","v":"S07.DP0064"}]
["CB100B2.S07.DP0065",{"$f":"'7 MDBs'!$G$19","v":"S07.DP0065"}]
["CB100B2.S07.DP0066",{"$f":"'7 MDBs'!$G$20","v":"S07.DP0066"}]
["CB100B2.S07.DP0067",{"$f":"'7 MDBs'!$G$21","v":"S07.DP0067"}]
["CB100B2.S07.DP0068",{"$f":"'7 MDBs'!$G$22","v":"S07.DP0068"}]
["CB100B2.S07.DP0069",{"$f":"'7 MDBs'!$H$18","v":"S07.DP0069"}]
["CB100B2.S07.DP0070",{"$f":"'7 MDBs'!$H$19","v":"S07.DP0070"}]
["CB100B2.S07.DP0071",{"$f":"'7 MDBs'!$H$20","v":"S07.DP0071"}]
["CB100B2.S07.DP0072",{"$f":"'7 MDBs'!$H$21","v":"S07.DP0072"}]
["CB100B2.S07.DP0073",{"$f":"'7 MDBs'!$H$22","v":"S07.DP0073"}]
["CB100B2.S07.DP0074",{"$f":"'7 MDBs'!$H$23","v":"S07.DP0074"}]
["CB100B2.S07.DP0075",{"$f":"'7 MDBs'!$J$18","v":"S07.DP0075"}]
["CB100B2.S07.DP0076",{"$f":"'7 MDBs'!$J$19","v":"S07.DP0076"}]
["CB100B2.S07.DP0077",{"$f":"'7 MDBs'!$J$20","v":"S07.DP0077"}]
["CB100B2.S07.DP0078",{"$f":"'7 MDBs'!$J$21","v":"S07.DP0078"}]
["CB100B2.S07.DP0079",{"$f":"'7 MDBs'!$J$22","v":"S07.DP0079"}]
["CB100B2.S07.DP0080",{"$f":"'7 MDBs'!$J$23","v":"S07.DP0080"}]
["CB100B2.S07.DP0081",{"$f":"'7 MDBs'!$L$18","v":"S07.DP0081"}]
["CB100B2.S07.DP0082",{"$f":"'7 MDBs'!$L$19","v":"S07.DP0082"}]
["CB100B2.S07.DP0083",{"$f":"'7 MDBs'!$L$20","v":"S07.DP0083"}]
["CB100B2.S07.DP0084",{"$f":"'7 MDBs'!$L$21","v":"S07.DP0084"}]
["CB100B2.S07.DP0085",{"$f":"'7 MDBs'!$L$22","v":"S07.DP0085"}]
["CB100B2.S07.DP0086",{"$f":"'7 MDBs'!$L$23","v":"S07.DP0086"}]
["CB100B2.S07.DP0087",{"$f":"'7 MDBs'!$C$26","v":"S07.DP0087"}]
["CB100B2.S07.DP0088",{"$f":"'7 MDBs'!$C$27","v":"S07.DP0088"}]
["CB100B2.S07.DP0089",{"$f":"'7 MDBs'!$C$28","v":"S07.DP0089"}]
["CB100B2.S07.DP0090",{"$f":"'7 MDBs'!$C$29","v":"S07.DP0090"}]
["CB100B2.S07.DP0091",{"$f":"'7 MDBs'!$C$30","v":"S07.DP0091"}]
["CB100B2.S07.DP0092",{"$f":"'7 MDBs'!$C$31","v":"S07.DP0092"}]
["CB100B2.S07.DP0093",{"$f":"'7 MDBs'!$D$26","v":"S07.DP0093"}]
["CB100B2.S07.DP0094",{"$f":"'7 MDBs'!$D$27","v":"S07.DP0094"}]
["CB100B2.S07.DP0095",{"$f":"'7 MDBs'!$D$28","v":"S07.DP0095"}]
["CB100B2.S07.DP0096",{"$f":"'7 MDBs'!$D$29","v":"S07.DP0096"}]
["CB100B2.S07.DP0097",{"$f":"'7 MDBs'!$D$30","v":"S07.DP0097"}]
["CB100B2.S07.DP0098",{"$f":"'7 MDBs'!$D$31","v":"S07.DP0098"}]
["CB100B2.S07.DP0099",{"$f":"'7 MDBs'!$F$26","v":"S07.DP0099"}]
["CB100B2.S07.DP0100",{"$f":"'7 MDBs'!$F$27","v":"S07.DP0100"}]
["CB100B2.S07.DP0101",{"$f":"'7 MDBs'!$F$28","v":"S07.DP0101"}]
["CB100B2.S07.DP0102",{"$f":"'7 MDBs'!$F$29","v":"S07.DP0102"}]
["CB100B2.S07.DP0103",{"$f":"'7 MDBs'!$F$30","v":"S07.DP0103"}]
["CB100B2.S07.DP0104",{"$f":"'7 MDBs'!$G$26","v":"S07.DP0104"}]
["CB100B2.S07.DP0105",{"$f":"'7 MDBs'!$G$27","v":"S07.DP0105"}]
["CB100B2.S07.DP0106",{"$f":"'7 MDBs'!$G$28","v":"S07.DP0106"}]
["CB100B2.S07.DP0107",{"$f":"'7 MDBs'!$G$29","v":"S07.DP0107"}]
["CB100B2.S07.DP0108",{"$f":"'7 MDBs'!$G$30","v":"S07.DP0108"}]
["CB100B2.S07.DP0109",{"$f":"'7 MDBs'!$H$26","v":"S07.DP0109"}]
["CB100B2.S07.DP0110",{"$f":"'7 MDBs'!$H$27","v":"S07.DP0110"}]
["CB100B2.S07.DP0111",{"$f":"'7 MDBs'!$H$28","v":"S07.DP0111"}]
["CB100B2.S07.DP0112",{"$f":"'7 MDBs'!$H$29","v":"S07.DP0112"}]
["CB100B2.S07.DP0113",{"$f":"'7 MDBs'!$H$30","v":"S07.DP0113"}]
["CB100B2.S07.DP0114",{"$f":"'7 MDBs'!$H$31","v":"S07.DP0114"}]
["CB100B2.S07.DP0115",{"$f":"'7 MDBs'!$J$26","v":"S07.DP0115"}]
["CB100B2.S07.DP0116",{"$f":"'7 MDBs'!$J$27","v":"S07.DP0116"}]
["CB100B2.S07.DP0117",{"$f":"'7 MDBs'!$J$28","v":"S07.DP0117"}]
["CB100B2.S07.DP0118",{"$f":"'7 MDBs'!$J$29","v":"S07.DP0118"}]
["CB100B2.S07.DP0119",{"$f":"'7 MDBs'!$J$30","v":"S07.DP0119"}]
["CB100B2.S07.DP0120",{"$f":"'7 MDBs'!$J$31","v":"S07.DP0120"}]
["CB100B2.S07.DP0121",{"$f":"'7 MDBs'!$L$26","v":"S07.DP0121"}]
["CB100B2.S07.DP0122",{"$f":"'7 MDBs'!$L$27","v":"S07.DP0122"}]
["CB100B2.S07.DP0123",{"$f":"'7 MDBs'!$L$28","v":"S07.DP0123"}]
["CB100B2.S07.DP0124",{"$f":"'7 MDBs'!$L$29","v":"S07.DP0124"}]
["CB100B2.S07.DP0125",{"$f":"'7 MDBs'!$L$30","v":"S07.DP0125"}]
["CB100B2.S07.DP0126",{"$f":"'7 MDBs'!$L$31","v":"S07.DP0126"}]
["CB100B2.S07.DP0127",{"$f":"'7 MDBs'!$B$34","v":"S07.DP0127"}]
["CB100B2.S07.DP0128",{"$f":"'7 MDBs'!$B$35","v":"S07.DP0128"}]
["CB100B2.S07.DP0129",{"$f":"'7 MDBs'!$B$36","v":"S07.DP0129"}]
["CB100B2.S07.DP0130",{"$f":"'7 MDBs'!$B$37","v":"S07.DP0130"}]
["CB100B2.S07.DP0131",{"$f":"'7 MDBs'!$B$38","v":"S07.DP0131"}]
["CB100B2.S07.DP0132",{"$f":"'7 MDBs'!$B$39","v":"S07.DP0132"}]
["CB100B2.S07.DP0133",{"$f":"'7 MDBs'!$C$34","v":"S07.DP0133"}]
["CB100B2.S07.DP0134",{"$f":"'7 MDBs'!$C$35","v":"S07.DP0134"}]
["CB100B2.S07.DP0135",{"$f":"'7 MDBs'!$C$36","v":"S07.DP0135"}]
["CB100B2.S07.DP0136",{"$f":"'7 MDBs'!$C$37","v":"S07.DP0136"}]
["CB100B2.S07.DP0137",{"$f":"'7 MDBs'!$C$38","v":"S07.DP0137"}]
["CB100B2.S07.DP0138",{"$f":"'7 MDBs'!$C$39","v":"S07.DP0138"}]
["CB100B2.S07.DP0139",{"$f":"'7 MDBs'!$D$34","v":"S07.DP0139"}]
["CB100B2.S07.DP0140",{"$f":"'7 MDBs'!$D$35","v":"S07.DP0140"}]
["CB100B2.S07.DP0141",{"$f":"'7 MDBs'!$D$36","v":"S07.DP0141"}]
["CB100B2.S07.DP0142",{"$f":"'7 MDBs'!$D$37","v":"S07.DP0142"}]
["CB100B2.S07.DP0143",{"$f":"'7 MDBs'!$D$38","v":"S07.DP0143"}]
["CB100B2.S07.DP0144",{"$f":"'7 MDBs'!$D$39","v":"S07.DP0144"}]
["CB100B2.S07.DP0145",{"$f":"'7 MDBs'!$F$34","v":"S07.DP0145"}]
["CB100B2.S07.DP0146",{"$f":"'7 MDBs'!$F$35","v":"S07.DP0146"}]
["CB100B2.S07.DP0147",{"$f":"'7 MDBs'!$F$36","v":"S07.DP0147"}]
["CB100B2.S07.DP0148",{"$f":"'7 MDBs'!$F$37","v":"S07.DP0148"}]
["CB100B2.S07.DP0149",{"$f":"'7 MDBs'!$F$38","v":"S07.DP0149"}]
["CB100B2.S07.DP0150",{"$f":"'7 MDBs'!$G$34","v":"S07.DP0150"}]
["CB100B2.S07.DP0151",{"$f":"'7 MDBs'!$G$35","v":"S07.DP0151"}]
["CB100B2.S07.DP0152",{"$f":"'7 MDBs'!$G$36","v":"S07.DP0152"}]
["CB100B2.S07.DP0153",{"$f":"'7 MDBs'!$G$37","v":"S07.DP0153"}]
["CB100B2.S07.DP0154",{"$f":"'7 MDBs'!$G$38","v":"S07.DP0154"}]
["CB100B2.S07.DP0155",{"$f":"'7 MDBs'!$H$34","v":"S07.DP0155"}]
["CB100B2.S07.DP0156",{"$f":"'7 MDBs'!$H$35","v":"S07.DP0156"}]
["CB100B2.S07.DP0157",{"$f":"'7 MDBs'!$H$36","v":"S07.DP0157"}]
["CB100B2.S07.DP0158",{"$f":"'7 MDBs'!$H$37","v":"S07.DP0158"}]
["CB100B2.S07.DP0159",{"$f":"'7 MDBs'!$H$38","v":"S07.DP0159"}]
["CB100B2.S07.DP0160",{"$f":"'7 MDBs'!$H$39","v":"S07.DP0160"}]
["CB100B2.S07.DP0161",{"$f":"'7 MDBs'!$J$34","v":"S07.DP0161"}]
["CB100B2.S07.DP0162",{"$f":"'7 MDBs'!$J$35","v":"S07.DP0162"}]
["CB100B2.S07.DP0163",{"$f":"'7 MDBs'!$J$36","v":"S07.DP0163"}]
["CB100B2.S07.DP0164",{"$f":"'7 MDBs'!$J$37","v":"S07.DP0164"}]
["CB100B2.S07.DP0165",{"$f":"'7 MDBs'!$J$38","v":"S07.DP0165"}]
["CB100B2.S07.DP0166",{"$f":"'7 MDBs'!$J$39","v":"S07.DP0166"}]
["CB100B2.S07.DP0167",{"$f":"'7 MDBs'!$L$34","v":"S07.DP0167"}]
["CB100B2.S07.DP0168",{"$f":"'7 MDBs'!$L$35","v":"S07.DP0168"}]
["CB100B2.S07.DP0169",{"$f":"'7 MDBs'!$L$36","v":"S07.DP0169"}]
["CB100B2.S07.DP0170",{"$f":"'7 MDBs'!$L$37","v":"S07.DP0170"}]
["CB100B2.S07.DP0171",{"$f":"'7 MDBs'!$L$38","v":"S07.DP0171"}]
["CB100B2.S07.DP0172",{"$f":"'7 MDBs'!$L$39","v":"S07.DP0172"}]
["CB100B2.S07.DP0173",{"$f":"'7 MDBs'!$B$42","v":"S07.DP0173"}]
["CB100B2.S07.DP0174",{"$f":"'7 MDBs'!$B$43","v":"S07.DP0174"}]
["CB100B2.S07.DP0175",{"$f":"'7 MDBs'!$B$44","v":"S07.DP0175"}]
["CB100B2.S07.DP0176",{"$f":"'7 MDBs'!$B$45","v":"S07.DP0176"}]
["CB100B2.S07.DP0177",{"$f":"'7 MDBs'!$B$46","v":"S07.DP0177"}]
["CB100B2.S07.DP0178",{"$f":"'7 MDBs'!$B$47","v":"S07.DP0178"}]
["CB100B2.S07.DP0179",{"$f":"'7 MDBs'!$C$42","v":"S07.DP0179"}]
["CB100B2.S07.DP0180",{"$f":"'7 MDBs'!$C$43","v":"S07.DP0180"}]
["CB100B2.S07.DP0181",{"$f":"'7 MDBs'!$C$44","v":"S07.DP0181"}]
["CB100B2.S07.DP0182",{"$f":"'7 MDBs'!$C$45","v":"S07.DP0182"}]
["CB100B2.S07.DP0183",{"$f":"'7 MDBs'!$C$46","v":"S07.DP0183"}]
["CB100B2.S07.DP0184",{"$f":"'7 MDBs'!$C$47","v":"S07.DP0184"}]
["CB100B2.S07.DP0185",{"$f":"'7 MDBs'!$D$42","v":"S07.DP0185"}]
["CB100B2.S07.DP0186",{"$f":"'7 MDBs'!$D$43","v":"S07.DP0186"}]
["CB100B2.S07.DP0187",{"$f":"'7 MDBs'!$D$44","v":"S07.DP0187"}]
["CB100B2.S07.DP0188",{"$f":"'7 MDBs'!$D$45","v":"S07.DP0188"}]
["CB100B2.S07.DP0189",{"$f":"'7 MDBs'!$D$46","v":"S07.DP0189"}]
["CB100B2.S07.DP0190",{"$f":"'7 MDBs'!$D$47","v":"S07.DP0190"}]
["CB100B2.S07.DP0191",{"$f":"'7 MDBs'!$F$42","v":"S07.DP0191"}]
["CB100B2.S07.DP0192",{"$f":"'7 MDBs'!$F$43","v":"S07.DP0192"}]
["CB100B2.S07.DP0193",{"$f":"'7 MDBs'!$F$44","v":"S07.DP0193"}]
["CB100B2.S07.DP0194",{"$f":"'7 MDBs'!$F$45","v":"S07.DP0194"}]
["CB100B2.S07.DP0195",{"$f":"'7 MDBs'!$F$46","v":"S07.DP0195"}]
["CB100B2.S07.DP0196",{"$f":"'7 MDBs'!$G$42","v":"S07.DP0196"}]
["CB100B2.S07.DP0197",{"$f":"'7 MDBs'!$G$43","v":"S07.DP0197"}]
["CB100B2.S07.DP0198",{"$f":"'7 MDBs'!$G$44","v":"S07.DP0198"}]
["CB100B2.S07.DP0199",{"$f":"'7 MDBs'!$G$45","v":"S07.DP0199"}]
["CB100B2.S07.DP0200",{"$f":"'7 MDBs'!$G$46","v":"S07.DP0200"}]
["CB100B2.S07.DP0201",{"$f":"'7 MDBs'!$H$42","v":"S07.DP0201"}]
["CB100B2.S07.DP0202",{"$f":"'7 MDBs'!$H$43","v":"S07.DP0202"}]
["CB100B2.S07.DP0203",{"$f":"'7 MDBs'!$H$44","v":"S07.DP0203"}]
["CB100B2.S07.DP0204",{"$f":"'7 MDBs'!$H$45","v":"S07.DP0204"}]
["CB100B2.S07.DP0205",{"$f":"'7 MDBs'!$H$46","v":"S07.DP0205"}]
["CB100B2.S07.DP0206",{"$f":"'7 MDBs'!$H$47","v":"S07.DP0206"}]
["CB100B2.S07.DP0207",{"$f":"'7 MDBs'!$J$42","v":"S07.DP0207"}]
["CB100B2.S07.DP0208",{"$f":"'7 MDBs'!$J$43","v":"S07.DP0208"}]
["CB100B2.S07.DP0209",{"$f":"'7 MDBs'!$J$44","v":"S07.DP0209"}]
["CB100B2.S07.DP0210",{"$f":"'7 MDBs'!$J$45","v":"S07.DP0210"}]
["CB100B2.S07.DP0211",{"$f":"'7 MDBs'!$J$46","v":"S07.DP0211"}]
["CB100B2.S07.DP0212",{"$f":"'7 MDBs'!$J$47","v":"S07.DP0212"}]
["CB100B2.S07.DP0213",{"$f":"'7 MDBs'!$L$42","v":"S07.DP0213"}]
["CB100B2.S07.DP0214",{"$f":"'7 MDBs'!$L$43","v":"S07.DP0214"}]
["CB100B2.S07.DP0215",{"$f":"'7 MDBs'!$L$44","v":"S07.DP0215"}]
["CB100B2.S07.DP0216",{"$f":"'7 MDBs'!$L$45","v":"S07.DP0216"}]
["CB100B2.S07.DP0217",{"$f":"'7 MDBs'!$L$46","v":"S07.DP0217"}]
["CB100B2.S07.DP0218",{"$f":"'7 MDBs'!$L$47","v":"S07.DP0218"}]
["CB100B2.S07.DP0219",{"$f":"'7 MDBs'!$C$49","v":"S07.DP0219"}]
["CB100B2.S07.DP0220",{"$f":"'7 MDBs'!$D$49","v":"S07.DP0220"}]
["CB100B2.S07.DP0221",{"$f":"'7 MDBs'!$L$49","v":"S07.DP0221"}]
["CB100B2.S08.DP0001",{"$f":"'8 Bank & Sec. Firms LT'!$C$11","v":"S08.DP0001"}]
["CB100B2.S08.DP0002",{"$f":"'8 Bank & Sec. Firms LT'!$C$12","v":"S08.DP0002"}]
["CB100B2.S08.DP0003",{"$f":"'8 Bank & Sec. Firms LT'!$C$13","v":"S08.DP0003"}]
["CB100B2.S08.DP0004",{"$f":"'8 Bank & Sec. Firms LT'!$C$14","v":"S08.DP0004"}]
["CB100B2.S08.DP0005",{"$f":"'8 Bank & Sec. Firms LT'!$C$15","v":"S08.DP0005"}]
["CB100B2.S08.DP0006",{"$f":"'8 Bank & Sec. Firms LT'!$D$11","v":"S08.DP0006"}]
["CB100B2.S08.DP0007",{"$f":"'8 Bank & Sec. Firms LT'!$D$12","v":"S08.DP0007"}]
["CB100B2.S08.DP0008",{"$f":"'8 Bank & Sec. Firms LT'!$D$13","v":"S08.DP0008"}]
["CB100B2.S08.DP0009",{"$f":"'8 Bank & Sec. Firms LT'!$D$14","v":"S08.DP0009"}]
["CB100B2.S08.DP0010",{"$f":"'8 Bank & Sec. Firms LT'!$D$15","v":"S08.DP0010"}]
["CB100B2.S08.DP0011",{"$f":"'8 Bank & Sec. Firms LT'!$F$10","v":"S08.DP0011"}]
["CB100B2.S08.DP0012",{"$f":"'8 Bank & Sec. Firms LT'!$F$11","v":"S08.DP0012"}]
["CB100B2.S08.DP0013",{"$f":"'8 Bank & Sec. Firms LT'!$F$12","v":"S08.DP0013"}]
["CB100B2.S08.DP0014",{"$f":"'8 Bank & Sec. Firms LT'!$F$13","v":"S08.DP0014"}]
["CB100B2.S08.DP0015",{"$f":"'8 Bank & Sec. Firms LT'!$F$14","v":"S08.DP0015"}]
["CB100B2.S08.DP0016",{"$f":"'8 Bank & Sec. Firms LT'!$G$10","v":"S08.DP0016"}]
["CB100B2.S08.DP0017",{"$f":"'8 Bank & Sec. Firms LT'!$G$11","v":"S08.DP0017"}]
["CB100B2.S08.DP0018",{"$f":"'8 Bank & Sec. Firms LT'!$G$12","v":"S08.DP0018"}]
["CB100B2.S08.DP0019",{"$f":"'8 Bank & Sec. Firms LT'!$G$13","v":"S08.DP0019"}]
["CB100B2.S08.DP0020",{"$f":"'8 Bank & Sec. Firms LT'!$G$14","v":"S08.DP0020"}]
["CB100B2.S08.DP0021",{"$f":"'8 Bank & Sec. Firms LT'!$H$10","v":"S08.DP0021"}]
["CB100B2.S08.DP0022",{"$f":"'8 Bank & Sec. Firms LT'!$H$11","v":"S08.DP0022"}]
["CB100B2.S08.DP0023",{"$f":"'8 Bank & Sec. Firms LT'!$H$12","v":"S08.DP0023"}]
["CB100B2.S08.DP0024",{"$f":"'8 Bank & Sec. Firms LT'!$H$13","v":"S08.DP0024"}]
["CB100B2.S08.DP0025",{"$f":"'8 Bank & Sec. Firms LT'!$H$14","v":"S08.DP0025"}]
["CB100B2.S08.DP0026",{"$f":"'8 Bank & Sec. Firms LT'!$H$15","v":"S08.DP0026"}]
["CB100B2.S08.DP0027",{"$f":"'8 Bank & Sec. Firms LT'!$J$10","v":"S08.DP0027"}]
["CB100B2.S08.DP0028",{"$f":"'8 Bank & Sec. Firms LT'!$J$11","v":"S08.DP0028"}]
["CB100B2.S08.DP0029",{"$f":"'8 Bank & Sec. Firms LT'!$J$12","v":"S08.DP0029"}]
["CB100B2.S08.DP0030",{"$f":"'8 Bank & Sec. Firms LT'!$J$13","v":"S08.DP0030"}]
["CB100B2.S08.DP0031",{"$f":"'8 Bank & Sec. Firms LT'!$J$14","v":"S08.DP0031"}]
["CB100B2.S08.DP0032",{"$f":"'8 Bank & Sec. Firms LT'!$J$15","v":"S08.DP0032"}]
["CB100B2.S08.DP0033",{"$f":"'8 Bank & Sec. Firms LT'!$L$10","v":"S08.DP0033"}]
["CB100B2.S08.DP0034",{"$f":"'8 Bank & Sec. Firms LT'!$L$11","v":"S08.DP0034"}]
["CB100B2.S08.DP0035",{"$f":"'8 Bank & Sec. Firms LT'!$L$12","v":"S08.DP0035"}]
["CB100B2.S08.DP0036",{"$f":"'8 Bank & Sec. Firms LT'!$L$13","v":"S08.DP0036"}]
["CB100B2.S08.DP0037",{"$f":"'8 Bank & Sec. Firms LT'!$L$14","v":"S08.DP0037"}]
["CB100B2.S08.DP0038",{"$f":"'8 Bank & Sec. Firms LT'!$L$15","v":"S08.DP0038"}]
["CB100B2.S08.DP0039",{"$f":"'8 Bank & Sec. Firms LT'!$B$19","v":"S08.DP0039"}]
["CB100B2.S08.DP0040",{"$f":"'8 Bank & Sec. Firms LT'!$B$20","v":"S08.DP0040"}]
["CB100B2.S08.DP0041",{"$f":"'8 Bank & Sec. Firms LT'!$B$21","v":"S08.DP0041"}]
["CB100B2.S08.DP0042",{"$f":"'8 Bank & Sec. Firms LT'!$B$22","v":"S08.DP0042"}]
["CB100B2.S08.DP0043",{"$f":"'8 Bank & Sec. Firms LT'!$B$23","v":"S08.DP0043"}]
["CB100B2.S08.DP0044",{"$f":"'8 Bank & Sec. Firms LT'!$C$19","v":"S08.DP0044"}]
["CB100B2.S08.DP0045",{"$f":"'8 Bank & Sec. Firms LT'!$C$20","v":"S08.DP0045"}]
["CB100B2.S08.DP0046",{"$f":"'8 Bank & Sec. Firms LT'!$C$21","v":"S08.DP0046"}]
["CB100B2.S08.DP0047",{"$f":"'8 Bank & Sec. Firms LT'!$C$22","v":"S08.DP0047"}]
["CB100B2.S08.DP0048",{"$f":"'8 Bank & Sec. Firms LT'!$C$23","v":"S08.DP0048"}]
["CB100B2.S08.DP0049",{"$f":"'8 Bank & Sec. Firms LT'!$D$19","v":"S08.DP0049"}]
["CB100B2.S08.DP0050",{"$f":"'8 Bank & Sec. Firms LT'!$D$20","v":"S08.DP0050"}]
["CB100B2.S08.DP0051",{"$f":"'8 Bank & Sec. Firms LT'!$D$21","v":"S08.DP0051"}]
["CB100B2.S08.DP0052",{"$f":"'8 Bank & Sec. Firms LT'!$D$22","v":"S08.DP0052"}]
["CB100B2.S08.DP0053",{"$f":"'8 Bank & Sec. Firms LT'!$D$23","v":"S08.DP0053"}]
["CB100B2.S08.DP0054",{"$f":"'8 Bank & Sec. Firms LT'!$F$18","v":"S08.DP0054"}]
["CB100B2.S08.DP0055",{"$f":"'8 Bank & Sec. Firms LT'!$F$19","v":"S08.DP0055"}]
["CB100B2.S08.DP0056",{"$f":"'8 Bank & Sec. Firms LT'!$F$20","v":"S08.DP0056"}]
["CB100B2.S08.DP0057",{"$f":"'8 Bank & Sec. Firms LT'!$F$21","v":"S08.DP0057"}]
["CB100B2.S08.DP0058",{"$f":"'8 Bank & Sec. Firms LT'!$F$22","v":"S08.DP0058"}]
["CB100B2.S08.DP0059",{"$f":"'8 Bank & Sec. Firms LT'!$G$18","v":"S08.DP0059"}]
["CB100B2.S08.DP0060",{"$f":"'8 Bank & Sec. Firms LT'!$G$19","v":"S08.DP0060"}]
["CB100B2.S08.DP0061",{"$f":"'8 Bank & Sec. Firms LT'!$G$20","v":"S08.DP0061"}]
["CB100B2.S08.DP0062",{"$f":"'8 Bank & Sec. Firms LT'!$G$21","v":"S08.DP0062"}]
["CB100B2.S08.DP0063",{"$f":"'8 Bank & Sec. Firms LT'!$G$22","v":"S08.DP0063"}]
["CB100B2.S08.DP0064",{"$f":"'8 Bank & Sec. Firms LT'!$H$18","v":"S08.DP0064"}]
["CB100B2.S08.DP0065",{"$f":"'8 Bank & Sec. Firms LT'!$H$19","v":"S08.DP0065"}]
["CB100B2.S08.DP0066",{"$f":"'8 Bank & Sec. Firms LT'!$H$20","v":"S08.DP0066"}]
["CB100B2.S08.DP0067",{"$f":"'8 Bank & Sec. Firms LT'!$H$21","v":"S08.DP0067"}]
["CB100B2.S08.DP0068",{"$f":"'8 Bank & Sec. Firms LT'!$H$22","v":"S08.DP0068"}]
["CB100B2.S08.DP0069",{"$f":"'8 Bank & Sec. Firms LT'!$H$23","v":"S08.DP0069"}]
["CB100B2.S08.DP0070",{"$f":"'8 Bank & Sec. Firms LT'!$J$18","v":"S08.DP0070"}]
["CB100B2.S08.DP0071",{"$f":"'8 Bank & Sec. Firms LT'!$J$19","v":"S08.DP0071"}]
["CB100B2.S08.DP0072",{"$f":"'8 Bank & Sec. Firms LT'!$J$20","v":"S08.DP0072"}]
["CB100B2.S08.DP0073",{"$f":"'8 Bank & Sec. Firms LT'!$J$21","v":"S08.DP0073"}]
["CB100B2.S08.DP0074",{"$f":"'8 Bank & Sec. Firms LT'!$J$22","v":"S08.DP0074"}]
["CB100B2.S08.DP0075",{"$f":"'8 Bank & Sec. Firms LT'!$J$23","v":"S08.DP0075"}]
["CB100B2.S08.DP0076",{"$f":"'8 Bank & Sec. Firms LT'!$L$18","v":"S08.DP0076"}]
["CB100B2.S08.DP0077",{"$f":"'8 Bank & Sec. Firms LT'!$L$19","v":"S08.DP0077"}]
["CB100B2.S08.DP0078",{"$f":"'8 Bank & Sec. Firms LT'!$L$20","v":"S08.DP0078"}]
["CB100B2.S08.DP0079",{"$f":"'8 Bank & Sec. Firms LT'!$L$21","v":"S08.DP0079"}]
["CB100B2.S08.DP0080",{"$f":"'8 Bank & Sec. Firms LT'!$L$22","v":"S08.DP0080"}]
["CB100B2.S08.DP0081",{"$f":"'8 Bank & Sec. Firms LT'!$L$23","v":"S08.DP0081"}]
["CB100B2.S08.DP0082",{"$f":"'8 Bank & Sec. Firms LT'!$C$27","v":"S08.DP0082"}]
["CB100B2.S08.DP0083",{"$f":"'8 Bank & Sec. Firms LT'!$C$28","v":"S08.DP0083"}]
["CB100B2.S08.DP0084",{"$f":"'8 Bank & Sec. Firms LT'!$C$29","v":"S08.DP0084"}]
["CB100B2.S08.DP0085",{"$f":"'8 Bank & Sec. Firms LT'!$C$30","v":"S08.DP0085"}]
["CB100B2.S08.DP0086",{"$f":"'8 Bank & Sec. Firms LT'!$C$31","v":"S08.DP0086"}]
["CB100B2.S08.DP0087",{"$f":"'8 Bank & Sec. Firms LT'!$D$27","v":"S08.DP0087"}]
["CB100B2.S08.DP0088",{"$f":"'8 Bank & Sec. Firms LT'!$D$28","v":"S08.DP0088"}]
["CB100B2.S08.DP0089",{"$f":"'8 Bank & Sec. Firms LT'!$D$29","v":"S08.DP0089"}]
["CB100B2.S08.DP0090",{"$f":"'8 Bank & Sec. Firms LT'!$D$30","v":"S08.DP0090"}]
["CB100B2.S08.DP0091",{"$f":"'8 Bank & Sec. Firms LT'!$D$31","v":"S08.DP0091"}]
["CB100B2.S08.DP0092",{"$f":"'8 Bank & Sec. Firms LT'!$F$26","v":"S08.DP0092"}]
["CB100B2.S08.DP0093",{"$f":"'8 Bank & Sec. Firms LT'!$F$27","v":"S08.DP0093"}]
["CB100B2.S08.DP0094",{"$f":"'8 Bank & Sec. Firms LT'!$F$28","v":"S08.DP0094"}]
["CB100B2.S08.DP0095",{"$f":"'8 Bank & Sec. Firms LT'!$F$29","v":"S08.DP0095"}]
["CB100B2.S08.DP0096",{"$f":"'8 Bank & Sec. Firms LT'!$F$30","v":"S08.DP0096"}]
["CB100B2.S08.DP0097",{"$f":"'8 Bank & Sec. Firms LT'!$G$26","v":"S08.DP0097"}]
["CB100B2.S08.DP0098",{"$f":"'8 Bank & Sec. Firms LT'!$G$27","v":"S08.DP0098"}]
["CB100B2.S08.DP0099",{"$f":"'8 Bank & Sec. Firms LT'!$G$28","v":"S08.DP0099"}]
["CB100B2.S08.DP0100",{"$f":"'8 Bank & Sec. Firms LT'!$G$29","v":"S08.DP0100"}]
["CB100B2.S08.DP0101",{"$f":"'8 Bank & Sec. Firms LT'!$G$30","v":"S08.DP0101"}]
["CB100B2.S08.DP0102",{"$f":"'8 Bank & Sec. Firms LT'!$H$26","v":"S08.DP0102"}]
["CB100B2.S08.DP0103",{"$f":"'8 Bank & Sec. Firms LT'!$H$27","v":"S08.DP0103"}]
["CB100B2.S08.DP0104",{"$f":"'8 Bank & Sec. Firms LT'!$H$28","v":"S08.DP0104"}]
["CB100B2.S08.DP0105",{"$f":"'8 Bank & Sec. Firms LT'!$H$29","v":"S08.DP0105"}]
["CB100B2.S08.DP0106",{"$f":"'8 Bank & Sec. Firms LT'!$H$30","v":"S08.DP0106"}]
["CB100B2.S08.DP0107",{"$f":"'8 Bank & Sec. Firms LT'!$H$31","v":"S08.DP0107"}]
["CB100B2.S08.DP0108",{"$f":"'8 Bank & Sec. Firms LT'!$J$26","v":"S08.DP0108"}]
["CB100B2.S08.DP0109",{"$f":"'8 Bank & Sec. Firms LT'!$J$27","v":"S08.DP0109"}]
["CB100B2.S08.DP0110",{"$f":"'8 Bank & Sec. Firms LT'!$J$28","v":"S08.DP0110"}]
["CB100B2.S08.DP0111",{"$f":"'8 Bank & Sec. Firms LT'!$J$29","v":"S08.DP0111"}]
["CB100B2.S08.DP0112",{"$f":"'8 Bank & Sec. Firms LT'!$J$30","v":"S08.DP0112"}]
["CB100B2.S08.DP0113",{"$f":"'8 Bank & Sec. Firms LT'!$J$31","v":"S08.DP0113"}]
["CB100B2.S08.DP0114",{"$f":"'8 Bank & Sec. Firms LT'!$L$26","v":"S08.DP0114"}]
["CB100B2.S08.DP0115",{"$f":"'8 Bank & Sec. Firms LT'!$L$27","v":"S08.DP0115"}]
["CB100B2.S08.DP0116",{"$f":"'8 Bank & Sec. Firms LT'!$L$28","v":"S08.DP0116"}]
["CB100B2.S08.DP0117",{"$f":"'8 Bank & Sec. Firms LT'!$L$29","v":"S08.DP0117"}]
["CB100B2.S08.DP0118",{"$f":"'8 Bank & Sec. Firms LT'!$L$30","v":"S08.DP0118"}]
["CB100B2.S08.DP0119",{"$f":"'8 Bank & Sec. Firms LT'!$L$31","v":"S08.DP0119"}]
["CB100B2.S08.DP0120",{"$f":"'8 Bank & Sec. Firms LT'!$B$35","v":"S08.DP0120"}]
["CB100B2.S08.DP0121",{"$f":"'8 Bank & Sec. Firms LT'!$B$36","v":"S08.DP0121"}]
["CB100B2.S08.DP0122",{"$f":"'8 Bank & Sec. Firms LT'!$B$37","v":"S08.DP0122"}]
["CB100B2.S08.DP0123",{"$f":"'8 Bank & Sec. Firms LT'!$B$38","v":"S08.DP0123"}]
["CB100B2.S08.DP0124",{"$f":"'8 Bank & Sec. Firms LT'!$B$39","v":"S08.DP0124"}]
["CB100B2.S08.DP0125",{"$f":"'8 Bank & Sec. Firms LT'!$C$35","v":"S08.DP0125"}]
["CB100B2.S08.DP0126",{"$f":"'8 Bank & Sec. Firms LT'!$C$36","v":"S08.DP0126"}]
["CB100B2.S08.DP0127",{"$f":"'8 Bank & Sec. Firms LT'!$C$37","v":"S08.DP0127"}]
["CB100B2.S08.DP0128",{"$f":"'8 Bank & Sec. Firms LT'!$C$38","v":"S08.DP0128"}]
["CB100B2.S08.DP0129",{"$f":"'8 Bank & Sec. Firms LT'!$C$39","v":"S08.DP0129"}]
["CB100B2.S08.DP0130",{"$f":"'8 Bank & Sec. Firms LT'!$D$35","v":"S08.DP0130"}]
["CB100B2.S08.DP0131",{"$f":"'8 Bank & Sec. Firms LT'!$D$36","v":"S08.DP0131"}]
["CB100B2.S08.DP0132",{"$f":"'8 Bank & Sec. Firms LT'!$D$37","v":"S08.DP0132"}]
["CB100B2.S08.DP0133",{"$f":"'8 Bank & Sec. Firms LT'!$D$38","v":"S08.DP0133"}]
["CB100B2.S08.DP0134",{"$f":"'8 Bank & Sec. Firms LT'!$D$39","v":"S08.DP0134"}]
["CB100B2.S08.DP0135",{"$f":"'8 Bank & Sec. Firms LT'!$F$34","v":"S08.DP0135"}]
["CB100B2.S08.DP0136",{"$f":"'8 Bank & Sec. Firms LT'!$F$35","v":"S08.DP0136"}]
["CB100B2.S08.DP0137",{"$f":"'8 Bank & Sec. Firms LT'!$F$36","v":"S08.DP0137"}]
["CB100B2.S08.DP0138",{"$f":"'8 Bank & Sec. Firms LT'!$F$37","v":"S08.DP0138"}]
["CB100B2.S08.DP0139",{"$f":"'8 Bank & Sec. Firms LT'!$F$38","v":"S08.DP0139"}]
["CB100B2.S08.DP0140",{"$f":"'8 Bank & Sec. Firms LT'!$G$34","v":"S08.DP0140"}]
["CB100B2.S08.DP0141",{"$f":"'8 Bank & Sec. Firms LT'!$G$35","v":"S08.DP0141"}]
["CB100B2.S08.DP0142",{"$f":"'8 Bank & Sec. Firms LT'!$G$36","v":"S08.DP0142"}]
["CB100B2.S08.DP0143",{"$f":"'8 Bank & Sec. Firms LT'!$G$37","v":"S08.DP0143"}]
["CB100B2.S08.DP0144",{"$f":"'8 Bank & Sec. Firms LT'!$G$38","v":"S08.DP0144"}]
["CB100B2.S08.DP0145",{"$f":"'8 Bank & Sec. Firms LT'!$H$34","v":"S08.DP0145"}]
["CB100B2.S08.DP0146",{"$f":"'8 Bank & Sec. Firms LT'!$H$35","v":"S08.DP0146"}]
["CB100B2.S08.DP0147",{"$f":"'8 Bank & Sec. Firms LT'!$H$36","v":"S08.DP0147"}]
["CB100B2.S08.DP0148",{"$f":"'8 Bank & Sec. Firms LT'!$H$37","v":"S08.DP0148"}]
["CB100B2.S08.DP0149",{"$f":"'8 Bank & Sec. Firms LT'!$H$38","v":"S08.DP0149"}]
["CB100B2.S08.DP0150",{"$f":"'8 Bank & Sec. Firms LT'!$H$39","v":"S08.DP0150"}]
["CB100B2.S08.DP0151",{"$f":"'8 Bank & Sec. Firms LT'!$J$34","v":"S08.DP0151"}]
["CB100B2.S08.DP0152",{"$f":"'8 Bank & Sec. Firms LT'!$J$35","v":"S08.DP0152"}]
["CB100B2.S08.DP0153",{"$f":"'8 Bank & Sec. Firms LT'!$J$36","v":"S08.DP0153"}]
["CB100B2.S08.DP0154",{"$f":"'8 Bank & Sec. Firms LT'!$J$37","v":"S08.DP0154"}]
["CB100B2.S08.DP0155",{"$f":"'8 Bank & Sec. Firms LT'!$J$38","v":"S08.DP0155"}]
["CB100B2.S08.DP0156",{"$f":"'8 Bank & Sec. Firms LT'!$J$39","v":"S08.DP0156"}]
["CB100B2.S08.DP0157",{"$f":"'8 Bank & Sec. Firms LT'!$L$34","v":"S08.DP0157"}]
["CB100B2.S08.DP0158",{"$f":"'8 Bank & Sec. Firms LT'!$L$35","v":"S08.DP0158"}]
["CB100B2.S08.DP0159",{"$f":"'8 Bank & Sec. Firms LT'!$L$36","v":"S08.DP0159"}]
["CB100B2.S08.DP0160",{"$f":"'8 Bank & Sec. Firms LT'!$L$37","v":"S08.DP0160"}]
["CB100B2.S08.DP0161",{"$f":"'8 Bank & Sec. Firms LT'!$L$38","v":"S08.DP0161"}]
["CB100B2.S08.DP0162",{"$f":"'8 Bank & Sec. Firms LT'!$L$39","v":"S08.DP0162"}]
["CB100B2.S08.DP0163",{"$f":"'8 Bank & Sec. Firms LT'!$B$43","v":"S08.DP0163"}]
["CB100B2.S08.DP0164",{"$f":"'8 Bank & Sec. Firms LT'!$B$44","v":"S08.DP0164"}]
["CB100B2.S08.DP0165",{"$f":"'8 Bank & Sec. Firms LT'!$B$45","v":"S08.DP0165"}]
["CB100B2.S08.DP0166",{"$f":"'8 Bank & Sec. Firms LT'!$B$46","v":"S08.DP0166"}]
["CB100B2.S08.DP0167",{"$f":"'8 Bank & Sec. Firms LT'!$B$47","v":"S08.DP0167"}]
["CB100B2.S08.DP0168",{"$f":"'8 Bank & Sec. Firms LT'!$C$43","v":"S08.DP0168"}]
["CB100B2.S08.DP0169",{"$f":"'8 Bank & Sec. Firms LT'!$C$44","v":"S08.DP0169"}]
["CB100B2.S08.DP0170",{"$f":"'8 Bank & Sec. Firms LT'!$C$45","v":"S08.DP0170"}]
["CB100B2.S08.DP0171",{"$f":"'8 Bank & Sec. Firms LT'!$C$46","v":"S08.DP0171"}]
["CB100B2.S08.DP0172",{"$f":"'8 Bank & Sec. Firms LT'!$C$47","v":"S08.DP0172"}]
["CB100B2.S08.DP0173",{"$f":"'8 Bank & Sec. Firms LT'!$D$43","v":"S08.DP0173"}]
["CB100B2.S08.DP0174",{"$f":"'8 Bank & Sec. Firms LT'!$D$44","v":"S08.DP0174"}]
["CB100B2.S08.DP0175",{"$f":"'8 Bank & Sec. Firms LT'!$D$45","v":"S08.DP0175"}]
["CB100B2.S08.DP0176",{"$f":"'8 Bank & Sec. Firms LT'!$D$46","v":"S08.DP0176"}]
["CB100B2.S08.DP0177",{"$f":"'8 Bank & Sec. Firms LT'!$D$47","v":"S08.DP0177"}]
["CB100B2.S08.DP0178",{"$f":"'8 Bank & Sec. Firms LT'!$F$42","v":"S08.DP0178"}]
["CB100B2.S08.DP0179",{"$f":"'8 Bank & Sec. Firms LT'!$F$43","v":"S08.DP0179"}]
["CB100B2.S08.DP0180",{"$f":"'8 Bank & Sec. Firms LT'!$F$44","v":"S08.DP0180"}]
["CB100B2.S08.DP0181",{"$f":"'8 Bank & Sec. Firms LT'!$F$45","v":"S08.DP0181"}]
["CB100B2.S08.DP0182",{"$f":"'8 Bank & Sec. Firms LT'!$F$46","v":"S08.DP0182"}]
["CB100B2.S08.DP0183",{"$f":"'8 Bank & Sec. Firms LT'!$G$42","v":"S08.DP0183"}]
["CB100B2.S08.DP0184",{"$f":"'8 Bank & Sec. Firms LT'!$G$43","v":"S08.DP0184"}]
["CB100B2.S08.DP0185",{"$f":"'8 Bank & Sec. Firms LT'!$G$44","v":"S08.DP0185"}]
["CB100B2.S08.DP0186",{"$f":"'8 Bank & Sec. Firms LT'!$G$45","v":"S08.DP0186"}]
["CB100B2.S08.DP0187",{"$f":"'8 Bank & Sec. Firms LT'!$G$46","v":"S08.DP0187"}]
["CB100B2.S08.DP0188",{"$f":"'8 Bank & Sec. Firms LT'!$H$42","v":"S08.DP0188"}]
["CB100B2.S08.DP0189",{"$f":"'8 Bank & Sec. Firms LT'!$H$43","v":"S08.DP0189"}]
["CB100B2.S08.DP0190",{"$f":"'8 Bank & Sec. Firms LT'!$H$44","v":"S08.DP0190"}]
["CB100B2.S08.DP0191",{"$f":"'8 Bank & Sec. Firms LT'!$H$45","v":"S08.DP0191"}]
["CB100B2.S08.DP0192",{"$f":"'8 Bank & Sec. Firms LT'!$H$46","v":"S08.DP0192"}]
["CB100B2.S08.DP0193",{"$f":"'8 Bank & Sec. Firms LT'!$H$47","v":"S08.DP0193"}]
["CB100B2.S08.DP0194",{"$f":"'8 Bank & Sec. Firms LT'!$J$42","v":"S08.DP0194"}]
["CB100B2.S08.DP0195",{"$f":"'8 Bank & Sec. Firms LT'!$J$43","v":"S08.DP0195"}]
["CB100B2.S08.DP0196",{"$f":"'8 Bank & Sec. Firms LT'!$J$44","v":"S08.DP0196"}]
["CB100B2.S08.DP0197",{"$f":"'8 Bank & Sec. Firms LT'!$J$45","v":"S08.DP0197"}]
["CB100B2.S08.DP0198",{"$f":"'8 Bank & Sec. Firms LT'!$J$46","v":"S08.DP0198"}]
["CB100B2.S08.DP0199",{"$f":"'8 Bank & Sec. Firms LT'!$J$47","v":"S08.DP0199"}]
["CB100B2.S08.DP0200",{"$f":"'8 Bank & Sec. Firms LT'!$L$42","v":"S08.DP0200"}]
["CB100B2.S08.DP0201",{"$f":"'8 Bank & Sec. Firms LT'!$L$43","v":"S08.DP0201"}]
["CB100B2.S08.DP0202",{"$f":"'8 Bank & Sec. Firms LT'!$L$44","v":"S08.DP0202"}]
["CB100B2.S08.DP0203",{"$f":"'8 Bank & Sec. Firms LT'!$L$45","v":"S08.DP0203"}]
["CB100B2.S08.DP0204",{"$f":"'8 Bank & Sec. Firms LT'!$L$46","v":"S08.DP0204"}]
["CB100B2.S08.DP0205",{"$f":"'8 Bank & Sec. Firms LT'!$L$47","v":"S08.DP0205"}]
["CB100B2.S08.DP0206",{"$f":"'8 Bank & Sec. Firms LT'!$C$49","v":"S08.DP0206"}]
["CB100B2.S08.DP0207",{"$f":"'8 Bank & Sec. Firms LT'!$D$49","v":"S08.DP0207"}]
["CB100B2.S08.DP0208",{"$f":"'8 Bank & Sec. Firms LT'!$L$49","v":"S08.DP0208"}]
["CB100B2.S08A.DP0001",{"$f":"'8A Bank & Sec. Firms ST'!$C$11","v":"S08A.DP0001"}]
["CB100B2.S08A.DP0002",{"$f":"'8A Bank & Sec. Firms ST'!$C$12","v":"S08A.DP0002"}]
["CB100B2.S08A.DP0003",{"$f":"'8A Bank & Sec. Firms ST'!$C$13","v":"S08A.DP0003"}]
["CB100B2.S08A.DP0004",{"$f":"'8A Bank & Sec. Firms ST'!$C$14","v":"S08A.DP0004"}]
["CB100B2.S08A.DP0005",{"$f":"'8A Bank & Sec. Firms ST'!$C$15","v":"S08A.DP0005"}]
["CB100B2.S08A.DP0006",{"$f":"'8A Bank & Sec. Firms ST'!$D$11","v":"S08A.DP0006"}]
["CB100B2.S08A.DP0007",{"$f":"'8A Bank & Sec. Firms ST'!$D$12","v":"S08A.DP0007"}]
["CB100B2.S08A.DP0008",{"$f":"'8A Bank & Sec. Firms ST'!$D$13","v":"S08A.DP0008"}]
["CB100B2.S08A.DP0009",{"$f":"'8A Bank & Sec. Firms ST'!$D$14","v":"S08A.DP0009"}]
["CB100B2.S08A.DP0010",{"$f":"'8A Bank & Sec. Firms ST'!$D$15","v":"S08A.DP0010"}]
["CB100B2.S08A.DP0011",{"$f":"'8A Bank & Sec. Firms ST'!$F$10","v":"S08A.DP0011"}]
["CB100B2.S08A.DP0012",{"$f":"'8A Bank & Sec. Firms ST'!$F$11","v":"S08A.DP0012"}]
["CB100B2.S08A.DP0013",{"$f":"'8A Bank & Sec. Firms ST'!$F$12","v":"S08A.DP0013"}]
["CB100B2.S08A.DP0014",{"$f":"'8A Bank & Sec. Firms ST'!$F$13","v":"S08A.DP0014"}]
["CB100B2.S08A.DP0015",{"$f":"'8A Bank & Sec. Firms ST'!$F$14","v":"S08A.DP0015"}]
["CB100B2.S08A.DP0016",{"$f":"'8A Bank & Sec. Firms ST'!$G$10","v":"S08A.DP0016"}]
["CB100B2.S08A.DP0017",{"$f":"'8A Bank & Sec. Firms ST'!$G$11","v":"S08A.DP0017"}]
["CB100B2.S08A.DP0018",{"$f":"'8A Bank & Sec. Firms ST'!$G$12","v":"S08A.DP0018"}]
["CB100B2.S08A.DP0019",{"$f":"'8A Bank & Sec. Firms ST'!$G$13","v":"S08A.DP0019"}]
["CB100B2.S08A.DP0020",{"$f":"'8A Bank & Sec. Firms ST'!$G$14","v":"S08A.DP0020"}]
["CB100B2.S08A.DP0021",{"$f":"'8A Bank & Sec. Firms ST'!$H$10","v":"S08A.DP0021"}]
["CB100B2.S08A.DP0022",{"$f":"'8A Bank & Sec. Firms ST'!$H$11","v":"S08A.DP0022"}]
["CB100B2.S08A.DP0023",{"$f":"'8A Bank & Sec. Firms ST'!$H$12","v":"S08A.DP0023"}]
["CB100B2.S08A.DP0024",{"$f":"'8A Bank & Sec. Firms ST'!$H$13","v":"S08A.DP0024"}]
["CB100B2.S08A.DP0025",{"$f":"'8A Bank & Sec. Firms ST'!$H$14","v":"S08A.DP0025"}]
["CB100B2.S08A.DP0026",{"$f":"'8A Bank & Sec. Firms ST'!$H$15","v":"S08A.DP0026"}]
["CB100B2.S08A.DP0027",{"$f":"'8A Bank & Sec. Firms ST'!$J$10","v":"S08A.DP0027"}]
["CB100B2.S08A.DP0028",{"$f":"'8A Bank & Sec. Firms ST'!$J$11","v":"S08A.DP0028"}]
["CB100B2.S08A.DP0029",{"$f":"'8A Bank & Sec. Firms ST'!$J$12","v":"S08A.DP0029"}]
["CB100B2.S08A.DP0030",{"$f":"'8A Bank & Sec. Firms ST'!$J$13","v":"S08A.DP0030"}]
["CB100B2.S08A.DP0031",{"$f":"'8A Bank & Sec. Firms ST'!$J$14","v":"S08A.DP0031"}]
["CB100B2.S08A.DP0032",{"$f":"'8A Bank & Sec. Firms ST'!$J$15","v":"S08A.DP0032"}]
["CB100B2.S08A.DP0033",{"$f":"'8A Bank & Sec. Firms ST'!$L$10","v":"S08A.DP0033"}]
["CB100B2.S08A.DP0034",{"$f":"'8A Bank & Sec. Firms ST'!$L$11","v":"S08A.DP0034"}]
["CB100B2.S08A.DP0035",{"$f":"'8A Bank & Sec. Firms ST'!$L$12","v":"S08A.DP0035"}]
["CB100B2.S08A.DP0036",{"$f":"'8A Bank & Sec. Firms ST'!$L$13","v":"S08A.DP0036"}]
["CB100B2.S08A.DP0037",{"$f":"'8A Bank & Sec. Firms ST'!$L$14","v":"S08A.DP0037"}]
["CB100B2.S08A.DP0038",{"$f":"'8A Bank & Sec. Firms ST'!$L$15","v":"S08A.DP0038"}]
["CB100B2.S08A.DP0039",{"$f":"'8A Bank & Sec. Firms ST'!$B$19","v":"S08A.DP0039"}]
["CB100B2.S08A.DP0040",{"$f":"'8A Bank & Sec. Firms ST'!$B$20","v":"S08A.DP0040"}]
["CB100B2.S08A.DP0041",{"$f":"'8A Bank & Sec. Firms ST'!$B$21","v":"S08A.DP0041"}]
["CB100B2.S08A.DP0042",{"$f":"'8A Bank & Sec. Firms ST'!$B$22","v":"S08A.DP0042"}]
["CB100B2.S08A.DP0043",{"$f":"'8A Bank & Sec. Firms ST'!$B$23","v":"S08A.DP0043"}]
["CB100B2.S08A.DP0044",{"$f":"'8A Bank & Sec. Firms ST'!$C$19","v":"S08A.DP0044"}]
["CB100B2.S08A.DP0045",{"$f":"'8A Bank & Sec. Firms ST'!$C$20","v":"S08A.DP0045"}]
["CB100B2.S08A.DP0046",{"$f":"'8A Bank & Sec. Firms ST'!$C$21","v":"S08A.DP0046"}]
["CB100B2.S08A.DP0047",{"$f":"'8A Bank & Sec. Firms ST'!$C$22","v":"S08A.DP0047"}]
["CB100B2.S08A.DP0048",{"$f":"'8A Bank & Sec. Firms ST'!$C$23","v":"S08A.DP0048"}]
["CB100B2.S08A.DP0049",{"$f":"'8A Bank & Sec. Firms ST'!$D$19","v":"S08A.DP0049"}]
["CB100B2.S08A.DP0050",{"$f":"'8A Bank & Sec. Firms ST'!$D$20","v":"S08A.DP0050"}]
["CB100B2.S08A.DP0051",{"$f":"'8A Bank & Sec. Firms ST'!$D$21","v":"S08A.DP0051"}]
["CB100B2.S08A.DP0052",{"$f":"'8A Bank & Sec. Firms ST'!$D$22","v":"S08A.DP0052"}]
["CB100B2.S08A.DP0053",{"$f":"'8A Bank & Sec. Firms ST'!$D$23","v":"S08A.DP0053"}]
["CB100B2.S08A.DP0054",{"$f":"'8A Bank & Sec. Firms ST'!$F$18","v":"S08A.DP0054"}]
["CB100B2.S08A.DP0055",{"$f":"'8A Bank & Sec. Firms ST'!$F$19","v":"S08A.DP0055"}]
["CB100B2.S08A.DP0056",{"$f":"'8A Bank & Sec. Firms ST'!$F$20","v":"S08A.DP0056"}]
["CB100B2.S08A.DP0057",{"$f":"'8A Bank & Sec. Firms ST'!$F$21","v":"S08A.DP0057"}]
["CB100B2.S08A.DP0058",{"$f":"'8A Bank & Sec. Firms ST'!$F$22","v":"S08A.DP0058"}]
["CB100B2.S08A.DP0059",{"$f":"'8A Bank & Sec. Firms ST'!$G$18","v":"S08A.DP0059"}]
["CB100B2.S08A.DP0060",{"$f":"'8A Bank & Sec. Firms ST'!$G$19","v":"S08A.DP0060"}]
["CB100B2.S08A.DP0061",{"$f":"'8A Bank & Sec. Firms ST'!$G$20","v":"S08A.DP0061"}]
["CB100B2.S08A.DP0062",{"$f":"'8A Bank & Sec. Firms ST'!$G$21","v":"S08A.DP0062"}]
["CB100B2.S08A.DP0063",{"$f":"'8A Bank & Sec. Firms ST'!$G$22","v":"S08A.DP0063"}]
["CB100B2.S08A.DP0064",{"$f":"'8A Bank & Sec. Firms ST'!$H$18","v":"S08A.DP0064"}]
["CB100B2.S08A.DP0065",{"$f":"'8A Bank & Sec. Firms ST'!$H$19","v":"S08A.DP0065"}]
["CB100B2.S08A.DP0066",{"$f":"'8A Bank & Sec. Firms ST'!$H$20","v":"S08A.DP0066"}]
["CB100B2.S08A.DP0067",{"$f":"'8A Bank & Sec. Firms ST'!$H$21","v":"S08A.DP0067"}]
["CB100B2.S08A.DP0068",{"$f":"'8A Bank & Sec. Firms ST'!$H$22","v":"S08A.DP0068"}]
["CB100B2.S08A.DP0069",{"$f":"'8A Bank & Sec. Firms ST'!$H$23","v":"S08A.DP0069"}]
["CB100B2.S08A.DP0070",{"$f":"'8A Bank & Sec. Firms ST'!$J$18","v":"S08A.DP0070"}]
["CB100B2.S08A.DP0071",{"$f":"'8A Bank & Sec. Firms ST'!$J$19","v":"S08A.DP0071"}]
["CB100B2.S08A.DP0072",{"$f":"'8A Bank & Sec. Firms ST'!$J$20","v":"S08A.DP0072"}]
["CB100B2.S08A.DP0073",{"$f":"'8A Bank & Sec. Firms ST'!$J$21","v":"S08A.DP0073"}]
["CB100B2.S08A.DP0074",{"$f":"'8A Bank & Sec. Firms ST'!$J$22","v":"S08A.DP0074"}]
["CB100B2.S08A.DP0075",{"$f":"'8A Bank & Sec. Firms ST'!$J$23","v":"S08A.DP0075"}]
["CB100B2.S08A.DP0076",{"$f":"'8A Bank & Sec. Firms ST'!$L$18","v":"S08A.DP0076"}]
["CB100B2.S08A.DP0077",{"$f":"'8A Bank & Sec. Firms ST'!$L$19","v":"S08A.DP0077"}]
["CB100B2.S08A.DP0078",{"$f":"'8A Bank & Sec. Firms ST'!$L$20","v":"S08A.DP0078"}]
["CB100B2.S08A.DP0079",{"$f":"'8A Bank & Sec. Firms ST'!$L$21","v":"S08A.DP0079"}]
["CB100B2.S08A.DP0080",{"$f":"'8A Bank & Sec. Firms ST'!$L$22","v":"S08A.DP0080"}]
["CB100B2.S08A.DP0081",{"$f":"'8A Bank & Sec. Firms ST'!$L$23","v":"S08A.DP0081"}]
["CB100B2.S08A.DP0082",{"$f":"'8A Bank & Sec. Firms ST'!$C$27","v":"S08A.DP0082"}]
["CB100B2.S08A.DP0083",{"$f":"'8A Bank & Sec. Firms ST'!$C$28","v":"S08A.DP0083"}]
["CB100B2.S08A.DP0084",{"$f":"'8A Bank & Sec. Firms ST'!$C$29","v":"S08A.DP0084"}]
["CB100B2.S08A.DP0085",{"$f":"'8A Bank & Sec. Firms ST'!$C$30","v":"S08A.DP0085"}]
["CB100B2.S08A.DP0086",{"$f":"'8A Bank & Sec. Firms ST'!$C$31","v":"S08A.DP0086"}]
["CB100B2.S08A.DP0087",{"$f":"'8A Bank & Sec. Firms ST'!$D$27","v":"S08A.DP0087"}]
["CB100B2.S08A.DP0088",{"$f":"'8A Bank & Sec. Firms ST'!$D$28","v":"S08A.DP0088"}]
["CB100B2.S08A.DP0089",{"$f":"'8A Bank & Sec. Firms ST'!$D$29","v":"S08A.DP0089"}]
["CB100B2.S08A.DP0090",{"$f":"'8A Bank & Sec. Firms ST'!$D$30","v":"S08A.DP0090"}]
["CB100B2.S08A.DP0091",{"$f":"'8A Bank & Sec. Firms ST'!$D$31","v":"S08A.DP0091"}]
["CB100B2.S08A.DP0092",{"$f":"'8A Bank & Sec. Firms ST'!$F$26","v":"S08A.DP0092"}]
["CB100B2.S08A.DP0093",{"$f":"'8A Bank & Sec. Firms ST'!$F$27","v":"S08A.DP0093"}]
["CB100B2.S08A.DP0094",{"$f":"'8A Bank & Sec. Firms ST'!$F$28","v":"S08A.DP0094"}]
["CB100B2.S08A.DP0095",{"$f":"'8A Bank & Sec. Firms ST'!$F$29","v":"S08A.DP0095"}]
["CB100B2.S08A.DP0096",{"$f":"'8A Bank & Sec. Firms ST'!$F$30","v":"S08A.DP0096"}]
["CB100B2.S08A.DP0097",{"$f":"'8A Bank & Sec. Firms ST'!$G$26","v":"S08A.DP0097"}]
["CB100B2.S08A.DP0098",{"$f":"'8A Bank & Sec. Firms ST'!$G$27","v":"S08A.DP0098"}]
["CB100B2.S08A.DP0099",{"$f":"'8A Bank & Sec. Firms ST'!$G$28","v":"S08A.DP0099"}]
["CB100B2.S08A.DP0100",{"$f":"'8A Bank & Sec. Firms ST'!$G$29","v":"S08A.DP0100"}]
["CB100B2.S08A.DP0101",{"$f":"'8A Bank & Sec. Firms ST'!$G$30","v":"S08A.DP0101"}]
["CB100B2.S08A.DP0102",{"$f":"'8A Bank & Sec. Firms ST'!$H$26","v":"S08A.DP0102"}]
["CB100B2.S08A.DP0103",{"$f":"'8A Bank & Sec. Firms ST'!$H$27","v":"S08A.DP0103"}]
["CB100B2.S08A.DP0104",{"$f":"'8A Bank & Sec. Firms ST'!$H$28","v":"S08A.DP0104"}]
["CB100B2.S08A.DP0105",{"$f":"'8A Bank & Sec. Firms ST'!$H$29","v":"S08A.DP0105"}]
["CB100B2.S08A.DP0106",{"$f":"'8A Bank & Sec. Firms ST'!$H$30","v":"S08A.DP0106"}]
["CB100B2.S08A.DP0107",{"$f":"'8A Bank & Sec. Firms ST'!$H$31","v":"S08A.DP0107"}]
["CB100B2.S08A.DP0108",{"$f":"'8A Bank & Sec. Firms ST'!$J$26","v":"S08A.DP0108"}]
["CB100B2.S08A.DP0109",{"$f":"'8A Bank & Sec. Firms ST'!$J$27","v":"S08A.DP0109"}]
["CB100B2.S08A.DP0110",{"$f":"'8A Bank & Sec. Firms ST'!$J$28","v":"S08A.DP0110"}]
["CB100B2.S08A.DP0111",{"$f":"'8A Bank & Sec. Firms ST'!$J$29","v":"S08A.DP0111"}]
["CB100B2.S08A.DP0112",{"$f":"'8A Bank & Sec. Firms ST'!$J$30","v":"S08A.DP0112"}]
["CB100B2.S08A.DP0113",{"$f":"'8A Bank & Sec. Firms ST'!$J$31","v":"S08A.DP0113"}]
["CB100B2.S08A.DP0114",{"$f":"'8A Bank & Sec. Firms ST'!$L$26","v":"S08A.DP0114"}]
["CB100B2.S08A.DP0115",{"$f":"'8A Bank & Sec. Firms ST'!$L$27","v":"S08A.DP0115"}]
["CB100B2.S08A.DP0116",{"$f":"'8A Bank & Sec. Firms ST'!$L$28","v":"S08A.DP0116"}]
["CB100B2.S08A.DP0117",{"$f":"'8A Bank & Sec. Firms ST'!$L$29","v":"S08A.DP0117"}]
["CB100B2.S08A.DP0118",{"$f":"'8A Bank & Sec. Firms ST'!$L$30","v":"S08A.DP0118"}]
["CB100B2.S08A.DP0119",{"$f":"'8A Bank & Sec. Firms ST'!$L$31","v":"S08A.DP0119"}]
["CB100B2.S08A.DP0120",{"$f":"'8A Bank & Sec. Firms ST'!$B$35","v":"S08A.DP0120"}]
["CB100B2.S08A.DP0121",{"$f":"'8A Bank & Sec. Firms ST'!$B$36","v":"S08A.DP0121"}]
["CB100B2.S08A.DP0122",{"$f":"'8A Bank & Sec. Firms ST'!$B$37","v":"S08A.DP0122"}]
["CB100B2.S08A.DP0123",{"$f":"'8A Bank & Sec. Firms ST'!$B$38","v":"S08A.DP0123"}]
["CB100B2.S08A.DP0124",{"$f":"'8A Bank & Sec. Firms ST'!$B$39","v":"S08A.DP0124"}]
["CB100B2.S08A.DP0125",{"$f":"'8A Bank & Sec. Firms ST'!$C$35","v":"S08A.DP0125"}]
["CB100B2.S08A.DP0126",{"$f":"'8A Bank & Sec. Firms ST'!$C$36","v":"S08A.DP0126"}]
["CB100B2.S08A.DP0127",{"$f":"'8A Bank & Sec. Firms ST'!$C$37","v":"S08A.DP0127"}]
["CB100B2.S08A.DP0128",{"$f":"'8A Bank & Sec. Firms ST'!$C$38","v":"S08A.DP0128"}]
["CB100B2.S08A.DP0129",{"$f":"'8A Bank & Sec. Firms ST'!$C$39","v":"S08A.DP0129"}]
["CB100B2.S08A.DP0130",{"$f":"'8A Bank & Sec. Firms ST'!$D$35","v":"S08A.DP0130"}]
["CB100B2.S08A.DP0131",{"$f":"'8A Bank & Sec. Firms ST'!$D$36","v":"S08A.DP0131"}]
["CB100B2.S08A.DP0132",{"$f":"'8A Bank & Sec. Firms ST'!$D$37","v":"S08A.DP0132"}]
["CB100B2.S08A.DP0133",{"$f":"'8A Bank & Sec. Firms ST'!$D$38","v":"S08A.DP0133"}]
["CB100B2.S08A.DP0134",{"$f":"'8A Bank & Sec. Firms ST'!$D$39","v":"S08A.DP0134"}]
["CB100B2.S08A.DP0135",{"$f":"'8A Bank & Sec. Firms ST'!$F$34","v":"S08A.DP0135"}]
["CB100B2.S08A.DP0136",{"$f":"'8A Bank & Sec. Firms ST'!$F$35","v":"S08A.DP0136"}]
["CB100B2.S08A.DP0137",{"$f":"'8A Bank & Sec. Firms ST'!$F$36","v":"S08A.DP0137"}]
["CB100B2.S08A.DP0138",{"$f":"'8A Bank & Sec. Firms ST'!$F$37","v":"S08A.DP0138"}]
["CB100B2.S08A.DP0139",{"$f":"'8A Bank & Sec. Firms ST'!$F$38","v":"S08A.DP0139"}]
["CB100B2.S08A.DP0140",{"$f":"'8A Bank & Sec. Firms ST'!$G$34","v":"S08A.DP0140"}]
["CB100B2.S08A.DP0141",{"$f":"'8A Bank & Sec. Firms ST'!$G$35","v":"S08A.DP0141"}]
["CB100B2.S08A.DP0142",{"$f":"'8A Bank & Sec. Firms ST'!$G$36","v":"S08A.DP0142"}]
["CB100B2.S08A.DP0143",{"$f":"'8A Bank & Sec. Firms ST'!$G$37","v":"S08A.DP0143"}]
["CB100B2.S08A.DP0144",{"$f":"'8A Bank & Sec. Firms ST'!$G$38","v":"S08A.DP0144"}]
["CB100B2.S08A.DP0145",{"$f":"'8A Bank & Sec. Firms ST'!$H$34","v":"S08A.DP0145"}]
["CB100B2.S08A.DP0146",{"$f":"'8A Bank & Sec. Firms ST'!$H$35","v":"S08A.DP0146"}]
["CB100B2.S08A.DP0147",{"$f":"'8A Bank & Sec. Firms ST'!$H$36","v":"S08A.DP0147"}]
["CB100B2.S08A.DP0148",{"$f":"'8A Bank & Sec. Firms ST'!$H$37","v":"S08A.DP0148"}]
["CB100B2.S08A.DP0149",{"$f":"'8A Bank & Sec. Firms ST'!$H$38","v":"S08A.DP0149"}]
["CB100B2.S08A.DP0150",{"$f":"'8A Bank & Sec. Firms ST'!$H$39","v":"S08A.DP0150"}]
["CB100B2.S08A.DP0151",{"$f":"'8A Bank & Sec. Firms ST'!$J$34","v":"S08A.DP0151"}]
["CB100B2.S08A.DP0152",{"$f":"'8A Bank & Sec. Firms ST'!$J$35","v":"S08A.DP0152"}]
["CB100B2.S08A.DP0153",{"$f":"'8A Bank & Sec. Firms ST'!$J$36","v":"S08A.DP0153"}]
["CB100B2.S08A.DP0154",{"$f":"'8A Bank & Sec. Firms ST'!$J$37","v":"S08A.DP0154"}]
["CB100B2.S08A.DP0155",{"$f":"'8A Bank & Sec. Firms ST'!$J$38","v":"S08A.DP0155"}]
["CB100B2.S08A.DP0156",{"$f":"'8A Bank & Sec. Firms ST'!$J$39","v":"S08A.DP0156"}]
["CB100B2.S08A.DP0157",{"$f":"'8A Bank & Sec. Firms ST'!$L$34","v":"S08A.DP0157"}]
["CB100B2.S08A.DP0158",{"$f":"'8A Bank & Sec. Firms ST'!$L$35","v":"S08A.DP0158"}]
["CB100B2.S08A.DP0159",{"$f":"'8A Bank & Sec. Firms ST'!$L$36","v":"S08A.DP0159"}]
["CB100B2.S08A.DP0160",{"$f":"'8A Bank & Sec. Firms ST'!$L$37","v":"S08A.DP0160"}]
["CB100B2.S08A.DP0161",{"$f":"'8A Bank & Sec. Firms ST'!$L$38","v":"S08A.DP0161"}]
["CB100B2.S08A.DP0162",{"$f":"'8A Bank & Sec. Firms ST'!$L$39","v":"S08A.DP0162"}]
["CB100B2.S08A.DP0163",{"$f":"'8A Bank & Sec. Firms ST'!$B$43","v":"S08A.DP0163"}]
["CB100B2.S08A.DP0164",{"$f":"'8A Bank & Sec. Firms ST'!$B$44","v":"S08A.DP0164"}]
["CB100B2.S08A.DP0165",{"$f":"'8A Bank & Sec. Firms ST'!$B$45","v":"S08A.DP0165"}]
["CB100B2.S08A.DP0166",{"$f":"'8A Bank & Sec. Firms ST'!$B$46","v":"S08A.DP0166"}]
["CB100B2.S08A.DP0167",{"$f":"'8A Bank & Sec. Firms ST'!$B$47","v":"S08A.DP0167"}]
["CB100B2.S08A.DP0168",{"$f":"'8A Bank & Sec. Firms ST'!$C$43","v":"S08A.DP0168"}]
["CB100B2.S08A.DP0169",{"$f":"'8A Bank & Sec. Firms ST'!$C$44","v":"S08A.DP0169"}]
["CB100B2.S08A.DP0170",{"$f":"'8A Bank & Sec. Firms ST'!$C$45","v":"S08A.DP0170"}]
["CB100B2.S08A.DP0171",{"$f":"'8A Bank & Sec. Firms ST'!$C$46","v":"S08A.DP0171"}]
["CB100B2.S08A.DP0172",{"$f":"'8A Bank & Sec. Firms ST'!$C$47","v":"S08A.DP0172"}]
["CB100B2.S08A.DP0173",{"$f":"'8A Bank & Sec. Firms ST'!$D$43","v":"S08A.DP0173"}]
["CB100B2.S08A.DP0174",{"$f":"'8A Bank & Sec. Firms ST'!$D$44","v":"S08A.DP0174"}]
["CB100B2.S08A.DP0175",{"$f":"'8A Bank & Sec. Firms ST'!$D$45","v":"S08A.DP0175"}]
["CB100B2.S08A.DP0176",{"$f":"'8A Bank & Sec. Firms ST'!$D$46","v":"S08A.DP0176"}]
["CB100B2.S08A.DP0177",{"$f":"'8A Bank & Sec. Firms ST'!$D$47","v":"S08A.DP0177"}]
["CB100B2.S08A.DP0178",{"$f":"'8A Bank & Sec. Firms ST'!$F$42","v":"S08A.DP0178"}]
["CB100B2.S08A.DP0179",{"$f":"'8A Bank & Sec. Firms ST'!$F$43","v":"S08A.DP0179"}]
["CB100B2.S08A.DP0180",{"$f":"'8A Bank & Sec. Firms ST'!$F$44","v":"S08A.DP0180"}]
["CB100B2.S08A.DP0181",{"$f":"'8A Bank & Sec. Firms ST'!$F$45","v":"S08A.DP0181"}]
["CB100B2.S08A.DP0182",{"$f":"'8A Bank & Sec. Firms ST'!$F$46","v":"S08A.DP0182"}]
["CB100B2.S08A.DP0183",{"$f":"'8A Bank & Sec. Firms ST'!$G$42","v":"S08A.DP0183"}]
["CB100B2.S08A.DP0184",{"$f":"'8A Bank & Sec. Firms ST'!$G$43","v":"S08A.DP0184"}]
["CB100B2.S08A.DP0185",{"$f":"'8A Bank & Sec. Firms ST'!$G$44","v":"S08A.DP0185"}]
["CB100B2.S08A.DP0186",{"$f":"'8A Bank & Sec. Firms ST'!$G$45","v":"S08A.DP0186"}]
["CB100B2.S08A.DP0187",{"$f":"'8A Bank & Sec. Firms ST'!$G$46","v":"S08A.DP0187"}]
["CB100B2.S08A.DP0188",{"$f":"'8A Bank & Sec. Firms ST'!$H$42","v":"S08A.DP0188"}]
["CB100B2.S08A.DP0189",{"$f":"'8A Bank & Sec. Firms ST'!$H$43","v":"S08A.DP0189"}]
["CB100B2.S08A.DP0190",{"$f":"'8A Bank & Sec. Firms ST'!$H$44","v":"S08A.DP0190"}]
["CB100B2.S08A.DP0191",{"$f":"'8A Bank & Sec. Firms ST'!$H$45","v":"S08A.DP0191"}]
["CB100B2.S08A.DP0192",{"$f":"'8A Bank & Sec. Firms ST'!$H$46","v":"S08A.DP0192"}]
["CB100B2.S08A.DP0193",{"$f":"'8A Bank & Sec. Firms ST'!$H$47","v":"S08A.DP0193"}]
["CB100B2.S08A.DP0194",{"$f":"'8A Bank & Sec. Firms ST'!$J$42","v":"S08A.DP0194"}]
["CB100B2.S08A.DP0195",{"$f":"'8A Bank & Sec. Firms ST'!$J$43","v":"S08A.DP0195"}]
["CB100B2.S08A.DP0196",{"$f":"'8A Bank & Sec. Firms ST'!$J$44","v":"S08A.DP0196"}]
["CB100B2.S08A.DP0197",{"$f":"'8A Bank & Sec. Firms ST'!$J$45","v":"S08A.DP0197"}]
["CB100B2.S08A.DP0198",{"$f":"'8A Bank & Sec. Firms ST'!$J$46","v":"S08A.DP0198"}]
["CB100B2.S08A.DP0199",{"$f":"'8A Bank & Sec. Firms ST'!$J$47","v":"S08A.DP0199"}]
["CB100B2.S08A.DP0200",{"$f":"'8A Bank & Sec. Firms ST'!$L$42","v":"S08A.DP0200"}]
["CB100B2.S08A.DP0201",{"$f":"'8A Bank & Sec. Firms ST'!$L$43","v":"S08A.DP0201"}]
["CB100B2.S08A.DP0202",{"$f":"'8A Bank & Sec. Firms ST'!$L$44","v":"S08A.DP0202"}]
["CB100B2.S08A.DP0203",{"$f":"'8A Bank & Sec. Firms ST'!$L$45","v":"S08A.DP0203"}]
["CB100B2.S08A.DP0204",{"$f":"'8A Bank & Sec. Firms ST'!$L$46","v":"S08A.DP0204"}]
["CB100B2.S08A.DP0205",{"$f":"'8A Bank & Sec. Firms ST'!$L$47","v":"S08A.DP0205"}]
["CB100B2.S08A.DP0206",{"$f":"'8A Bank & Sec. Firms ST'!$C$49","v":"S08A.DP0206"}]
["CB100B2.S08A.DP0207",{"$f":"'8A Bank & Sec. Firms ST'!$D$49","v":"S08A.DP0207"}]
["CB100B2.S08A.DP0208",{"$f":"'8A Bank & Sec. Firms ST'!$L$49","v":"S08A.DP0208"}]
["CB100B2.S09.DP0001",{"$f":"' 9 Corp. & Sec. Firms LT'!$C$11","v":"S09.DP0001"}]
["CB100B2.S09.DP0002",{"$f":"' 9 Corp. & Sec. Firms LT'!$C$12","v":"S09.DP0002"}]
["CB100B2.S09.DP0003",{"$f":"' 9 Corp. & Sec. Firms LT'!$C$13","v":"S09.DP0003"}]
["CB100B2.S09.DP0004",{"$f":"' 9 Corp. & Sec. Firms LT'!$C$14","v":"S09.DP0004"}]
["CB100B2.S09.DP0005",{"$f":"' 9 Corp. & Sec. Firms LT'!$C$15","v":"S09.DP0005"}]
["CB100B2.S09.DP0006",{"$f":"' 9 Corp. & Sec. Firms LT'!$D$11","v":"S09.DP0006"}]
["CB100B2.S09.DP0007",{"$f":"' 9 Corp. & Sec. Firms LT'!$D$12","v":"S09.DP0007"}]
["CB100B2.S09.DP0008",{"$f":"' 9 Corp. & Sec. Firms LT'!$D$13","v":"S09.DP0008"}]
["CB100B2.S09.DP0009",{"$f":"' 9 Corp. & Sec. Firms LT'!$D$14","v":"S09.DP0009"}]
["CB100B2.S09.DP0010",{"$f":"' 9 Corp. & Sec. Firms LT'!$D$15","v":"S09.DP0010"}]
["CB100B2.S09.DP0011",{"$f":"' 9 Corp. & Sec. Firms LT'!$F$10","v":"S09.DP0011"}]
["CB100B2.S09.DP0012",{"$f":"' 9 Corp. & Sec. Firms LT'!$F$11","v":"S09.DP0012"}]
["CB100B2.S09.DP0013",{"$f":"' 9 Corp. & Sec. Firms LT'!$F$12","v":"S09.DP0013"}]
["CB100B2.S09.DP0014",{"$f":"' 9 Corp. & Sec. Firms LT'!$F$13","v":"S09.DP0014"}]
["CB100B2.S09.DP0015",{"$f":"' 9 Corp. & Sec. Firms LT'!$F$14","v":"S09.DP0015"}]
["CB100B2.S09.DP0016",{"$f":"' 9 Corp. & Sec. Firms LT'!$G$10","v":"S09.DP0016"}]
["CB100B2.S09.DP0017",{"$f":"' 9 Corp. & Sec. Firms LT'!$G$11","v":"S09.DP0017"}]
["CB100B2.S09.DP0018",{"$f":"' 9 Corp. & Sec. Firms LT'!$G$12","v":"S09.DP0018"}]
["CB100B2.S09.DP0019",{"$f":"' 9 Corp. & Sec. Firms LT'!$G$13","v":"S09.DP0019"}]
["CB100B2.S09.DP0020",{"$f":"' 9 Corp. & Sec. Firms LT'!$G$14","v":"S09.DP0020"}]
["CB100B2.S09.DP0021",{"$f":"' 9 Corp. & Sec. Firms LT'!$H$10","v":"S09.DP0021"}]
["CB100B2.S09.DP0022",{"$f":"' 9 Corp. & Sec. Firms LT'!$H$11","v":"S09.DP0022"}]
["CB100B2.S09.DP0023",{"$f":"' 9 Corp. & Sec. Firms LT'!$H$12","v":"S09.DP0023"}]
["CB100B2.S09.DP0024",{"$f":"' 9 Corp. & Sec. Firms LT'!$H$13","v":"S09.DP0024"}]
["CB100B2.S09.DP0025",{"$f":"' 9 Corp. & Sec. Firms LT'!$H$14","v":"S09.DP0025"}]
["CB100B2.S09.DP0026",{"$f":"' 9 Corp. & Sec. Firms LT'!$H$15","v":"S09.DP0026"}]
["CB100B2.S09.DP0027",{"$f":"' 9 Corp. & Sec. Firms LT'!$J$10","v":"S09.DP0027"}]
["CB100B2.S09.DP0028",{"$f":"' 9 Corp. & Sec. Firms LT'!$J$11","v":"S09.DP0028"}]
["CB100B2.S09.DP0029",{"$f":"' 9 Corp. & Sec. Firms LT'!$J$12","v":"S09.DP0029"}]
["CB100B2.S09.DP0030",{"$f":"' 9 Corp. & Sec. Firms LT'!$J$13","v":"S09.DP0030"}]
["CB100B2.S09.DP0031",{"$f":"' 9 Corp. & Sec. Firms LT'!$J$14","v":"S09.DP0031"}]
["CB100B2.S09.DP0032",{"$f":"' 9 Corp. & Sec. Firms LT'!$J$15","v":"S09.DP0032"}]
["CB100B2.S09.DP0033",{"$f":"' 9 Corp. & Sec. Firms LT'!$L$10","v":"S09.DP0033"}]
["CB100B2.S09.DP0034",{"$f":"' 9 Corp. & Sec. Firms LT'!$L$11","v":"S09.DP0034"}]
["CB100B2.S09.DP0035",{"$f":"' 9 Corp. & Sec. Firms LT'!$L$12","v":"S09.DP0035"}]
["CB100B2.S09.DP0036",{"$f":"' 9 Corp. & Sec. Firms LT'!$L$13","v":"S09.DP0036"}]
["CB100B2.S09.DP0037",{"$f":"' 9 Corp. & Sec. Firms LT'!$L$14","v":"S09.DP0037"}]
["CB100B2.S09.DP0038",{"$f":"' 9 Corp. & Sec. Firms LT'!$L$15","v":"S09.DP0038"}]
["CB100B2.S09.DP0039",{"$f":"' 9 Corp. & Sec. Firms LT'!$B$19","v":"S09.DP0039"}]
["CB100B2.S09.DP0040",{"$f":"' 9 Corp. & Sec. Firms LT'!$B$20","v":"S09.DP0040"}]
["CB100B2.S09.DP0041",{"$f":"' 9 Corp. & Sec. Firms LT'!$B$21","v":"S09.DP0041"}]
["CB100B2.S09.DP0042",{"$f":"' 9 Corp. & Sec. Firms LT'!$B$22","v":"S09.DP0042"}]
["CB100B2.S09.DP0043",{"$f":"' 9 Corp. & Sec. Firms LT'!$B$23","v":"S09.DP0043"}]
["CB100B2.S09.DP0044",{"$f":"' 9 Corp. & Sec. Firms LT'!$C$19","v":"S09.DP0044"}]
["CB100B2.S09.DP0045",{"$f":"' 9 Corp. & Sec. Firms LT'!$C$20","v":"S09.DP0045"}]
["CB100B2.S09.DP0046",{"$f":"' 9 Corp. & Sec. Firms LT'!$C$21","v":"S09.DP0046"}]
["CB100B2.S09.DP0047",{"$f":"' 9 Corp. & Sec. Firms LT'!$C$22","v":"S09.DP0047"}]
["CB100B2.S09.DP0048",{"$f":"' 9 Corp. & Sec. Firms LT'!$C$23","v":"S09.DP0048"}]
["CB100B2.S09.DP0049",{"$f":"' 9 Corp. & Sec. Firms LT'!$D$19","v":"S09.DP0049"}]
["CB100B2.S09.DP0050",{"$f":"' 9 Corp. & Sec. Firms LT'!$D$20","v":"S09.DP0050"}]
["CB100B2.S09.DP0051",{"$f":"' 9 Corp. & Sec. Firms LT'!$D$21","v":"S09.DP0051"}]
["CB100B2.S09.DP0052",{"$f":"' 9 Corp. & Sec. Firms LT'!$D$22","v":"S09.DP0052"}]
["CB100B2.S09.DP0053",{"$f":"' 9 Corp. & Sec. Firms LT'!$D$23","v":"S09.DP0053"}]
["CB100B2.S09.DP0054",{"$f":"' 9 Corp. & Sec. Firms LT'!$F$18","v":"S09.DP0054"}]
["CB100B2.S09.DP0055",{"$f":"' 9 Corp. & Sec. Firms LT'!$F$19","v":"S09.DP0055"}]
["CB100B2.S09.DP0056",{"$f":"' 9 Corp. & Sec. Firms LT'!$F$20","v":"S09.DP0056"}]
["CB100B2.S09.DP0057",{"$f":"' 9 Corp. & Sec. Firms LT'!$F$21","v":"S09.DP0057"}]
["CB100B2.S09.DP0058",{"$f":"' 9 Corp. & Sec. Firms LT'!$F$22","v":"S09.DP0058"}]
["CB100B2.S09.DP0059",{"$f":"' 9 Corp. & Sec. Firms LT'!$G$18","v":"S09.DP0059"}]
["CB100B2.S09.DP0060",{"$f":"' 9 Corp. & Sec. Firms LT'!$G$19","v":"S09.DP0060"}]
["CB100B2.S09.DP0061",{"$f":"' 9 Corp. & Sec. Firms LT'!$G$20","v":"S09.DP0061"}]
["CB100B2.S09.DP0062",{"$f":"' 9 Corp. & Sec. Firms LT'!$G$21","v":"S09.DP0062"}]
["CB100B2.S09.DP0063",{"$f":"' 9 Corp. & Sec. Firms LT'!$G$22","v":"S09.DP0063"}]
["CB100B2.S09.DP0064",{"$f":"' 9 Corp. & Sec. Firms LT'!$H$18","v":"S09.DP0064"}]
["CB100B2.S09.DP0065",{"$f":"' 9 Corp. & Sec. Firms LT'!$H$19","v":"S09.DP0065"}]
["CB100B2.S09.DP0066",{"$f":"' 9 Corp. & Sec. Firms LT'!$H$20","v":"S09.DP0066"}]
["CB100B2.S09.DP0067",{"$f":"' 9 Corp. & Sec. Firms LT'!$H$21","v":"S09.DP0067"}]
["CB100B2.S09.DP0068",{"$f":"' 9 Corp. & Sec. Firms LT'!$H$22","v":"S09.DP0068"}]
["CB100B2.S09.DP0069",{"$f":"' 9 Corp. & Sec. Firms LT'!$H$23","v":"S09.DP0069"}]
["CB100B2.S09.DP0070",{"$f":"' 9 Corp. & Sec. Firms LT'!$J$18","v":"S09.DP0070"}]
["CB100B2.S09.DP0071",{"$f":"' 9 Corp. & Sec. Firms LT'!$J$19","v":"S09.DP0071"}]
["CB100B2.S09.DP0072",{"$f":"' 9 Corp. & Sec. Firms LT'!$J$20","v":"S09.DP0072"}]
["CB100B2.S09.DP0073",{"$f":"' 9 Corp. & Sec. Firms LT'!$J$21","v":"S09.DP0073"}]
["CB100B2.S09.DP0074",{"$f":"' 9 Corp. & Sec. Firms LT'!$J$22","v":"S09.DP0074"}]
["CB100B2.S09.DP0075",{"$f":"' 9 Corp. & Sec. Firms LT'!$J$23","v":"S09.DP0075"}]
["CB100B2.S09.DP0076",{"$f":"' 9 Corp. & Sec. Firms LT'!$L$18","v":"S09.DP0076"}]
["CB100B2.S09.DP0077",{"$f":"' 9 Corp. & Sec. Firms LT'!$L$19","v":"S09.DP0077"}]
["CB100B2.S09.DP0078",{"$f":"' 9 Corp. & Sec. Firms LT'!$L$20","v":"S09.DP0078"}]
["CB100B2.S09.DP0079",{"$f":"' 9 Corp. & Sec. Firms LT'!$L$21","v":"S09.DP0079"}]
["CB100B2.S09.DP0080",{"$f":"' 9 Corp. & Sec. Firms LT'!$L$22","v":"S09.DP0080"}]
["CB100B2.S09.DP0081",{"$f":"' 9 Corp. & Sec. Firms LT'!$L$23","v":"S09.DP0081"}]
["CB100B2.S09.DP0082",{"$f":"' 9 Corp. & Sec. Firms LT'!$C$27","v":"S09.DP0082"}]
["CB100B2.S09.DP0083",{"$f":"' 9 Corp. & Sec. Firms LT'!$C$28","v":"S09.DP0083"}]
["CB100B2.S09.DP0084",{"$f":"' 9 Corp. & Sec. Firms LT'!$C$29","v":"S09.DP0084"}]
["CB100B2.S09.DP0085",{"$f":"' 9 Corp. & Sec. Firms LT'!$C$30","v":"S09.DP0085"}]
["CB100B2.S09.DP0086",{"$f":"' 9 Corp. & Sec. Firms LT'!$C$31","v":"S09.DP0086"}]
["CB100B2.S09.DP0087",{"$f":"' 9 Corp. & Sec. Firms LT'!$D$27","v":"S09.DP0087"}]
["CB100B2.S09.DP0088",{"$f":"' 9 Corp. & Sec. Firms LT'!$D$28","v":"S09.DP0088"}]
["CB100B2.S09.DP0089",{"$f":"' 9 Corp. & Sec. Firms LT'!$D$29","v":"S09.DP0089"}]
["CB100B2.S09.DP0090",{"$f":"' 9 Corp. & Sec. Firms LT'!$D$30","v":"S09.DP0090"}]
["CB100B2.S09.DP0091",{"$f":"' 9 Corp. & Sec. Firms LT'!$D$31","v":"S09.DP0091"}]
["CB100B2.S09.DP0092",{"$f":"' 9 Corp. & Sec. Firms LT'!$F$26","v":"S09.DP0092"}]
["CB100B2.S09.DP0093",{"$f":"' 9 Corp. & Sec. Firms LT'!$F$27","v":"S09.DP0093"}]
["CB100B2.S09.DP0094",{"$f":"' 9 Corp. & Sec. Firms LT'!$F$28","v":"S09.DP0094"}]
["CB100B2.S09.DP0095",{"$f":"' 9 Corp. & Sec. Firms LT'!$F$29","v":"S09.DP0095"}]
["CB100B2.S09.DP0096",{"$f":"' 9 Corp. & Sec. Firms LT'!$F$30","v":"S09.DP0096"}]
["CB100B2.S09.DP0097",{"$f":"' 9 Corp. & Sec. Firms LT'!$G$26","v":"S09.DP0097"}]
["CB100B2.S09.DP0098",{"$f":"' 9 Corp. & Sec. Firms LT'!$G$27","v":"S09.DP0098"}]
["CB100B2.S09.DP0099",{"$f":"' 9 Corp. & Sec. Firms LT'!$G$28","v":"S09.DP0099"}]
["CB100B2.S09.DP0100",{"$f":"' 9 Corp. & Sec. Firms LT'!$G$29","v":"S09.DP0100"}]
["CB100B2.S09.DP0101",{"$f":"' 9 Corp. & Sec. Firms LT'!$G$30","v":"S09.DP0101"}]
["CB100B2.S09.DP0102",{"$f":"' 9 Corp. & Sec. Firms LT'!$H$26","v":"S09.DP0102"}]
["CB100B2.S09.DP0103",{"$f":"' 9 Corp. & Sec. Firms LT'!$H$27","v":"S09.DP0103"}]
["CB100B2.S09.DP0104",{"$f":"' 9 Corp. & Sec. Firms LT'!$H$28","v":"S09.DP0104"}]
["CB100B2.S09.DP0105",{"$f":"' 9 Corp. & Sec. Firms LT'!$H$29","v":"S09.DP0105"}]
["CB100B2.S09.DP0106",{"$f":"' 9 Corp. & Sec. Firms LT'!$H$30","v":"S09.DP0106"}]
["CB100B2.S09.DP0107",{"$f":"' 9 Corp. & Sec. Firms LT'!$H$31","v":"S09.DP0107"}]
["CB100B2.S09.DP0108",{"$f":"' 9 Corp. & Sec. Firms LT'!$J$26","v":"S09.DP0108"}]
["CB100B2.S09.DP0109",{"$f":"' 9 Corp. & Sec. Firms LT'!$J$27","v":"S09.DP0109"}]
["CB100B2.S09.DP0110",{"$f":"' 9 Corp. & Sec. Firms LT'!$J$28","v":"S09.DP0110"}]
["CB100B2.S09.DP0111",{"$f":"' 9 Corp. & Sec. Firms LT'!$J$29","v":"S09.DP0111"}]
["CB100B2.S09.DP0112",{"$f":"' 9 Corp. & Sec. Firms LT'!$J$30","v":"S09.DP0112"}]
["CB100B2.S09.DP0113",{"$f":"' 9 Corp. & Sec. Firms LT'!$J$31","v":"S09.DP0113"}]
["CB100B2.S09.DP0114",{"$f":"' 9 Corp. & Sec. Firms LT'!$L$26","v":"S09.DP0114"}]
["CB100B2.S09.DP0115",{"$f":"' 9 Corp. & Sec. Firms LT'!$L$27","v":"S09.DP0115"}]
["CB100B2.S09.DP0116",{"$f":"' 9 Corp. & Sec. Firms LT'!$L$28","v":"S09.DP0116"}]
["CB100B2.S09.DP0117",{"$f":"' 9 Corp. & Sec. Firms LT'!$L$29","v":"S09.DP0117"}]
["CB100B2.S09.DP0118",{"$f":"' 9 Corp. & Sec. Firms LT'!$L$30","v":"S09.DP0118"}]
["CB100B2.S09.DP0119",{"$f":"' 9 Corp. & Sec. Firms LT'!$L$31","v":"S09.DP0119"}]
["CB100B2.S09.DP0120",{"$f":"' 9 Corp. & Sec. Firms LT'!$B$35","v":"S09.DP0120"}]
["CB100B2.S09.DP0121",{"$f":"' 9 Corp. & Sec. Firms LT'!$B$36","v":"S09.DP0121"}]
["CB100B2.S09.DP0122",{"$f":"' 9 Corp. & Sec. Firms LT'!$B$37","v":"S09.DP0122"}]
["CB100B2.S09.DP0123",{"$f":"' 9 Corp. & Sec. Firms LT'!$B$38","v":"S09.DP0123"}]
["CB100B2.S09.DP0124",{"$f":"' 9 Corp. & Sec. Firms LT'!$B$39","v":"S09.DP0124"}]
["CB100B2.S09.DP0125",{"$f":"' 9 Corp. & Sec. Firms LT'!$C$35","v":"S09.DP0125"}]
["CB100B2.S09.DP0126",{"$f":"' 9 Corp. & Sec. Firms LT'!$C$36","v":"S09.DP0126"}]
["CB100B2.S09.DP0127",{"$f":"' 9 Corp. & Sec. Firms LT'!$C$37","v":"S09.DP0127"}]
["CB100B2.S09.DP0128",{"$f":"' 9 Corp. & Sec. Firms LT'!$C$38","v":"S09.DP0128"}]
["CB100B2.S09.DP0129",{"$f":"' 9 Corp. & Sec. Firms LT'!$C$39","v":"S09.DP0129"}]
["CB100B2.S09.DP0130",{"$f":"' 9 Corp. & Sec. Firms LT'!$D$35","v":"S09.DP0130"}]
["CB100B2.S09.DP0131",{"$f":"' 9 Corp. & Sec. Firms LT'!$D$36","v":"S09.DP0131"}]
["CB100B2.S09.DP0132",{"$f":"' 9 Corp. & Sec. Firms LT'!$D$37","v":"S09.DP0132"}]
["CB100B2.S09.DP0133",{"$f":"' 9 Corp. & Sec. Firms LT'!$D$38","v":"S09.DP0133"}]
["CB100B2.S09.DP0134",{"$f":"' 9 Corp. & Sec. Firms LT'!$D$39","v":"S09.DP0134"}]
["CB100B2.S09.DP0135",{"$f":"' 9 Corp. & Sec. Firms LT'!$F$34","v":"S09.DP0135"}]
["CB100B2.S09.DP0136",{"$f":"' 9 Corp. & Sec. Firms LT'!$F$35","v":"S09.DP0136"}]
["CB100B2.S09.DP0137",{"$f":"' 9 Corp. & Sec. Firms LT'!$F$36","v":"S09.DP0137"}]
["CB100B2.S09.DP0138",{"$f":"' 9 Corp. & Sec. Firms LT'!$F$37","v":"S09.DP0138"}]
["CB100B2.S09.DP0139",{"$f":"' 9 Corp. & Sec. Firms LT'!$F$38","v":"S09.DP0139"}]
["CB100B2.S09.DP0140",{"$f":"' 9 Corp. & Sec. Firms LT'!$G$34","v":"S09.DP0140"}]
["CB100B2.S09.DP0141",{"$f":"' 9 Corp. & Sec. Firms LT'!$G$35","v":"S09.DP0141"}]
["CB100B2.S09.DP0142",{"$f":"' 9 Corp. & Sec. Firms LT'!$G$36","v":"S09.DP0142"}]
["CB100B2.S09.DP0143",{"$f":"' 9 Corp. & Sec. Firms LT'!$G$37","v":"S09.DP0143"}]
["CB100B2.S09.DP0144",{"$f":"' 9 Corp. & Sec. Firms LT'!$G$38","v":"S09.DP0144"}]
["CB100B2.S09.DP0145",{"$f":"' 9 Corp. & Sec. Firms LT'!$H$34","v":"S09.DP0145"}]
["CB100B2.S09.DP0146",{"$f":"' 9 Corp. & Sec. Firms LT'!$H$35","v":"S09.DP0146"}]
["CB100B2.S09.DP0147",{"$f":"' 9 Corp. & Sec. Firms LT'!$H$36","v":"S09.DP0147"}]
["CB100B2.S09.DP0148",{"$f":"' 9 Corp. & Sec. Firms LT'!$H$37","v":"S09.DP0148"}]
["CB100B2.S09.DP0149",{"$f":"' 9 Corp. & Sec. Firms LT'!$H$38","v":"S09.DP0149"}]
["CB100B2.S09.DP0150",{"$f":"' 9 Corp. & Sec. Firms LT'!$H$39","v":"S09.DP0150"}]
["CB100B2.S09.DP0151",{"$f":"' 9 Corp. & Sec. Firms LT'!$J$34","v":"S09.DP0151"}]
["CB100B2.S09.DP0152",{"$f":"' 9 Corp. & Sec. Firms LT'!$J$35","v":"S09.DP0152"}]
["CB100B2.S09.DP0153",{"$f":"' 9 Corp. & Sec. Firms LT'!$J$36","v":"S09.DP0153"}]
["CB100B2.S09.DP0154",{"$f":"' 9 Corp. & Sec. Firms LT'!$J$37","v":"S09.DP0154"}]
["CB100B2.S09.DP0155",{"$f":"' 9 Corp. & Sec. Firms LT'!$J$38","v":"S09.DP0155"}]
["CB100B2.S09.DP0156",{"$f":"' 9 Corp. & Sec. Firms LT'!$J$39","v":"S09.DP0156"}]
["CB100B2.S09.DP0157",{"$f":"' 9 Corp. & Sec. Firms LT'!$L$34","v":"S09.DP0157"}]
["CB100B2.S09.DP0158",{"$f":"' 9 Corp. & Sec. Firms LT'!$L$35","v":"S09.DP0158"}]
["CB100B2.S09.DP0159",{"$f":"' 9 Corp. & Sec. Firms LT'!$L$36","v":"S09.DP0159"}]
["CB100B2.S09.DP0160",{"$f":"' 9 Corp. & Sec. Firms LT'!$L$37","v":"S09.DP0160"}]
["CB100B2.S09.DP0161",{"$f":"' 9 Corp. & Sec. Firms LT'!$L$38","v":"S09.DP0161"}]
["CB100B2.S09.DP0162",{"$f":"' 9 Corp. & Sec. Firms LT'!$L$39","v":"S09.DP0162"}]
["CB100B2.S09.DP0163",{"$f":"' 9 Corp. & Sec. Firms LT'!$B$43","v":"S09.DP0163"}]
["CB100B2.S09.DP0164",{"$f":"' 9 Corp. & Sec. Firms LT'!$B$44","v":"S09.DP0164"}]
["CB100B2.S09.DP0165",{"$f":"' 9 Corp. & Sec. Firms LT'!$B$45","v":"S09.DP0165"}]
["CB100B2.S09.DP0166",{"$f":"' 9 Corp. & Sec. Firms LT'!$B$46","v":"S09.DP0166"}]
["CB100B2.S09.DP0167",{"$f":"' 9 Corp. & Sec. Firms LT'!$B$47","v":"S09.DP0167"}]
["CB100B2.S09.DP0168",{"$f":"' 9 Corp. & Sec. Firms LT'!$C$43","v":"S09.DP0168"}]
["CB100B2.S09.DP0169",{"$f":"' 9 Corp. & Sec. Firms LT'!$C$44","v":"S09.DP0169"}]
["CB100B2.S09.DP0170",{"$f":"' 9 Corp. & Sec. Firms LT'!$C$45","v":"S09.DP0170"}]
["CB100B2.S09.DP0171",{"$f":"' 9 Corp. & Sec. Firms LT'!$C$46","v":"S09.DP0171"}]
["CB100B2.S09.DP0172",{"$f":"' 9 Corp. & Sec. Firms LT'!$C$47","v":"S09.DP0172"}]
["CB100B2.S09.DP0173",{"$f":"' 9 Corp. & Sec. Firms LT'!$D$43","v":"S09.DP0173"}]
["CB100B2.S09.DP0174",{"$f":"' 9 Corp. & Sec. Firms LT'!$D$44","v":"S09.DP0174"}]
["CB100B2.S09.DP0175",{"$f":"' 9 Corp. & Sec. Firms LT'!$D$45","v":"S09.DP0175"}]
["CB100B2.S09.DP0176",{"$f":"' 9 Corp. & Sec. Firms LT'!$D$46","v":"S09.DP0176"}]
["CB100B2.S09.DP0177",{"$f":"' 9 Corp. & Sec. Firms LT'!$D$47","v":"S09.DP0177"}]
["CB100B2.S09.DP0178",{"$f":"' 9 Corp. & Sec. Firms LT'!$F$42","v":"S09.DP0178"}]
["CB100B2.S09.DP0179",{"$f":"' 9 Corp. & Sec. Firms LT'!$F$43","v":"S09.DP0179"}]
["CB100B2.S09.DP0180",{"$f":"' 9 Corp. & Sec. Firms LT'!$F$44","v":"S09.DP0180"}]
["CB100B2.S09.DP0181",{"$f":"' 9 Corp. & Sec. Firms LT'!$F$45","v":"S09.DP0181"}]
["CB100B2.S09.DP0182",{"$f":"' 9 Corp. & Sec. Firms LT'!$F$46","v":"S09.DP0182"}]
["CB100B2.S09.DP0183",{"$f":"' 9 Corp. & Sec. Firms LT'!$G$42","v":"S09.DP0183"}]
["CB100B2.S09.DP0184",{"$f":"' 9 Corp. & Sec. Firms LT'!$G$43","v":"S09.DP0184"}]
["CB100B2.S09.DP0185",{"$f":"' 9 Corp. & Sec. Firms LT'!$G$44","v":"S09.DP0185"}]
["CB100B2.S09.DP0186",{"$f":"' 9 Corp. & Sec. Firms LT'!$G$45","v":"S09.DP0186"}]
["CB100B2.S09.DP0187",{"$f":"' 9 Corp. & Sec. Firms LT'!$G$46","v":"S09.DP0187"}]
["CB100B2.S09.DP0188",{"$f":"' 9 Corp. & Sec. Firms LT'!$H$42","v":"S09.DP0188"}]
["CB100B2.S09.DP0189",{"$f":"' 9 Corp. & Sec. Firms LT'!$H$43","v":"S09.DP0189"}]
["CB100B2.S09.DP0190",{"$f":"' 9 Corp. & Sec. Firms LT'!$H$44","v":"S09.DP0190"}]
["CB100B2.S09.DP0191",{"$f":"' 9 Corp. & Sec. Firms LT'!$H$45","v":"S09.DP0191"}]
["CB100B2.S09.DP0192",{"$f":"' 9 Corp. & Sec. Firms LT'!$H$46","v":"S09.DP0192"}]
["CB100B2.S09.DP0193",{"$f":"' 9 Corp. & Sec. Firms LT'!$H$47","v":"S09.DP0193"}]
["CB100B2.S09.DP0194",{"$f":"' 9 Corp. & Sec. Firms LT'!$J$42","v":"S09.DP0194"}]
["CB100B2.S09.DP0195",{"$f":"' 9 Corp. & Sec. Firms LT'!$J$43","v":"S09.DP0195"}]
["CB100B2.S09.DP0196",{"$f":"' 9 Corp. & Sec. Firms LT'!$J$44","v":"S09.DP0196"}]
["CB100B2.S09.DP0197",{"$f":"' 9 Corp. & Sec. Firms LT'!$J$45","v":"S09.DP0197"}]
["CB100B2.S09.DP0198",{"$f":"' 9 Corp. & Sec. Firms LT'!$J$46","v":"S09.DP0198"}]
["CB100B2.S09.DP0199",{"$f":"' 9 Corp. & Sec. Firms LT'!$J$47","v":"S09.DP0199"}]
["CB100B2.S09.DP0200",{"$f":"' 9 Corp. & Sec. Firms LT'!$L$42","v":"S09.DP0200"}]
["CB100B2.S09.DP0201",{"$f":"' 9 Corp. & Sec. Firms LT'!$L$43","v":"S09.DP0201"}]
["CB100B2.S09.DP0202",{"$f":"' 9 Corp. & Sec. Firms LT'!$L$44","v":"S09.DP0202"}]
["CB100B2.S09.DP0203",{"$f":"' 9 Corp. & Sec. Firms LT'!$L$45","v":"S09.DP0203"}]
["CB100B2.S09.DP0204",{"$f":"' 9 Corp. & Sec. Firms LT'!$L$46","v":"S09.DP0204"}]
["CB100B2.S09.DP0205",{"$f":"' 9 Corp. & Sec. Firms LT'!$L$47","v":"S09.DP0205"}]
["CB100B2.S09.DP0206",{"$f":"' 9 Corp. & Sec. Firms LT'!$C$49","v":"S09.DP0206"}]
["CB100B2.S09.DP0207",{"$f":"' 9 Corp. & Sec. Firms LT'!$D$49","v":"S09.DP0207"}]
["CB100B2.S09.DP0208",{"$f":"' 9 Corp. & Sec. Firms LT'!$L$49","v":"S09.DP0208"}]
["CB100B2.S09A.DP0001",{"$f":"'9A Corp. & Sec. Firms ST'!$C$11","v":"S09A.DP0001"}]
["CB100B2.S09A.DP0002",{"$f":"'9A Corp. & Sec. Firms ST'!$C$12","v":"S09A.DP0002"}]
["CB100B2.S09A.DP0003",{"$f":"'9A Corp. & Sec. Firms ST'!$C$13","v":"S09A.DP0003"}]
["CB100B2.S09A.DP0004",{"$f":"'9A Corp. & Sec. Firms ST'!$C$14","v":"S09A.DP0004"}]
["CB100B2.S09A.DP0005",{"$f":"'9A Corp. & Sec. Firms ST'!$C$15","v":"S09A.DP0005"}]
["CB100B2.S09A.DP0006",{"$f":"'9A Corp. & Sec. Firms ST'!$D$11","v":"S09A.DP0006"}]
["CB100B2.S09A.DP0007",{"$f":"'9A Corp. & Sec. Firms ST'!$D$12","v":"S09A.DP0007"}]
["CB100B2.S09A.DP0008",{"$f":"'9A Corp. & Sec. Firms ST'!$D$13","v":"S09A.DP0008"}]
["CB100B2.S09A.DP0009",{"$f":"'9A Corp. & Sec. Firms ST'!$D$14","v":"S09A.DP0009"}]
["CB100B2.S09A.DP0010",{"$f":"'9A Corp. & Sec. Firms ST'!$D$15","v":"S09A.DP0010"}]
["CB100B2.S09A.DP0011",{"$f":"'9A Corp. & Sec. Firms ST'!$F$10","v":"S09A.DP0011"}]
["CB100B2.S09A.DP0012",{"$f":"'9A Corp. & Sec. Firms ST'!$F$11","v":"S09A.DP0012"}]
["CB100B2.S09A.DP0013",{"$f":"'9A Corp. & Sec. Firms ST'!$F$12","v":"S09A.DP0013"}]
["CB100B2.S09A.DP0014",{"$f":"'9A Corp. & Sec. Firms ST'!$F$13","v":"S09A.DP0014"}]
["CB100B2.S09A.DP0015",{"$f":"'9A Corp. & Sec. Firms ST'!$F$14","v":"S09A.DP0015"}]
["CB100B2.S09A.DP0016",{"$f":"'9A Corp. & Sec. Firms ST'!$G$10","v":"S09A.DP0016"}]
["CB100B2.S09A.DP0017",{"$f":"'9A Corp. & Sec. Firms ST'!$G$11","v":"S09A.DP0017"}]
["CB100B2.S09A.DP0018",{"$f":"'9A Corp. & Sec. Firms ST'!$G$12","v":"S09A.DP0018"}]
["CB100B2.S09A.DP0019",{"$f":"'9A Corp. & Sec. Firms ST'!$G$13","v":"S09A.DP0019"}]
["CB100B2.S09A.DP0020",{"$f":"'9A Corp. & Sec. Firms ST'!$G$14","v":"S09A.DP0020"}]
["CB100B2.S09A.DP0021",{"$f":"'9A Corp. & Sec. Firms ST'!$H$10","v":"S09A.DP0021"}]
["CB100B2.S09A.DP0022",{"$f":"'9A Corp. & Sec. Firms ST'!$H$11","v":"S09A.DP0022"}]
["CB100B2.S09A.DP0023",{"$f":"'9A Corp. & Sec. Firms ST'!$H$12","v":"S09A.DP0023"}]
["CB100B2.S09A.DP0024",{"$f":"'9A Corp. & Sec. Firms ST'!$H$13","v":"S09A.DP0024"}]
["CB100B2.S09A.DP0025",{"$f":"'9A Corp. & Sec. Firms ST'!$H$14","v":"S09A.DP0025"}]
["CB100B2.S09A.DP0026",{"$f":"'9A Corp. & Sec. Firms ST'!$H$15","v":"S09A.DP0026"}]
["CB100B2.S09A.DP0027",{"$f":"'9A Corp. & Sec. Firms ST'!$J$10","v":"S09A.DP0027"}]
["CB100B2.S09A.DP0028",{"$f":"'9A Corp. & Sec. Firms ST'!$J$11","v":"S09A.DP0028"}]
["CB100B2.S09A.DP0029",{"$f":"'9A Corp. & Sec. Firms ST'!$J$12","v":"S09A.DP0029"}]
["CB100B2.S09A.DP0030",{"$f":"'9A Corp. & Sec. Firms ST'!$J$13","v":"S09A.DP0030"}]
["CB100B2.S09A.DP0031",{"$f":"'9A Corp. & Sec. Firms ST'!$J$14","v":"S09A.DP0031"}]
["CB100B2.S09A.DP0032",{"$f":"'9A Corp. & Sec. Firms ST'!$J$15","v":"S09A.DP0032"}]
["CB100B2.S09A.DP0033",{"$f":"'9A Corp. & Sec. Firms ST'!$L$10","v":"S09A.DP0033"}]
["CB100B2.S09A.DP0034",{"$f":"'9A Corp. & Sec. Firms ST'!$L$11","v":"S09A.DP0034"}]
["CB100B2.S09A.DP0035",{"$f":"'9A Corp. & Sec. Firms ST'!$L$12","v":"S09A.DP0035"}]
["CB100B2.S09A.DP0036",{"$f":"'9A Corp. & Sec. Firms ST'!$L$13","v":"S09A.DP0036"}]
["CB100B2.S09A.DP0037",{"$f":"'9A Corp. & Sec. Firms ST'!$L$14","v":"S09A.DP0037"}]
["CB100B2.S09A.DP0038",{"$f":"'9A Corp. & Sec. Firms ST'!$L$15","v":"S09A.DP0038"}]
["CB100B2.S09A.DP0039",{"$f":"'9A Corp. & Sec. Firms ST'!$B$19","v":"S09A.DP0039"}]
["CB100B2.S09A.DP0040",{"$f":"'9A Corp. & Sec. Firms ST'!$B$20","v":"S09A.DP0040"}]
["CB100B2.S09A.DP0041",{"$f":"'9A Corp. & Sec. Firms ST'!$B$21","v":"S09A.DP0041"}]
["CB100B2.S09A.DP0042",{"$f":"'9A Corp. & Sec. Firms ST'!$B$22","v":"S09A.DP0042"}]
["CB100B2.S09A.DP0043",{"$f":"'9A Corp. & Sec. Firms ST'!$B$23","v":"S09A.DP0043"}]
["CB100B2.S09A.DP0044",{"$f":"'9A Corp. & Sec. Firms ST'!$C$19","v":"S09A.DP0044"}]
["CB100B2.S09A.DP0045",{"$f":"'9A Corp. & Sec. Firms ST'!$C$20","v":"S09A.DP0045"}]
["CB100B2.S09A.DP0046",{"$f":"'9A Corp. & Sec. Firms ST'!$C$21","v":"S09A.DP0046"}]
["CB100B2.S09A.DP0047",{"$f":"'9A Corp. & Sec. Firms ST'!$C$22","v":"S09A.DP0047"}]
["CB100B2.S09A.DP0048",{"$f":"'9A Corp. & Sec. Firms ST'!$C$23","v":"S09A.DP0048"}]
["CB100B2.S09A.DP0049",{"$f":"'9A Corp. & Sec. Firms ST'!$D$19","v":"S09A.DP0049"}]
["CB100B2.S09A.DP0050",{"$f":"'9A Corp. & Sec. Firms ST'!$D$20","v":"S09A.DP0050"}]
["CB100B2.S09A.DP0051",{"$f":"'9A Corp. & Sec. Firms ST'!$D$21","v":"S09A.DP0051"}]
["CB100B2.S09A.DP0052",{"$f":"'9A Corp. & Sec. Firms ST'!$D$22","v":"S09A.DP0052"}]
["CB100B2.S09A.DP0053",{"$f":"'9A Corp. & Sec. Firms ST'!$D$23","v":"S09A.DP0053"}]
["CB100B2.S09A.DP0054",{"$f":"'9A Corp. & Sec. Firms ST'!$F$18","v":"S09A.DP0054"}]
["CB100B2.S09A.DP0055",{"$f":"'9A Corp. & Sec. Firms ST'!$F$19","v":"S09A.DP0055"}]
["CB100B2.S09A.DP0056",{"$f":"'9A Corp. & Sec. Firms ST'!$F$20","v":"S09A.DP0056"}]
["CB100B2.S09A.DP0057",{"$f":"'9A Corp. & Sec. Firms ST'!$F$21","v":"S09A.DP0057"}]
["CB100B2.S09A.DP0058",{"$f":"'9A Corp. & Sec. Firms ST'!$F$22","v":"S09A.DP0058"}]
["CB100B2.S09A.DP0059",{"$f":"'9A Corp. & Sec. Firms ST'!$G$18","v":"S09A.DP0059"}]
["CB100B2.S09A.DP0060",{"$f":"'9A Corp. & Sec. Firms ST'!$G$19","v":"S09A.DP0060"}]
["CB100B2.S09A.DP0061",{"$f":"'9A Corp. & Sec. Firms ST'!$G$20","v":"S09A.DP0061"}]
["CB100B2.S09A.DP0062",{"$f":"'9A Corp. & Sec. Firms ST'!$G$21","v":"S09A.DP0062"}]
["CB100B2.S09A.DP0063",{"$f":"'9A Corp. & Sec. Firms ST'!$G$22","v":"S09A.DP0063"}]
["CB100B2.S09A.DP0064",{"$f":"'9A Corp. & Sec. Firms ST'!$H$18","v":"S09A.DP0064"}]
["CB100B2.S09A.DP0065",{"$f":"'9A Corp. & Sec. Firms ST'!$H$19","v":"S09A.DP0065"}]
["CB100B2.S09A.DP0066",{"$f":"'9A Corp. & Sec. Firms ST'!$H$20","v":"S09A.DP0066"}]
["CB100B2.S09A.DP0067",{"$f":"'9A Corp. & Sec. Firms ST'!$H$21","v":"S09A.DP0067"}]
["CB100B2.S09A.DP0068",{"$f":"'9A Corp. & Sec. Firms ST'!$H$22","v":"S09A.DP0068"}]
["CB100B2.S09A.DP0069",{"$f":"'9A Corp. & Sec. Firms ST'!$H$23","v":"S09A.DP0069"}]
["CB100B2.S09A.DP0070",{"$f":"'9A Corp. & Sec. Firms ST'!$J$18","v":"S09A.DP0070"}]
["CB100B2.S09A.DP0071",{"$f":"'9A Corp. & Sec. Firms ST'!$J$19","v":"S09A.DP0071"}]
["CB100B2.S09A.DP0072",{"$f":"'9A Corp. & Sec. Firms ST'!$J$20","v":"S09A.DP0072"}]
["CB100B2.S09A.DP0073",{"$f":"'9A Corp. & Sec. Firms ST'!$J$21","v":"S09A.DP0073"}]
["CB100B2.S09A.DP0074",{"$f":"'9A Corp. & Sec. Firms ST'!$J$22","v":"S09A.DP0074"}]
["CB100B2.S09A.DP0075",{"$f":"'9A Corp. & Sec. Firms ST'!$J$23","v":"S09A.DP0075"}]
["CB100B2.S09A.DP0076",{"$f":"'9A Corp. & Sec. Firms ST'!$L$18","v":"S09A.DP0076"}]
["CB100B2.S09A.DP0077",{"$f":"'9A Corp. & Sec. Firms ST'!$L$19","v":"S09A.DP0077"}]
["CB100B2.S09A.DP0078",{"$f":"'9A Corp. & Sec. Firms ST'!$L$20","v":"S09A.DP0078"}]
["CB100B2.S09A.DP0079",{"$f":"'9A Corp. & Sec. Firms ST'!$L$21","v":"S09A.DP0079"}]
["CB100B2.S09A.DP0080",{"$f":"'9A Corp. & Sec. Firms ST'!$L$22","v":"S09A.DP0080"}]
["CB100B2.S09A.DP0081",{"$f":"'9A Corp. & Sec. Firms ST'!$L$23","v":"S09A.DP0081"}]
["CB100B2.S09A.DP0082",{"$f":"'9A Corp. & Sec. Firms ST'!$C$27","v":"S09A.DP0082"}]
["CB100B2.S09A.DP0083",{"$f":"'9A Corp. & Sec. Firms ST'!$C$28","v":"S09A.DP0083"}]
["CB100B2.S09A.DP0084",{"$f":"'9A Corp. & Sec. Firms ST'!$C$29","v":"S09A.DP0084"}]
["CB100B2.S09A.DP0085",{"$f":"'9A Corp. & Sec. Firms ST'!$C$30","v":"S09A.DP0085"}]
["CB100B2.S09A.DP0086",{"$f":"'9A Corp. & Sec. Firms ST'!$C$31","v":"S09A.DP0086"}]
["CB100B2.S09A.DP0087",{"$f":"'9A Corp. & Sec. Firms ST'!$D$27","v":"S09A.DP0087"}]
["CB100B2.S09A.DP0088",{"$f":"'9A Corp. & Sec. Firms ST'!$D$28","v":"S09A.DP0088"}]
["CB100B2.S09A.DP0089",{"$f":"'9A Corp. & Sec. Firms ST'!$D$29","v":"S09A.DP0089"}]
["CB100B2.S09A.DP0090",{"$f":"'9A Corp. & Sec. Firms ST'!$D$30","v":"S09A.DP0090"}]
["CB100B2.S09A.DP0091",{"$f":"'9A Corp. & Sec. Firms ST'!$D$31","v":"S09A.DP0091"}]
["CB100B2.S09A.DP0092",{"$f":"'9A Corp. & Sec. Firms ST'!$F$26","v":"S09A.DP0092"}]
["CB100B2.S09A.DP0093",{"$f":"'9A Corp. & Sec. Firms ST'!$F$27","v":"S09A.DP0093"}]
["CB100B2.S09A.DP0094",{"$f":"'9A Corp. & Sec. Firms ST'!$F$28","v":"S09A.DP0094"}]
["CB100B2.S09A.DP0095",{"$f":"'9A Corp. & Sec. Firms ST'!$F$29","v":"S09A.DP0095"}]
["CB100B2.S09A.DP0096",{"$f":"'9A Corp. & Sec. Firms ST'!$F$30","v":"S09A.DP0096"}]
["CB100B2.S09A.DP0097",{"$f":"'9A Corp. & Sec. Firms ST'!$G$26","v":"S09A.DP0097"}]
["CB100B2.S09A.DP0098",{"$f":"'9A Corp. & Sec. Firms ST'!$G$27","v":"S09A.DP0098"}]
["CB100B2.S09A.DP0099",{"$f":"'9A Corp. & Sec. Firms ST'!$G$28","v":"S09A.DP0099"}]
["CB100B2.S09A.DP0100",{"$f":"'9A Corp. & Sec. Firms ST'!$G$29","v":"S09A.DP0100"}]
["CB100B2.S09A.DP0101",{"$f":"'9A Corp. & Sec. Firms ST'!$G$30","v":"S09A.DP0101"}]
["CB100B2.S09A.DP0102",{"$f":"'9A Corp. & Sec. Firms ST'!$H$26","v":"S09A.DP0102"}]
["CB100B2.S09A.DP0103",{"$f":"'9A Corp. & Sec. Firms ST'!$H$27","v":"S09A.DP0103"}]
["CB100B2.S09A.DP0104",{"$f":"'9A Corp. & Sec. Firms ST'!$H$28","v":"S09A.DP0104"}]
["CB100B2.S09A.DP0105",{"$f":"'9A Corp. & Sec. Firms ST'!$H$29","v":"S09A.DP0105"}]
["CB100B2.S09A.DP0106",{"$f":"'9A Corp. & Sec. Firms ST'!$H$30","v":"S09A.DP0106"}]
["CB100B2.S09A.DP0107",{"$f":"'9A Corp. & Sec. Firms ST'!$H$31","v":"S09A.DP0107"}]
["CB100B2.S09A.DP0108",{"$f":"'9A Corp. & Sec. Firms ST'!$J$26","v":"S09A.DP0108"}]
["CB100B2.S09A.DP0109",{"$f":"'9A Corp. & Sec. Firms ST'!$J$27","v":"S09A.DP0109"}]
["CB100B2.S09A.DP0110",{"$f":"'9A Corp. & Sec. Firms ST'!$J$28","v":"S09A.DP0110"}]
["CB100B2.S09A.DP0111",{"$f":"'9A Corp. & Sec. Firms ST'!$J$29","v":"S09A.DP0111"}]
["CB100B2.S09A.DP0112",{"$f":"'9A Corp. & Sec. Firms ST'!$J$30","v":"S09A.DP0112"}]
["CB100B2.S09A.DP0113",{"$f":"'9A Corp. & Sec. Firms ST'!$J$31","v":"S09A.DP0113"}]
["CB100B2.S09A.DP0114",{"$f":"'9A Corp. & Sec. Firms ST'!$L$26","v":"S09A.DP0114"}]
["CB100B2.S09A.DP0115",{"$f":"'9A Corp. & Sec. Firms ST'!$L$27","v":"S09A.DP0115"}]
["CB100B2.S09A.DP0116",{"$f":"'9A Corp. & Sec. Firms ST'!$L$28","v":"S09A.DP0116"}]
["CB100B2.S09A.DP0117",{"$f":"'9A Corp. & Sec. Firms ST'!$L$29","v":"S09A.DP0117"}]
["CB100B2.S09A.DP0118",{"$f":"'9A Corp. & Sec. Firms ST'!$L$30","v":"S09A.DP0118"}]
["CB100B2.S09A.DP0119",{"$f":"'9A Corp. & Sec. Firms ST'!$L$31","v":"S09A.DP0119"}]
["CB100B2.S09A.DP0120",{"$f":"'9A Corp. & Sec. Firms ST'!$B$35","v":"S09A.DP0120"}]
["CB100B2.S09A.DP0121",{"$f":"'9A Corp. & Sec. Firms ST'!$B$36","v":"S09A.DP0121"}]
["CB100B2.S09A.DP0122",{"$f":"'9A Corp. & Sec. Firms ST'!$B$37","v":"S09A.DP0122"}]
["CB100B2.S09A.DP0123",{"$f":"'9A Corp. & Sec. Firms ST'!$B$38","v":"S09A.DP0123"}]
["CB100B2.S09A.DP0124",{"$f":"'9A Corp. & Sec. Firms ST'!$B$39","v":"S09A.DP0124"}]
["CB100B2.S09A.DP0125",{"$f":"'9A Corp. & Sec. Firms ST'!$C$35","v":"S09A.DP0125"}]
["CB100B2.S09A.DP0126",{"$f":"'9A Corp. & Sec. Firms ST'!$C$36","v":"S09A.DP0126"}]
["CB100B2.S09A.DP0127",{"$f":"'9A Corp. & Sec. Firms ST'!$C$37","v":"S09A.DP0127"}]
["CB100B2.S09A.DP0128",{"$f":"'9A Corp. & Sec. Firms ST'!$C$38","v":"S09A.DP0128"}]
["CB100B2.S09A.DP0129",{"$f":"'9A Corp. & Sec. Firms ST'!$C$39","v":"S09A.DP0129"}]
["CB100B2.S09A.DP0130",{"$f":"'9A Corp. & Sec. Firms ST'!$D$35","v":"S09A.DP0130"}]
["CB100B2.S09A.DP0131",{"$f":"'9A Corp. & Sec. Firms ST'!$D$36","v":"S09A.DP0131"}]
["CB100B2.S09A.DP0132",{"$f":"'9A Corp. & Sec. Firms ST'!$D$37","v":"S09A.DP0132"}]
["CB100B2.S09A.DP0133",{"$f":"'9A Corp. & Sec. Firms ST'!$D$38","v":"S09A.DP0133"}]
["CB100B2.S09A.DP0134",{"$f":"'9A Corp. & Sec. Firms ST'!$D$39","v":"S09A.DP0134"}]
["CB100B2.S09A.DP0135",{"$f":"'9A Corp. & Sec. Firms ST'!$F$34","v":"S09A.DP0135"}]
["CB100B2.S09A.DP0136",{"$f":"'9A Corp. & Sec. Firms ST'!$F$35","v":"S09A.DP0136"}]
["CB100B2.S09A.DP0137",{"$f":"'9A Corp. & Sec. Firms ST'!$F$36","v":"S09A.DP0137"}]
["CB100B2.S09A.DP0138",{"$f":"'9A Corp. & Sec. Firms ST'!$F$37","v":"S09A.DP0138"}]
["CB100B2.S09A.DP0139",{"$f":"'9A Corp. & Sec. Firms ST'!$F$38","v":"S09A.DP0139"}]
["CB100B2.S09A.DP0140",{"$f":"'9A Corp. & Sec. Firms ST'!$G$34","v":"S09A.DP0140"}]
["CB100B2.S09A.DP0141",{"$f":"'9A Corp. & Sec. Firms ST'!$G$35","v":"S09A.DP0141"}]
["CB100B2.S09A.DP0142",{"$f":"'9A Corp. & Sec. Firms ST'!$G$36","v":"S09A.DP0142"}]
["CB100B2.S09A.DP0143",{"$f":"'9A Corp. & Sec. Firms ST'!$G$37","v":"S09A.DP0143"}]
["CB100B2.S09A.DP0144",{"$f":"'9A Corp. & Sec. Firms ST'!$G$38","v":"S09A.DP0144"}]
["CB100B2.S09A.DP0145",{"$f":"'9A Corp. & Sec. Firms ST'!$H$34","v":"S09A.DP0145"}]
["CB100B2.S09A.DP0146",{"$f":"'9A Corp. & Sec. Firms ST'!$H$35","v":"S09A.DP0146"}]
["CB100B2.S09A.DP0147",{"$f":"'9A Corp. & Sec. Firms ST'!$H$36","v":"S09A.DP0147"}]
["CB100B2.S09A.DP0148",{"$f":"'9A Corp. & Sec. Firms ST'!$H$37","v":"S09A.DP0148"}]
["CB100B2.S09A.DP0149",{"$f":"'9A Corp. & Sec. Firms ST'!$H$38","v":"S09A.DP0149"}]
["CB100B2.S09A.DP0150",{"$f":"'9A Corp. & Sec. Firms ST'!$H$39","v":"S09A.DP0150"}]
["CB100B2.S09A.DP0151",{"$f":"'9A Corp. & Sec. Firms ST'!$J$34","v":"S09A.DP0151"}]
["CB100B2.S09A.DP0152",{"$f":"'9A Corp. & Sec. Firms ST'!$J$35","v":"S09A.DP0152"}]
["CB100B2.S09A.DP0153",{"$f":"'9A Corp. & Sec. Firms ST'!$J$36","v":"S09A.DP0153"}]
["CB100B2.S09A.DP0154",{"$f":"'9A Corp. & Sec. Firms ST'!$J$37","v":"S09A.DP0154"}]
["CB100B2.S09A.DP0155",{"$f":"'9A Corp. & Sec. Firms ST'!$J$38","v":"S09A.DP0155"}]
["CB100B2.S09A.DP0156",{"$f":"'9A Corp. & Sec. Firms ST'!$J$39","v":"S09A.DP0156"}]
["CB100B2.S09A.DP0157",{"$f":"'9A Corp. & Sec. Firms ST'!$L$34","v":"S09A.DP0157"}]
["CB100B2.S09A.DP0158",{"$f":"'9A Corp. & Sec. Firms ST'!$L$35","v":"S09A.DP0158"}]
["CB100B2.S09A.DP0159",{"$f":"'9A Corp. & Sec. Firms ST'!$L$36","v":"S09A.DP0159"}]
["CB100B2.S09A.DP0160",{"$f":"'9A Corp. & Sec. Firms ST'!$L$37","v":"S09A.DP0160"}]
["CB100B2.S09A.DP0161",{"$f":"'9A Corp. & Sec. Firms ST'!$L$38","v":"S09A.DP0161"}]
["CB100B2.S09A.DP0162",{"$f":"'9A Corp. & Sec. Firms ST'!$L$39","v":"S09A.DP0162"}]
["CB100B2.S09A.DP0163",{"$f":"'9A Corp. & Sec. Firms ST'!$B$43","v":"S09A.DP0163"}]
["CB100B2.S09A.DP0164",{"$f":"'9A Corp. & Sec. Firms ST'!$B$44","v":"S09A.DP0164"}]
["CB100B2.S09A.DP0165",{"$f":"'9A Corp. & Sec. Firms ST'!$B$45","v":"S09A.DP0165"}]
["CB100B2.S09A.DP0166",{"$f":"'9A Corp. & Sec. Firms ST'!$B$46","v":"S09A.DP0166"}]
["CB100B2.S09A.DP0167",{"$f":"'9A Corp. & Sec. Firms ST'!$B$47","v":"S09A.DP0167"}]
["CB100B2.S09A.DP0168",{"$f":"'9A Corp. & Sec. Firms ST'!$C$43","v":"S09A.DP0168"}]
["CB100B2.S09A.DP0169",{"$f":"'9A Corp. & Sec. Firms ST'!$C$44","v":"S09A.DP0169"}]
["CB100B2.S09A.DP0170",{"$f":"'9A Corp. & Sec. Firms ST'!$C$45","v":"S09A.DP0170"}]
["CB100B2.S09A.DP0171",{"$f":"'9A Corp. & Sec. Firms ST'!$C$46","v":"S09A.DP0171"}]
["CB100B2.S09A.DP0172",{"$f":"'9A Corp. & Sec. Firms ST'!$C$47","v":"S09A.DP0172"}]
["CB100B2.S09A.DP0173",{"$f":"'9A Corp. & Sec. Firms ST'!$D$43","v":"S09A.DP0173"}]
["CB100B2.S09A.DP0174",{"$f":"'9A Corp. & Sec. Firms ST'!$D$44","v":"S09A.DP0174"}]
["CB100B2.S09A.DP0175",{"$f":"'9A Corp. & Sec. Firms ST'!$D$45","v":"S09A.DP0175"}]
["CB100B2.S09A.DP0176",{"$f":"'9A Corp. & Sec. Firms ST'!$D$46","v":"S09A.DP0176"}]
["CB100B2.S09A.DP0177",{"$f":"'9A Corp. & Sec. Firms ST'!$D$47","v":"S09A.DP0177"}]
["CB100B2.S09A.DP0178",{"$f":"'9A Corp. & Sec. Firms ST'!$F$42","v":"S09A.DP0178"}]
["CB100B2.S09A.DP0179",{"$f":"'9A Corp. & Sec. Firms ST'!$F$43","v":"S09A.DP0179"}]
["CB100B2.S09A.DP0180",{"$f":"'9A Corp. & Sec. Firms ST'!$F$44","v":"S09A.DP0180"}]
["CB100B2.S09A.DP0181",{"$f":"'9A Corp. & Sec. Firms ST'!$F$45","v":"S09A.DP0181"}]
["CB100B2.S09A.DP0182",{"$f":"'9A Corp. & Sec. Firms ST'!$F$46","v":"S09A.DP0182"}]
["CB100B2.S09A.DP0183",{"$f":"'9A Corp. & Sec. Firms ST'!$G$42","v":"S09A.DP0183"}]
["CB100B2.S09A.DP0184",{"$f":"'9A Corp. & Sec. Firms ST'!$G$43","v":"S09A.DP0184"}]
["CB100B2.S09A.DP0185",{"$f":"'9A Corp. & Sec. Firms ST'!$G$44","v":"S09A.DP0185"}]
["CB100B2.S09A.DP0186",{"$f":"'9A Corp. & Sec. Firms ST'!$G$45","v":"S09A.DP0186"}]
["CB100B2.S09A.DP0187",{"$f":"'9A Corp. & Sec. Firms ST'!$G$46","v":"S09A.DP0187"}]
["CB100B2.S09A.DP0188",{"$f":"'9A Corp. & Sec. Firms ST'!$H$42","v":"S09A.DP0188"}]
["CB100B2.S09A.DP0189",{"$f":"'9A Corp. & Sec. Firms ST'!$H$43","v":"S09A.DP0189"}]
["CB100B2.S09A.DP0190",{"$f":"'9A Corp. & Sec. Firms ST'!$H$44","v":"S09A.DP0190"}]
["CB100B2.S09A.DP0191",{"$f":"'9A Corp. & Sec. Firms ST'!$H$45","v":"S09A.DP0191"}]
["CB100B2.S09A.DP0192",{"$f":"'9A Corp. & Sec. Firms ST'!$H$46","v":"S09A.DP0192"}]
["CB100B2.S09A.DP0193",{"$f":"'9A Corp. & Sec. Firms ST'!$H$47","v":"S09A.DP0193"}]
["CB100B2.S09A.DP0194",{"$f":"'9A Corp. & Sec. Firms ST'!$J$42","v":"S09A.DP0194"}]
["CB100B2.S09A.DP0195",{"$f":"'9A Corp. & Sec. Firms ST'!$J$43","v":"S09A.DP0195"}]
["CB100B2.S09A.DP0196",{"$f":"'9A Corp. & Sec. Firms ST'!$J$44","v":"S09A.DP0196"}]
["CB100B2.S09A.DP0197",{"$f":"'9A Corp. & Sec. Firms ST'!$J$45","v":"S09A.DP0197"}]
["CB100B2.S09A.DP0198",{"$f":"'9A Corp. & Sec. Firms ST'!$J$46","v":"S09A.DP0198"}]
["CB100B2.S09A.DP0199",{"$f":"'9A Corp. & Sec. Firms ST'!$J$47","v":"S09A.DP0199"}]
["CB100B2.S09A.DP0200",{"$f":"'9A Corp. & Sec. Firms ST'!$L$42","v":"S09A.DP0200"}]
["CB100B2.S09A.DP0201",{"$f":"'9A Corp. & Sec. Firms ST'!$L$43","v":"S09A.DP0201"}]
["CB100B2.S09A.DP0202",{"$f":"'9A Corp. & Sec. Firms ST'!$L$44","v":"S09A.DP0202"}]
["CB100B2.S09A.DP0203",{"$f":"'9A Corp. & Sec. Firms ST'!$L$45","v":"S09A.DP0203"}]
["CB100B2.S09A.DP0204",{"$f":"'9A Corp. & Sec. Firms ST'!$L$46","v":"S09A.DP0204"}]
["CB100B2.S09A.DP0205",{"$f":"'9A Corp. & Sec. Firms ST'!$L$47","v":"S09A.DP0205"}]
["CB100B2.S09A.DP0206",{"$f":"'9A Corp. & Sec. Firms ST'!$C$49","v":"S09A.DP0206"}]
["CB100B2.S09A.DP0207",{"$f":"'9A Corp. & Sec. Firms ST'!$D$49","v":"S09A.DP0207"}]
["CB100B2.S09A.DP0208",{"$f":"'9A Corp. & Sec. Firms ST'!$L$49","v":"S09A.DP0208"}]
["CB100B2.S10.DP0001",{"$f":"'10 Commercial Real Estate'!$C$11","v":"S10.DP0001"}]
["CB100B2.S10.DP0002",{"$f":"'10 Commercial Real Estate'!$C$12","v":"S10.DP0002"}]
["CB100B2.S10.DP0003",{"$f":"'10 Commercial Real Estate'!$C$13","v":"S10.DP0003"}]
["CB100B2.S10.DP0004",{"$f":"'10 Commercial Real Estate'!$C$14","v":"S10.DP0004"}]
["CB100B2.S10.DP0005",{"$f":"'10 Commercial Real Estate'!$D$11","v":"S10.DP0005"}]
["CB100B2.S10.DP0006",{"$f":"'10 Commercial Real Estate'!$D$12","v":"S10.DP0006"}]
["CB100B2.S10.DP0007",{"$f":"'10 Commercial Real Estate'!$D$13","v":"S10.DP0007"}]
["CB100B2.S10.DP0008",{"$f":"'10 Commercial Real Estate'!$D$14","v":"S10.DP0008"}]
["CB100B2.S10.DP0009",{"$f":"'10 Commercial Real Estate'!$F$10","v":"S10.DP0009"}]
["CB100B2.S10.DP0010",{"$f":"'10 Commercial Real Estate'!$F$11","v":"S10.DP0010"}]
["CB100B2.S10.DP0011",{"$f":"'10 Commercial Real Estate'!$F$12","v":"S10.DP0011"}]
["CB100B2.S10.DP0012",{"$f":"'10 Commercial Real Estate'!$F$13","v":"S10.DP0012"}]
["CB100B2.S10.DP0013",{"$f":"'10 Commercial Real Estate'!$G$10","v":"S10.DP0013"}]
["CB100B2.S10.DP0014",{"$f":"'10 Commercial Real Estate'!$G$11","v":"S10.DP0014"}]
["CB100B2.S10.DP0015",{"$f":"'10 Commercial Real Estate'!$G$12","v":"S10.DP0015"}]
["CB100B2.S10.DP0016",{"$f":"'10 Commercial Real Estate'!$G$13","v":"S10.DP0016"}]
["CB100B2.S10.DP0017",{"$f":"'10 Commercial Real Estate'!$H$10","v":"S10.DP0017"}]
["CB100B2.S10.DP0018",{"$f":"'10 Commercial Real Estate'!$H$11","v":"S10.DP0018"}]
["CB100B2.S10.DP0019",{"$f":"'10 Commercial Real Estate'!$H$12","v":"S10.DP0019"}]
["CB100B2.S10.DP0020",{"$f":"'10 Commercial Real Estate'!$H$13","v":"S10.DP0020"}]
["CB100B2.S10.DP0021",{"$f":"'10 Commercial Real Estate'!$H$14","v":"S10.DP0021"}]
["CB100B2.S10.DP0022",{"$f":"'10 Commercial Real Estate'!$J$10","v":"S10.DP0022"}]
["CB100B2.S10.DP0023",{"$f":"'10 Commercial Real Estate'!$J$11","v":"S10.DP0023"}]
["CB100B2.S10.DP0024",{"$f":"'10 Commercial Real Estate'!$J$12","v":"S10.DP0024"}]
["CB100B2.S10.DP0025",{"$f":"'10 Commercial Real Estate'!$J$13","v":"S10.DP0025"}]
["CB100B2.S10.DP0026",{"$f":"'10 Commercial Real Estate'!$J$14","v":"S10.DP0026"}]
["CB100B2.S10.DP0027",{"$f":"'10 Commercial Real Estate'!$L$10","v":"S10.DP0027"}]
["CB100B2.S10.DP0028",{"$f":"'10 Commercial Real Estate'!$L$11","v":"S10.DP0028"}]
["CB100B2.S10.DP0029",{"$f":"'10 Commercial Real Estate'!$L$12","v":"S10.DP0029"}]
["CB100B2.S10.DP0030",{"$f":"'10 Commercial Real Estate'!$L$13","v":"S10.DP0030"}]
["CB100B2.S10.DP0031",{"$f":"'10 Commercial Real Estate'!$L$14","v":"S10.DP0031"}]
["CB100B2.S10.DP0032",{"$f":"'10 Commercial Real Estate'!$B$18","v":"S10.DP0032"}]
["CB100B2.S10.DP0033",{"$f":"'10 Commercial Real Estate'!$B$19","v":"S10.DP0033"}]
["CB100B2.S10.DP0034",{"$f":"'10 Commercial Real Estate'!$B$20","v":"S10.DP0034"}]
["CB100B2.S10.DP0035",{"$f":"'10 Commercial Real Estate'!$B$21","v":"S10.DP0035"}]
["CB100B2.S10.DP0036",{"$f":"'10 Commercial Real Estate'!$C$18","v":"S10.DP0036"}]
["CB100B2.S10.DP0037",{"$f":"'10 Commercial Real Estate'!$C$19","v":"S10.DP0037"}]
["CB100B2.S10.DP0038",{"$f":"'10 Commercial Real Estate'!$C$20","v":"S10.DP0038"}]
["CB100B2.S10.DP0039",{"$f":"'10 Commercial Real Estate'!$C$21","v":"S10.DP0039"}]
["CB100B2.S10.DP0040",{"$f":"'10 Commercial Real Estate'!$D$18","v":"S10.DP0040"}]
["CB100B2.S10.DP0041",{"$f":"'10 Commercial Real Estate'!$D$19","v":"S10.DP0041"}]
["CB100B2.S10.DP0042",{"$f":"'10 Commercial Real Estate'!$D$20","v":"S10.DP0042"}]
["CB100B2.S10.DP0043",{"$f":"'10 Commercial Real Estate'!$D$21","v":"S10.DP0043"}]
["CB100B2.S10.DP0044",{"$f":"'10 Commercial Real Estate'!$F$17","v":"S10.DP0044"}]
["CB100B2.S10.DP0045",{"$f":"'10 Commercial Real Estate'!$F$18","v":"S10.DP0045"}]
["CB100B2.S10.DP0046",{"$f":"'10 Commercial Real Estate'!$F$19","v":"S10.DP0046"}]
["CB100B2.S10.DP0047",{"$f":"'10 Commercial Real Estate'!$F$20","v":"S10.DP0047"}]
["CB100B2.S10.DP0048",{"$f":"'10 Commercial Real Estate'!$G$17","v":"S10.DP0048"}]
["CB100B2.S10.DP0049",{"$f":"'10 Commercial Real Estate'!$G$18","v":"S10.DP0049"}]
["CB100B2.S10.DP0050",{"$f":"'10 Commercial Real Estate'!$G$19","v":"S10.DP0050"}]
["CB100B2.S10.DP0051",{"$f":"'10 Commercial Real Estate'!$G$20","v":"S10.DP0051"}]
["CB100B2.S10.DP0052",{"$f":"'10 Commercial Real Estate'!$H$17","v":"S10.DP0052"}]
["CB100B2.S10.DP0053",{"$f":"'10 Commercial Real Estate'!$H$18","v":"S10.DP0053"}]
["CB100B2.S10.DP0054",{"$f":"'10 Commercial Real Estate'!$H$19","v":"S10.DP0054"}]
["CB100B2.S10.DP0055",{"$f":"'10 Commercial Real Estate'!$H$20","v":"S10.DP0055"}]
["CB100B2.S10.DP0056",{"$f":"'10 Commercial Real Estate'!$H$21","v":"S10.DP0056"}]
["CB100B2.S10.DP0057",{"$f":"'10 Commercial Real Estate'!$J$17","v":"S10.DP0057"}]
["CB100B2.S10.DP0058",{"$f":"'10 Commercial Real Estate'!$J$18","v":"S10.DP0058"}]
["CB100B2.S10.DP0059",{"$f":"'10 Commercial Real Estate'!$J$19","v":"S10.DP0059"}]
["CB100B2.S10.DP0060",{"$f":"'10 Commercial Real Estate'!$J$20","v":"S10.DP0060"}]
["CB100B2.S10.DP0061",{"$f":"'10 Commercial Real Estate'!$J$21","v":"S10.DP0061"}]
["CB100B2.S10.DP0062",{"$f":"'10 Commercial Real Estate'!$L$17","v":"S10.DP0062"}]
["CB100B2.S10.DP0063",{"$f":"'10 Commercial Real Estate'!$L$18","v":"S10.DP0063"}]
["CB100B2.S10.DP0064",{"$f":"'10 Commercial Real Estate'!$L$19","v":"S10.DP0064"}]
["CB100B2.S10.DP0065",{"$f":"'10 Commercial Real Estate'!$L$20","v":"S10.DP0065"}]
["CB100B2.S10.DP0066",{"$f":"'10 Commercial Real Estate'!$L$21","v":"S10.DP0066"}]
["CB100B2.S10.DP0067",{"$f":"'10 Commercial Real Estate'!$B$26","v":"S10.DP0067"}]
["CB100B2.S10.DP0068",{"$f":"'10 Commercial Real Estate'!$B$27","v":"S10.DP0068"}]
["CB100B2.S10.DP0069",{"$f":"'10 Commercial Real Estate'!$B$28","v":"S10.DP0069"}]
["CB100B2.S10.DP0070",{"$f":"'10 Commercial Real Estate'!$B$29","v":"S10.DP0070"}]
["CB100B2.S10.DP0071",{"$f":"'10 Commercial Real Estate'!$C$26","v":"S10.DP0071"}]
["CB100B2.S10.DP0072",{"$f":"'10 Commercial Real Estate'!$C$27","v":"S10.DP0072"}]
["CB100B2.S10.DP0073",{"$f":"'10 Commercial Real Estate'!$C$28","v":"S10.DP0073"}]
["CB100B2.S10.DP0074",{"$f":"'10 Commercial Real Estate'!$C$29","v":"S10.DP0074"}]
["CB100B2.S10.DP0075",{"$f":"'10 Commercial Real Estate'!$D$26","v":"S10.DP0075"}]
["CB100B2.S10.DP0076",{"$f":"'10 Commercial Real Estate'!$D$27","v":"S10.DP0076"}]
["CB100B2.S10.DP0077",{"$f":"'10 Commercial Real Estate'!$D$28","v":"S10.DP0077"}]
["CB100B2.S10.DP0078",{"$f":"'10 Commercial Real Estate'!$D$29","v":"S10.DP0078"}]
["CB100B2.S10.DP0079",{"$f":"'10 Commercial Real Estate'!$F$25","v":"S10.DP0079"}]
["CB100B2.S10.DP0080",{"$f":"'10 Commercial Real Estate'!$F$26","v":"S10.DP0080"}]
["CB100B2.S10.DP0081",{"$f":"'10 Commercial Real Estate'!$F$27","v":"S10.DP0081"}]
["CB100B2.S10.DP0082",{"$f":"'10 Commercial Real Estate'!$F$28","v":"S10.DP0082"}]
["CB100B2.S10.DP0083",{"$f":"'10 Commercial Real Estate'!$G$25","v":"S10.DP0083"}]
["CB100B2.S10.DP0084",{"$f":"'10 Commercial Real Estate'!$G$26","v":"S10.DP0084"}]
["CB100B2.S10.DP0085",{"$f":"'10 Commercial Real Estate'!$G$27","v":"S10.DP0085"}]
["CB100B2.S10.DP0086",{"$f":"'10 Commercial Real Estate'!$G$28","v":"S10.DP0086"}]
["CB100B2.S10.DP0087",{"$f":"'10 Commercial Real Estate'!$H$25","v":"S10.DP0087"}]
["CB100B2.S10.DP0088",{"$f":"'10 Commercial Real Estate'!$H$26","v":"S10.DP0088"}]
["CB100B2.S10.DP0089",{"$f":"'10 Commercial Real Estate'!$H$27","v":"S10.DP0089"}]
["CB100B2.S10.DP0090",{"$f":"'10 Commercial Real Estate'!$H$28","v":"S10.DP0090"}]
["CB100B2.S10.DP0091",{"$f":"'10 Commercial Real Estate'!$H$29","v":"S10.DP0091"}]
["CB100B2.S10.DP0092",{"$f":"'10 Commercial Real Estate'!$J$25","v":"S10.DP0092"}]
["CB100B2.S10.DP0093",{"$f":"'10 Commercial Real Estate'!$J$26","v":"S10.DP0093"}]
["CB100B2.S10.DP0094",{"$f":"'10 Commercial Real Estate'!$J$27","v":"S10.DP0094"}]
["CB100B2.S10.DP0095",{"$f":"'10 Commercial Real Estate'!$J$28","v":"S10.DP0095"}]
["CB100B2.S10.DP0096",{"$f":"'10 Commercial Real Estate'!$J$29","v":"S10.DP0096"}]
["CB100B2.S10.DP0097",{"$f":"'10 Commercial Real Estate'!$L$25","v":"S10.DP0097"}]
["CB100B2.S10.DP0098",{"$f":"'10 Commercial Real Estate'!$L$26","v":"S10.DP0098"}]
["CB100B2.S10.DP0099",{"$f":"'10 Commercial Real Estate'!$L$27","v":"S10.DP0099"}]
["CB100B2.S10.DP0100",{"$f":"'10 Commercial Real Estate'!$L$28","v":"S10.DP0100"}]
["CB100B2.S10.DP0101",{"$f":"'10 Commercial Real Estate'!$L$29","v":"S10.DP0101"}]
["CB100B2.S10.DP0102",{"$f":"'10 Commercial Real Estate'!$C$31","v":"S10.DP0102"}]
["CB100B2.S10.DP0103",{"$f":"'10 Commercial Real Estate'!$D$31","v":"S10.DP0103"}]
["CB100B2.S10.DP0104",{"$f":"'10 Commercial Real Estate'!$L$31","v":"S10.DP0104"}]
["CB100B2.S11.DP0001",{"$f":"'11 Residential Mortgages'!$C$11","v":"S11.DP0001"}]
["CB100B2.S11.DP0002",{"$f":"'11 Residential Mortgages'!$C$12","v":"S11.DP0002"}]
["CB100B2.S11.DP0003",{"$f":"'11 Residential Mortgages'!$C$13","v":"S11.DP0003"}]
["CB100B2.S11.DP0004",{"$f":"'11 Residential Mortgages'!$C$14","v":"S11.DP0004"}]
["CB100B2.S11.DP0005",{"$f":"'11 Residential Mortgages'!$C$15","v":"S11.DP0005"}]
["CB100B2.S11.DP0006",{"$f":"'11 Residential Mortgages'!$D$11","v":"S11.DP0006"}]
["CB100B2.S11.DP0007",{"$f":"'11 Residential Mortgages'!$D$12","v":"S11.DP0007"}]
["CB100B2.S11.DP0008",{"$f":"'11 Residential Mortgages'!$D$13","v":"S11.DP0008"}]
["CB100B2.S11.DP0009",{"$f":"'11 Residential Mortgages'!$D$14","v":"S11.DP0009"}]
["CB100B2.S11.DP0010",{"$f":"'11 Residential Mortgages'!$D$15","v":"S11.DP0010"}]
["CB100B2.S11.DP0011",{"$f":"'11 Residential Mortgages'!$F$10","v":"S11.DP0011"}]
["CB100B2.S11.DP0012",{"$f":"'11 Residential Mortgages'!$F$11","v":"S11.DP0012"}]
["CB100B2.S11.DP0013",{"$f":"'11 Residential Mortgages'!$F$12","v":"S11.DP0013"}]
["CB100B2.S11.DP0014",{"$f":"'11 Residential Mortgages'!$F$13","v":"S11.DP0014"}]
["CB100B2.S11.DP0015",{"$f":"'11 Residential Mortgages'!$F$14","v":"S11.DP0015"}]
["CB100B2.S11.DP0016",{"$f":"'11 Residential Mortgages'!$G$10","v":"S11.DP0016"}]
["CB100B2.S11.DP0017",{"$f":"'11 Residential Mortgages'!$G$11","v":"S11.DP0017"}]
["CB100B2.S11.DP0018",{"$f":"'11 Residential Mortgages'!$G$12","v":"S11.DP0018"}]
["CB100B2.S11.DP0019",{"$f":"'11 Residential Mortgages'!$G$13","v":"S11.DP0019"}]
["CB100B2.S11.DP0020",{"$f":"'11 Residential Mortgages'!$G$14","v":"S11.DP0020"}]
["CB100B2.S11.DP0021",{"$f":"'11 Residential Mortgages'!$H$10","v":"S11.DP0021"}]
["CB100B2.S11.DP0022",{"$f":"'11 Residential Mortgages'!$H$11","v":"S11.DP0022"}]
["CB100B2.S11.DP0023",{"$f":"'11 Residential Mortgages'!$H$12","v":"S11.DP0023"}]
["CB100B2.S11.DP0024",{"$f":"'11 Residential Mortgages'!$H$13","v":"S11.DP0024"}]
["CB100B2.S11.DP0025",{"$f":"'11 Residential Mortgages'!$H$14","v":"S11.DP0025"}]
["CB100B2.S11.DP0026",{"$f":"'11 Residential Mortgages'!$H$15","v":"S11.DP0026"}]
["CB100B2.S11.DP0027",{"$f":"'11 Residential Mortgages'!$J$10","v":"S11.DP0027"}]
["CB100B2.S11.DP0028",{"$f":"'11 Residential Mortgages'!$J$11","v":"S11.DP0028"}]
["CB100B2.S11.DP0029",{"$f":"'11 Residential Mortgages'!$J$12","v":"S11.DP0029"}]
["CB100B2.S11.DP0030",{"$f":"'11 Residential Mortgages'!$J$13","v":"S11.DP0030"}]
["CB100B2.S11.DP0031",{"$f":"'11 Residential Mortgages'!$J$14","v":"S11.DP0031"}]
["CB100B2.S11.DP0032",{"$f":"'11 Residential Mortgages'!$J$15","v":"S11.DP0032"}]
["CB100B2.S11.DP0033",{"$f":"'11 Residential Mortgages'!$L$10","v":"S11.DP0033"}]
["CB100B2.S11.DP0034",{"$f":"'11 Residential Mortgages'!$L$11","v":"S11.DP0034"}]
["CB100B2.S11.DP0035",{"$f":"'11 Residential Mortgages'!$L$12","v":"S11.DP0035"}]
["CB100B2.S11.DP0036",{"$f":"'11 Residential Mortgages'!$L$13","v":"S11.DP0036"}]
["CB100B2.S11.DP0037",{"$f":"'11 Residential Mortgages'!$L$14","v":"S11.DP0037"}]
["CB100B2.S11.DP0038",{"$f":"'11 Residential Mortgages'!$L$15","v":"S11.DP0038"}]
["CB100B2.S11.DP0039",{"$f":"'11 Residential Mortgages'!$B$19","v":"S11.DP0039"}]
["CB100B2.S11.DP0040",{"$f":"'11 Residential Mortgages'!$B$20","v":"S11.DP0040"}]
["CB100B2.S11.DP0041",{"$f":"'11 Residential Mortgages'!$B$21","v":"S11.DP0041"}]
["CB100B2.S11.DP0042",{"$f":"'11 Residential Mortgages'!$B$22","v":"S11.DP0042"}]
["CB100B2.S11.DP0043",{"$f":"'11 Residential Mortgages'!$B$23","v":"S11.DP0043"}]
["CB100B2.S11.DP0044",{"$f":"'11 Residential Mortgages'!$C$19","v":"S11.DP0044"}]
["CB100B2.S11.DP0045",{"$f":"'11 Residential Mortgages'!$C$20","v":"S11.DP0045"}]
["CB100B2.S11.DP0046",{"$f":"'11 Residential Mortgages'!$C$21","v":"S11.DP0046"}]
["CB100B2.S11.DP0047",{"$f":"'11 Residential Mortgages'!$C$22","v":"S11.DP0047"}]
["CB100B2.S11.DP0048",{"$f":"'11 Residential Mortgages'!$C$23","v":"S11.DP0048"}]
["CB100B2.S11.DP0049",{"$f":"'11 Residential Mortgages'!$D$19","v":"S11.DP0049"}]
["CB100B2.S11.DP0050",{"$f":"'11 Residential Mortgages'!$D$20","v":"S11.DP0050"}]
["CB100B2.S11.DP0051",{"$f":"'11 Residential Mortgages'!$D$21","v":"S11.DP0051"}]
["CB100B2.S11.DP0052",{"$f":"'11 Residential Mortgages'!$D$22","v":"S11.DP0052"}]
["CB100B2.S11.DP0053",{"$f":"'11 Residential Mortgages'!$D$23","v":"S11.DP0053"}]
["CB100B2.S11.DP0054",{"$f":"'11 Residential Mortgages'!$F$18","v":"S11.DP0054"}]
["CB100B2.S11.DP0055",{"$f":"'11 Residential Mortgages'!$F$19","v":"S11.DP0055"}]
["CB100B2.S11.DP0056",{"$f":"'11 Residential Mortgages'!$F$20","v":"S11.DP0056"}]
["CB100B2.S11.DP0057",{"$f":"'11 Residential Mortgages'!$F$21","v":"S11.DP0057"}]
["CB100B2.S11.DP0058",{"$f":"'11 Residential Mortgages'!$F$22","v":"S11.DP0058"}]
["CB100B2.S11.DP0059",{"$f":"'11 Residential Mortgages'!$G$18","v":"S11.DP0059"}]
["CB100B2.S11.DP0060",{"$f":"'11 Residential Mortgages'!$G$19","v":"S11.DP0060"}]
["CB100B2.S11.DP0061",{"$f":"'11 Residential Mortgages'!$G$20","v":"S11.DP0061"}]
["CB100B2.S11.DP0062",{"$f":"'11 Residential Mortgages'!$G$21","v":"S11.DP0062"}]
["CB100B2.S11.DP0063",{"$f":"'11 Residential Mortgages'!$G$22","v":"S11.DP0063"}]
["CB100B2.S11.DP0064",{"$f":"'11 Residential Mortgages'!$H$18","v":"S11.DP0064"}]
["CB100B2.S11.DP0065",{"$f":"'11 Residential Mortgages'!$H$19","v":"S11.DP0065"}]
["CB100B2.S11.DP0066",{"$f":"'11 Residential Mortgages'!$H$20","v":"S11.DP0066"}]
["CB100B2.S11.DP0067",{"$f":"'11 Residential Mortgages'!$H$21","v":"S11.DP0067"}]
["CB100B2.S11.DP0068",{"$f":"'11 Residential Mortgages'!$H$22","v":"S11.DP0068"}]
["CB100B2.S11.DP0069",{"$f":"'11 Residential Mortgages'!$H$23","v":"S11.DP0069"}]
["CB100B2.S11.DP0070",{"$f":"'11 Residential Mortgages'!$J$18","v":"S11.DP0070"}]
["CB100B2.S11.DP0071",{"$f":"'11 Residential Mortgages'!$J$19","v":"S11.DP0071"}]
["CB100B2.S11.DP0072",{"$f":"'11 Residential Mortgages'!$J$20","v":"S11.DP0072"}]
["CB100B2.S11.DP0073",{"$f":"'11 Residential Mortgages'!$J$21","v":"S11.DP0073"}]
["CB100B2.S11.DP0074",{"$f":"'11 Residential Mortgages'!$J$22","v":"S11.DP0074"}]
["CB100B2.S11.DP0075",{"$f":"'11 Residential Mortgages'!$J$23","v":"S11.DP0075"}]
["CB100B2.S11.DP0076",{"$f":"'11 Residential Mortgages'!$L$18","v":"S11.DP0076"}]
["CB100B2.S11.DP0077",{"$f":"'11 Residential Mortgages'!$L$19","v":"S11.DP0077"}]
["CB100B2.S11.DP0078",{"$f":"'11 Residential Mortgages'!$L$20","v":"S11.DP0078"}]
["CB100B2.S11.DP0079",{"$f":"'11 Residential Mortgages'!$L$21","v":"S11.DP0079"}]
["CB100B2.S11.DP0080",{"$f":"'11 Residential Mortgages'!$L$22","v":"S11.DP0080"}]
["CB100B2.S11.DP0081",{"$f":"'11 Residential Mortgages'!$L$23","v":"S11.DP0081"}]
["CB100B2.S11.DP0082",{"$f":"'11 Residential Mortgages'!$C$25","v":"S11.DP0082"}]
["CB100B2.S11.DP0083",{"$f":"'11 Residential Mortgages'!$D$25","v":"S11.DP0083"}]
["CB100B2.S11.DP0084",{"$f":"'11 Residential Mortgages'!$L$25","v":"S11.DP0084"}]
["CB100B2.S12.DP0001",{"$f":"'12 Other Retail'!$C$11","v":"S12.DP0001"}]
["CB100B2.S12.DP0002",{"$f":"'12 Other Retail'!$C$12","v":"S12.DP0002"}]
["CB100B2.S12.DP0003",{"$f":"'12 Other Retail'!$C$13","v":"S12.DP0003"}]
["CB100B2.S12.DP0004",{"$f":"'12 Other Retail'!$C$14","v":"S12.DP0004"}]
["CB100B2.S12.DP0005",{"$f":"'12 Other Retail'!$C$15","v":"S12.DP0005"}]
["CB100B2.S12.DP0006",{"$f":"'12 Other Retail'!$D$11","v":"S12.DP0006"}]
["CB100B2.S12.DP0007",{"$f":"'12 Other Retail'!$D$12","v":"S12.DP0007"}]
["CB100B2.S12.DP0008",{"$f":"'12 Other Retail'!$D$13","v":"S12.DP0008"}]
["CB100B2.S12.DP0009",{"$f":"'12 Other Retail'!$D$14","v":"S12.DP0009"}]
["CB100B2.S12.DP0010",{"$f":"'12 Other Retail'!$D$15","v":"S12.DP0010"}]
["CB100B2.S12.DP0011",{"$f":"'12 Other Retail'!$F$10","v":"S12.DP0011"}]
["CB100B2.S12.DP0012",{"$f":"'12 Other Retail'!$F$11","v":"S12.DP0012"}]
["CB100B2.S12.DP0013",{"$f":"'12 Other Retail'!$F$12","v":"S12.DP0013"}]
["CB100B2.S12.DP0014",{"$f":"'12 Other Retail'!$F$13","v":"S12.DP0014"}]
["CB100B2.S12.DP0015",{"$f":"'12 Other Retail'!$F$14","v":"S12.DP0015"}]
["CB100B2.S12.DP0016",{"$f":"'12 Other Retail'!$G$10","v":"S12.DP0016"}]
["CB100B2.S12.DP0017",{"$f":"'12 Other Retail'!$G$11","v":"S12.DP0017"}]
["CB100B2.S12.DP0018",{"$f":"'12 Other Retail'!$G$12","v":"S12.DP0018"}]
["CB100B2.S12.DP0019",{"$f":"'12 Other Retail'!$G$13","v":"S12.DP0019"}]
["CB100B2.S12.DP0020",{"$f":"'12 Other Retail'!$G$14","v":"S12.DP0020"}]
["CB100B2.S12.DP0021",{"$f":"'12 Other Retail'!$H$10","v":"S12.DP0021"}]
["CB100B2.S12.DP0022",{"$f":"'12 Other Retail'!$H$11","v":"S12.DP0022"}]
["CB100B2.S12.DP0023",{"$f":"'12 Other Retail'!$H$12","v":"S12.DP0023"}]
["CB100B2.S12.DP0024",{"$f":"'12 Other Retail'!$H$13","v":"S12.DP0024"}]
["CB100B2.S12.DP0025",{"$f":"'12 Other Retail'!$H$14","v":"S12.DP0025"}]
["CB100B2.S12.DP0026",{"$f":"'12 Other Retail'!$H$15","v":"S12.DP0026"}]
["CB100B2.S12.DP0027",{"$f":"'12 Other Retail'!$J$10","v":"S12.DP0027"}]
["CB100B2.S12.DP0028",{"$f":"'12 Other Retail'!$J$11","v":"S12.DP0028"}]
["CB100B2.S12.DP0029",{"$f":"'12 Other Retail'!$J$12","v":"S12.DP0029"}]
["CB100B2.S12.DP0030",{"$f":"'12 Other Retail'!$J$13","v":"S12.DP0030"}]
["CB100B2.S12.DP0031",{"$f":"'12 Other Retail'!$J$14","v":"S12.DP0031"}]
["CB100B2.S12.DP0032",{"$f":"'12 Other Retail'!$J$15","v":"S12.DP0032"}]
["CB100B2.S12.DP0033",{"$f":"'12 Other Retail'!$L$10","v":"S12.DP0033"}]
["CB100B2.S12.DP0034",{"$f":"'12 Other Retail'!$L$11","v":"S12.DP0034"}]
["CB100B2.S12.DP0035",{"$f":"'12 Other Retail'!$L$12","v":"S12.DP0035"}]
["CB100B2.S12.DP0036",{"$f":"'12 Other Retail'!$L$13","v":"S12.DP0036"}]
["CB100B2.S12.DP0037",{"$f":"'12 Other Retail'!$L$14","v":"S12.DP0037"}]
["CB100B2.S12.DP0038",{"$f":"'12 Other Retail'!$L$15","v":"S12.DP0038"}]
["CB100B2.S12.DP0039",{"$f":"'12 Other Retail'!$B$19","v":"S12.DP0039"}]
["CB100B2.S12.DP0040",{"$f":"'12 Other Retail'!$B$20","v":"S12.DP0040"}]
["CB100B2.S12.DP0041",{"$f":"'12 Other Retail'!$B$21","v":"S12.DP0041"}]
["CB100B2.S12.DP0042",{"$f":"'12 Other Retail'!$B$22","v":"S12.DP0042"}]
["CB100B2.S12.DP0043",{"$f":"'12 Other Retail'!$B$23","v":"S12.DP0043"}]
["CB100B2.S12.DP0044",{"$f":"'12 Other Retail'!$C$19","v":"S12.DP0044"}]
["CB100B2.S12.DP0045",{"$f":"'12 Other Retail'!$C$20","v":"S12.DP0045"}]
["CB100B2.S12.DP0046",{"$f":"'12 Other Retail'!$C$21","v":"S12.DP0046"}]
["CB100B2.S12.DP0047",{"$f":"'12 Other Retail'!$C$22","v":"S12.DP0047"}]
["CB100B2.S12.DP0048",{"$f":"'12 Other Retail'!$C$23","v":"S12.DP0048"}]
["CB100B2.S12.DP0049",{"$f":"'12 Other Retail'!$D$19","v":"S12.DP0049"}]
["CB100B2.S12.DP0050",{"$f":"'12 Other Retail'!$D$20","v":"S12.DP0050"}]
["CB100B2.S12.DP0051",{"$f":"'12 Other Retail'!$D$21","v":"S12.DP0051"}]
["CB100B2.S12.DP0052",{"$f":"'12 Other Retail'!$D$22","v":"S12.DP0052"}]
["CB100B2.S12.DP0053",{"$f":"'12 Other Retail'!$D$23","v":"S12.DP0053"}]
["CB100B2.S12.DP0054",{"$f":"'12 Other Retail'!$F$18","v":"S12.DP0054"}]
["CB100B2.S12.DP0055",{"$f":"'12 Other Retail'!$F$19","v":"S12.DP0055"}]
["CB100B2.S12.DP0056",{"$f":"'12 Other Retail'!$F$20","v":"S12.DP0056"}]
["CB100B2.S12.DP0057",{"$f":"'12 Other Retail'!$F$21","v":"S12.DP0057"}]
["CB100B2.S12.DP0058",{"$f":"'12 Other Retail'!$F$22","v":"S12.DP0058"}]
["CB100B2.S12.DP0059",{"$f":"'12 Other Retail'!$G$18","v":"S12.DP0059"}]
["CB100B2.S12.DP0060",{"$f":"'12 Other Retail'!$G$19","v":"S12.DP0060"}]
["CB100B2.S12.DP0061",{"$f":"'12 Other Retail'!$G$20","v":"S12.DP0061"}]
["CB100B2.S12.DP0062",{"$f":"'12 Other Retail'!$G$21","v":"S12.DP0062"}]
["CB100B2.S12.DP0063",{"$f":"'12 Other Retail'!$G$22","v":"S12.DP0063"}]
["CB100B2.S12.DP0064",{"$f":"'12 Other Retail'!$H$18","v":"S12.DP0064"}]
["CB100B2.S12.DP0065",{"$f":"'12 Other Retail'!$H$19","v":"S12.DP0065"}]
["CB100B2.S12.DP0066",{"$f":"'12 Other Retail'!$H$20","v":"S12.DP0066"}]
["CB100B2.S12.DP0067",{"$f":"'12 Other Retail'!$H$21","v":"S12.DP0067"}]
["CB100B2.S12.DP0068",{"$f":"'12 Other Retail'!$H$22","v":"S12.DP0068"}]
["CB100B2.S12.DP0069",{"$f":"'12 Other Retail'!$H$23","v":"S12.DP0069"}]
["CB100B2.S12.DP0070",{"$f":"'12 Other Retail'!$J$18","v":"S12.DP0070"}]
["CB100B2.S12.DP0071",{"$f":"'12 Other Retail'!$J$19","v":"S12.DP0071"}]
["CB100B2.S12.DP0072",{"$f":"'12 Other Retail'!$J$20","v":"S12.DP0072"}]
["CB100B2.S12.DP0073",{"$f":"'12 Other Retail'!$J$21","v":"S12.DP0073"}]
["CB100B2.S12.DP0074",{"$f":"'12 Other Retail'!$J$22","v":"S12.DP0074"}]
["CB100B2.S12.DP0075",{"$f":"'12 Other Retail'!$J$23","v":"S12.DP0075"}]
["CB100B2.S12.DP0076",{"$f":"'12 Other Retail'!$L$18","v":"S12.DP0076"}]
["CB100B2.S12.DP0077",{"$f":"'12 Other Retail'!$L$19","v":"S12.DP0077"}]
["CB100B2.S12.DP0078",{"$f":"'12 Other Retail'!$L$20","v":"S12.DP0078"}]
["CB100B2.S12.DP0079",{"$f":"'12 Other Retail'!$L$21","v":"S12.DP0079"}]
["CB100B2.S12.DP0080",{"$f":"'12 Other Retail'!$L$22","v":"S12.DP0080"}]
["CB100B2.S12.DP0081",{"$f":"'12 Other Retail'!$L$23","v":"S12.DP0081"}]
["CB100B2.S12.DP0082",{"$f":"'12 Other Retail'!$B$27","v":"S12.DP0082"}]
["CB100B2.S12.DP0083",{"$f":"'12 Other Retail'!$B$28","v":"S12.DP0083"}]
["CB100B2.S12.DP0084",{"$f":"'12 Other Retail'!$B$29","v":"S12.DP0084"}]
["CB100B2.S12.DP0085",{"$f":"'12 Other Retail'!$B$30","v":"S12.DP0085"}]
["CB100B2.S12.DP0086",{"$f":"'12 Other Retail'!$B$31","v":"S12.DP0086"}]
["CB100B2.S12.DP0087",{"$f":"'12 Other Retail'!$C$27","v":"S12.DP0087"}]
["CB100B2.S12.DP0088",{"$f":"'12 Other Retail'!$C$28","v":"S12.DP0088"}]
["CB100B2.S12.DP0089",{"$f":"'12 Other Retail'!$C$29","v":"S12.DP0089"}]
["CB100B2.S12.DP0090",{"$f":"'12 Other Retail'!$C$30","v":"S12.DP0090"}]
["CB100B2.S12.DP0091",{"$f":"'12 Other Retail'!$C$31","v":"S12.DP0091"}]
["CB100B2.S12.DP0092",{"$f":"'12 Other Retail'!$D$27","v":"S12.DP0092"}]
["CB100B2.S12.DP0093",{"$f":"'12 Other Retail'!$D$28","v":"S12.DP0093"}]
["CB100B2.S12.DP0094",{"$f":"'12 Other Retail'!$D$29","v":"S12.DP0094"}]
["CB100B2.S12.DP0095",{"$f":"'12 Other Retail'!$D$30","v":"S12.DP0095"}]
["CB100B2.S12.DP0096",{"$f":"'12 Other Retail'!$D$31","v":"S12.DP0096"}]
["CB100B2.S12.DP0097",{"$f":"'12 Other Retail'!$F$26","v":"S12.DP0097"}]
["CB100B2.S12.DP0098",{"$f":"'12 Other Retail'!$F$27","v":"S12.DP0098"}]
["CB100B2.S12.DP0099",{"$f":"'12 Other Retail'!$F$28","v":"S12.DP0099"}]
["CB100B2.S12.DP0100",{"$f":"'12 Other Retail'!$F$29","v":"S12.DP0100"}]
["CB100B2.S12.DP0101",{"$f":"'12 Other Retail'!$F$30","v":"S12.DP0101"}]
["CB100B2.S12.DP0102",{"$f":"'12 Other Retail'!$G$26","v":"S12.DP0102"}]
["CB100B2.S12.DP0103",{"$f":"'12 Other Retail'!$G$27","v":"S12.DP0103"}]
["CB100B2.S12.DP0104",{"$f":"'12 Other Retail'!$G$28","v":"S12.DP0104"}]
["CB100B2.S12.DP0105",{"$f":"'12 Other Retail'!$G$29","v":"S12.DP0105"}]
["CB100B2.S12.DP0106",{"$f":"'12 Other Retail'!$G$30","v":"S12.DP0106"}]
["CB100B2.S12.DP0107",{"$f":"'12 Other Retail'!$H$26","v":"S12.DP0107"}]
["CB100B2.S12.DP0108",{"$f":"'12 Other Retail'!$H$27","v":"S12.DP0108"}]
["CB100B2.S12.DP0109",{"$f":"'12 Other Retail'!$H$28","v":"S12.DP0109"}]
["CB100B2.S12.DP0110",{"$f":"'12 Other Retail'!$H$29","v":"S12.DP0110"}]
["CB100B2.S12.DP0111",{"$f":"'12 Other Retail'!$H$30","v":"S12.DP0111"}]
["CB100B2.S12.DP0112",{"$f":"'12 Other Retail'!$H$31","v":"S12.DP0112"}]
["CB100B2.S12.DP0113",{"$f":"'12 Other Retail'!$J$26","v":"S12.DP0113"}]
["CB100B2.S12.DP0114",{"$f":"'12 Other Retail'!$J$27","v":"S12.DP0114"}]
["CB100B2.S12.DP0115",{"$f":"'12 Other Retail'!$J$28","v":"S12.DP0115"}]
["CB100B2.S12.DP0116",{"$f":"'12 Other Retail'!$J$29","v":"S12.DP0116"}]
["CB100B2.S12.DP0117",{"$f":"'12 Other Retail'!$J$30","v":"S12.DP0117"}]
["CB100B2.S12.DP0118",{"$f":"'12 Other Retail'!$J$31","v":"S12.DP0118"}]
["CB100B2.S12.DP0119",{"$f":"'12 Other Retail'!$L$26","v":"S12.DP0119"}]
["CB100B2.S12.DP0120",{"$f":"'12 Other Retail'!$L$27","v":"S12.DP0120"}]
["CB100B2.S12.DP0121",{"$f":"'12 Other Retail'!$L$28","v":"S12.DP0121"}]
["CB100B2.S12.DP0122",{"$f":"'12 Other Retail'!$L$29","v":"S12.DP0122"}]
["CB100B2.S12.DP0123",{"$f":"'12 Other Retail'!$L$30","v":"S12.DP0123"}]
["CB100B2.S12.DP0124",{"$f":"'12 Other Retail'!$L$31","v":"S12.DP0124"}]
["CB100B2.S12.DP0125",{"$f":"'12 Other Retail'!$C$33","v":"S12.DP0125"}]
["CB100B2.S12.DP0126",{"$f":"'12 Other Retail'!$D$33","v":"S12.DP0126"}]
["CB100B2.S12.DP0127",{"$f":"'12 Other Retail'!$L$33","v":"S12.DP0127"}]
["CB100B2.S13.DP0001",{"$f":"'13 SBE Other Retail'!$C$11","v":"S13.DP0001"}]
["CB100B2.S13.DP0002",{"$f":"'13 SBE Other Retail'!$C$12","v":"S13.DP0002"}]
["CB100B2.S13.DP0003",{"$f":"'13 SBE Other Retail'!$C$13","v":"S13.DP0003"}]
["CB100B2.S13.DP0004",{"$f":"'13 SBE Other Retail'!$C$14","v":"S13.DP0004"}]
["CB100B2.S13.DP0005",{"$f":"'13 SBE Other Retail'!$C$15","v":"S13.DP0005"}]
["CB100B2.S13.DP0006",{"$f":"'13 SBE Other Retail'!$D$11","v":"S13.DP0006"}]
["CB100B2.S13.DP0007",{"$f":"'13 SBE Other Retail'!$D$12","v":"S13.DP0007"}]
["CB100B2.S13.DP0008",{"$f":"'13 SBE Other Retail'!$D$13","v":"S13.DP0008"}]
["CB100B2.S13.DP0009",{"$f":"'13 SBE Other Retail'!$D$14","v":"S13.DP0009"}]
["CB100B2.S13.DP0010",{"$f":"'13 SBE Other Retail'!$D$15","v":"S13.DP0010"}]
["CB100B2.S13.DP0011",{"$f":"'13 SBE Other Retail'!$F$10","v":"S13.DP0011"}]
["CB100B2.S13.DP0012",{"$f":"'13 SBE Other Retail'!$F$11","v":"S13.DP0012"}]
["CB100B2.S13.DP0013",{"$f":"'13 SBE Other Retail'!$F$12","v":"S13.DP0013"}]
["CB100B2.S13.DP0014",{"$f":"'13 SBE Other Retail'!$F$13","v":"S13.DP0014"}]
["CB100B2.S13.DP0015",{"$f":"'13 SBE Other Retail'!$F$14","v":"S13.DP0015"}]
["CB100B2.S13.DP0016",{"$f":"'13 SBE Other Retail'!$G$10","v":"S13.DP0016"}]
["CB100B2.S13.DP0017",{"$f":"'13 SBE Other Retail'!$G$11","v":"S13.DP0017"}]
["CB100B2.S13.DP0018",{"$f":"'13 SBE Other Retail'!$G$12","v":"S13.DP0018"}]
["CB100B2.S13.DP0019",{"$f":"'13 SBE Other Retail'!$G$13","v":"S13.DP0019"}]
["CB100B2.S13.DP0020",{"$f":"'13 SBE Other Retail'!$G$14","v":"S13.DP0020"}]
["CB100B2.S13.DP0021",{"$f":"'13 SBE Other Retail'!$H$10","v":"S13.DP0021"}]
["CB100B2.S13.DP0022",{"$f":"'13 SBE Other Retail'!$H$11","v":"S13.DP0022"}]
["CB100B2.S13.DP0023",{"$f":"'13 SBE Other Retail'!$H$12","v":"S13.DP0023"}]
["CB100B2.S13.DP0024",{"$f":"'13 SBE Other Retail'!$H$13","v":"S13.DP0024"}]
["CB100B2.S13.DP0025",{"$f":"'13 SBE Other Retail'!$H$14","v":"S13.DP0025"}]
["CB100B2.S13.DP0026",{"$f":"'13 SBE Other Retail'!$H$15","v":"S13.DP0026"}]
["CB100B2.S13.DP0027",{"$f":"'13 SBE Other Retail'!$J$10","v":"S13.DP0027"}]
["CB100B2.S13.DP0028",{"$f":"'13 SBE Other Retail'!$J$11","v":"S13.DP0028"}]
["CB100B2.S13.DP0029",{"$f":"'13 SBE Other Retail'!$J$12","v":"S13.DP0029"}]
["CB100B2.S13.DP0030",{"$f":"'13 SBE Other Retail'!$J$13","v":"S13.DP0030"}]
["CB100B2.S13.DP0031",{"$f":"'13 SBE Other Retail'!$J$14","v":"S13.DP0031"}]
["CB100B2.S13.DP0032",{"$f":"'13 SBE Other Retail'!$J$15","v":"S13.DP0032"}]
["CB100B2.S13.DP0033",{"$f":"'13 SBE Other Retail'!$L$10","v":"S13.DP0033"}]
["CB100B2.S13.DP0034",{"$f":"'13 SBE Other Retail'!$L$11","v":"S13.DP0034"}]
["CB100B2.S13.DP0035",{"$f":"'13 SBE Other Retail'!$L$12","v":"S13.DP0035"}]
["CB100B2.S13.DP0036",{"$f":"'13 SBE Other Retail'!$L$13","v":"S13.DP0036"}]
["CB100B2.S13.DP0037",{"$f":"'13 SBE Other Retail'!$L$14","v":"S13.DP0037"}]
["CB100B2.S13.DP0038",{"$f":"'13 SBE Other Retail'!$L$15","v":"S13.DP0038"}]
["CB100B2.S13.DP0039",{"$f":"'13 SBE Other Retail'!$B$19","v":"S13.DP0039"}]
["CB100B2.S13.DP0040",{"$f":"'13 SBE Other Retail'!$B$20","v":"S13.DP0040"}]
["CB100B2.S13.DP0041",{"$f":"'13 SBE Other Retail'!$B$21","v":"S13.DP0041"}]
["CB100B2.S13.DP0042",{"$f":"'13 SBE Other Retail'!$B$22","v":"S13.DP0042"}]
["CB100B2.S13.DP0043",{"$f":"'13 SBE Other Retail'!$B$23","v":"S13.DP0043"}]
["CB100B2.S13.DP0044",{"$f":"'13 SBE Other Retail'!$C$19","v":"S13.DP0044"}]
["CB100B2.S13.DP0045",{"$f":"'13 SBE Other Retail'!$C$20","v":"S13.DP0045"}]
["CB100B2.S13.DP0046",{"$f":"'13 SBE Other Retail'!$C$21","v":"S13.DP0046"}]
["CB100B2.S13.DP0047",{"$f":"'13 SBE Other Retail'!$C$22","v":"S13.DP0047"}]
["CB100B2.S13.DP0048",{"$f":"'13 SBE Other Retail'!$C$23","v":"S13.DP0048"}]
["CB100B2.S13.DP0049",{"$f":"'13 SBE Other Retail'!$D$19","v":"S13.DP0049"}]
["CB100B2.S13.DP0050",{"$f":"'13 SBE Other Retail'!$D$20","v":"S13.DP0050"}]
["CB100B2.S13.DP0051",{"$f":"'13 SBE Other Retail'!$D$21","v":"S13.DP0051"}]
["CB100B2.S13.DP0052",{"$f":"'13 SBE Other Retail'!$D$22","v":"S13.DP0052"}]
["CB100B2.S13.DP0053",{"$f":"'13 SBE Other Retail'!$D$23","v":"S13.DP0053"}]
["CB100B2.S13.DP0054",{"$f":"'13 SBE Other Retail'!$F$18","v":"S13.DP0054"}]
["CB100B2.S13.DP0055",{"$f":"'13 SBE Other Retail'!$F$19","v":"S13.DP0055"}]
["CB100B2.S13.DP0056",{"$f":"'13 SBE Other Retail'!$F$20","v":"S13.DP0056"}]
["CB100B2.S13.DP0057",{"$f":"'13 SBE Other Retail'!$F$21","v":"S13.DP0057"}]
["CB100B2.S13.DP0058",{"$f":"'13 SBE Other Retail'!$F$22","v":"S13.DP0058"}]
["CB100B2.S13.DP0059",{"$f":"'13 SBE Other Retail'!$G$18","v":"S13.DP0059"}]
["CB100B2.S13.DP0060",{"$f":"'13 SBE Other Retail'!$G$19","v":"S13.DP0060"}]
["CB100B2.S13.DP0061",{"$f":"'13 SBE Other Retail'!$G$20","v":"S13.DP0061"}]
["CB100B2.S13.DP0062",{"$f":"'13 SBE Other Retail'!$G$21","v":"S13.DP0062"}]
["CB100B2.S13.DP0063",{"$f":"'13 SBE Other Retail'!$G$22","v":"S13.DP0063"}]
["CB100B2.S13.DP0064",{"$f":"'13 SBE Other Retail'!$H$18","v":"S13.DP0064"}]
["CB100B2.S13.DP0065",{"$f":"'13 SBE Other Retail'!$H$19","v":"S13.DP0065"}]
["CB100B2.S13.DP0066",{"$f":"'13 SBE Other Retail'!$H$20","v":"S13.DP0066"}]
["CB100B2.S13.DP0067",{"$f":"'13 SBE Other Retail'!$H$21","v":"S13.DP0067"}]
["CB100B2.S13.DP0068",{"$f":"'13 SBE Other Retail'!$H$22","v":"S13.DP0068"}]
["CB100B2.S13.DP0069",{"$f":"'13 SBE Other Retail'!$H$23","v":"S13.DP0069"}]
["CB100B2.S13.DP0070",{"$f":"'13 SBE Other Retail'!$J$18","v":"S13.DP0070"}]
["CB100B2.S13.DP0071",{"$f":"'13 SBE Other Retail'!$J$19","v":"S13.DP0071"}]
["CB100B2.S13.DP0072",{"$f":"'13 SBE Other Retail'!$J$20","v":"S13.DP0072"}]
["CB100B2.S13.DP0073",{"$f":"'13 SBE Other Retail'!$J$21","v":"S13.DP0073"}]
["CB100B2.S13.DP0074",{"$f":"'13 SBE Other Retail'!$J$22","v":"S13.DP0074"}]
["CB100B2.S13.DP0075",{"$f":"'13 SBE Other Retail'!$J$23","v":"S13.DP0075"}]
["CB100B2.S13.DP0076",{"$f":"'13 SBE Other Retail'!$L$18","v":"S13.DP0076"}]
["CB100B2.S13.DP0077",{"$f":"'13 SBE Other Retail'!$L$19","v":"S13.DP0077"}]
["CB100B2.S13.DP0078",{"$f":"'13 SBE Other Retail'!$L$20","v":"S13.DP0078"}]
["CB100B2.S13.DP0079",{"$f":"'13 SBE Other Retail'!$L$21","v":"S13.DP0079"}]
["CB100B2.S13.DP0080",{"$f":"'13 SBE Other Retail'!$L$22","v":"S13.DP0080"}]
["CB100B2.S13.DP0081",{"$f":"'13 SBE Other Retail'!$L$23","v":"S13.DP0081"}]
["CB100B2.S13.DP0082",{"$f":"'13 SBE Other Retail'!$C$27","v":"S13.DP0082"}]
["CB100B2.S13.DP0083",{"$f":"'13 SBE Other Retail'!$C$28","v":"S13.DP0083"}]
["CB100B2.S13.DP0084",{"$f":"'13 SBE Other Retail'!$C$29","v":"S13.DP0084"}]
["CB100B2.S13.DP0085",{"$f":"'13 SBE Other Retail'!$C$30","v":"S13.DP0085"}]
["CB100B2.S13.DP0086",{"$f":"'13 SBE Other Retail'!$C$31","v":"S13.DP0086"}]
["CB100B2.S13.DP0087",{"$f":"'13 SBE Other Retail'!$D$27","v":"S13.DP0087"}]
["CB100B2.S13.DP0088",{"$f":"'13 SBE Other Retail'!$D$28","v":"S13.DP0088"}]
["CB100B2.S13.DP0089",{"$f":"'13 SBE Other Retail'!$D$29","v":"S13.DP0089"}]
["CB100B2.S13.DP0090",{"$f":"'13 SBE Other Retail'!$D$30","v":"S13.DP0090"}]
["CB100B2.S13.DP0091",{"$f":"'13 SBE Other Retail'!$D$31","v":"S13.DP0091"}]
["CB100B2.S13.DP0092",{"$f":"'13 SBE Other Retail'!$F$26","v":"S13.DP0092"}]
["CB100B2.S13.DP0093",{"$f":"'13 SBE Other Retail'!$F$27","v":"S13.DP0093"}]
["CB100B2.S13.DP0094",{"$f":"'13 SBE Other Retail'!$F$28","v":"S13.DP0094"}]
["CB100B2.S13.DP0095",{"$f":"'13 SBE Other Retail'!$F$29","v":"S13.DP0095"}]
["CB100B2.S13.DP0096",{"$f":"'13 SBE Other Retail'!$F$30","v":"S13.DP0096"}]
["CB100B2.S13.DP0097",{"$f":"'13 SBE Other Retail'!$G$26","v":"S13.DP0097"}]
["CB100B2.S13.DP0098",{"$f":"'13 SBE Other Retail'!$G$27","v":"S13.DP0098"}]
["CB100B2.S13.DP0099",{"$f":"'13 SBE Other Retail'!$G$28","v":"S13.DP0099"}]
["CB100B2.S13.DP0100",{"$f":"'13 SBE Other Retail'!$G$29","v":"S13.DP0100"}]
["CB100B2.S13.DP0101",{"$f":"'13 SBE Other Retail'!$G$30","v":"S13.DP0101"}]
["CB100B2.S13.DP0102",{"$f":"'13 SBE Other Retail'!$H$26","v":"S13.DP0102"}]
["CB100B2.S13.DP0103",{"$f":"'13 SBE Other Retail'!$H$27","v":"S13.DP0103"}]
["CB100B2.S13.DP0104",{"$f":"'13 SBE Other Retail'!$H$28","v":"S13.DP0104"}]
["CB100B2.S13.DP0105",{"$f":"'13 SBE Other Retail'!$H$29","v":"S13.DP0105"}]
["CB100B2.S13.DP0106",{"$f":"'13 SBE Other Retail'!$H$30","v":"S13.DP0106"}]
["CB100B2.S13.DP0107",{"$f":"'13 SBE Other Retail'!$H$31","v":"S13.DP0107"}]
["CB100B2.S13.DP0108",{"$f":"'13 SBE Other Retail'!$J$26","v":"S13.DP0108"}]
["CB100B2.S13.DP0109",{"$f":"'13 SBE Other Retail'!$J$27","v":"S13.DP0109"}]
["CB100B2.S13.DP0110",{"$f":"'13 SBE Other Retail'!$J$28","v":"S13.DP0110"}]
["CB100B2.S13.DP0111",{"$f":"'13 SBE Other Retail'!$J$29","v":"S13.DP0111"}]
["CB100B2.S13.DP0112",{"$f":"'13 SBE Other Retail'!$J$30","v":"S13.DP0112"}]
["CB100B2.S13.DP0113",{"$f":"'13 SBE Other Retail'!$J$31","v":"S13.DP0113"}]
["CB100B2.S13.DP0114",{"$f":"'13 SBE Other Retail'!$L$26","v":"S13.DP0114"}]
["CB100B2.S13.DP0115",{"$f":"'13 SBE Other Retail'!$L$27","v":"S13.DP0115"}]
["CB100B2.S13.DP0116",{"$f":"'13 SBE Other Retail'!$L$28","v":"S13.DP0116"}]
["CB100B2.S13.DP0117",{"$f":"'13 SBE Other Retail'!$L$29","v":"S13.DP0117"}]
["CB100B2.S13.DP0118",{"$f":"'13 SBE Other Retail'!$L$30","v":"S13.DP0118"}]
["CB100B2.S13.DP0119",{"$f":"'13 SBE Other Retail'!$L$31","v":"S13.DP0119"}]
["CB100B2.S13.DP0120",{"$f":"'13 SBE Other Retail'!$B$35","v":"S13.DP0120"}]
["CB100B2.S13.DP0121",{"$f":"'13 SBE Other Retail'!$B$36","v":"S13.DP0121"}]
["CB100B2.S13.DP0122",{"$f":"'13 SBE Other Retail'!$B$37","v":"S13.DP0122"}]
["CB100B2.S13.DP0123",{"$f":"'13 SBE Other Retail'!$B$38","v":"S13.DP0123"}]
["CB100B2.S13.DP0124",{"$f":"'13 SBE Other Retail'!$B$39","v":"S13.DP0124"}]
["CB100B2.S13.DP0125",{"$f":"'13 SBE Other Retail'!$C$35","v":"S13.DP0125"}]
["CB100B2.S13.DP0126",{"$f":"'13 SBE Other Retail'!$C$36","v":"S13.DP0126"}]
["CB100B2.S13.DP0127",{"$f":"'13 SBE Other Retail'!$C$37","v":"S13.DP0127"}]
["CB100B2.S13.DP0128",{"$f":"'13 SBE Other Retail'!$C$38","v":"S13.DP0128"}]
["CB100B2.S13.DP0129",{"$f":"'13 SBE Other Retail'!$C$39","v":"S13.DP0129"}]
["CB100B2.S13.DP0130",{"$f":"'13 SBE Other Retail'!$D$35","v":"S13.DP0130"}]
["CB100B2.S13.DP0131",{"$f":"'13 SBE Other Retail'!$D$36","v":"S13.DP0131"}]
["CB100B2.S13.DP0132",{"$f":"'13 SBE Other Retail'!$D$37","v":"S13.DP0132"}]
["CB100B2.S13.DP0133",{"$f":"'13 SBE Other Retail'!$D$38","v":"S13.DP0133"}]
["CB100B2.S13.DP0134",{"$f":"'13 SBE Other Retail'!$D$39","v":"S13.DP0134"}]
["CB100B2.S13.DP0135",{"$f":"'13 SBE Other Retail'!$F$34","v":"S13.DP0135"}]
["CB100B2.S13.DP0136",{"$f":"'13 SBE Other Retail'!$F$35","v":"S13.DP0136"}]
["CB100B2.S13.DP0137",{"$f":"'13 SBE Other Retail'!$F$36","v":"S13.DP0137"}]
["CB100B2.S13.DP0138",{"$f":"'13 SBE Other Retail'!$F$37","v":"S13.DP0138"}]
["CB100B2.S13.DP0139",{"$f":"'13 SBE Other Retail'!$F$38","v":"S13.DP0139"}]
["CB100B2.S13.DP0140",{"$f":"'13 SBE Other Retail'!$G$34","v":"S13.DP0140"}]
["CB100B2.S13.DP0141",{"$f":"'13 SBE Other Retail'!$G$35","v":"S13.DP0141"}]
["CB100B2.S13.DP0142",{"$f":"'13 SBE Other Retail'!$G$36","v":"S13.DP0142"}]
["CB100B2.S13.DP0143",{"$f":"'13 SBE Other Retail'!$G$37","v":"S13.DP0143"}]
["CB100B2.S13.DP0144",{"$f":"'13 SBE Other Retail'!$G$38","v":"S13.DP0144"}]
["CB100B2.S13.DP0145",{"$f":"'13 SBE Other Retail'!$H$34","v":"S13.DP0145"}]
["CB100B2.S13.DP0146",{"$f":"'13 SBE Other Retail'!$H$35","v":"S13.DP0146"}]
["CB100B2.S13.DP0147",{"$f":"'13 SBE Other Retail'!$H$36","v":"S13.DP0147"}]
["CB100B2.S13.DP0148",{"$f":"'13 SBE Other Retail'!$H$37","v":"S13.DP0148"}]
["CB100B2.S13.DP0149",{"$f":"'13 SBE Other Retail'!$H$38","v":"S13.DP0149"}]
["CB100B2.S13.DP0150",{"$f":"'13 SBE Other Retail'!$H$39","v":"S13.DP0150"}]
["CB100B2.S13.DP0151",{"$f":"'13 SBE Other Retail'!$J$34","v":"S13.DP0151"}]
["CB100B2.S13.DP0152",{"$f":"'13 SBE Other Retail'!$J$35","v":"S13.DP0152"}]
["CB100B2.S13.DP0153",{"$f":"'13 SBE Other Retail'!$J$36","v":"S13.DP0153"}]
["CB100B2.S13.DP0154",{"$f":"'13 SBE Other Retail'!$J$37","v":"S13.DP0154"}]
["CB100B2.S13.DP0155",{"$f":"'13 SBE Other Retail'!$J$38","v":"S13.DP0155"}]
["CB100B2.S13.DP0156",{"$f":"'13 SBE Other Retail'!$J$39","v":"S13.DP0156"}]
["CB100B2.S13.DP0157",{"$f":"'13 SBE Other Retail'!$L$34","v":"S13.DP0157"}]
["CB100B2.S13.DP0158",{"$f":"'13 SBE Other Retail'!$L$35","v":"S13.DP0158"}]
["CB100B2.S13.DP0159",{"$f":"'13 SBE Other Retail'!$L$36","v":"S13.DP0159"}]
["CB100B2.S13.DP0160",{"$f":"'13 SBE Other Retail'!$L$37","v":"S13.DP0160"}]
["CB100B2.S13.DP0161",{"$f":"'13 SBE Other Retail'!$L$38","v":"S13.DP0161"}]
["CB100B2.S13.DP0162",{"$f":"'13 SBE Other Retail'!$L$39","v":"S13.DP0162"}]
["CB100B2.S13.DP0163",{"$f":"'13 SBE Other Retail'!$B$43","v":"S13.DP0163"}]
["CB100B2.S13.DP0164",{"$f":"'13 SBE Other Retail'!$B$44","v":"S13.DP0164"}]
["CB100B2.S13.DP0165",{"$f":"'13 SBE Other Retail'!$B$45","v":"S13.DP0165"}]
["CB100B2.S13.DP0166",{"$f":"'13 SBE Other Retail'!$B$46","v":"S13.DP0166"}]
["CB100B2.S13.DP0167",{"$f":"'13 SBE Other Retail'!$B$47","v":"S13.DP0167"}]
["CB100B2.S13.DP0168",{"$f":"'13 SBE Other Retail'!$C$43","v":"S13.DP0168"}]
["CB100B2.S13.DP0169",{"$f":"'13 SBE Other Retail'!$C$44","v":"S13.DP0169"}]
["CB100B2.S13.DP0170",{"$f":"'13 SBE Other Retail'!$C$45","v":"S13.DP0170"}]
["CB100B2.S13.DP0171",{"$f":"'13 SBE Other Retail'!$C$46","v":"S13.DP0171"}]
["CB100B2.S13.DP0172",{"$f":"'13 SBE Other Retail'!$C$47","v":"S13.DP0172"}]
["CB100B2.S13.DP0173",{"$f":"'13 SBE Other Retail'!$D$43","v":"S13.DP0173"}]
["CB100B2.S13.DP0174",{"$f":"'13 SBE Other Retail'!$D$44","v":"S13.DP0174"}]
["CB100B2.S13.DP0175",{"$f":"'13 SBE Other Retail'!$D$45","v":"S13.DP0175"}]
["CB100B2.S13.DP0176",{"$f":"'13 SBE Other Retail'!$D$46","v":"S13.DP0176"}]
["CB100B2.S13.DP0177",{"$f":"'13 SBE Other Retail'!$D$47","v":"S13.DP0177"}]
["CB100B2.S13.DP0178",{"$f":"'13 SBE Other Retail'!$F$42","v":"S13.DP0178"}]
["CB100B2.S13.DP0179",{"$f":"'13 SBE Other Retail'!$F$43","v":"S13.DP0179"}]
["CB100B2.S13.DP0180",{"$f":"'13 SBE Other Retail'!$F$44","v":"S13.DP0180"}]
["CB100B2.S13.DP0181",{"$f":"'13 SBE Other Retail'!$F$45","v":"S13.DP0181"}]
["CB100B2.S13.DP0182",{"$f":"'13 SBE Other Retail'!$F$46","v":"S13.DP0182"}]
["CB100B2.S13.DP0183",{"$f":"'13 SBE Other Retail'!$G$42","v":"S13.DP0183"}]
["CB100B2.S13.DP0184",{"$f":"'13 SBE Other Retail'!$G$43","v":"S13.DP0184"}]
["CB100B2.S13.DP0185",{"$f":"'13 SBE Other Retail'!$G$44","v":"S13.DP0185"}]
["CB100B2.S13.DP0186",{"$f":"'13 SBE Other Retail'!$G$45","v":"S13.DP0186"}]
["CB100B2.S13.DP0187",{"$f":"'13 SBE Other Retail'!$G$46","v":"S13.DP0187"}]
["CB100B2.S13.DP0188",{"$f":"'13 SBE Other Retail'!$H$42","v":"S13.DP0188"}]
["CB100B2.S13.DP0189",{"$f":"'13 SBE Other Retail'!$H$43","v":"S13.DP0189"}]
["CB100B2.S13.DP0190",{"$f":"'13 SBE Other Retail'!$H$44","v":"S13.DP0190"}]
["CB100B2.S13.DP0191",{"$f":"'13 SBE Other Retail'!$H$45","v":"S13.DP0191"}]
["CB100B2.S13.DP0192",{"$f":"'13 SBE Other Retail'!$H$46","v":"S13.DP0192"}]
["CB100B2.S13.DP0193",{"$f":"'13 SBE Other Retail'!$H$47","v":"S13.DP0193"}]
["CB100B2.S13.DP0194",{"$f":"'13 SBE Other Retail'!$J$42","v":"S13.DP0194"}]
["CB100B2.S13.DP0195",{"$f":"'13 SBE Other Retail'!$J$43","v":"S13.DP0195"}]
["CB100B2.S13.DP0196",{"$f":"'13 SBE Other Retail'!$J$44","v":"S13.DP0196"}]
["CB100B2.S13.DP0197",{"$f":"'13 SBE Other Retail'!$J$45","v":"S13.DP0197"}]
["CB100B2.S13.DP0198",{"$f":"'13 SBE Other Retail'!$J$46","v":"S13.DP0198"}]
["CB100B2.S13.DP0199",{"$f":"'13 SBE Other Retail'!$J$47","v":"S13.DP0199"}]
["CB100B2.S13.DP0200",{"$f":"'13 SBE Other Retail'!$L$42","v":"S13.DP0200"}]
["CB100B2.S13.DP0201",{"$f":"'13 SBE Other Retail'!$L$43","v":"S13.DP0201"}]
["CB100B2.S13.DP0202",{"$f":"'13 SBE Other Retail'!$L$44","v":"S13.DP0202"}]
["CB100B2.S13.DP0203",{"$f":"'13 SBE Other Retail'!$L$45","v":"S13.DP0203"}]
["CB100B2.S13.DP0204",{"$f":"'13 SBE Other Retail'!$L$46","v":"S13.DP0204"}]
["CB100B2.S13.DP0205",{"$f":"'13 SBE Other Retail'!$L$47","v":"S13.DP0205"}]
["CB100B2.S13.DP0206",{"$f":"'13 SBE Other Retail'!$C$49","v":"S13.DP0206"}]
["CB100B2.S13.DP0207",{"$f":"'13 SBE Other Retail'!$D$49","v":"S13.DP0207"}]
["CB100B2.S13.DP0208",{"$f":"'13 SBE Other Retail'!$L$49","v":"S13.DP0208"}]
["CB100B2.S14.DP0001",{"$f":"'14 Private Equity'!$C$10","v":"S14.DP0001"}]
["CB100B2.S14.DP0002",{"$f":"'14 Private Equity'!$C$11","v":"S14.DP0002"}]
["CB100B2.S14.DP0003",{"$f":"'14 Private Equity'!$D$10","v":"S14.DP0003"}]
["CB100B2.S14.DP0004",{"$f":"'14 Private Equity'!$D$11","v":"S14.DP0004"}]
["CB100B2.S14.DP0005",{"$f":"'14 Private Equity'!$J$10","v":"S14.DP0005"}]
["CB100B2.S14.DP0006",{"$f":"'14 Private Equity'!$J$11","v":"S14.DP0006"}]
["CB100B2.S14.DP0007",{"$f":"'14 Private Equity'!$L$10","v":"S14.DP0007"}]
["CB100B2.S14.DP0008",{"$f":"'14 Private Equity'!$L$11","v":"S14.DP0008"}]
["CB100B2.S14.DP0009",{"$f":"'14 Private Equity'!$B$14","v":"S14.DP0009"}]
["CB100B2.S14.DP0010",{"$f":"'14 Private Equity'!$B$15","v":"S14.DP0010"}]
["CB100B2.S14.DP0011",{"$f":"'14 Private Equity'!$C$14","v":"S14.DP0011"}]
["CB100B2.S14.DP0012",{"$f":"'14 Private Equity'!$C$15","v":"S14.DP0012"}]
["CB100B2.S14.DP0013",{"$f":"'14 Private Equity'!$D$14","v":"S14.DP0013"}]
["CB100B2.S14.DP0014",{"$f":"'14 Private Equity'!$D$15","v":"S14.DP0014"}]
["CB100B2.S14.DP0015",{"$f":"'14 Private Equity'!$J$14","v":"S14.DP0015"}]
["CB100B2.S14.DP0016",{"$f":"'14 Private Equity'!$J$15","v":"S14.DP0016"}]
["CB100B2.S14.DP0017",{"$f":"'14 Private Equity'!$L$14","v":"S14.DP0017"}]
["CB100B2.S14.DP0018",{"$f":"'14 Private Equity'!$L$15","v":"S14.DP0018"}]
["CB100B2.S14.DP0019",{"$f":"'14 Private Equity'!$C$17","v":"S14.DP0019"}]
["CB100B2.S14.DP0020",{"$f":"'14 Private Equity'!$D$17","v":"S14.DP0020"}]
["CB100B2.S14.DP0021",{"$f":"'14 Private Equity'!$L$17","v":"S14.DP0021"}]
["CB100B2.S15.DP0001",{"$f":"'15 Trading'!$C$10","v":"S15.DP0001"}]
["CB100B2.S15.DP0002",{"$f":"'15 Trading'!$C$11","v":"S15.DP0002"}]
["CB100B2.S15.DP0003",{"$f":"'15 Trading'!$C$12","v":"S15.DP0003"}]
["CB100B2.S15.DP0004",{"$f":"'15 Trading'!$C$13","v":"S15.DP0004"}]
["CB100B2.S15.DP0005",{"$f":"'15 Trading'!$C$14","v":"S15.DP0005"}]
["CB100B2.S15.DP0006",{"$f":"'15 Trading'!$C$15","v":"S15.DP0006"}]
["CB100B2.S15.DP0007",{"$f":"'15 Trading'!$E$10","v":"S15.DP0007"}]
["CB100B2.S15.DP0008",{"$f":"'15 Trading'!$E$11","v":"S15.DP0008"}]
["CB100B2.S15.DP0009",{"$f":"'15 Trading'!$E$12","v":"S15.DP0009"}]
["CB100B2.S15.DP0010",{"$f":"'15 Trading'!$E$13","v":"S15.DP0010"}]
["CB100B2.S15.DP0011",{"$f":"'15 Trading'!$E$14","v":"S15.DP0011"}]
["CB100B2.S15.DP0012",{"$f":"'15 Trading'!$G$10","v":"S15.DP0012"}]
["CB100B2.S15.DP0013",{"$f":"'15 Trading'!$G$11","v":"S15.DP0013"}]
["CB100B2.S15.DP0014",{"$f":"'15 Trading'!$G$12","v":"S15.DP0014"}]
["CB100B2.S15.DP0015",{"$f":"'15 Trading'!$G$13","v":"S15.DP0015"}]
["CB100B2.S15.DP0016",{"$f":"'15 Trading'!$G$14","v":"S15.DP0016"}]
["CB100B2.S15.DP0017",{"$f":"'15 Trading'!$G$15","v":"S15.DP0017"}]
["CB100B2.S15.DP0018",{"$f":"'15 Trading'!$I$10","v":"S15.DP0018"}]
["CB100B2.S15.DP0019",{"$f":"'15 Trading'!$I$11","v":"S15.DP0019"}]
["CB100B2.S15.DP0020",{"$f":"'15 Trading'!$I$12","v":"S15.DP0020"}]
["CB100B2.S15.DP0021",{"$f":"'15 Trading'!$I$13","v":"S15.DP0021"}]
["CB100B2.S15.DP0022",{"$f":"'15 Trading'!$I$14","v":"S15.DP0022"}]
["CB100B2.S15.DP0023",{"$f":"'15 Trading'!$I$15","v":"S15.DP0023"}]
["CB100B2.S15.DP0024",{"$f":"'15 Trading'!$K$10","v":"S15.DP0024"}]
["CB100B2.S15.DP0025",{"$f":"'15 Trading'!$K$11","v":"S15.DP0025"}]
["CB100B2.S15.DP0026",{"$f":"'15 Trading'!$K$12","v":"S15.DP0026"}]
["CB100B2.S15.DP0027",{"$f":"'15 Trading'!$K$13","v":"S15.DP0027"}]
["CB100B2.S15.DP0028",{"$f":"'15 Trading'!$K$14","v":"S15.DP0028"}]
["CB100B2.S15.DP0029",{"$f":"'15 Trading'!$K$15","v":"S15.DP0029"}]
["CB100B2.S15.DP0030",{"$f":"'15 Trading'!$B$18","v":"S15.DP0030"}]
["CB100B2.S15.DP0031",{"$f":"'15 Trading'!$B$19","v":"S15.DP0031"}]
["CB100B2.S15.DP0032",{"$f":"'15 Trading'!$B$20","v":"S15.DP0032"}]
["CB100B2.S15.DP0033",{"$f":"'15 Trading'!$B$21","v":"S15.DP0033"}]
["CB100B2.S15.DP0034",{"$f":"'15 Trading'!$B$22","v":"S15.DP0034"}]
["CB100B2.S15.DP0035",{"$f":"'15 Trading'!$B$23","v":"S15.DP0035"}]
["CB100B2.S15.DP0036",{"$f":"'15 Trading'!$C$18","v":"S15.DP0036"}]
["CB100B2.S15.DP0037",{"$f":"'15 Trading'!$C$19","v":"S15.DP0037"}]
["CB100B2.S15.DP0038",{"$f":"'15 Trading'!$C$20","v":"S15.DP0038"}]
["CB100B2.S15.DP0039",{"$f":"'15 Trading'!$C$21","v":"S15.DP0039"}]
["CB100B2.S15.DP0040",{"$f":"'15 Trading'!$C$22","v":"S15.DP0040"}]
["CB100B2.S15.DP0041",{"$f":"'15 Trading'!$C$23","v":"S15.DP0041"}]
["CB100B2.S15.DP0042",{"$f":"'15 Trading'!$E$18","v":"S15.DP0042"}]
["CB100B2.S15.DP0043",{"$f":"'15 Trading'!$E$19","v":"S15.DP0043"}]
["CB100B2.S15.DP0044",{"$f":"'15 Trading'!$E$20","v":"S15.DP0044"}]
["CB100B2.S15.DP0045",{"$f":"'15 Trading'!$E$21","v":"S15.DP0045"}]
["CB100B2.S15.DP0046",{"$f":"'15 Trading'!$E$22","v":"S15.DP0046"}]
["CB100B2.S15.DP0047",{"$f":"'15 Trading'!$G$18","v":"S15.DP0047"}]
["CB100B2.S15.DP0048",{"$f":"'15 Trading'!$G$19","v":"S15.DP0048"}]
["CB100B2.S15.DP0049",{"$f":"'15 Trading'!$G$20","v":"S15.DP0049"}]
["CB100B2.S15.DP0050",{"$f":"'15 Trading'!$G$21","v":"S15.DP0050"}]
["CB100B2.S15.DP0051",{"$f":"'15 Trading'!$G$22","v":"S15.DP0051"}]
["CB100B2.S15.DP0052",{"$f":"'15 Trading'!$G$23","v":"S15.DP0052"}]
["CB100B2.S15.DP0053",{"$f":"'15 Trading'!$I$18","v":"S15.DP0053"}]
["CB100B2.S15.DP0054",{"$f":"'15 Trading'!$I$19","v":"S15.DP0054"}]
["CB100B2.S15.DP0055",{"$f":"'15 Trading'!$I$20","v":"S15.DP0055"}]
["CB100B2.S15.DP0056",{"$f":"'15 Trading'!$I$21","v":"S15.DP0056"}]
["CB100B2.S15.DP0057",{"$f":"'15 Trading'!$I$22","v":"S15.DP0057"}]
["CB100B2.S15.DP0058",{"$f":"'15 Trading'!$I$23","v":"S15.DP0058"}]
["CB100B2.S15.DP0059",{"$f":"'15 Trading'!$K$18","v":"S15.DP0059"}]
["CB100B2.S15.DP0060",{"$f":"'15 Trading'!$K$19","v":"S15.DP0060"}]
["CB100B2.S15.DP0061",{"$f":"'15 Trading'!$K$20","v":"S15.DP0061"}]
["CB100B2.S15.DP0062",{"$f":"'15 Trading'!$K$21","v":"S15.DP0062"}]
["CB100B2.S15.DP0063",{"$f":"'15 Trading'!$K$22","v":"S15.DP0063"}]
["CB100B2.S15.DP0064",{"$f":"'15 Trading'!$K$23","v":"S15.DP0064"}]
["CB100B2.S15.DP0065",{"$f":"'15 Trading'!$C$25","v":"S15.DP0065"}]
["CB100B2.S15.DP0066",{"$f":"'15 Trading'!$K$25","v":"S15.DP0066"}]
["CB100B2.S16.DP0001",{"$f":"'16 Securitization Calcn'!$G$5","v":"S16.DP0001"}]
["CB100B2.S16.DP0002",{"$f":"'16 Securitization Calcn'!$D$11","v":"S16.DP0002"}]
["CB100B2.S16.DP0003",{"$f":"'16 Securitization Calcn'!$D$12","v":"S16.DP0003"}]
["CB100B2.S16.DP0004",{"$f":"'16 Securitization Calcn'!$F$11","v":"S16.DP0004"}]
["CB100B2.S16.DP0005",{"$f":"'16 Securitization Calcn'!$F$12","v":"S16.DP0005"}]
["CB100B2.S16.DP0006",{"$f":"'16 Securitization Calcn'!$G$12","v":"S16.DP0006"}]
["CB100B2.S16.DP0007",{"$f":"'16 Securitization Calcn'!$D$21","v":"S16.DP0007"}]
["CB100B2.S16.DP0008",{"$f":"'16 Securitization Calcn'!$D$22","v":"S16.DP0008"}]
["CB100B2.S16.DP0009",{"$f":"'16 Securitization Calcn'!$D$23","v":"S16.DP0009"}]
["CB100B2.S16.DP0010",{"$f":"'16 Securitization Calcn'!$D$24","v":"S16.DP0010"}]
["CB100B2.S16.DP0011",{"$f":"'16 Securitization Calcn'!$D$25","v":"S16.DP0011"}]
["CB100B2.S16.DP0012",{"$f":"'16 Securitization Calcn'!$E$21","v":"S16.DP0012"}]
["CB100B2.S16.DP0013",{"$f":"'16 Securitization Calcn'!$E$22","v":"S16.DP0013"}]
["CB100B2.S16.DP0014",{"$f":"'16 Securitization Calcn'!$E$23","v":"S16.DP0014"}]
["CB100B2.S16.DP0015",{"$f":"'16 Securitization Calcn'!$E$24","v":"S16.DP0015"}]
["CB100B2.S16.DP0016",{"$f":"'16 Securitization Calcn'!$E$25","v":"S16.DP0016"}]
["CB100B2.S16.DP0017",{"$f":"'16 Securitization Calcn'!$F$21","v":"S16.DP0017"}]
["CB100B2.S16.DP0018",{"$f":"'16 Securitization Calcn'!$F$22","v":"S16.DP0018"}]
["CB100B2.S16.DP0019",{"$f":"'16 Securitization Calcn'!$F$23","v":"S16.DP0019"}]
["CB100B2.S16.DP0020",{"$f":"'16 Securitization Calcn'!$F$24","v":"S16.DP0020"}]
["CB100B2.S16.DP0021",{"$f":"'16 Securitization Calcn'!$G$21","v":"S16.DP0021"}]
["CB100B2.S16.DP0022",{"$f":"'16 Securitization Calcn'!$G$22","v":"S16.DP0022"}]
["CB100B2.S16.DP0023",{"$f":"'16 Securitization Calcn'!$G$23","v":"S16.DP0023"}]
["CB100B2.S16.DP0024",{"$f":"'16 Securitization Calcn'!$G$24","v":"S16.DP0024"}]
["CB100B2.S16.DP0025",{"$f":"'16 Securitization Calcn'!$H$21","v":"S16.DP0025"}]
["CB100B2.S16.DP0026",{"$f":"'16 Securitization Calcn'!$H$22","v":"S16.DP0026"}]
["CB100B2.S16.DP0027",{"$f":"'16 Securitization Calcn'!$H$23","v":"S16.DP0027"}]
["CB100B2.S16.DP0028",{"$f":"'16 Securitization Calcn'!$H$24","v":"S16.DP0028"}]
["CB100B2.S16.DP0029",{"$f":"'16 Securitization Calcn'!$H$25","v":"S16.DP0029"}]
["CB100B2.S16.DP0030",{"$f":"'16 Securitization Calcn'!$I$21","v":"S16.DP0030"}]
["CB100B2.S16.DP0031",{"$f":"'16 Securitization Calcn'!$I$22","v":"S16.DP0031"}]
["CB100B2.S16.DP0032",{"$f":"'16 Securitization Calcn'!$I$23","v":"S16.DP0032"}]
["CB100B2.S16.DP0033",{"$f":"'16 Securitization Calcn'!$I$24","v":"S16.DP0033"}]
["CB100B2.S16.DP0034",{"$f":"'16 Securitization Calcn'!$I$25","v":"S16.DP0034"}]
["CB100B2.S16.DP0035",{"$f":"'16 Securitization Calcn'!$J$21","v":"S16.DP0035"}]
["CB100B2.S16.DP0036",{"$f":"'16 Securitization Calcn'!$J$22","v":"S16.DP0036"}]
["CB100B2.S16.DP0037",{"$f":"'16 Securitization Calcn'!$J$23","v":"S16.DP0037"}]
["CB100B2.S16.DP0038",{"$f":"'16 Securitization Calcn'!$J$25","v":"S16.DP0038"}]
["CB100B2.S16.DP0039",{"$f":"'16 Securitization Calcn'!$D$27","v":"S16.DP0039"}]
["CB100B2.S16.DP0040",{"$f":"'16 Securitization Calcn'!$D$28","v":"S16.DP0040"}]
["CB100B2.S16.DP0041",{"$f":"'16 Securitization Calcn'!$D$29","v":"S16.DP0041"}]
["CB100B2.S16.DP0042",{"$f":"'16 Securitization Calcn'!$D$30","v":"S16.DP0042"}]
["CB100B2.S16.DP0043",{"$f":"'16 Securitization Calcn'!$D$31","v":"S16.DP0043"}]
["CB100B2.S16.DP0044",{"$f":"'16 Securitization Calcn'!$D$32","v":"S16.DP0044"}]
["CB100B2.S16.DP0045",{"$f":"'16 Securitization Calcn'!$D$33","v":"S16.DP0045"}]
["CB100B2.S16.DP0046",{"$f":"'16 Securitization Calcn'!$E$27","v":"S16.DP0046"}]
["CB100B2.S16.DP0047",{"$f":"'16 Securitization Calcn'!$E$28","v":"S16.DP0047"}]
["CB100B2.S16.DP0048",{"$f":"'16 Securitization Calcn'!$E$29","v":"S16.DP0048"}]
["CB100B2.S16.DP0049",{"$f":"'16 Securitization Calcn'!$E$30","v":"S16.DP0049"}]
["CB100B2.S16.DP0050",{"$f":"'16 Securitization Calcn'!$E$31","v":"S16.DP0050"}]
["CB100B2.S16.DP0051",{"$f":"'16 Securitization Calcn'!$E$32","v":"S16.DP0051"}]
["CB100B2.S16.DP0052",{"$f":"'16 Securitization Calcn'!$E$33","v":"S16.DP0052"}]
["CB100B2.S16.DP0053",{"$f":"'16 Securitization Calcn'!$F$27","v":"S16.DP0053"}]
["CB100B2.S16.DP0054",{"$f":"'16 Securitization Calcn'!$F$28","v":"S16.DP0054"}]
["CB100B2.S16.DP0055",{"$f":"'16 Securitization Calcn'!$F$29","v":"S16.DP0055"}]
["CB100B2.S16.DP0056",{"$f":"'16 Securitization Calcn'!$F$30","v":"S16.DP0056"}]
["CB100B2.S16.DP0057",{"$f":"'16 Securitization Calcn'!$F$31","v":"S16.DP0057"}]
["CB100B2.S16.DP0058",{"$f":"'16 Securitization Calcn'!$G$27","v":"S16.DP0058"}]
["CB100B2.S16.DP0059",{"$f":"'16 Securitization Calcn'!$G$28","v":"S16.DP0059"}]
["CB100B2.S16.DP0060",{"$f":"'16 Securitization Calcn'!$G$29","v":"S16.DP0060"}]
["CB100B2.S16.DP0061",{"$f":"'16 Securitization Calcn'!$G$30","v":"S16.DP0061"}]
["CB100B2.S16.DP0062",{"$f":"'16 Securitization Calcn'!$G$31","v":"S16.DP0062"}]
["CB100B2.S16.DP0063",{"$f":"'16 Securitization Calcn'!$H$27","v":"S16.DP0063"}]
["CB100B2.S16.DP0064",{"$f":"'16 Securitization Calcn'!$H$28","v":"S16.DP0064"}]
["CB100B2.S16.DP0065",{"$f":"'16 Securitization Calcn'!$H$29","v":"S16.DP0065"}]
["CB100B2.S16.DP0066",{"$f":"'16 Securitization Calcn'!$H$30","v":"S16.DP0066"}]
["CB100B2.S16.DP0067",{"$f":"'16 Securitization Calcn'!$H$31","v":"S16.DP0067"}]
["CB100B2.S16.DP0068",{"$f":"'16 Securitization Calcn'!$H$32","v":"S16.DP0068"}]
["CB100B2.S16.DP0069",{"$f":"'16 Securitization Calcn'!$H$33","v":"S16.DP0069"}]
["CB100B2.S16.DP0070",{"$f":"'16 Securitization Calcn'!$I$27","v":"S16.DP0070"}]
["CB100B2.S16.DP0071",{"$f":"'16 Securitization Calcn'!$I$28","v":"S16.DP0071"}]
["CB100B2.S16.DP0072",{"$f":"'16 Securitization Calcn'!$I$29","v":"S16.DP0072"}]
["CB100B2.S16.DP0073",{"$f":"'16 Securitization Calcn'!$I$30","v":"S16.DP0073"}]
["CB100B2.S16.DP0074",{"$f":"'16 Securitization Calcn'!$I$31","v":"S16.DP0074"}]
["CB100B2.S16.DP0075",{"$f":"'16 Securitization Calcn'!$I$32","v":"S16.DP0075"}]
["CB100B2.S16.DP0076",{"$f":"'16 Securitization Calcn'!$I$33","v":"S16.DP0076"}]
["CB100B2.S16.DP0077",{"$f":"'16 Securitization Calcn'!$J$27","v":"S16.DP0077"}]
["CB100B2.S16.DP0078",{"$f":"'16 Securitization Calcn'!$J$28","v":"S16.DP0078"}]
["CB100B2.S16.DP0079",{"$f":"'16 Securitization Calcn'!$J$29","v":"S16.DP0079"}]
["CB100B2.S16.DP0080",{"$f":"'16 Securitization Calcn'!$J$30","v":"S16.DP0080"}]
["CB100B2.S16.DP0081",{"$f":"'16 Securitization Calcn'!$J$32","v":"S16.DP0081"}]
["CB100B2.S16.DP0082",{"$f":"'16 Securitization Calcn'!$J$33","v":"S16.DP0082"}]
["CB100B2.S16.DP0083",{"$f":"'16 Securitization Calcn'!$D$42","v":"S16.DP0083"}]
["CB100B2.S16.DP0084",{"$f":"'16 Securitization Calcn'!$D$43","v":"S16.DP0084"}]
["CB100B2.S16.DP0085",{"$f":"'16 Securitization Calcn'!$D$44","v":"S16.DP0085"}]
["CB100B2.S16.DP0086",{"$f":"'16 Securitization Calcn'!$D$45","v":"S16.DP0086"}]
["CB100B2.S16.DP0087",{"$f":"'16 Securitization Calcn'!$D$46","v":"S16.DP0087"}]
["CB100B2.S16.DP0088",{"$f":"'16 Securitization Calcn'!$E$42","v":"S16.DP0088"}]
["CB100B2.S16.DP0089",{"$f":"'16 Securitization Calcn'!$E$43","v":"S16.DP0089"}]
["CB100B2.S16.DP0090",{"$f":"'16 Securitization Calcn'!$E$44","v":"S16.DP0090"}]
["CB100B2.S16.DP0091",{"$f":"'16 Securitization Calcn'!$E$45","v":"S16.DP0091"}]
["CB100B2.S16.DP0092",{"$f":"'16 Securitization Calcn'!$E$46","v":"S16.DP0092"}]
["CB100B2.S16.DP0093",{"$f":"'16 Securitization Calcn'!$F$42","v":"S16.DP0093"}]
["CB100B2.S16.DP0094",{"$f":"'16 Securitization Calcn'!$F$43","v":"S16.DP0094"}]
["CB100B2.S16.DP0095",{"$f":"'16 Securitization Calcn'!$F$44","v":"S16.DP0095"}]
["CB100B2.S16.DP0096",{"$f":"'16 Securitization Calcn'!$F$45","v":"S16.DP0096"}]
["CB100B2.S16.DP0097",{"$f":"'16 Securitization Calcn'!$G$42","v":"S16.DP0097"}]
["CB100B2.S16.DP0098",{"$f":"'16 Securitization Calcn'!$G$43","v":"S16.DP0098"}]
["CB100B2.S16.DP0099",{"$f":"'16 Securitization Calcn'!$G$44","v":"S16.DP0099"}]
["CB100B2.S16.DP0100",{"$f":"'16 Securitization Calcn'!$G$45","v":"S16.DP0100"}]
["CB100B2.S16.DP0101",{"$f":"'16 Securitization Calcn'!$H$42","v":"S16.DP0101"}]
["CB100B2.S16.DP0102",{"$f":"'16 Securitization Calcn'!$H$43","v":"S16.DP0102"}]
["CB100B2.S16.DP0103",{"$f":"'16 Securitization Calcn'!$H$44","v":"S16.DP0103"}]
["CB100B2.S16.DP0104",{"$f":"'16 Securitization Calcn'!$H$45","v":"S16.DP0104"}]
["CB100B2.S16.DP0105",{"$f":"'16 Securitization Calcn'!$H$46","v":"S16.DP0105"}]
["CB100B2.S16.DP0106",{"$f":"'16 Securitization Calcn'!$I$42","v":"S16.DP0106"}]
["CB100B2.S16.DP0107",{"$f":"'16 Securitization Calcn'!$I$43","v":"S16.DP0107"}]
["CB100B2.S16.DP0108",{"$f":"'16 Securitization Calcn'!$I$44","v":"S16.DP0108"}]
["CB100B2.S16.DP0109",{"$f":"'16 Securitization Calcn'!$I$45","v":"S16.DP0109"}]
["CB100B2.S16.DP0110",{"$f":"'16 Securitization Calcn'!$I$46","v":"S16.DP0110"}]
["CB100B2.S16.DP0111",{"$f":"'16 Securitization Calcn'!$J$42","v":"S16.DP0111"}]
["CB100B2.S16.DP0112",{"$f":"'16 Securitization Calcn'!$J$43","v":"S16.DP0112"}]
["CB100B2.S16.DP0113",{"$f":"'16 Securitization Calcn'!$J$44","v":"S16.DP0113"}]
["CB100B2.S16.DP0114",{"$f":"'16 Securitization Calcn'!$J$46","v":"S16.DP0114"}]
["CB100B2.S16.DP0115",{"$f":"'16 Securitization Calcn'!$D$48","v":"S16.DP0115"}]
["CB100B2.S16.DP0116",{"$f":"'16 Securitization Calcn'!$D$49","v":"S16.DP0116"}]
["CB100B2.S16.DP0117",{"$f":"'16 Securitization Calcn'!$D$50","v":"S16.DP0117"}]
["CB100B2.S16.DP0118",{"$f":"'16 Securitization Calcn'!$D$51","v":"S16.DP0118"}]
["CB100B2.S16.DP0119",{"$f":"'16 Securitization Calcn'!$D$52","v":"S16.DP0119"}]
["CB100B2.S16.DP0120",{"$f":"'16 Securitization Calcn'!$D$53","v":"S16.DP0120"}]
["CB100B2.S16.DP0121",{"$f":"'16 Securitization Calcn'!$D$54","v":"S16.DP0121"}]
["CB100B2.S16.DP0122",{"$f":"'16 Securitization Calcn'!$E$48","v":"S16.DP0122"}]
["CB100B2.S16.DP0123",{"$f":"'16 Securitization Calcn'!$E$49","v":"S16.DP0123"}]
["CB100B2.S16.DP0124",{"$f":"'16 Securitization Calcn'!$E$50","v":"S16.DP0124"}]
["CB100B2.S16.DP0125",{"$f":"'16 Securitization Calcn'!$E$51","v":"S16.DP0125"}]
["CB100B2.S16.DP0126",{"$f":"'16 Securitization Calcn'!$E$52","v":"S16.DP0126"}]
["CB100B2.S16.DP0127",{"$f":"'16 Securitization Calcn'!$E$53","v":"S16.DP0127"}]
["CB100B2.S16.DP0128",{"$f":"'16 Securitization Calcn'!$E$54","v":"S16.DP0128"}]
["CB100B2.S16.DP0129",{"$f":"'16 Securitization Calcn'!$F$48","v":"S16.DP0129"}]
["CB100B2.S16.DP0130",{"$f":"'16 Securitization Calcn'!$F$49","v":"S16.DP0130"}]
["CB100B2.S16.DP0131",{"$f":"'16 Securitization Calcn'!$F$50","v":"S16.DP0131"}]
["CB100B2.S16.DP0132",{"$f":"'16 Securitization Calcn'!$F$51","v":"S16.DP0132"}]
["CB100B2.S16.DP0133",{"$f":"'16 Securitization Calcn'!$F$52","v":"S16.DP0133"}]
["CB100B2.S16.DP0134",{"$f":"'16 Securitization Calcn'!$G$48","v":"S16.DP0134"}]
["CB100B2.S16.DP0135",{"$f":"'16 Securitization Calcn'!$G$49","v":"S16.DP0135"}]
["CB100B2.S16.DP0136",{"$f":"'16 Securitization Calcn'!$G$50","v":"S16.DP0136"}]
["CB100B2.S16.DP0137",{"$f":"'16 Securitization Calcn'!$G$51","v":"S16.DP0137"}]
["CB100B2.S16.DP0138",{"$f":"'16 Securitization Calcn'!$G$52","v":"S16.DP0138"}]
["CB100B2.S16.DP0139",{"$f":"'16 Securitization Calcn'!$H$48","v":"S16.DP0139"}]
["CB100B2.S16.DP0140",{"$f":"'16 Securitization Calcn'!$H$49","v":"S16.DP0140"}]
["CB100B2.S16.DP0141",{"$f":"'16 Securitization Calcn'!$H$50","v":"S16.DP0141"}]
["CB100B2.S16.DP0142",{"$f":"'16 Securitization Calcn'!$H$51","v":"S16.DP0142"}]
["CB100B2.S16.DP0143",{"$f":"'16 Securitization Calcn'!$H$52","v":"S16.DP0143"}]
["CB100B2.S16.DP0144",{"$f":"'16 Securitization Calcn'!$H$53","v":"S16.DP0144"}]
["CB100B2.S16.DP0145",{"$f":"'16 Securitization Calcn'!$H$54","v":"S16.DP0145"}]
["CB100B2.S16.DP0146",{"$f":"'16 Securitization Calcn'!$I$48","v":"S16.DP0146"}]
["CB100B2.S16.DP0147",{"$f":"'16 Securitization Calcn'!$I$49","v":"S16.DP0147"}]
["CB100B2.S16.DP0148",{"$f":"'16 Securitization Calcn'!$I$50","v":"S16.DP0148"}]
["CB100B2.S16.DP0149",{"$f":"'16 Securitization Calcn'!$I$51","v":"S16.DP0149"}]
["CB100B2.S16.DP0150",{"$f":"'16 Securitization Calcn'!$I$52","v":"S16.DP0150"}]
["CB100B2.S16.DP0151",{"$f":"'16 Securitization Calcn'!$I$53","v":"S16.DP0151"}]
["CB100B2.S16.DP0152",{"$f":"'16 Securitization Calcn'!$I$54","v":"S16.DP0152"}]
["CB100B2.S16.DP0153",{"$f":"'16 Securitization Calcn'!$J$48","v":"S16.DP0153"}]
["CB100B2.S16.DP0154",{"$f":"'16 Securitization Calcn'!$J$49","v":"S16.DP0154"}]
["CB100B2.S16.DP0155",{"$f":"'16 Securitization Calcn'!$J$50","v":"S16.DP0155"}]
["CB100B2.S16.DP0156",{"$f":"'16 Securitization Calcn'!$J$51","v":"S16.DP0156"}]
["CB100B2.S16.DP0157",{"$f":"'16 Securitization Calcn'!$J$53","v":"S16.DP0157"}]
["CB100B2.S16.DP0158",{"$f":"'16 Securitization Calcn'!$J$54","v":"S16.DP0158"}]
["CB100B2.S16.DP0159",{"$f":"'16 Securitization Calcn'!$D$57","v":"S16.DP0159"}]
["CB100B2.S16.DP0160",{"$f":"'16 Securitization Calcn'!$E$57","v":"S16.DP0160"}]
["CB100B2.S16.DP0161",{"$f":"'16 Securitization Calcn'!$H$57","v":"S16.DP0161"}]
["CB100B2.S16.DP0162",{"$f":"'16 Securitization Calcn'!$I$57","v":"S16.DP0162"}]
["CB100B2.S16.DP0163",{"$f":"'16 Securitization Calcn'!$J$57","v":"S16.DP0163"}]
["CB100B2.S16.DP0164",{"$f":"'16 Securitization Calcn'!$C$61","v":"S16.DP0164"}]
["CB100B2.S16.DP0165",{"$f":"'16 Securitization Calcn'!$C$62","v":"S16.DP0165"}]
["CB100B2.S16.DP0166",{"$f":"'16 Securitization Calcn'!$C$63","v":"S16.DP0166"}]
["CB100B2.S16.DP0167",{"$f":"'16 Securitization Calcn'!$C$64","v":"S16.DP0167"}]
["CB100B2.S16.DP0168",{"$f":"'16 Securitization Calcn'!$D$61","v":"S16.DP0168"}]
["CB100B2.S16.DP0169",{"$f":"'16 Securitization Calcn'!$D$62","v":"S16.DP0169"}]
["CB100B2.S16.DP0170",{"$f":"'16 Securitization Calcn'!$D$63","v":"S16.DP0170"}]
["CB100B2.S16.DP0171",{"$f":"'16 Securitization Calcn'!$D$64","v":"S16.DP0171"}]
["CB100B2.S16.DP0172",{"$f":"'16 Securitization Calcn'!$D$65","v":"S16.DP0172"}]
["CB100B2.S16.DP0173",{"$f":"'16 Securitization Calcn'!$D$66","v":"S16.DP0173"}]
["CB100B2.S16.DP0174",{"$f":"'16 Securitization Calcn'!$E$61","v":"S16.DP0174"}]
["CB100B2.S16.DP0175",{"$f":"'16 Securitization Calcn'!$E$62","v":"S16.DP0175"}]
["CB100B2.S16.DP0176",{"$f":"'16 Securitization Calcn'!$E$63","v":"S16.DP0176"}]
["CB100B2.S16.DP0177",{"$f":"'16 Securitization Calcn'!$E$64","v":"S16.DP0177"}]
["CB100B2.S16.DP0178",{"$f":"'16 Securitization Calcn'!$E$65","v":"S16.DP0178"}]
["CB100B2.S16.DP0179",{"$f":"'16 Securitization Calcn'!$E$66","v":"S16.DP0179"}]
["CB100B2.S16.DP0180",{"$f":"'16 Securitization Calcn'!$H$61","v":"S16.DP0180"}]
["CB100B2.S16.DP0181",{"$f":"'16 Securitization Calcn'!$H$62","v":"S16.DP0181"}]
["CB100B2.S16.DP0182",{"$f":"'16 Securitization Calcn'!$H$63","v":"S16.DP0182"}]
["CB100B2.S16.DP0183",{"$f":"'16 Securitization Calcn'!$H$64","v":"S16.DP0183"}]
["CB100B2.S16.DP0184",{"$f":"'16 Securitization Calcn'!$H$65","v":"S16.DP0184"}]
["CB100B2.S16.DP0185",{"$f":"'16 Securitization Calcn'!$H$66","v":"S16.DP0185"}]
["CB100B2.S16.DP0186",{"$f":"'16 Securitization Calcn'!$I$61","v":"S16.DP0186"}]
["CB100B2.S16.DP0187",{"$f":"'16 Securitization Calcn'!$I$62","v":"S16.DP0187"}]
["CB100B2.S16.DP0188",{"$f":"'16 Securitization Calcn'!$I$63","v":"S16.DP0188"}]
["CB100B2.S16.DP0189",{"$f":"'16 Securitization Calcn'!$I$64","v":"S16.DP0189"}]
["CB100B2.S16.DP0190",{"$f":"'16 Securitization Calcn'!$I$65","v":"S16.DP0190"}]
["CB100B2.S16.DP0191",{"$f":"'16 Securitization Calcn'!$I$66","v":"S16.DP0191"}]
["CB100B2.S16.DP0192",{"$f":"'16 Securitization Calcn'!$J$61","v":"S16.DP0192"}]
["CB100B2.S16.DP0193",{"$f":"'16 Securitization Calcn'!$J$62","v":"S16.DP0193"}]
["CB100B2.S16.DP0194",{"$f":"'16 Securitization Calcn'!$J$63","v":"S16.DP0194"}]
["CB100B2.S16.DP0195",{"$f":"'16 Securitization Calcn'!$J$64","v":"S16.DP0195"}]
["CB100B2.S16.DP0196",{"$f":"'16 Securitization Calcn'!$J$66","v":"S16.DP0196"}]
["CB100B2.S16.DP0197",{"$f":"'16 Securitization Calcn'!$C$68","v":"S16.DP0197"}]
["CB100B2.S16.DP0198",{"$f":"'16 Securitization Calcn'!$C$69","v":"S16.DP0198"}]
["CB100B2.S16.DP0199",{"$f":"'16 Securitization Calcn'!$C$70","v":"S16.DP0199"}]
["CB100B2.S16.DP0200",{"$f":"'16 Securitization Calcn'!$C$71","v":"S16.DP0200"}]
["CB100B2.S16.DP0201",{"$f":"'16 Securitization Calcn'!$D$68","v":"S16.DP0201"}]
["CB100B2.S16.DP0202",{"$f":"'16 Securitization Calcn'!$D$69","v":"S16.DP0202"}]
["CB100B2.S16.DP0203",{"$f":"'16 Securitization Calcn'!$D$70","v":"S16.DP0203"}]
["CB100B2.S16.DP0204",{"$f":"'16 Securitization Calcn'!$D$71","v":"S16.DP0204"}]
["CB100B2.S16.DP0205",{"$f":"'16 Securitization Calcn'!$D$72","v":"S16.DP0205"}]
["CB100B2.S16.DP0206",{"$f":"'16 Securitization Calcn'!$D$73","v":"S16.DP0206"}]
["CB100B2.S16.DP0207",{"$f":"'16 Securitization Calcn'!$D$74","v":"S16.DP0207"}]
["CB100B2.S16.DP0208",{"$f":"'16 Securitization Calcn'!$E$68","v":"S16.DP0208"}]
["CB100B2.S16.DP0209",{"$f":"'16 Securitization Calcn'!$E$69","v":"S16.DP0209"}]
["CB100B2.S16.DP0210",{"$f":"'16 Securitization Calcn'!$E$70","v":"S16.DP0210"}]
["CB100B2.S16.DP0211",{"$f":"'16 Securitization Calcn'!$E$71","v":"S16.DP0211"}]
["CB100B2.S16.DP0212",{"$f":"'16 Securitization Calcn'!$E$72","v":"S16.DP0212"}]
["CB100B2.S16.DP0213",{"$f":"'16 Securitization Calcn'!$E$73","v":"S16.DP0213"}]
["CB100B2.S16.DP0214",{"$f":"'16 Securitization Calcn'!$E$74","v":"S16.DP0214"}]
["CB100B2.S16.DP0215",{"$f":"'16 Securitization Calcn'!$H$68","v":"S16.DP0215"}]
["CB100B2.S16.DP0216",{"$f":"'16 Securitization Calcn'!$H$69","v":"S16.DP0216"}]
["CB100B2.S16.DP0217",{"$f":"'16 Securitization Calcn'!$H$70","v":"S16.DP0217"}]
["CB100B2.S16.DP0218",{"$f":"'16 Securitization Calcn'!$H$71","v":"S16.DP0218"}]
["CB100B2.S16.DP0219",{"$f":"'16 Securitization Calcn'!$H$72","v":"S16.DP0219"}]
["CB100B2.S16.DP0220",{"$f":"'16 Securitization Calcn'!$H$73","v":"S16.DP0220"}]
["CB100B2.S16.DP0221",{"$f":"'16 Securitization Calcn'!$H$74","v":"S16.DP0221"}]
["CB100B2.S16.DP0222",{"$f":"'16 Securitization Calcn'!$I$68","v":"S16.DP0222"}]
["CB100B2.S16.DP0223",{"$f":"'16 Securitization Calcn'!$I$69","v":"S16.DP0223"}]
["CB100B2.S16.DP0224",{"$f":"'16 Securitization Calcn'!$I$70","v":"S16.DP0224"}]
["CB100B2.S16.DP0225",{"$f":"'16 Securitization Calcn'!$I$71","v":"S16.DP0225"}]
["CB100B2.S16.DP0226",{"$f":"'16 Securitization Calcn'!$I$72","v":"S16.DP0226"}]
["CB100B2.S16.DP0227",{"$f":"'16 Securitization Calcn'!$I$73","v":"S16.DP0227"}]
["CB100B2.S16.DP0228",{"$f":"'16 Securitization Calcn'!$I$74","v":"S16.DP0228"}]
["CB100B2.S16.DP0229",{"$f":"'16 Securitization Calcn'!$J$68","v":"S16.DP0229"}]
["CB100B2.S16.DP0230",{"$f":"'16 Securitization Calcn'!$J$69","v":"S16.DP0230"}]
["CB100B2.S16.DP0231",{"$f":"'16 Securitization Calcn'!$J$70","v":"S16.DP0231"}]
["CB100B2.S16.DP0232",{"$f":"'16 Securitization Calcn'!$J$71","v":"S16.DP0232"}]
["CB100B2.S16.DP0233",{"$f":"'16 Securitization Calcn'!$J$73","v":"S16.DP0233"}]
["CB100B2.S16.DP0234",{"$f":"'16 Securitization Calcn'!$J$74","v":"S16.DP0234"}]
["CB100B2.S16.DP0235",{"$f":"'16 Securitization Calcn'!$D$81","v":"S16.DP0235"}]
["CB100B2.S16.DP0236",{"$f":"'16 Securitization Calcn'!$D$82","v":"S16.DP0236"}]
["CB100B2.S16.DP0237",{"$f":"'16 Securitization Calcn'!$E$81","v":"S16.DP0237"}]
["CB100B2.S16.DP0238",{"$f":"'16 Securitization Calcn'!$E$82","v":"S16.DP0238"}]
["CB100B2.S16.DP0239",{"$f":"'16 Securitization Calcn'!$F$81","v":"S16.DP0239"}]
["CB100B2.S16.DP0240",{"$f":"'16 Securitization Calcn'!$F$82","v":"S16.DP0240"}]
["CB100B2.S16.DP0241",{"$f":"'16 Securitization Calcn'!$G$81","v":"S16.DP0241"}]
["CB100B2.S16.DP0242",{"$f":"'16 Securitization Calcn'!$G$82","v":"S16.DP0242"}]
["CB100B2.S16.DP0243",{"$f":"'16 Securitization Calcn'!$H$81","v":"S16.DP0243"}]
["CB100B2.S16.DP0244",{"$f":"'16 Securitization Calcn'!$H$82","v":"S16.DP0244"}]
["CB100B2.S16.DP0245",{"$f":"'16 Securitization Calcn'!$I$81","v":"S16.DP0245"}]
["CB100B2.S16.DP0246",{"$f":"'16 Securitization Calcn'!$I$82","v":"S16.DP0246"}]
["CB100B2.S16.DP0247",{"$f":"'16 Securitization Calcn'!$J$81","v":"S16.DP0247"}]
["CB100B2.S16.DP0248",{"$f":"'16 Securitization Calcn'!$J$82","v":"S16.DP0248"}]
["CB100B2.S16.DP0249",{"$f":"'16 Securitization Calcn'!$K$81","v":"S16.DP0249"}]
["CB100B2.S16.DP0250",{"$f":"'16 Securitization Calcn'!$K$82","v":"S16.DP0250"}]
["CB100B2.S16.DP0251",{"$f":"'16 Securitization Calcn'!$D$84","v":"S16.DP0251"}]
["CB100B2.S16.DP0252",{"$f":"'16 Securitization Calcn'!$D$85","v":"S16.DP0252"}]
["CB100B2.S16.DP0253",{"$f":"'16 Securitization Calcn'!$D$86","v":"S16.DP0253"}]
["CB100B2.S16.DP0254",{"$f":"'16 Securitization Calcn'!$E$84","v":"S16.DP0254"}]
["CB100B2.S16.DP0255",{"$f":"'16 Securitization Calcn'!$E$85","v":"S16.DP0255"}]
["CB100B2.S16.DP0256",{"$f":"'16 Securitization Calcn'!$E$86","v":"S16.DP0256"}]
["CB100B2.S16.DP0257",{"$f":"'16 Securitization Calcn'!$F$84","v":"S16.DP0257"}]
["CB100B2.S16.DP0258",{"$f":"'16 Securitization Calcn'!$F$85","v":"S16.DP0258"}]
["CB100B2.S16.DP0259",{"$f":"'16 Securitization Calcn'!$F$86","v":"S16.DP0259"}]
["CB100B2.S16.DP0260",{"$f":"'16 Securitization Calcn'!$G$84","v":"S16.DP0260"}]
["CB100B2.S16.DP0261",{"$f":"'16 Securitization Calcn'!$G$85","v":"S16.DP0261"}]
["CB100B2.S16.DP0262",{"$f":"'16 Securitization Calcn'!$G$86","v":"S16.DP0262"}]
["CB100B2.S16.DP0263",{"$f":"'16 Securitization Calcn'!$H$84","v":"S16.DP0263"}]
["CB100B2.S16.DP0264",{"$f":"'16 Securitization Calcn'!$H$85","v":"S16.DP0264"}]
["CB100B2.S16.DP0265",{"$f":"'16 Securitization Calcn'!$H$86","v":"S16.DP0265"}]
["CB100B2.S16.DP0266",{"$f":"'16 Securitization Calcn'!$I$84","v":"S16.DP0266"}]
["CB100B2.S16.DP0267",{"$f":"'16 Securitization Calcn'!$I$85","v":"S16.DP0267"}]
["CB100B2.S16.DP0268",{"$f":"'16 Securitization Calcn'!$I$86","v":"S16.DP0268"}]
["CB100B2.S16.DP0269",{"$f":"'16 Securitization Calcn'!$J$84","v":"S16.DP0269"}]
["CB100B2.S16.DP0270",{"$f":"'16 Securitization Calcn'!$J$85","v":"S16.DP0270"}]
["CB100B2.S16.DP0271",{"$f":"'16 Securitization Calcn'!$J$86","v":"S16.DP0271"}]
["CB100B2.S16.DP0272",{"$f":"'16 Securitization Calcn'!$K$84","v":"S16.DP0272"}]
["CB100B2.S16.DP0273",{"$f":"'16 Securitization Calcn'!$K$85","v":"S16.DP0273"}]
["CB100B2.S16.DP0274",{"$f":"'16 Securitization Calcn'!$K$86","v":"S16.DP0274"}]
["CB100B2.S16.DP0275",{"$f":"'16 Securitization Calcn'!$D$93","v":"S16.DP0275"}]
["CB100B2.S16.DP0276",{"$f":"'16 Securitization Calcn'!$D$94","v":"S16.DP0276"}]
["CB100B2.S16.DP0277",{"$f":"'16 Securitization Calcn'!$D$96","v":"S16.DP0277"}]
["CB100B2.S16.DP0278",{"$f":"'16 Securitization Calcn'!$D$97","v":"S16.DP0278"}]
["CB100B2.S16.DP0279",{"$f":"'16 Securitization Calcn'!$E$91","v":"S16.DP0279"}]
["CB100B2.S16.DP0280",{"$f":"'16 Securitization Calcn'!$E$92","v":"S16.DP0280"}]
["CB100B2.S16.DP0281",{"$f":"'16 Securitization Calcn'!$E$93","v":"S16.DP0281"}]
["CB100B2.S16.DP0282",{"$f":"'16 Securitization Calcn'!$E$95","v":"S16.DP0282"}]
["CB100B2.S16.DP0283",{"$f":"'16 Securitization Calcn'!$E$97","v":"S16.DP0283"}]
["CB100B2.S16.DP0284",{"$f":"'16 Securitization Calcn'!$F$92","v":"S16.DP0284"}]
["CB100B2.S16.DP0285",{"$f":"'16 Securitization Calcn'!$F$93","v":"S16.DP0285"}]
["CB100B2.S16.DP0286",{"$f":"'16 Securitization Calcn'!$F$95","v":"S16.DP0286"}]
["CB100B2.S16.DP0287",{"$f":"'16 Securitization Calcn'!$F$97","v":"S16.DP0287"}]
["CB100B2.S17.DP0001",{"$f":"'17 Other Assets'!$D$8","v":"S17.DP0001"}]
["CB100B2.S17.DP0002",{"$f":"'17 Other Assets'!$D$9","v":"S17.DP0002"}]
["CB100B2.S17.DP0003",{"$f":"'17 Other Assets'!$D$10","v":"S17.DP0003"}]
["CB100B2.S17.DP0004",{"$f":"'17 Other Assets'!$D$11","v":"S17.DP0004"}]
["CB100B2.S17.DP0005",{"$f":"'17 Other Assets'!$D$12","v":"S17.DP0005"}]
["CB100B2.S17.DP0006",{"$f":"'17 Other Assets'!$D$13","v":"S17.DP0006"}]
["CB100B2.S17.DP0007",{"$f":"'17 Other Assets'!$D$14","v":"S17.DP0007"}]
["CB100B2.S17.DP0008",{"$f":"'17 Other Assets'!$D$15","v":"S17.DP0008"}]
["CB100B2.S17.DP0009",{"$f":"'17 Other Assets'!$D$16","v":"S17.DP0009"}]
["CB100B2.S17.DP0010",{"$f":"'17 Other Assets'!$D$17","v":"S17.DP0010"}]
["CB100B2.S17.DP0011",{"$f":"'17 Other Assets'!$D$20","v":"S17.DP0011"}]
["CB100B2.S17.DP0012",{"$f":"'17 Other Assets'!#REF!","v":{"$error":"#REF!"}}]
["CB100B2.S17.DP0013",{"$f":"'17 Other Assets'!$D$21","v":"S17.DP0013"}]
["CB100B2.S17.DP0014",{"$f":"'17 Other Assets'!$D$22","v":"S17.DP0014"}]
["CB100B2.S17.DP0015",{"$f":"'17 Other Assets'!$D$23","v":"S17.DP0015"}]
["CB100B2.S17.DP0016",{"$f":"'17 Other Assets'!$D$24","v":"S17.DP0016"}]
["CB100B2.S17.DP0017",{"$f":"'17 Other Assets'!$F$10","v":"S17.DP0017"}]
["CB100B2.S17.DP0018",{"$f":"'17 Other Assets'!$F$11","v":"S17.DP0018"}]
["CB100B2.S17.DP0019",{"$f":"'17 Other Assets'!$F$12","v":"S17.DP0019"}]
["CB100B2.S17.DP0020",{"$f":"'17 Other Assets'!$F$13","v":"S17.DP0020"}]
["CB100B2.S17.DP0021",{"$f":"'17 Other Assets'!$F$14","v":"S17.DP0021"}]
["CB100B2.S17.DP0022",{"$f":"'17 Other Assets'!$F$15","v":"S17.DP0022"}]
["CB100B2.S17.DP0023",{"$f":"'17 Other Assets'!$F$16","v":"S17.DP0023"}]
["CB100B2.S17.DP0024",{"$f":"'17 Other Assets'!$F$20","v":"S17.DP0024"}]
["CB100B2.S17.DP0025",{"$f":"'17 Other Assets'!#REF!","v":{"$error":"#REF!"}}]
["CB100B2.S17.DP0026",{"$f":"'17 Other Assets'!$F$21","v":"S17.DP0026"}]
["CB100B2.S17.DP0027",{"$f":"'17 Other Assets'!$F$24","v":"S17.DP0027"}]
["CB100B2.S17.DP0028",{"$f":"'17 Other Assets'!$D$31","v":"S17.DP0028"}]
["CB100B2.S17.DP0029",{"$f":"'17 Other Assets'!$D$32","v":"S17.DP0029"}]
["CB100B2.S17.DP0030",{"$f":"'17 Other Assets'!$D$33","v":"S17.DP0030"}]
["CB100B2.S17.DP0031",{"$f":"'17 Other Assets'!$D$34","v":"S17.DP0031"}]
["CB100B2.S17.DP0032",{"$f":"'17 Other Assets'!$F$31","v":"S17.DP0032"}]
["CB100B2.S17.DP0033",{"$f":"'17 Other Assets'!$F$32","v":"S17.DP0033"}]
["CB100B2.S17.DP0034",{"$f":"'17 Other Assets'!$F$33","v":"S17.DP0034"}]
["CB100B2.S17.DP0035",{"$f":"'17 Other Assets'!$F$34","v":"S17.DP0035"}]
["CB100B2.S17.DP0036",{"$f":"'17 Other Assets'!$F$35","v":"S17.DP0036"}]
["CB100B2.S17.DP0037",{"$f":"'17 Other Assets'!$F$37","v":"S17.DP0037"}]
["CB100B2.S18.DP0001",{"$f":"'18 Off-Balance Sheet'!$D$12","v":"S18.DP0001"}]
["CB100B2.S18.DP0002",{"$f":"'18 Off-Balance Sheet'!$D$13","v":"S18.DP0002"}]
["CB100B2.S18.DP0003",{"$f":"'18 Off-Balance Sheet'!$D$14","v":"S18.DP0003"}]
["CB100B2.S18.DP0004",{"$f":"'18 Off-Balance Sheet'!$D$15","v":"S18.DP0004"}]
["CB100B2.S18.DP0005",{"$f":"'18 Off-Balance Sheet'!$D$16","v":"S18.DP0005"}]
["CB100B2.S18.DP0006",{"$f":"'18 Off-Balance Sheet'!$E$15","v":"S18.DP0006"}]
["CB100B2.S18.DP0007",{"$f":"'18 Off-Balance Sheet'!$F$13","v":"S18.DP0007"}]
["CB100B2.S18.DP0008",{"$f":"'18 Off-Balance Sheet'!$F$14","v":"S18.DP0008"}]
["CB100B2.S18.DP0009",{"$f":"'18 Off-Balance Sheet'!$F$15","v":"S18.DP0009"}]
["CB100B2.S18.DP0010",{"$f":"'18 Off-Balance Sheet'!$F$16","v":"S18.DP0010"}]
["CB100B2.S18.DP0011",{"$f":"'18 Off-Balance Sheet'!$D$20","v":"S18.DP0011"}]
["CB100B2.S18.DP0012",{"$f":"'18 Off-Balance Sheet'!$D$21","v":"S18.DP0012"}]
["CB100B2.S18.DP0013",{"$f":"'18 Off-Balance Sheet'!$D$22","v":"S18.DP0013"}]
["CB100B2.S18.DP0014",{"$f":"'18 Off-Balance Sheet'!$D$23","v":"S18.DP0014"}]
["CB100B2.S18.DP0015",{"$f":"'18 Off-Balance Sheet'!$D$24","v":"S18.DP0015"}]
["CB100B2.S18.DP0016",{"$f":"'18 Off-Balance Sheet'!$E$23","v":"S18.DP0016"}]
["CB100B2.S18.DP0017",{"$f":"'18 Off-Balance Sheet'!$F$21","v":"S18.DP0017"}]
["CB100B2.S18.DP0018",{"$f":"'18 Off-Balance Sheet'!$F$22","v":"S18.DP0018"}]
["CB100B2.S18.DP0019",{"$f":"'18 Off-Balance Sheet'!$F$23","v":"S18.DP0019"}]
["CB100B2.S18.DP0020",{"$f":"'18 Off-Balance Sheet'!$F$24","v":"S18.DP0020"}]
["CB100B2.S18.DP0021",{"$f":"'18 Off-Balance Sheet'!$D$27","v":"S18.DP0021"}]
["CB100B2.S18.DP0022",{"$f":"'18 Off-Balance Sheet'!$D$28","v":"S18.DP0022"}]
["CB100B2.S18.DP0023",{"$f":"'18 Off-Balance Sheet'!$D$29","v":"S18.DP0023"}]
["CB100B2.S18.DP0024",{"$f":"'18 Off-Balance Sheet'!$D$30","v":"S18.DP0024"}]
["CB100B2.S18.DP0025",{"$f":"'18 Off-Balance Sheet'!$D$31","v":"S18.DP0025"}]
["CB100B2.S18.DP0026",{"$f":"'18 Off-Balance Sheet'!$D$32","v":"S18.DP0026"}]
["CB100B2.S18.DP0027",{"$f":"'18 Off-Balance Sheet'!$D$33","v":"S18.DP0027"}]
["CB100B2.S18.DP0028",{"$f":"'18 Off-Balance Sheet'!$D$34","v":"S18.DP0028"}]
["CB100B2.S18.DP0029",{"$f":"'18 Off-Balance Sheet'!$D$35","v":"S18.DP0029"}]
["CB100B2.S18.DP0030",{"$f":"'18 Off-Balance Sheet'!$D$36","v":"S18.DP0030"}]
["CB100B2.S18.DP0031",{"$f":"'18 Off-Balance Sheet'!$F$27","v":"S18.DP0031"}]
["CB100B2.S18.DP0032",{"$f":"'18 Off-Balance Sheet'!$F$28","v":"S18.DP0032"}]
["CB100B2.S18.DP0033",{"$f":"'18 Off-Balance Sheet'!$F$29","v":"S18.DP0033"}]
["CB100B2.S18.DP0034",{"$f":"'18 Off-Balance Sheet'!$F$30","v":"S18.DP0034"}]
["CB100B2.S18.DP0035",{"$f":"'18 Off-Balance Sheet'!$F$31","v":"S18.DP0035"}]
["CB100B2.S18.DP0036",{"$f":"'18 Off-Balance Sheet'!$F$32","v":"S18.DP0036"}]
["CB100B2.S18.DP0037",{"$f":"'18 Off-Balance Sheet'!$F$33","v":"S18.DP0037"}]
["CB100B2.S18.DP0038",{"$f":"'18 Off-Balance Sheet'!$F$34","v":"S18.DP0038"}]
["CB100B2.S18.DP0039",{"$f":"'18 Off-Balance Sheet'!$F$35","v":"S18.DP0039"}]
["CB100B2.S18.DP0040",{"$f":"'18 Off-Balance Sheet'!$F$36","v":"S18.DP0040"}]
["CB100B2.S18.DP0041",{"$f":"'18 Off-Balance Sheet'!$F$38","v":"S18.DP0041"}]
["CB100B2.S19.DP0001",{"$f":"'19 Derivatives'!$F$9","v":"S19.DP0001"}]
["CB100B2.S19.DP0002",{"$f":"'19 Derivatives'!$F$11","v":"S19.DP0002"}]
["CB100B2.S19.DP0003",{"$f":"'19 Derivatives'!$F$12","v":"S19.DP0003"}]
["CB100B2.S19.DP0004",{"$f":"'19 Derivatives'!$F$18","v":"S19.DP0004"}]
["CB100B2.S19.DP0005",{"$f":"'19 Derivatives'!$G$9","v":"S19.DP0005"}]
["CB100B2.S19.DP0006",{"$f":"'19 Derivatives'!$G$10","v":"S19.DP0006"}]
["CB100B2.S19.DP0007",{"$f":"'19 Derivatives'!$G$12","v":"S19.DP0007"}]
["CB100B2.S19.DP0008",{"$f":"'19 Derivatives'!$G$18","v":"S19.DP0008"}]
["CB100B2.S19.DP0009",{"$f":"'19 Derivatives'!$H$8","v":"S19.DP0009"}]
["CB100B2.S19.DP0010",{"$f":"'19 Derivatives'!$H$9","v":"S19.DP0010"}]
["CB100B2.S19.DP0011",{"$f":"'19 Derivatives'!$H$10","v":"S19.DP0011"}]
["CB100B2.S19.DP0012",{"$f":"'19 Derivatives'!$H$11","v":"S19.DP0012"}]
["CB100B2.S19.DP0013",{"$f":"'19 Derivatives'!$H$12","v":"S19.DP0013"}]
["CB100B2.S19.DP0014",{"$f":"'19 Derivatives'!$H$13","v":"S19.DP0014"}]
["CB100B2.S19.DP0015",{"$f":"'19 Derivatives'!$H$14","v":"S19.DP0015"}]
["CB100B2.S19.DP0016",{"$f":"'19 Derivatives'!$H$15","v":"S19.DP0016"}]
["CB100B2.S19.DP0017",{"$f":"'19 Derivatives'!$H$16","v":"S19.DP0017"}]
["CB100B2.S19.DP0018",{"$f":"'19 Derivatives'!$H$17","v":"S19.DP0018"}]
["CB100B2.S19.DP0019",{"$f":"'19 Derivatives'!$H$18","v":"S19.DP0019"}]
["CB100B2.S19.DP0020",{"$f":"'19 Derivatives'!$J$8","v":"S19.DP0020"}]
["CB100B2.S19.DP0021",{"$f":"'19 Derivatives'!$J$9","v":"S19.DP0021"}]
["CB100B2.S19.DP0022",{"$f":"'19 Derivatives'!$J$10","v":"S19.DP0022"}]
["CB100B2.S19.DP0023",{"$f":"'19 Derivatives'!$J$11","v":"S19.DP0023"}]
["CB100B2.S19.DP0024",{"$f":"'19 Derivatives'!$J$12","v":"S19.DP0024"}]
["CB100B2.S19.DP0025",{"$f":"'19 Derivatives'!$J$13","v":"S19.DP0025"}]
["CB100B2.S19.DP0026",{"$f":"'19 Derivatives'!$J$14","v":"S19.DP0026"}]
["CB100B2.S19.DP0027",{"$f":"'19 Derivatives'!$J$15","v":"S19.DP0027"}]
["CB100B2.S19.DP0028",{"$f":"'19 Derivatives'!$J$16","v":"S19.DP0028"}]
["CB100B2.S19.DP0029",{"$f":"'19 Derivatives'!$J$17","v":"S19.DP0029"}]
["CB100B2.S19.DP0030",{"$f":"'19 Derivatives'!$J$18","v":"S19.DP0030"}]
["CB100B2.S19.DP0031",{"$f":"'19 Derivatives'!$L$8","v":"S19.DP0031"}]
["CB100B2.S19.DP0032",{"$f":"'19 Derivatives'!$L$9","v":"S19.DP0032"}]
["CB100B2.S19.DP0033",{"$f":"'19 Derivatives'!$L$10","v":"S19.DP0033"}]
["CB100B2.S19.DP0034",{"$f":"'19 Derivatives'!$L$11","v":"S19.DP0034"}]
["CB100B2.S19.DP0035",{"$f":"'19 Derivatives'!$L$12","v":"S19.DP0035"}]
["CB100B2.S19.DP0036",{"$f":"'19 Derivatives'!$L$13","v":"S19.DP0036"}]
["CB100B2.S19.DP0037",{"$f":"'19 Derivatives'!$L$14","v":"S19.DP0037"}]
["CB100B2.S19.DP0038",{"$f":"'19 Derivatives'!$L$15","v":"S19.DP0038"}]
["CB100B2.S19.DP0039",{"$f":"'19 Derivatives'!$L$16","v":"S19.DP0039"}]
["CB100B2.S19.DP0040",{"$f":"'19 Derivatives'!$L$17","v":"S19.DP0040"}]
["CB100B2.S19.DP0041",{"$f":"'19 Derivatives'!$L$18","v":"S19.DP0041"}]
["CB100B2.S19.DP0042",{"$f":"'19 Derivatives'!$N$8","v":"S19.DP0042"}]
["CB100B2.S19.DP0043",{"$f":"'19 Derivatives'!$N$9","v":"S19.DP0043"}]
["CB100B2.S19.DP0044",{"$f":"'19 Derivatives'!$N$10","v":"S19.DP0044"}]
["CB100B2.S19.DP0045",{"$f":"'19 Derivatives'!$N$11","v":"S19.DP0045"}]
["CB100B2.S19.DP0046",{"$f":"'19 Derivatives'!$N$12","v":"S19.DP0046"}]
["CB100B2.S19.DP0047",{"$f":"'19 Derivatives'!$N$13","v":"S19.DP0047"}]
["CB100B2.S19.DP0048",{"$f":"'19 Derivatives'!$N$14","v":"S19.DP0048"}]
["CB100B2.S19.DP0049",{"$f":"'19 Derivatives'!$N$15","v":"S19.DP0049"}]
["CB100B2.S19.DP0050",{"$f":"'19 Derivatives'!$N$16","v":"S19.DP0050"}]
["CB100B2.S19.DP0051",{"$f":"'19 Derivatives'!$N$17","v":"S19.DP0051"}]
["CB100B2.S19.DP0052",{"$f":"'19 Derivatives'!$N$18","v":"S19.DP0052"}]
["CB100B2.S19.DP0053",{"$f":"'19 Derivatives'!$P$8","v":"S19.DP0053"}]
["CB100B2.S19.DP0054",{"$f":"'19 Derivatives'!$P$9","v":"S19.DP0054"}]
["CB100B2.S19.DP0055",{"$f":"'19 Derivatives'!$P$10","v":"S19.DP0055"}]
["CB100B2.S19.DP0056",{"$f":"'19 Derivatives'!$P$11","v":"S19.DP0056"}]
["CB100B2.S19.DP0057",{"$f":"'19 Derivatives'!$P$12","v":"S19.DP0057"}]
["CB100B2.S19.DP0058",{"$f":"'19 Derivatives'!$P$13","v":"S19.DP0058"}]
["CB100B2.S19.DP0059",{"$f":"'19 Derivatives'!$P$14","v":"S19.DP0059"}]
["CB100B2.S19.DP0060",{"$f":"'19 Derivatives'!$P$15","v":"S19.DP0060"}]
["CB100B2.S19.DP0061",{"$f":"'19 Derivatives'!$P$16","v":"S19.DP0061"}]
["CB100B2.S19.DP0062",{"$f":"'19 Derivatives'!$P$17","v":"S19.DP0062"}]
["CB100B2.S19.DP0063",{"$f":"'19 Derivatives'!$P$18","v":"S19.DP0063"}]
["CB100B2.S19.DP0064",{"$f":"'19 Derivatives'!$R$8","v":"S19.DP0064"}]
["CB100B2.S19.DP0065",{"$f":"'19 Derivatives'!$R$9","v":"S19.DP0065"}]
["CB100B2.S19.DP0066",{"$f":"'19 Derivatives'!$R$10","v":"S19.DP0066"}]
["CB100B2.S19.DP0067",{"$f":"'19 Derivatives'!$R$11","v":"S19.DP0067"}]
["CB100B2.S19.DP0068",{"$f":"'19 Derivatives'!$R$12","v":"S19.DP0068"}]
["CB100B2.S19.DP0069",{"$f":"'19 Derivatives'!$R$13","v":"S19.DP0069"}]
["CB100B2.S19.DP0070",{"$f":"'19 Derivatives'!$R$14","v":"S19.DP0070"}]
["CB100B2.S19.DP0071",{"$f":"'19 Derivatives'!$R$15","v":"S19.DP0071"}]
["CB100B2.S19.DP0072",{"$f":"'19 Derivatives'!$R$16","v":"S19.DP0072"}]
["CB100B2.S19.DP0073",{"$f":"'19 Derivatives'!$R$17","v":"S19.DP0073"}]
["CB100B2.S19.DP0074",{"$f":"'19 Derivatives'!$R$18","v":"S19.DP0074"}]
["CB100B2.S19.DP0075",{"$f":"'19 Derivatives'!$F$21","v":"S19.DP0075"}]
["CB100B2.S19.DP0076",{"$f":"'19 Derivatives'!$F$23","v":"S19.DP0076"}]
["CB100B2.S19.DP0077",{"$f":"'19 Derivatives'!$F$24","v":"S19.DP0077"}]
["CB100B2.S19.DP0078",{"$f":"'19 Derivatives'!$F$30","v":"S19.DP0078"}]
["CB100B2.S19.DP0079",{"$f":"'19 Derivatives'!$G$21","v":"S19.DP0079"}]
["CB100B2.S19.DP0080",{"$f":"'19 Derivatives'!$G$22","v":"S19.DP0080"}]
["CB100B2.S19.DP0081",{"$f":"'19 Derivatives'!$G$24","v":"S19.DP0081"}]
["CB100B2.S19.DP0082",{"$f":"'19 Derivatives'!$G$30","v":"S19.DP0082"}]
["CB100B2.S19.DP0083",{"$f":"'19 Derivatives'!$H$20","v":"S19.DP0083"}]
["CB100B2.S19.DP0084",{"$f":"'19 Derivatives'!$H$21","v":"S19.DP0084"}]
["CB100B2.S19.DP0085",{"$f":"'19 Derivatives'!$H$22","v":"S19.DP0085"}]
["CB100B2.S19.DP0086",{"$f":"'19 Derivatives'!$H$23","v":"S19.DP0086"}]
["CB100B2.S19.DP0087",{"$f":"'19 Derivatives'!$H$24","v":"S19.DP0087"}]
["CB100B2.S19.DP0088",{"$f":"'19 Derivatives'!$H$25","v":"S19.DP0088"}]
["CB100B2.S19.DP0089",{"$f":"'19 Derivatives'!$H$26","v":"S19.DP0089"}]
["CB100B2.S19.DP0090",{"$f":"'19 Derivatives'!$H$27","v":"S19.DP0090"}]
["CB100B2.S19.DP0091",{"$f":"'19 Derivatives'!$H$28","v":"S19.DP0091"}]
["CB100B2.S19.DP0092",{"$f":"'19 Derivatives'!$H$29","v":"S19.DP0092"}]
["CB100B2.S19.DP0093",{"$f":"'19 Derivatives'!$H$30","v":"S19.DP0093"}]
["CB100B2.S19.DP0094",{"$f":"'19 Derivatives'!$J$20","v":"S19.DP0094"}]
["CB100B2.S19.DP0095",{"$f":"'19 Derivatives'!$J$21","v":"S19.DP0095"}]
["CB100B2.S19.DP0096",{"$f":"'19 Derivatives'!$J$22","v":"S19.DP0096"}]
["CB100B2.S19.DP0097",{"$f":"'19 Derivatives'!$J$23","v":"S19.DP0097"}]
["CB100B2.S19.DP0098",{"$f":"'19 Derivatives'!$J$24","v":"S19.DP0098"}]
["CB100B2.S19.DP0099",{"$f":"'19 Derivatives'!$J$25","v":"S19.DP0099"}]
["CB100B2.S19.DP0100",{"$f":"'19 Derivatives'!$J$26","v":"S19.DP0100"}]
["CB100B2.S19.DP0101",{"$f":"'19 Derivatives'!$J$27","v":"S19.DP0101"}]
["CB100B2.S19.DP0102",{"$f":"'19 Derivatives'!$J$28","v":"S19.DP0102"}]
["CB100B2.S19.DP0103",{"$f":"'19 Derivatives'!$J$29","v":"S19.DP0103"}]
["CB100B2.S19.DP0104",{"$f":"'19 Derivatives'!$J$30","v":"S19.DP0104"}]
["CB100B2.S19.DP0105",{"$f":"'19 Derivatives'!$L$20","v":"S19.DP0105"}]
["CB100B2.S19.DP0106",{"$f":"'19 Derivatives'!$L$21","v":"S19.DP0106"}]
["CB100B2.S19.DP0107",{"$f":"'19 Derivatives'!$L$22","v":"S19.DP0107"}]
["CB100B2.S19.DP0108",{"$f":"'19 Derivatives'!$L$23","v":"S19.DP0108"}]
["CB100B2.S19.DP0109",{"$f":"'19 Derivatives'!$L$24","v":"S19.DP0109"}]
["CB100B2.S19.DP0110",{"$f":"'19 Derivatives'!$L$25","v":"S19.DP0110"}]
["CB100B2.S19.DP0111",{"$f":"'19 Derivatives'!$L$26","v":"S19.DP0111"}]
["CB100B2.S19.DP0112",{"$f":"'19 Derivatives'!$L$27","v":"S19.DP0112"}]
["CB100B2.S19.DP0113",{"$f":"'19 Derivatives'!$L$28","v":"S19.DP0113"}]
["CB100B2.S19.DP0114",{"$f":"'19 Derivatives'!$L$29","v":"S19.DP0114"}]
["CB100B2.S19.DP0115",{"$f":"'19 Derivatives'!$L$30","v":"S19.DP0115"}]
["CB100B2.S19.DP0116",{"$f":"'19 Derivatives'!$N$20","v":"S19.DP0116"}]
["CB100B2.S19.DP0117",{"$f":"'19 Derivatives'!$N$21","v":"S19.DP0117"}]
["CB100B2.S19.DP0118",{"$f":"'19 Derivatives'!$N$22","v":"S19.DP0118"}]
["CB100B2.S19.DP0119",{"$f":"'19 Derivatives'!$N$23","v":"S19.DP0119"}]
["CB100B2.S19.DP0120",{"$f":"'19 Derivatives'!$N$24","v":"S19.DP0120"}]
["CB100B2.S19.DP0121",{"$f":"'19 Derivatives'!$N$25","v":"S19.DP0121"}]
["CB100B2.S19.DP0122",{"$f":"'19 Derivatives'!$N$26","v":"S19.DP0122"}]
["CB100B2.S19.DP0123",{"$f":"'19 Derivatives'!$N$27","v":"S19.DP0123"}]
["CB100B2.S19.DP0124",{"$f":"'19 Derivatives'!$N$28","v":"S19.DP0124"}]
["CB100B2.S19.DP0125",{"$f":"'19 Derivatives'!$N$29","v":"S19.DP0125"}]
["CB100B2.S19.DP0126",{"$f":"'19 Derivatives'!$N$30","v":"S19.DP0126"}]
["CB100B2.S19.DP0127",{"$f":"'19 Derivatives'!$P$20","v":"S19.DP0127"}]
["CB100B2.S19.DP0128",{"$f":"'19 Derivatives'!$P$21","v":"S19.DP0128"}]
["CB100B2.S19.DP0129",{"$f":"'19 Derivatives'!$P$22","v":"S19.DP0129"}]
["CB100B2.S19.DP0130",{"$f":"'19 Derivatives'!$P$23","v":"S19.DP0130"}]
["CB100B2.S19.DP0131",{"$f":"'19 Derivatives'!$P$24","v":"S19.DP0131"}]
["CB100B2.S19.DP0132",{"$f":"'19 Derivatives'!$P$25","v":"S19.DP0132"}]
["CB100B2.S19.DP0133",{"$f":"'19 Derivatives'!$P$26","v":"S19.DP0133"}]
["CB100B2.S19.DP0134",{"$f":"'19 Derivatives'!$P$27","v":"S19.DP0134"}]
["CB100B2.S19.DP0135",{"$f":"'19 Derivatives'!$P$28","v":"S19.DP0135"}]
["CB100B2.S19.DP0136",{"$f":"'19 Derivatives'!$P$29","v":"S19.DP0136"}]
["CB100B2.S19.DP0137",{"$f":"'19 Derivatives'!$P$30","v":"S19.DP0137"}]
["CB100B2.S19.DP0138",{"$f":"'19 Derivatives'!$R$20","v":"S19.DP0138"}]
["CB100B2.S19.DP0139",{"$f":"'19 Derivatives'!$R$21","v":"S19.DP0139"}]
["CB100B2.S19.DP0140",{"$f":"'19 Derivatives'!$R$22","v":"S19.DP0140"}]
["CB100B2.S19.DP0141",{"$f":"'19 Derivatives'!$R$23","v":"S19.DP0141"}]
["CB100B2.S19.DP0142",{"$f":"'19 Derivatives'!$R$24","v":"S19.DP0142"}]
["CB100B2.S19.DP0143",{"$f":"'19 Derivatives'!$R$25","v":"S19.DP0143"}]
["CB100B2.S19.DP0144",{"$f":"'19 Derivatives'!$R$26","v":"S19.DP0144"}]
["CB100B2.S19.DP0145",{"$f":"'19 Derivatives'!$R$27","v":"S19.DP0145"}]
["CB100B2.S19.DP0146",{"$f":"'19 Derivatives'!$R$28","v":"S19.DP0146"}]
["CB100B2.S19.DP0147",{"$f":"'19 Derivatives'!$R$29","v":"S19.DP0147"}]
["CB100B2.S19.DP0148",{"$f":"'19 Derivatives'!$R$30","v":"S19.DP0148"}]
["CB100B2.S19.DP0149",{"$f":"'19 Derivatives'!$F$33","v":"S19.DP0149"}]
["CB100B2.S19.DP0150",{"$f":"'19 Derivatives'!$F$35","v":"S19.DP0150"}]
["CB100B2.S19.DP0151",{"$f":"'19 Derivatives'!$F$36","v":"S19.DP0151"}]
["CB100B2.S19.DP0152",{"$f":"'19 Derivatives'!$F$42","v":"S19.DP0152"}]
["CB100B2.S19.DP0153",{"$f":"'19 Derivatives'!$G$33","v":"S19.DP0153"}]
["CB100B2.S19.DP0154",{"$f":"'19 Derivatives'!$G$34","v":"S19.DP0154"}]
["CB100B2.S19.DP0155",{"$f":"'19 Derivatives'!$G$36","v":"S19.DP0155"}]
["CB100B2.S19.DP0156",{"$f":"'19 Derivatives'!$G$42","v":"S19.DP0156"}]
["CB100B2.S19.DP0157",{"$f":"'19 Derivatives'!$H$32","v":"S19.DP0157"}]
["CB100B2.S19.DP0158",{"$f":"'19 Derivatives'!$H$33","v":"S19.DP0158"}]
["CB100B2.S19.DP0159",{"$f":"'19 Derivatives'!$H$34","v":"S19.DP0159"}]
["CB100B2.S19.DP0160",{"$f":"'19 Derivatives'!$H$35","v":"S19.DP0160"}]
["CB100B2.S19.DP0161",{"$f":"'19 Derivatives'!$H$36","v":"S19.DP0161"}]
["CB100B2.S19.DP0162",{"$f":"'19 Derivatives'!$H$37","v":"S19.DP0162"}]
["CB100B2.S19.DP0163",{"$f":"'19 Derivatives'!$H$38","v":"S19.DP0163"}]
["CB100B2.S19.DP0164",{"$f":"'19 Derivatives'!$H$39","v":"S19.DP0164"}]
["CB100B2.S19.DP0165",{"$f":"'19 Derivatives'!$H$40","v":"S19.DP0165"}]
["CB100B2.S19.DP0166",{"$f":"'19 Derivatives'!$H$41","v":"S19.DP0166"}]
["CB100B2.S19.DP0167",{"$f":"'19 Derivatives'!$H$42","v":"S19.DP0167"}]
["CB100B2.S19.DP0168",{"$f":"'19 Derivatives'!$J$32","v":"S19.DP0168"}]
["CB100B2.S19.DP0169",{"$f":"'19 Derivatives'!$J$33","v":"S19.DP0169"}]
["CB100B2.S19.DP0170",{"$f":"'19 Derivatives'!$J$34","v":"S19.DP0170"}]
["CB100B2.S19.DP0171",{"$f":"'19 Derivatives'!$J$35","v":"S19.DP0171"}]
["CB100B2.S19.DP0172",{"$f":"'19 Derivatives'!$J$36","v":"S19.DP0172"}]
["CB100B2.S19.DP0173",{"$f":"'19 Derivatives'!$J$37","v":"S19.DP0173"}]
["CB100B2.S19.DP0174",{"$f":"'19 Derivatives'!$J$38","v":"S19.DP0174"}]
["CB100B2.S19.DP0175",{"$f":"'19 Derivatives'!$J$39","v":"S19.DP0175"}]
["CB100B2.S19.DP0176",{"$f":"'19 Derivatives'!$J$40","v":"S19.DP0176"}]
["CB100B2.S19.DP0177",{"$f":"'19 Derivatives'!$J$41","v":"S19.DP0177"}]
["CB100B2.S19.DP0178",{"$f":"'19 Derivatives'!$J$42","v":"S19.DP0178"}]
["CB100B2.S19.DP0179",{"$f":"'19 Derivatives'!$L$32","v":"S19.DP0179"}]
["CB100B2.S19.DP0180",{"$f":"'19 Derivatives'!$L$33","v":"S19.DP0180"}]
["CB100B2.S19.DP0181",{"$f":"'19 Derivatives'!$L$34","v":"S19.DP0181"}]
["CB100B2.S19.DP0182",{"$f":"'19 Derivatives'!$L$35","v":"S19.DP0182"}]
["CB100B2.S19.DP0183",{"$f":"'19 Derivatives'!$L$36","v":"S19.DP0183"}]
["CB100B2.S19.DP0184",{"$f":"'19 Derivatives'!$L$37","v":"S19.DP0184"}]
["CB100B2.S19.DP0185",{"$f":"'19 Derivatives'!$L$38","v":"S19.DP0185"}]
["CB100B2.S19.DP0186",{"$f":"'19 Derivatives'!$L$39","v":"S19.DP0186"}]
["CB100B2.S19.DP0187",{"$f":"'19 Derivatives'!$L$40","v":"S19.DP0187"}]
["CB100B2.S19.DP0188",{"$f":"'19 Derivatives'!$L$41","v":"S19.DP0188"}]
["CB100B2.S19.DP0189",{"$f":"'19 Derivatives'!$L$42","v":"S19.DP0189"}]
["CB100B2.S19.DP0190",{"$f":"'19 Derivatives'!$N$32","v":"S19.DP0190"}]
["CB100B2.S19.DP0191",{"$f":"'19 Derivatives'!$N$33","v":"S19.DP0191"}]
["CB100B2.S19.DP0192",{"$f":"'19 Derivatives'!$N$34","v":"S19.DP0192"}]
["CB100B2.S19.DP0193",{"$f":"'19 Derivatives'!$N$35","v":"S19.DP0193"}]
["CB100B2.S19.DP0194",{"$f":"'19 Derivatives'!$N$36","v":"S19.DP0194"}]
["CB100B2.S19.DP0195",{"$f":"'19 Derivatives'!$N$37","v":"S19.DP0195"}]
["CB100B2.S19.DP0196",{"$f":"'19 Derivatives'!$N$38","v":"S19.DP0196"}]
["CB100B2.S19.DP0197",{"$f":"'19 Derivatives'!$N$39","v":"S19.DP0197"}]
["CB100B2.S19.DP0198",{"$f":"'19 Derivatives'!$N$40","v":"S19.DP0198"}]
["CB100B2.S19.DP0199",{"$f":"'19 Derivatives'!$N$41","v":"S19.DP0199"}]
["CB100B2.S19.DP0200",{"$f":"'19 Derivatives'!$N$42","v":"S19.DP0200"}]
["CB100B2.S19.DP0201",{"$f":"'19 Derivatives'!$P$32","v":"S19.DP0201"}]
["CB100B2.S19.DP0202",{"$f":"'19 Derivatives'!$P$33","v":"S19.DP0202"}]
["CB100B2.S19.DP0203",{"$f":"'19 Derivatives'!$P$34","v":"S19.DP0203"}]
["CB100B2.S19.DP0204",{"$f":"'19 Derivatives'!$P$35","v":"S19.DP0204"}]
["CB100B2.S19.DP0205",{"$f":"'19 Derivatives'!$P$36","v":"S19.DP0205"}]
["CB100B2.S19.DP0206",{"$f":"'19 Derivatives'!$P$37","v":"S19.DP0206"}]
["CB100B2.S19.DP0207",{"$f":"'19 Derivatives'!$P$38","v":"S19.DP0207"}]
["CB100B2.S19.DP0208",{"$f":"'19 Derivatives'!$P$39","v":"S19.DP0208"}]
["CB100B2.S19.DP0209",{"$f":"'19 Derivatives'!$P$40","v":"S19.DP0209"}]
["CB100B2.S19.DP0210",{"$f":"'19 Derivatives'!$P$41","v":"S19.DP0210"}]
["CB100B2.S19.DP0211",{"$f":"'19 Derivatives'!$P$42","v":"S19.DP0211"}]
["CB100B2.S19.DP0212",{"$f":"'19 Derivatives'!$R$32","v":"S19.DP0212"}]
["CB100B2.S19.DP0213",{"$f":"'19 Derivatives'!$R$33","v":"S19.DP0213"}]
["CB100B2.S19.DP0214",{"$f":"'19 Derivatives'!$R$34","v":"S19.DP0214"}]
["CB100B2.S19.DP0215",{"$f":"'19 Derivatives'!$R$35","v":"S19.DP0215"}]
["CB100B2.S19.DP0216",{"$f":"'19 Derivatives'!$R$36","v":"S19.DP0216"}]
["CB100B2.S19.DP0217",{"$f":"'19 Derivatives'!$R$37","v":"S19.DP0217"}]
["CB100B2.S19.DP0218",{"$f":"'19 Derivatives'!$R$38","v":"S19.DP0218"}]
["CB100B2.S19.DP0219",{"$f":"'19 Derivatives'!$R$39","v":"S19.DP0219"}]
["CB100B2.S19.DP0220",{"$f":"'19 Derivatives'!$R$40","v":"S19.DP0220"}]
["CB100B2.S19.DP0221",{"$f":"'19 Derivatives'!$R$41","v":"S19.DP0221"}]
["CB100B2.S19.DP0222",{"$f":"'19 Derivatives'!$R$42","v":"S19.DP0222"}]
["CB100B2.S19.DP0223",{"$f":"'19 Derivatives'!$F$48","v":"S19.DP0223"}]
["CB100B2.S19.DP0224",{"$f":"'19 Derivatives'!$F$50","v":"S19.DP0224"}]
["CB100B2.S19.DP0225",{"$f":"'19 Derivatives'!$F$51","v":"S19.DP0225"}]
["CB100B2.S19.DP0226",{"$f":"'19 Derivatives'!$F$57","v":"S19.DP0226"}]
["CB100B2.S19.DP0227",{"$f":"'19 Derivatives'!$G$48","v":"S19.DP0227"}]
["CB100B2.S19.DP0228",{"$f":"'19 Derivatives'!$G$49","v":"S19.DP0228"}]
["CB100B2.S19.DP0229",{"$f":"'19 Derivatives'!$G$50","v":"S19.DP0229"}]
["CB100B2.S19.DP0230",{"$f":"'19 Derivatives'!$G$51","v":"S19.DP0230"}]
["CB100B2.S19.DP0231",{"$f":"'19 Derivatives'!$G$57","v":"S19.DP0231"}]
["CB100B2.S19.DP0232",{"$f":"'19 Derivatives'!$H$47","v":"S19.DP0232"}]
["CB100B2.S19.DP0233",{"$f":"'19 Derivatives'!$H$48","v":"S19.DP0233"}]
["CB100B2.S19.DP0234",{"$f":"'19 Derivatives'!$H$49","v":"S19.DP0234"}]
["CB100B2.S19.DP0235",{"$f":"'19 Derivatives'!$H$50","v":"S19.DP0235"}]
["CB100B2.S19.DP0236",{"$f":"'19 Derivatives'!$H$51","v":"S19.DP0236"}]
["CB100B2.S19.DP0237",{"$f":"'19 Derivatives'!$H$52","v":"S19.DP0237"}]
["CB100B2.S19.DP0238",{"$f":"'19 Derivatives'!$H$53","v":"S19.DP0238"}]
["CB100B2.S19.DP0239",{"$f":"'19 Derivatives'!$H$54","v":"S19.DP0239"}]
["CB100B2.S19.DP0240",{"$f":"'19 Derivatives'!$H$55","v":"S19.DP0240"}]
["CB100B2.S19.DP0241",{"$f":"'19 Derivatives'!$H$56","v":"S19.DP0241"}]
["CB100B2.S19.DP0242",{"$f":"'19 Derivatives'!$H$57","v":"S19.DP0242"}]
["CB100B2.S19.DP0243",{"$f":"'19 Derivatives'!$I$47","v":"S19.DP0243"}]
["CB100B2.S19.DP0244",{"$f":"'19 Derivatives'!$I$48","v":"S19.DP0244"}]
["CB100B2.S19.DP0245",{"$f":"'19 Derivatives'!$I$49","v":"S19.DP0245"}]
["CB100B2.S19.DP0246",{"$f":"'19 Derivatives'!$I$50","v":"S19.DP0246"}]
["CB100B2.S19.DP0247",{"$f":"'19 Derivatives'!$I$51","v":"S19.DP0247"}]
["CB100B2.S19.DP0248",{"$f":"'19 Derivatives'!$I$52","v":"S19.DP0248"}]
["CB100B2.S19.DP0249",{"$f":"'19 Derivatives'!$I$53","v":"S19.DP0249"}]
["CB100B2.S19.DP0250",{"$f":"'19 Derivatives'!$I$54","v":"S19.DP0250"}]
["CB100B2.S19.DP0251",{"$f":"'19 Derivatives'!$I$55","v":"S19.DP0251"}]
["CB100B2.S19.DP0252",{"$f":"'19 Derivatives'!$I$56","v":"S19.DP0252"}]
["CB100B2.S19.DP0253",{"$f":"'19 Derivatives'!$I$57","v":"S19.DP0253"}]
["CB100B2.S19.DP0254",{"$f":"'19 Derivatives'!$J$47","v":"S19.DP0254"}]
["CB100B2.S19.DP0255",{"$f":"'19 Derivatives'!$J$48","v":"S19.DP0255"}]
["CB100B2.S19.DP0256",{"$f":"'19 Derivatives'!$J$49","v":"S19.DP0256"}]
["CB100B2.S19.DP0257",{"$f":"'19 Derivatives'!$J$50","v":"S19.DP0257"}]
["CB100B2.S19.DP0258",{"$f":"'19 Derivatives'!$J$51","v":"S19.DP0258"}]
["CB100B2.S19.DP0259",{"$f":"'19 Derivatives'!$J$52","v":"S19.DP0259"}]
["CB100B2.S19.DP0260",{"$f":"'19 Derivatives'!$J$53","v":"S19.DP0260"}]
["CB100B2.S19.DP0261",{"$f":"'19 Derivatives'!$J$54","v":"S19.DP0261"}]
["CB100B2.S19.DP0262",{"$f":"'19 Derivatives'!$J$55","v":"S19.DP0262"}]
["CB100B2.S19.DP0263",{"$f":"'19 Derivatives'!$J$56","v":"S19.DP0263"}]
["CB100B2.S19.DP0264",{"$f":"'19 Derivatives'!$J$57","v":"S19.DP0264"}]
["CB100B2.S19.DP0265",{"$f":"'19 Derivatives'!$K$47","v":"S19.DP0265"}]
["CB100B2.S19.DP0266",{"$f":"'19 Derivatives'!$K$48","v":"S19.DP0266"}]
["CB100B2.S19.DP0267",{"$f":"'19 Derivatives'!$K$49","v":"S19.DP0267"}]
["CB100B2.S19.DP0268",{"$f":"'19 Derivatives'!$K$50","v":"S19.DP0268"}]
["CB100B2.S19.DP0269",{"$f":"'19 Derivatives'!$K$51","v":"S19.DP0269"}]
["CB100B2.S19.DP0270",{"$f":"'19 Derivatives'!$K$52","v":"S19.DP0270"}]
["CB100B2.S19.DP0271",{"$f":"'19 Derivatives'!$K$53","v":"S19.DP0271"}]
["CB100B2.S19.DP0272",{"$f":"'19 Derivatives'!$K$54","v":"S19.DP0272"}]
["CB100B2.S19.DP0273",{"$f":"'19 Derivatives'!$K$55","v":"S19.DP0273"}]
["CB100B2.S19.DP0274",{"$f":"'19 Derivatives'!$K$56","v":"S19.DP0274"}]
["CB100B2.S19.DP0275",{"$f":"'19 Derivatives'!$K$57","v":"S19.DP0275"}]
["CB100B2.S19.DP0276",{"$f":"'19 Derivatives'!$L$47","v":"S19.DP0276"}]
["CB100B2.S19.DP0277",{"$f":"'19 Derivatives'!$L$48","v":"S19.DP0277"}]
["CB100B2.S19.DP0278",{"$f":"'19 Derivatives'!$L$49","v":"S19.DP0278"}]
["CB100B2.S19.DP0279",{"$f":"'19 Derivatives'!$L$50","v":"S19.DP0279"}]
["CB100B2.S19.DP0280",{"$f":"'19 Derivatives'!$L$51","v":"S19.DP0280"}]
["CB100B2.S19.DP0281",{"$f":"'19 Derivatives'!$L$52","v":"S19.DP0281"}]
["CB100B2.S19.DP0282",{"$f":"'19 Derivatives'!$L$53","v":"S19.DP0282"}]
["CB100B2.S19.DP0283",{"$f":"'19 Derivatives'!$L$54","v":"S19.DP0283"}]
["CB100B2.S19.DP0284",{"$f":"'19 Derivatives'!$L$55","v":"S19.DP0284"}]
["CB100B2.S19.DP0285",{"$f":"'19 Derivatives'!$L$56","v":"S19.DP0285"}]
["CB100B2.S19.DP0286",{"$f":"'19 Derivatives'!$L$57","v":"S19.DP0286"}]
["CB100B2.S19.DP0287",{"$f":"'19 Derivatives'!$M$47","v":"S19.DP0287"}]
["CB100B2.S19.DP0288",{"$f":"'19 Derivatives'!$M$48","v":"S19.DP0288"}]
["CB100B2.S19.DP0289",{"$f":"'19 Derivatives'!$M$49","v":"S19.DP0289"}]
["CB100B2.S19.DP0290",{"$f":"'19 Derivatives'!$M$50","v":"S19.DP0290"}]
["CB100B2.S19.DP0291",{"$f":"'19 Derivatives'!$M$51","v":"S19.DP0291"}]
["CB100B2.S19.DP0292",{"$f":"'19 Derivatives'!$M$52","v":"S19.DP0292"}]
["CB100B2.S19.DP0293",{"$f":"'19 Derivatives'!$M$53","v":"S19.DP0293"}]
["CB100B2.S19.DP0294",{"$f":"'19 Derivatives'!$M$54","v":"S19.DP0294"}]
["CB100B2.S19.DP0295",{"$f":"'19 Derivatives'!$M$55","v":"S19.DP0295"}]
["CB100B2.S19.DP0296",{"$f":"'19 Derivatives'!$M$56","v":"S19.DP0296"}]
["CB100B2.S19.DP0297",{"$f":"'19 Derivatives'!$M$57","v":"S19.DP0297"}]
["CB100B2.S19.DP0298",{"$f":"'19 Derivatives'!$N$47","v":"S19.DP0298"}]
["CB100B2.S19.DP0299",{"$f":"'19 Derivatives'!$N$48","v":"S19.DP0299"}]
["CB100B2.S19.DP0300",{"$f":"'19 Derivatives'!$N$49","v":"S19.DP0300"}]
["CB100B2.S19.DP0301",{"$f":"'19 Derivatives'!$N$50","v":"S19.DP0301"}]
["CB100B2.S19.DP0302",{"$f":"'19 Derivatives'!$N$51","v":"S19.DP0302"}]
["CB100B2.S19.DP0303",{"$f":"'19 Derivatives'!$N$52","v":"S19.DP0303"}]
["CB100B2.S19.DP0304",{"$f":"'19 Derivatives'!$N$53","v":"S19.DP0304"}]
["CB100B2.S19.DP0305",{"$f":"'19 Derivatives'!$N$54","v":"S19.DP0305"}]
["CB100B2.S19.DP0306",{"$f":"'19 Derivatives'!$N$55","v":"S19.DP0306"}]
["CB100B2.S19.DP0307",{"$f":"'19 Derivatives'!$N$56","v":"S19.DP0307"}]
["CB100B2.S19.DP0308",{"$f":"'19 Derivatives'!$N$57","v":"S19.DP0308"}]
["CB100B2.S19.DP0309",{"$f":"'19 Derivatives'!$O$47","v":"S19.DP0309"}]
["CB100B2.S19.DP0310",{"$f":"'19 Derivatives'!$O$48","v":"S19.DP0310"}]
["CB100B2.S19.DP0311",{"$f":"'19 Derivatives'!$O$49","v":"S19.DP0311"}]
["CB100B2.S19.DP0312",{"$f":"'19 Derivatives'!$O$50","v":"S19.DP0312"}]
["CB100B2.S19.DP0313",{"$f":"'19 Derivatives'!$O$51","v":"S19.DP0313"}]
["CB100B2.S19.DP0314",{"$f":"'19 Derivatives'!$O$52","v":"S19.DP0314"}]
["CB100B2.S19.DP0315",{"$f":"'19 Derivatives'!$O$53","v":"S19.DP0315"}]
["CB100B2.S19.DP0316",{"$f":"'19 Derivatives'!$O$54","v":"S19.DP0316"}]
["CB100B2.S19.DP0317",{"$f":"'19 Derivatives'!$O$55","v":"S19.DP0317"}]
["CB100B2.S19.DP0318",{"$f":"'19 Derivatives'!$O$56","v":"S19.DP0318"}]
["CB100B2.S19.DP0319",{"$f":"'19 Derivatives'!$O$57","v":"S19.DP0319"}]
["CB100B2.S19.DP0320",{"$f":"'19 Derivatives'!$P$47","v":"S19.DP0320"}]
["CB100B2.S19.DP0321",{"$f":"'19 Derivatives'!$P$48","v":"S19.DP0321"}]
["CB100B2.S19.DP0322",{"$f":"'19 Derivatives'!$P$49","v":"S19.DP0322"}]
["CB100B2.S19.DP0323",{"$f":"'19 Derivatives'!$P$50","v":"S19.DP0323"}]
["CB100B2.S19.DP0324",{"$f":"'19 Derivatives'!$P$51","v":"S19.DP0324"}]
["CB100B2.S19.DP0325",{"$f":"'19 Derivatives'!$P$52","v":"S19.DP0325"}]
["CB100B2.S19.DP0326",{"$f":"'19 Derivatives'!$P$53","v":"S19.DP0326"}]
["CB100B2.S19.DP0327",{"$f":"'19 Derivatives'!$P$54","v":"S19.DP0327"}]
["CB100B2.S19.DP0328",{"$f":"'19 Derivatives'!$P$55","v":"S19.DP0328"}]
["CB100B2.S19.DP0329",{"$f":"'19 Derivatives'!$P$56","v":"S19.DP0329"}]
["CB100B2.S19.DP0330",{"$f":"'19 Derivatives'!$P$57","v":"S19.DP0330"}]
["CB100B2.S19.DP0331",{"$f":"'19 Derivatives'!$Q$47","v":"S19.DP0331"}]
["CB100B2.S19.DP0332",{"$f":"'19 Derivatives'!$Q$48","v":"S19.DP0332"}]
["CB100B2.S19.DP0333",{"$f":"'19 Derivatives'!$Q$49","v":"S19.DP0333"}]
["CB100B2.S19.DP0334",{"$f":"'19 Derivatives'!$Q$50","v":"S19.DP0334"}]
["CB100B2.S19.DP0335",{"$f":"'19 Derivatives'!$Q$51","v":"S19.DP0335"}]
["CB100B2.S19.DP0336",{"$f":"'19 Derivatives'!$Q$52","v":"S19.DP0336"}]
["CB100B2.S19.DP0337",{"$f":"'19 Derivatives'!$Q$53","v":"S19.DP0337"}]
["CB100B2.S19.DP0338",{"$f":"'19 Derivatives'!$Q$54","v":"S19.DP0338"}]
["CB100B2.S19.DP0339",{"$f":"'19 Derivatives'!$Q$55","v":"S19.DP0339"}]
["CB100B2.S19.DP0340",{"$f":"'19 Derivatives'!$Q$56","v":"S19.DP0340"}]
["CB100B2.S19.DP0341",{"$f":"'19 Derivatives'!$Q$57","v":"S19.DP0341"}]
["CB100B2.S19.DP0342",{"$f":"'19 Derivatives'!$R$47","v":"S19.DP0342"}]
["CB100B2.S19.DP0343",{"$f":"'19 Derivatives'!$R$48","v":"S19.DP0343"}]
["CB100B2.S19.DP0344",{"$f":"'19 Derivatives'!$R$49","v":"S19.DP0344"}]
["CB100B2.S19.DP0345",{"$f":"'19 Derivatives'!$R$50","v":"S19.DP0345"}]
["CB100B2.S19.DP0346",{"$f":"'19 Derivatives'!$R$51","v":"S19.DP0346"}]
["CB100B2.S19.DP0347",{"$f":"'19 Derivatives'!$R$52","v":"S19.DP0347"}]
["CB100B2.S19.DP0348",{"$f":"'19 Derivatives'!$R$53","v":"S19.DP0348"}]
["CB100B2.S19.DP0349",{"$f":"'19 Derivatives'!$R$54","v":"S19.DP0349"}]
["CB100B2.S19.DP0350",{"$f":"'19 Derivatives'!$R$55","v":"S19.DP0350"}]
["CB100B2.S19.DP0351",{"$f":"'19 Derivatives'!$R$56","v":"S19.DP0351"}]
["CB100B2.S19.DP0352",{"$f":"'19 Derivatives'!$R$57","v":"S19.DP0352"}]
["CB100B2.S19.DP0353",{"$f":"'19 Derivatives'!$S$47","v":"S19.DP0353"}]
["CB100B2.S19.DP0354",{"$f":"'19 Derivatives'!$S$48","v":"S19.DP0354"}]
["CB100B2.S19.DP0355",{"$f":"'19 Derivatives'!$S$49","v":"S19.DP0355"}]
["CB100B2.S19.DP0356",{"$f":"'19 Derivatives'!$S$50","v":"S19.DP0356"}]
["CB100B2.S19.DP0357",{"$f":"'19 Derivatives'!$S$51","v":"S19.DP0357"}]
["CB100B2.S19.DP0358",{"$f":"'19 Derivatives'!$S$52","v":"S19.DP0358"}]
["CB100B2.S19.DP0359",{"$f":"'19 Derivatives'!$S$53","v":"S19.DP0359"}]
["CB100B2.S19.DP0360",{"$f":"'19 Derivatives'!$S$54","v":"S19.DP0360"}]
["CB100B2.S19.DP0361",{"$f":"'19 Derivatives'!$S$55","v":"S19.DP0361"}]
["CB100B2.S19.DP0362",{"$f":"'19 Derivatives'!$S$56","v":"S19.DP0362"}]
["CB100B2.S19.DP0363",{"$f":"'19 Derivatives'!$S$57","v":"S19.DP0363"}]
["CB100B2.S19.DP0364",{"$f":"'19 Derivatives'!$F$66","v":"S19.DP0364"}]
["CB100B2.S19.DP0365",{"$f":"'19 Derivatives'!$H$66","v":"S19.DP0365"}]
["CB100B2.S19.DP0366",{"$f":"'19 Derivatives'!$H$67","v":"S19.DP0366"}]
["CB100B2.S19.DP0367",{"$f":"'19 Derivatives'!$J$66","v":"S19.DP0367"}]
["CB100B2.S19.DP0368",{"$f":"'19 Derivatives'!$J$67","v":"S19.DP0368"}]
["CB100B2.S19.DP0369",{"$f":"'19 Derivatives'!$L$66","v":"S19.DP0369"}]
["CB100B2.S19.DP0370",{"$f":"'19 Derivatives'!$L$67","v":"S19.DP0370"}]
["CB100B2.S19.DP0371",{"$f":"'19 Derivatives'!$N$66","v":"S19.DP0371"}]
["CB100B2.S19.DP0372",{"$f":"'19 Derivatives'!$N$67","v":"S19.DP0372"}]
["CB100B2.S19.DP0373",{"$f":"'19 Derivatives'!$P$66","v":"S19.DP0373"}]
["CB100B2.S19.DP0374",{"$f":"'19 Derivatives'!$P$67","v":"S19.DP0374"}]
["CB100B2.S19.DP0375",{"$f":"'19 Derivatives'!$R$66","v":"S19.DP0375"}]
["CB100B2.S19.DP0376",{"$f":"'19 Derivatives'!$R$67","v":"S19.DP0376"}]
["CB100B2.S19.DP0377",{"$f":"'19 Derivatives'!$F$71","v":"S19.DP0377"}]
["CB100B2.S19.DP0378",{"$f":"'19 Derivatives'!$F$72","v":"S19.DP0378"}]
["CB100B2.S19.DP0379",{"$f":"'19 Derivatives'!$H$71","v":"S19.DP0379"}]
["CB100B2.S19.DP0380",{"$f":"'19 Derivatives'!$H$72","v":"S19.DP0380"}]
["CB100B2.S19.DP0381",{"$f":"'19 Derivatives'!$J$71","v":"S19.DP0381"}]
["CB100B2.S19.DP0382",{"$f":"'19 Derivatives'!$J$72","v":"S19.DP0382"}]
["CB100B2.S19.DP0383",{"$f":"'19 Derivatives'!$L$71","v":"S19.DP0383"}]
["CB100B2.S19.DP0384",{"$f":"'19 Derivatives'!$L$72","v":"S19.DP0384"}]
["CB100B2.S19.DP0385",{"$f":"'19 Derivatives'!$N$71","v":"S19.DP0385"}]
["CB100B2.S19.DP0386",{"$f":"'19 Derivatives'!$N$72","v":"S19.DP0386"}]
["CB100B2.S19.DP0387",{"$f":"'19 Derivatives'!$P$71","v":"S19.DP0387"}]
["CB100B2.S19.DP0388",{"$f":"'19 Derivatives'!$P$72","v":"S19.DP0388"}]
["CB100B2.S19.DP0389",{"$f":"'19 Derivatives'!$R$71","v":"S19.DP0389"}]
["CB100B2.S19.DP0390",{"$f":"'19 Derivatives'!$R$72","v":"S19.DP0390"}]
["CB100B2.S19.DP0391",{"$f":"'19 Derivatives'!$H$75","v":"S19.DP0391"}]
["CB100B2.S19.DP0392",{"$f":"'19 Derivatives'!$H$76","v":"S19.DP0392"}]
["CB100B2.S19.DP0393",{"$f":"'19 Derivatives'!$J$75","v":"S19.DP0393"}]
["CB100B2.S19.DP0394",{"$f":"'19 Derivatives'!$J$76","v":"S19.DP0394"}]
["CB100B2.S19.DP0395",{"$f":"'19 Derivatives'!$L$75","v":"S19.DP0395"}]
["CB100B2.S19.DP0396",{"$f":"'19 Derivatives'!$L$76","v":"S19.DP0396"}]
["CB100B2.S19.DP0397",{"$f":"'19 Derivatives'!$N$75","v":"S19.DP0397"}]
["CB100B2.S19.DP0398",{"$f":"'19 Derivatives'!$N$76","v":"S19.DP0398"}]
["CB100B2.S19.DP0399",{"$f":"'19 Derivatives'!$P$75","v":"S19.DP0399"}]
["CB100B2.S19.DP0400",{"$f":"'19 Derivatives'!$P$76","v":"S19.DP0400"}]
["CB100B2.S19.DP0401",{"$f":"'19 Derivatives'!$R$75","v":"S19.DP0401"}]
["CB100B2.S19.DP0402",{"$f":"'19 Derivatives'!$R$76","v":"S19.DP0402"}]
["CB100B2.S19.DP0403",{"$f":"'19 Derivatives'!$F$79","v":"S19.DP0403"}]
["CB100B2.S19.DP0404",{"$f":"'19 Derivatives'!$F$80","v":"S19.DP0404"}]
["CB100B2.S19.DP0405",{"$f":"'19 Derivatives'!$F$81","v":"S19.DP0405"}]
["CB100B2.S19.DP0406",{"$f":"'19 Derivatives'!$H$79","v":"S19.DP0406"}]
["CB100B2.S19.DP0407",{"$f":"'19 Derivatives'!$H$80","v":"S19.DP0407"}]
["CB100B2.S19.DP0408",{"$f":"'19 Derivatives'!$H$81","v":"S19.DP0408"}]
["CB100B2.S19.DP0409",{"$f":"'19 Derivatives'!$J$79","v":"S19.DP0409"}]
["CB100B2.S19.DP0410",{"$f":"'19 Derivatives'!$J$80","v":"S19.DP0410"}]
["CB100B2.S19.DP0411",{"$f":"'19 Derivatives'!$J$81","v":"S19.DP0411"}]
["CB100B2.S19.DP0412",{"$f":"'19 Derivatives'!$L$79","v":"S19.DP0412"}]
["CB100B2.S19.DP0413",{"$f":"'19 Derivatives'!$L$80","v":"S19.DP0413"}]
["CB100B2.S19.DP0414",{"$f":"'19 Derivatives'!$L$81","v":"S19.DP0414"}]
["CB100B2.S19.DP0415",{"$f":"'19 Derivatives'!$N$79","v":"S19.DP0415"}]
["CB100B2.S19.DP0416",{"$f":"'19 Derivatives'!$N$80","v":"S19.DP0416"}]
["CB100B2.S19.DP0417",{"$f":"'19 Derivatives'!$N$81","v":"S19.DP0417"}]
["CB100B2.S19.DP0418",{"$f":"'19 Derivatives'!$P$79","v":"S19.DP0418"}]
["CB100B2.S19.DP0419",{"$f":"'19 Derivatives'!$P$80","v":"S19.DP0419"}]
["CB100B2.S19.DP0420",{"$f":"'19 Derivatives'!$P$81","v":"S19.DP0420"}]
["CB100B2.S19.DP0421",{"$f":"'19 Derivatives'!$R$79","v":"S19.DP0421"}]
["CB100B2.S19.DP0422",{"$f":"'19 Derivatives'!$R$80","v":"S19.DP0422"}]
["CB100B2.S19.DP0423",{"$f":"'19 Derivatives'!$R$81","v":"S19.DP0423"}]
["CB100B2.S19.DP0424",{"$f":"'19 Derivatives'!$F$83","v":"S19.DP0424"}]
["CB100B2.S19.DP0425",{"$f":"'19 Derivatives'!$H$83","v":"S19.DP0425"}]
["CB100B2.S19.DP0426",{"$f":"'19 Derivatives'!$J$83","v":"S19.DP0426"}]
["CB100B2.S19.DP0427",{"$f":"'19 Derivatives'!$L$83","v":"S19.DP0427"}]
["CB100B2.S19.DP0428",{"$f":"'19 Derivatives'!$N$83","v":"S19.DP0428"}]
["CB100B2.S19.DP0429",{"$f":"'19 Derivatives'!$P$83","v":"S19.DP0429"}]
["CB100B2.S19.DP0430",{"$f":"'19 Derivatives'!$R$83","v":"S19.DP0430"}]
["CB100B2.S19.DP0431",{"$f":"'19 Derivatives'!$F$85","v":"S19.DP0431"}]
["CB100B2.S19.DP0432",{"$f":"'19 Derivatives'!$F$86","v":"S19.DP0432"}]
["CB100B2.S19.DP0433",{"$f":"'19 Derivatives'!$H$85","v":"S19.DP0433"}]
["CB100B2.S19.DP0434",{"$f":"'19 Derivatives'!$H$86","v":"S19.DP0434"}]
["CB100B2.S19.DP0435",{"$f":"'19 Derivatives'!$J$85","v":"S19.DP0435"}]
["CB100B2.S19.DP0436",{"$f":"'19 Derivatives'!$J$86","v":"S19.DP0436"}]
["CB100B2.S19.DP0437",{"$f":"'19 Derivatives'!$L$85","v":"S19.DP0437"}]
["CB100B2.S19.DP0438",{"$f":"'19 Derivatives'!$L$86","v":"S19.DP0438"}]
["CB100B2.S19.DP0439",{"$f":"'19 Derivatives'!$N$85","v":"S19.DP0439"}]
["CB100B2.S19.DP0440",{"$f":"'19 Derivatives'!$N$86","v":"S19.DP0440"}]
["CB100B2.S19.DP0441",{"$f":"'19 Derivatives'!$P$85","v":"S19.DP0441"}]
["CB100B2.S19.DP0442",{"$f":"'19 Derivatives'!$P$86","v":"S19.DP0442"}]
["CB100B2.S19.DP0443",{"$f":"'19 Derivatives'!$R$85","v":"S19.DP0443"}]
["CB100B2.S19.DP0444",{"$f":"'19 Derivatives'!$R$86","v":"S19.DP0444"}]
["CB100B2.S19.DP0445",{"$f":"'19 Derivatives'!$F$88","v":"S19.DP0445"}]
["CB100B2.S19.DP0446",{"$f":"'19 Derivatives'!$F$89","v":"S19.DP0446"}]
["CB100B2.S19.DP0447",{"$f":"'19 Derivatives'!$H$88","v":"S19.DP0447"}]
["CB100B2.S19.DP0448",{"$f":"'19 Derivatives'!$H$89","v":"S19.DP0448"}]
["CB100B2.S19.DP0449",{"$f":"'19 Derivatives'!$J$88","v":"S19.DP0449"}]
["CB100B2.S19.DP0450",{"$f":"'19 Derivatives'!$J$89","v":"S19.DP0450"}]
["CB100B2.S19.DP0451",{"$f":"'19 Derivatives'!$L$88","v":"S19.DP0451"}]
["CB100B2.S19.DP0452",{"$f":"'19 Derivatives'!$L$89","v":"S19.DP0452"}]
["CB100B2.S19.DP0453",{"$f":"'19 Derivatives'!$N$88","v":"S19.DP0453"}]
["CB100B2.S19.DP0454",{"$f":"'19 Derivatives'!$N$89","v":"S19.DP0454"}]
["CB100B2.S19.DP0455",{"$f":"'19 Derivatives'!$P$88","v":"S19.DP0455"}]
["CB100B2.S19.DP0456",{"$f":"'19 Derivatives'!$P$89","v":"S19.DP0456"}]
["CB100B2.S19.DP0457",{"$f":"'19 Derivatives'!$R$88","v":"S19.DP0457"}]
["CB100B2.S19.DP0458",{"$f":"'19 Derivatives'!$R$89","v":"S19.DP0458"}]
["CB100B2.S19.DP0459",{"$f":"'19 Derivatives'!$F$91","v":"S19.DP0459"}]
["CB100B2.S19.DP0460",{"$f":"'19 Derivatives'!$F$92","v":"S19.DP0460"}]
["CB100B2.S19.DP0461",{"$f":"'19 Derivatives'!$H$91","v":"S19.DP0461"}]
["CB100B2.S19.DP0462",{"$f":"'19 Derivatives'!$H$92","v":"S19.DP0462"}]
["CB100B2.S19.DP0463",{"$f":"'19 Derivatives'!$J$91","v":"S19.DP0463"}]
["CB100B2.S19.DP0464",{"$f":"'19 Derivatives'!$J$92","v":"S19.DP0464"}]
["CB100B2.S19.DP0465",{"$f":"'19 Derivatives'!$L$91","v":"S19.DP0465"}]
["CB100B2.S19.DP0466",{"$f":"'19 Derivatives'!$L$92","v":"S19.DP0466"}]
["CB100B2.S19.DP0467",{"$f":"'19 Derivatives'!$N$91","v":"S19.DP0467"}]
["CB100B2.S19.DP0468",{"$f":"'19 Derivatives'!$N$92","v":"S19.DP0468"}]
["CB100B2.S19.DP0469",{"$f":"'19 Derivatives'!$P$91","v":"S19.DP0469"}]
["CB100B2.S19.DP0470",{"$f":"'19 Derivatives'!$P$92","v":"S19.DP0470"}]
["CB100B2.S19.DP0471",{"$f":"'19 Derivatives'!$R$91","v":"S19.DP0471"}]
["CB100B2.S19.DP0472",{"$f":"'19 Derivatives'!$R$92","v":"S19.DP0472"}]
["CB100B2.S19.DP0473",{"$f":"'19 Derivatives'!$F$97","v":"S19.DP0473"}]
["CB100B2.S19.DP0474",{"$f":"'19 Derivatives'!$H$97","v":"S19.DP0474"}]
["CB100B2.S19.DP0475",{"$f":"'19 Derivatives'!$H$98","v":"S19.DP0475"}]
["CB100B2.S19.DP0476",{"$f":"'19 Derivatives'!$J$97","v":"S19.DP0476"}]
["CB100B2.S19.DP0477",{"$f":"'19 Derivatives'!$J$98","v":"S19.DP0477"}]
["CB100B2.S19.DP0478",{"$f":"'19 Derivatives'!$L$97","v":"S19.DP0478"}]
["CB100B2.S19.DP0479",{"$f":"'19 Derivatives'!$L$98","v":"S19.DP0479"}]
["CB100B2.S19.DP0480",{"$f":"'19 Derivatives'!$N$97","v":"S19.DP0480"}]
["CB100B2.S19.DP0481",{"$f":"'19 Derivatives'!$N$98","v":"S19.DP0481"}]
["CB100B2.S19.DP0482",{"$f":"'19 Derivatives'!$P$97","v":"S19.DP0482"}]
["CB100B2.S19.DP0483",{"$f":"'19 Derivatives'!$P$98","v":"S19.DP0483"}]
["CB100B2.S19.DP0484",{"$f":"'19 Derivatives'!$R$97","v":"S19.DP0484"}]
["CB100B2.S19.DP0485",{"$f":"'19 Derivatives'!$R$98","v":"S19.DP0485"}]
["CB100B2.S19.DP0486",{"$f":"'19 Derivatives'!$F$102","v":"S19.DP0486"}]
["CB100B2.S19.DP0487",{"$f":"'19 Derivatives'!$F$103","v":"S19.DP0487"}]
["CB100B2.S19.DP0488",{"$f":"'19 Derivatives'!$H$102","v":"S19.DP0488"}]
["CB100B2.S19.DP0489",{"$f":"'19 Derivatives'!$H$103","v":"S19.DP0489"}]
["CB100B2.S19.DP0490",{"$f":"'19 Derivatives'!$J$102","v":"S19.DP0490"}]
["CB100B2.S19.DP0491",{"$f":"'19 Derivatives'!$J$103","v":"S19.DP0491"}]
["CB100B2.S19.DP0492",{"$f":"'19 Derivatives'!$L$102","v":"S19.DP0492"}]
["CB100B2.S19.DP0493",{"$f":"'19 Derivatives'!$L$103","v":"S19.DP0493"}]
["CB100B2.S19.DP0494",{"$f":"'19 Derivatives'!$N$102","v":"S19.DP0494"}]
["CB100B2.S19.DP0495",{"$f":"'19 Derivatives'!$N$103","v":"S19.DP0495"}]
["CB100B2.S19.DP0496",{"$f":"'19 Derivatives'!$P$102","v":"S19.DP0496"}]
["CB100B2.S19.DP0497",{"$f":"'19 Derivatives'!$P$103","v":"S19.DP0497"}]
["CB100B2.S19.DP0498",{"$f":"'19 Derivatives'!$R$102","v":"S19.DP0498"}]
["CB100B2.S19.DP0499",{"$f":"'19 Derivatives'!$R$103","v":"S19.DP0499"}]
["CB100B2.S19.DP0500",{"$f":"'19 Derivatives'!$H$106","v":"S19.DP0500"}]
["CB100B2.S19.DP0501",{"$f":"'19 Derivatives'!$H$107","v":"S19.DP0501"}]
["CB100B2.S19.DP0502",{"$f":"'19 Derivatives'!$J$106","v":"S19.DP0502"}]
["CB100B2.S19.DP0503",{"$f":"'19 Derivatives'!$J$107","v":"S19.DP0503"}]
["CB100B2.S19.DP0504",{"$f":"'19 Derivatives'!$L$106","v":"S19.DP0504"}]
["CB100B2.S19.DP0505",{"$f":"'19 Derivatives'!$L$107","v":"S19.DP0505"}]
["CB100B2.S19.DP0506",{"$f":"'19 Derivatives'!$N$106","v":"S19.DP0506"}]
["CB100B2.S19.DP0507",{"$f":"'19 Derivatives'!$N$107","v":"S19.DP0507"}]
["CB100B2.S19.DP0508",{"$f":"'19 Derivatives'!$P$106","v":"S19.DP0508"}]
["CB100B2.S19.DP0509",{"$f":"'19 Derivatives'!$P$107","v":"S19.DP0509"}]
["CB100B2.S19.DP0510",{"$f":"'19 Derivatives'!$R$106","v":"S19.DP0510"}]
["CB100B2.S19.DP0511",{"$f":"'19 Derivatives'!$R$107","v":"S19.DP0511"}]
["CB100B2.S19.DP0512",{"$f":"'19 Derivatives'!$F$110","v":"S19.DP0512"}]
["CB100B2.S19.DP0513",{"$f":"'19 Derivatives'!$F$111","v":"S19.DP0513"}]
["CB100B2.S19.DP0514",{"$f":"'19 Derivatives'!$F$112","v":"S19.DP0514"}]
["CB100B2.S19.DP0515",{"$f":"'19 Derivatives'!$H$110","v":"S19.DP0515"}]
["CB100B2.S19.DP0516",{"$f":"'19 Derivatives'!$H$111","v":"S19.DP0516"}]
["CB100B2.S19.DP0517",{"$f":"'19 Derivatives'!$H$112","v":"S19.DP0517"}]
["CB100B2.S19.DP0518",{"$f":"'19 Derivatives'!$J$110","v":"S19.DP0518"}]
["CB100B2.S19.DP0519",{"$f":"'19 Derivatives'!$J$111","v":"S19.DP0519"}]
["CB100B2.S19.DP0520",{"$f":"'19 Derivatives'!$J$112","v":"S19.DP0520"}]
["CB100B2.S19.DP0521",{"$f":"'19 Derivatives'!$L$110","v":"S19.DP0521"}]
["CB100B2.S19.DP0522",{"$f":"'19 Derivatives'!$L$111","v":"S19.DP0522"}]
["CB100B2.S19.DP0523",{"$f":"'19 Derivatives'!$L$112","v":"S19.DP0523"}]
["CB100B2.S19.DP0524",{"$f":"'19 Derivatives'!$N$110","v":"S19.DP0524"}]
["CB100B2.S19.DP0525",{"$f":"'19 Derivatives'!$N$111","v":"S19.DP0525"}]
["CB100B2.S19.DP0526",{"$f":"'19 Derivatives'!$N$112","v":"S19.DP0526"}]
["CB100B2.S19.DP0527",{"$f":"'19 Derivatives'!$P$110","v":"S19.DP0527"}]
["CB100B2.S19.DP0528",{"$f":"'19 Derivatives'!$P$111","v":"S19.DP0528"}]
["CB100B2.S19.DP0529",{"$f":"'19 Derivatives'!$P$112","v":"S19.DP0529"}]
["CB100B2.S19.DP0530",{"$f":"'19 Derivatives'!$R$110","v":"S19.DP0530"}]
["CB100B2.S19.DP0531",{"$f":"'19 Derivatives'!$R$111","v":"S19.DP0531"}]
["CB100B2.S19.DP0532",{"$f":"'19 Derivatives'!$R$112","v":"S19.DP0532"}]
["CB100B2.S19.DP0533",{"$f":"'19 Derivatives'!$F$114","v":"S19.DP0533"}]
["CB100B2.S19.DP0534",{"$f":"'19 Derivatives'!$H$114","v":"S19.DP0534"}]
["CB100B2.S19.DP0535",{"$f":"'19 Derivatives'!$J$114","v":"S19.DP0535"}]
["CB100B2.S19.DP0536",{"$f":"'19 Derivatives'!$L$114","v":"S19.DP0536"}]
["CB100B2.S19.DP0537",{"$f":"'19 Derivatives'!$N$114","v":"S19.DP0537"}]
["CB100B2.S19.DP0538",{"$f":"'19 Derivatives'!$P$114","v":"S19.DP0538"}]
["CB100B2.S19.DP0539",{"$f":"'19 Derivatives'!$R$114","v":"S19.DP0539"}]
["CB100B2.S19.DP0540",{"$f":"'19 Derivatives'!$F$116","v":"S19.DP0540"}]
["CB100B2.S19.DP0541",{"$f":"'19 Derivatives'!$F$117","v":"S19.DP0541"}]
["CB100B2.S19.DP0542",{"$f":"'19 Derivatives'!$H$116","v":"S19.DP0542"}]
["CB100B2.S19.DP0543",{"$f":"'19 Derivatives'!$H$117","v":"S19.DP0543"}]
["CB100B2.S19.DP0544",{"$f":"'19 Derivatives'!$J$116","v":"S19.DP0544"}]
["CB100B2.S19.DP0545",{"$f":"'19 Derivatives'!$J$117","v":"S19.DP0545"}]
["CB100B2.S19.DP0546",{"$f":"'19 Derivatives'!$L$116","v":"S19.DP0546"}]
["CB100B2.S19.DP0547",{"$f":"'19 Derivatives'!$L$117","v":"S19.DP0547"}]
["CB100B2.S19.DP0548",{"$f":"'19 Derivatives'!$N$116","v":"S19.DP0548"}]
["CB100B2.S19.DP0549",{"$f":"'19 Derivatives'!$N$117","v":"S19.DP0549"}]
["CB100B2.S19.DP0550",{"$f":"'19 Derivatives'!$P$116","v":"S19.DP0550"}]
["CB100B2.S19.DP0551",{"$f":"'19 Derivatives'!$P$117","v":"S19.DP0551"}]
["CB100B2.S19.DP0552",{"$f":"'19 Derivatives'!$R$116","v":"S19.DP0552"}]
["CB100B2.S19.DP0553",{"$f":"'19 Derivatives'!$R$117","v":"S19.DP0553"}]
["CB100B2.S19.DP0554",{"$f":"'19 Derivatives'!$F$119","v":"S19.DP0554"}]
["CB100B2.S19.DP0555",{"$f":"'19 Derivatives'!$F$120","v":"S19.DP0555"}]
["CB100B2.S19.DP0556",{"$f":"'19 Derivatives'!$H$119","v":"S19.DP0556"}]
["CB100B2.S19.DP0557",{"$f":"'19 Derivatives'!$H$120","v":"S19.DP0557"}]
["CB100B2.S19.DP0558",{"$f":"'19 Derivatives'!$J$119","v":"S19.DP0558"}]
["CB100B2.S19.DP0559",{"$f":"'19 Derivatives'!$J$120","v":"S19.DP0559"}]
["CB100B2.S19.DP0560",{"$f":"'19 Derivatives'!$L$119","v":"S19.DP0560"}]
["CB100B2.S19.DP0561",{"$f":"'19 Derivatives'!$L$120","v":"S19.DP0561"}]
["CB100B2.S19.DP0562",{"$f":"'19 Derivatives'!$N$119","v":"S19.DP0562"}]
["CB100B2.S19.DP0563",{"$f":"'19 Derivatives'!$N$120","v":"S19.DP0563"}]
["CB100B2.S19.DP0564",{"$f":"'19 Derivatives'!$P$119","v":"S19.DP0564"}]
["CB100B2.S19.DP0565",{"$f":"'19 Derivatives'!$P$120","v":"S19.DP0565"}]
["CB100B2.S19.DP0566",{"$f":"'19 Derivatives'!$R$119","v":"S19.DP0566"}]
["CB100B2.S19.DP0567",{"$f":"'19 Derivatives'!$R$120","v":"S19.DP0567"}]
["CB100B2.S19.DP0568",{"$f":"'19 Derivatives'!$F$122","v":"S19.DP0568"}]
["CB100B2.S19.DP0569",{"$f":"'19 Derivatives'!$F$123","v":"S19.DP0569"}]
["CB100B2.S19.DP0570",{"$f":"'19 Derivatives'!$H$122","v":"S19.DP0570"}]
["CB100B2.S19.DP0571",{"$f":"'19 Derivatives'!$H$123","v":"S19.DP0571"}]
["CB100B2.S19.DP0572",{"$f":"'19 Derivatives'!$J$122","v":"S19.DP0572"}]
["CB100B2.S19.DP0573",{"$f":"'19 Derivatives'!$J$123","v":"S19.DP0573"}]
["CB100B2.S19.DP0574",{"$f":"'19 Derivatives'!$L$122","v":"S19.DP0574"}]
["CB100B2.S19.DP0575",{"$f":"'19 Derivatives'!$L$123","v":"S19.DP0575"}]
["CB100B2.S19.DP0576",{"$f":"'19 Derivatives'!$N$122","v":"S19.DP0576"}]
["CB100B2.S19.DP0577",{"$f":"'19 Derivatives'!$N$123","v":"S19.DP0577"}]
["CB100B2.S19.DP0578",{"$f":"'19 Derivatives'!$P$122","v":"S19.DP0578"}]
["CB100B2.S19.DP0579",{"$f":"'19 Derivatives'!$P$123","v":"S19.DP0579"}]
["CB100B2.S19.DP0580",{"$f":"'19 Derivatives'!$R$122","v":"S19.DP0580"}]
["CB100B2.S19.DP0581",{"$f":"'19 Derivatives'!$R$123","v":"S19.DP0581"}]
["CB100B2.S20.DP0001",{"$f":"'20 Securitization Banking book'!$G$7","v":"S20.DP0001"}]
["CB100B2.S20.DP0002",{"$f":"'20 Securitization Banking book'!$G$8","v":"S20.DP0002"}]
["CB100B2.S20.DP0003",{"$f":"'20 Securitization Banking book'!$G$9","v":"S20.DP0003"}]
["CB100B2.S20.DP0004",{"$f":"'20 Securitization Banking book'!$G$10","v":"S20.DP0004"}]
["CB100B2.S20.DP0005",{"$f":"'20 Securitization Banking book'!$J$7","v":"S20.DP0005"}]
["CB100B2.S20.DP0006",{"$f":"'20 Securitization Banking book'!$J$8","v":"S20.DP0006"}]
["CB100B2.S20.DP0007",{"$f":"'20 Securitization Banking book'!$J$9","v":"S20.DP0007"}]
["CB100B2.S20.DP0008",{"$f":"'20 Securitization Banking book'!$J$10","v":"S20.DP0008"}]
["CB100B2.S20.DP0009",{"$f":"'20 Securitization Banking book'!$L$7","v":"S20.DP0009"}]
["CB100B2.S20.DP0010",{"$f":"'20 Securitization Banking book'!$L$8","v":"S20.DP0010"}]
["CB100B2.S20.DP0011",{"$f":"'20 Securitization Banking book'!$L$9","v":"S20.DP0011"}]
["CB100B2.S20.DP0012",{"$f":"'20 Securitization Banking book'!$L$10","v":"S20.DP0012"}]
["CB100B2.S20.DP0013",{"$f":"'20 Securitization Banking book'!$F$14","v":"S20.DP0013"}]
["CB100B2.S20.DP0014",{"$f":"'20 Securitization Banking book'!$F$15","v":"S20.DP0014"}]
["CB100B2.S20.DP0015",{"$f":"'20 Securitization Banking book'!$F$16","v":"S20.DP0015"}]
["CB100B2.S20.DP0016",{"$f":"'20 Securitization Banking book'!$F$17","v":"S20.DP0016"}]
["CB100B2.S20.DP0017",{"$f":"'20 Securitization Banking book'!$F$18","v":"S20.DP0017"}]
["CB100B2.S20.DP0018",{"$f":"'20 Securitization Banking book'!$F$19","v":"S20.DP0018"}]
["CB100B2.S20.DP0019",{"$f":"'20 Securitization Banking book'!$F$20","v":"S20.DP0019"}]
["CB100B2.S20.DP0020",{"$f":"'20 Securitization Banking book'!$F$21","v":"S20.DP0020"}]
["CB100B2.S20.DP0021",{"$f":"'20 Securitization Banking book'!$G$14","v":"S20.DP0021"}]
["CB100B2.S20.DP0022",{"$f":"'20 Securitization Banking book'!$G$15","v":"S20.DP0022"}]
["CB100B2.S20.DP0023",{"$f":"'20 Securitization Banking book'!$G$16","v":"S20.DP0023"}]
["CB100B2.S20.DP0024",{"$f":"'20 Securitization Banking book'!$G$18","v":"S20.DP0024"}]
["CB100B2.S20.DP0025",{"$f":"'20 Securitization Banking book'!$G$19","v":"S20.DP0025"}]
["CB100B2.S20.DP0026",{"$f":"'20 Securitization Banking book'!$G$20","v":"S20.DP0026"}]
["CB100B2.S20.DP0027",{"$f":"'20 Securitization Banking book'!$G$21","v":"S20.DP0027"}]
["CB100B2.S20.DP0028",{"$f":"'20 Securitization Banking book'!$I$14","v":"S20.DP0028"}]
["CB100B2.S20.DP0029",{"$f":"'20 Securitization Banking book'!$I$15","v":"S20.DP0029"}]
["CB100B2.S20.DP0030",{"$f":"'20 Securitization Banking book'!$I$16","v":"S20.DP0030"}]
["CB100B2.S20.DP0031",{"$f":"'20 Securitization Banking book'!$I$17","v":"S20.DP0031"}]
["CB100B2.S20.DP0032",{"$f":"'20 Securitization Banking book'!$I$18","v":"S20.DP0032"}]
["CB100B2.S20.DP0033",{"$f":"'20 Securitization Banking book'!$I$19","v":"S20.DP0033"}]
["CB100B2.S20.DP0034",{"$f":"'20 Securitization Banking book'!$I$20","v":"S20.DP0034"}]
["CB100B2.S20.DP0035",{"$f":"'20 Securitization Banking book'!$I$21","v":"S20.DP0035"}]
["CB100B2.S20.DP0036",{"$f":"'20 Securitization Banking book'!$J$14","v":"S20.DP0036"}]
["CB100B2.S20.DP0037",{"$f":"'20 Securitization Banking book'!$J$15","v":"S20.DP0037"}]
["CB100B2.S20.DP0038",{"$f":"'20 Securitization Banking book'!$J$16","v":"S20.DP0038"}]
["CB100B2.S20.DP0039",{"$f":"'20 Securitization Banking book'!$J$18","v":"S20.DP0039"}]
["CB100B2.S20.DP0040",{"$f":"'20 Securitization Banking book'!$J$19","v":"S20.DP0040"}]
["CB100B2.S20.DP0041",{"$f":"'20 Securitization Banking book'!$J$20","v":"S20.DP0041"}]
["CB100B2.S20.DP0042",{"$f":"'20 Securitization Banking book'!$J$21","v":"S20.DP0042"}]
["CB100B2.S20.DP0043",{"$f":"'20 Securitization Banking book'!$L$14","v":"S20.DP0043"}]
["CB100B2.S20.DP0044",{"$f":"'20 Securitization Banking book'!$L$15","v":"S20.DP0044"}]
["CB100B2.S20.DP0045",{"$f":"'20 Securitization Banking book'!$L$16","v":"S20.DP0045"}]
["CB100B2.S20.DP0046",{"$f":"'20 Securitization Banking book'!$L$18","v":"S20.DP0046"}]
["CB100B2.S20.DP0047",{"$f":"'20 Securitization Banking book'!$L$19","v":"S20.DP0047"}]
["CB100B2.S20.DP0048",{"$f":"'20 Securitization Banking book'!$L$20","v":"S20.DP0048"}]
["CB100B2.S20.DP0049",{"$f":"'20 Securitization Banking book'!$L$21","v":"S20.DP0049"}]
["CB100B2.S20.DP0050",{"$f":"'20 Securitization Banking book'!$F$23","v":"S20.DP0050"}]
["CB100B2.S20.DP0051",{"$f":"'20 Securitization Banking book'!$F$24","v":"S20.DP0051"}]
["CB100B2.S20.DP0052",{"$f":"'20 Securitization Banking book'!$G$23","v":"S20.DP0052"}]
["CB100B2.S20.DP0053",{"$f":"'20 Securitization Banking book'!$G$24","v":"S20.DP0053"}]
["CB100B2.S20.DP0054",{"$f":"'20 Securitization Banking book'!$G$25","v":"S20.DP0054"}]
["CB100B2.S20.DP0055",{"$f":"'20 Securitization Banking book'!$G$26","v":"S20.DP0055"}]
["CB100B2.S20.DP0056",{"$f":"'20 Securitization Banking book'!$I$23","v":"S20.DP0056"}]
["CB100B2.S20.DP0057",{"$f":"'20 Securitization Banking book'!$I$24","v":"S20.DP0057"}]
["CB100B2.S20.DP0058",{"$f":"'20 Securitization Banking book'!$J$23","v":"S20.DP0058"}]
["CB100B2.S20.DP0059",{"$f":"'20 Securitization Banking book'!$J$24","v":"S20.DP0059"}]
["CB100B2.S20.DP0060",{"$f":"'20 Securitization Banking book'!$J$25","v":"S20.DP0060"}]
["CB100B2.S20.DP0061",{"$f":"'20 Securitization Banking book'!$J$26","v":"S20.DP0061"}]
["CB100B2.S20.DP0062",{"$f":"'20 Securitization Banking book'!$L$23","v":"S20.DP0062"}]
["CB100B2.S20.DP0063",{"$f":"'20 Securitization Banking book'!$L$24","v":"S20.DP0063"}]
["CB100B2.S20.DP0064",{"$f":"'20 Securitization Banking book'!$L$25","v":"S20.DP0064"}]
["CB100B2.S20.DP0065",{"$f":"'20 Securitization Banking book'!$L$26","v":"S20.DP0065"}]
["CB100B2.S21.DP0001",{"$f":"'21 Market Risk - Foreign Exch.'!$E$12","v":"S21.DP0001"}]
["CB100B2.S21.DP0002",{"$f":"'21 Market Risk - Foreign Exch.'!$E$14","v":"S21.DP0002"}]
["CB100B2.S21.DP0003",{"$f":"'21 Market Risk - Foreign Exch.'!$E$15","v":"S21.DP0003"}]
["CB100B2.S21.DP0004",{"$f":"'21 Market Risk - Foreign Exch.'!$E$16","v":"S21.DP0004"}]
["CB100B2.S21.DP0005",{"$f":"'21 Market Risk - Foreign Exch.'!$E$17","v":"S21.DP0005"}]
["CB100B2.S21.DP0006",{"$f":"'21 Market Risk - Foreign Exch.'!$E$18","v":"S21.DP0006"}]
["CB100B2.S21.DP0007",{"$f":"'21 Market Risk - Foreign Exch.'!$E$20","v":"S21.DP0007"}]
["CB100B2.S21.DP0008",{"$f":"'21 Market Risk - Foreign Exch.'!$E$21","v":"S21.DP0008"}]
["CB100B2.S21.DP0009",{"$f":"'21 Market Risk - Foreign Exch.'!$E$22","v":"S21.DP0009"}]
["CB100B2.S21.DP0010",{"$f":"'21 Market Risk - Foreign Exch.'!$E$23","v":"S21.DP0010"}]
["CB100B2.S21.DP0011",{"$f":"'21 Market Risk - Foreign Exch.'!$E$24","v":"S21.DP0011"}]
["CB100B2.S21.DP0012",{"$f":"'21 Market Risk - Foreign Exch.'!$E$25","v":"S21.DP0012"}]
["CB100B2.S21.DP0013",{"$f":"'21 Market Risk - Foreign Exch.'!$E$26","v":"S21.DP0013"}]
["CB100B2.S21.DP0014",{"$f":"'21 Market Risk - Foreign Exch.'!$E$27","v":"S21.DP0014"}]
["CB100B2.S21.DP0015",{"$f":"'21 Market Risk - Foreign Exch.'!$E$28","v":"S21.DP0015"}]
["CB100B2.S21.DP0016",{"$f":"'21 Market Risk - Foreign Exch.'!$E$30","v":"S21.DP0016"}]
["CB100B2.S21.DP0017",{"$f":"'21 Market Risk - Foreign Exch.'!$E$31","v":"S21.DP0017"}]
["CB100B2.S21.DP0018",{"$f":"'21 Market Risk - Foreign Exch.'!$E$32","v":"S21.DP0018"}]
["CB100B2.S21.DP0019",{"$f":"'21 Market Risk - Foreign Exch.'!$E$33","v":"S21.DP0019"}]
["CB100B2.S21.DP0020",{"$f":"'21 Market Risk - Foreign Exch.'!$E$34","v":"S21.DP0020"}]
["CB100B2.S21.DP0021",{"$f":"'21 Market Risk - Foreign Exch.'!$E$35","v":"S21.DP0021"}]
["CB100B2.S21.DP0022",{"$f":"'21 Market Risk - Foreign Exch.'!$E$36","v":"S21.DP0022"}]
["CB100B2.S21.DP0023",{"$f":"'21 Market Risk - Foreign Exch.'!$E$37","v":"S21.DP0023"}]
["CB100B2.S21.DP0024",{"$f":"'21 Market Risk - Foreign Exch.'!$E$39","v":"S21.DP0024"}]
["CB100B2.S21.DP0025",{"$f":"'21 Market Risk - Foreign Exch.'!$E$40","v":"S21.DP0025"}]
["CB100B2.S21.DP0026",{"$f":"'21 Market Risk - Foreign Exch.'!$E$41","v":"S21.DP0026"}]
["CB100B2.S21.DP0027",{"$f":"'21 Market Risk - Foreign Exch.'!$E$42","v":"S21.DP0027"}]
["CB100B2.S21.DP0028",{"$f":"'21 Market Risk - Foreign Exch.'!$E$43","v":"S21.DP0028"}]
["CB100B2.S21.DP0029",{"$f":"'21 Market Risk - Foreign Exch.'!$G$12","v":"S21.DP0029"}]
["CB100B2.S21.DP0030",{"$f":"'21 Market Risk - Foreign Exch.'!$G$14","v":"S21.DP0030"}]
["CB100B2.S21.DP0031",{"$f":"'21 Market Risk - Foreign Exch.'!$G$15","v":"S21.DP0031"}]
["CB100B2.S21.DP0032",{"$f":"'21 Market Risk - Foreign Exch.'!$G$16","v":"S21.DP0032"}]
["CB100B2.S21.DP0033",{"$f":"'21 Market Risk - Foreign Exch.'!$G$17","v":"S21.DP0033"}]
["CB100B2.S21.DP0034",{"$f":"'21 Market Risk - Foreign Exch.'!$G$18","v":"S21.DP0034"}]
["CB100B2.S21.DP0035",{"$f":"'21 Market Risk - Foreign Exch.'!$G$20","v":"S21.DP0035"}]
["CB100B2.S21.DP0036",{"$f":"'21 Market Risk - Foreign Exch.'!$G$21","v":"S21.DP0036"}]
["CB100B2.S21.DP0037",{"$f":"'21 Market Risk - Foreign Exch.'!$G$22","v":"S21.DP0037"}]
["CB100B2.S21.DP0038",{"$f":"'21 Market Risk - Foreign Exch.'!$G$23","v":"S21.DP0038"}]
["CB100B2.S21.DP0039",{"$f":"'21 Market Risk - Foreign Exch.'!$G$24","v":"S21.DP0039"}]
["CB100B2.S21.DP0040",{"$f":"'21 Market Risk - Foreign Exch.'!$G$25","v":"S21.DP0040"}]
["CB100B2.S21.DP0041",{"$f":"'21 Market Risk - Foreign Exch.'!$G$26","v":"S21.DP0041"}]
["CB100B2.S21.DP0042",{"$f":"'21 Market Risk - Foreign Exch.'!$G$27","v":"S21.DP0042"}]
["CB100B2.S21.DP0043",{"$f":"'21 Market Risk - Foreign Exch.'!$G$28","v":"S21.DP0043"}]
["CB100B2.S21.DP0044",{"$f":"'21 Market Risk - Foreign Exch.'!$G$30","v":"S21.DP0044"}]
["CB100B2.S21.DP0045",{"$f":"'21 Market Risk - Foreign Exch.'!$G$31","v":"S21.DP0045"}]
["CB100B2.S21.DP0046",{"$f":"'21 Market Risk - Foreign Exch.'!$G$32","v":"S21.DP0046"}]
["CB100B2.S21.DP0047",{"$f":"'21 Market Risk - Foreign Exch.'!$G$33","v":"S21.DP0047"}]
["CB100B2.S21.DP0048",{"$f":"'21 Market Risk - Foreign Exch.'!$G$34","v":"S21.DP0048"}]
["CB100B2.S21.DP0049",{"$f":"'21 Market Risk - Foreign Exch.'!$G$35","v":"S21.DP0049"}]
["CB100B2.S21.DP0050",{"$f":"'21 Market Risk - Foreign Exch.'!$G$36","v":"S21.DP0050"}]
["CB100B2.S21.DP0051",{"$f":"'21 Market Risk - Foreign Exch.'!$G$37","v":"S21.DP0051"}]
["CB100B2.S21.DP0052",{"$f":"'21 Market Risk - Foreign Exch.'!$G$39","v":"S21.DP0052"}]
["CB100B2.S21.DP0053",{"$f":"'21 Market Risk - Foreign Exch.'!$G$40","v":"S21.DP0053"}]
["CB100B2.S21.DP0054",{"$f":"'21 Market Risk - Foreign Exch.'!$G$41","v":"S21.DP0054"}]
["CB100B2.S21.DP0055",{"$f":"'21 Market Risk - Foreign Exch.'!$G$42","v":"S21.DP0055"}]
["CB100B2.S21.DP0056",{"$f":"'21 Market Risk - Foreign Exch.'!$G$43","v":"S21.DP0056"}]
["CB100B2.S21.DP0057",{"$f":"'21 Market Risk - Foreign Exch.'!$I$12","v":"S21.DP0057"}]
["CB100B2.S21.DP0058",{"$f":"'21 Market Risk - Foreign Exch.'!$I$14","v":"S21.DP0058"}]
["CB100B2.S21.DP0059",{"$f":"'21 Market Risk - Foreign Exch.'!$I$15","v":"S21.DP0059"}]
["CB100B2.S21.DP0060",{"$f":"'21 Market Risk - Foreign Exch.'!$I$16","v":"S21.DP0060"}]
["CB100B2.S21.DP0061",{"$f":"'21 Market Risk - Foreign Exch.'!$I$17","v":"S21.DP0061"}]
["CB100B2.S21.DP0062",{"$f":"'21 Market Risk - Foreign Exch.'!$I$18","v":"S21.DP0062"}]
["CB100B2.S21.DP0063",{"$f":"'21 Market Risk - Foreign Exch.'!$I$20","v":"S21.DP0063"}]
["CB100B2.S21.DP0064",{"$f":"'21 Market Risk - Foreign Exch.'!$I$21","v":"S21.DP0064"}]
["CB100B2.S21.DP0065",{"$f":"'21 Market Risk - Foreign Exch.'!$I$22","v":"S21.DP0065"}]
["CB100B2.S21.DP0066",{"$f":"'21 Market Risk - Foreign Exch.'!$I$23","v":"S21.DP0066"}]
["CB100B2.S21.DP0067",{"$f":"'21 Market Risk - Foreign Exch.'!$I$24","v":"S21.DP0067"}]
["CB100B2.S21.DP0068",{"$f":"'21 Market Risk - Foreign Exch.'!$I$25","v":"S21.DP0068"}]
["CB100B2.S21.DP0069",{"$f":"'21 Market Risk - Foreign Exch.'!$I$26","v":"S21.DP0069"}]
["CB100B2.S21.DP0070",{"$f":"'21 Market Risk - Foreign Exch.'!$I$27","v":"S21.DP0070"}]
["CB100B2.S21.DP0071",{"$f":"'21 Market Risk - Foreign Exch.'!$I$28","v":"S21.DP0071"}]
["CB100B2.S21.DP0072",{"$f":"'21 Market Risk - Foreign Exch.'!$I$30","v":"S21.DP0072"}]
["CB100B2.S21.DP0073",{"$f":"'21 Market Risk - Foreign Exch.'!$I$31","v":"S21.DP0073"}]
["CB100B2.S21.DP0074",{"$f":"'21 Market Risk - Foreign Exch.'!$I$32","v":"S21.DP0074"}]
["CB100B2.S21.DP0075",{"$f":"'21 Market Risk - Foreign Exch.'!$I$33","v":"S21.DP0075"}]
["CB100B2.S21.DP0076",{"$f":"'21 Market Risk - Foreign Exch.'!$I$34","v":"S21.DP0076"}]
["CB100B2.S21.DP0077",{"$f":"'21 Market Risk - Foreign Exch.'!$I$35","v":"S21.DP0077"}]
["CB100B2.S21.DP0078",{"$f":"'21 Market Risk - Foreign Exch.'!$I$36","v":"S21.DP0078"}]
["CB100B2.S21.DP0079",{"$f":"'21 Market Risk - Foreign Exch.'!$I$37","v":"S21.DP0079"}]
["CB100B2.S21.DP0080",{"$f":"'21 Market Risk - Foreign Exch.'!$I$39","v":"S21.DP0080"}]
["CB100B2.S21.DP0081",{"$f":"'21 Market Risk - Foreign Exch.'!$I$40","v":"S21.DP0081"}]
["CB100B2.S21.DP0082",{"$f":"'21 Market Risk - Foreign Exch.'!$I$41","v":"S21.DP0082"}]
["CB100B2.S21.DP0083",{"$f":"'21 Market Risk - Foreign Exch.'!$I$42","v":"S21.DP0083"}]
["CB100B2.S21.DP0084",{"$f":"'21 Market Risk - Foreign Exch.'!$I$43","v":"S21.DP0084"}]
["CB100B2.S21.DP0085",{"$f":"'21 Market Risk - Foreign Exch.'!$K$12","v":"S21.DP0085"}]
["CB100B2.S21.DP0086",{"$f":"'21 Market Risk - Foreign Exch.'!$K$14","v":"S21.DP0086"}]
["CB100B2.S21.DP0087",{"$f":"'21 Market Risk - Foreign Exch.'!$K$15","v":"S21.DP0087"}]
["CB100B2.S21.DP0088",{"$f":"'21 Market Risk - Foreign Exch.'!$K$16","v":"S21.DP0088"}]
["CB100B2.S21.DP0089",{"$f":"'21 Market Risk - Foreign Exch.'!$K$17","v":"S21.DP0089"}]
["CB100B2.S21.DP0090",{"$f":"'21 Market Risk - Foreign Exch.'!$K$18","v":"S21.DP0090"}]
["CB100B2.S21.DP0091",{"$f":"'21 Market Risk - Foreign Exch.'!$K$20","v":"S21.DP0091"}]
["CB100B2.S21.DP0092",{"$f":"'21 Market Risk - Foreign Exch.'!$K$21","v":"S21.DP0092"}]
["CB100B2.S21.DP0093",{"$f":"'21 Market Risk - Foreign Exch.'!$K$22","v":"S21.DP0093"}]
["CB100B2.S21.DP0094",{"$f":"'21 Market Risk - Foreign Exch.'!$K$23","v":"S21.DP0094"}]
["CB100B2.S21.DP0095",{"$f":"'21 Market Risk - Foreign Exch.'!$K$24","v":"S21.DP0095"}]
["CB100B2.S21.DP0096",{"$f":"'21 Market Risk - Foreign Exch.'!$K$25","v":"S21.DP0096"}]
["CB100B2.S21.DP0097",{"$f":"'21 Market Risk - Foreign Exch.'!$K$26","v":"S21.DP0097"}]
["CB100B2.S21.DP0098",{"$f":"'21 Market Risk - Foreign Exch.'!$K$27","v":"S21.DP0098"}]
["CB100B2.S21.DP0099",{"$f":"'21 Market Risk - Foreign Exch.'!$K$28","v":"S21.DP0099"}]
["CB100B2.S21.DP0100",{"$f":"'21 Market Risk - Foreign Exch.'!$K$30","v":"S21.DP0100"}]
["CB100B2.S21.DP0101",{"$f":"'21 Market Risk - Foreign Exch.'!$K$31","v":"S21.DP0101"}]
["CB100B2.S21.DP0102",{"$f":"'21 Market Risk - Foreign Exch.'!$K$32","v":"S21.DP0102"}]
["CB100B2.S21.DP0103",{"$f":"'21 Market Risk - Foreign Exch.'!$K$33","v":"S21.DP0103"}]
["CB100B2.S21.DP0104",{"$f":"'21 Market Risk - Foreign Exch.'!$K$34","v":"S21.DP0104"}]
["CB100B2.S21.DP0105",{"$f":"'21 Market Risk - Foreign Exch.'!$K$35","v":"S21.DP0105"}]
["CB100B2.S21.DP0106",{"$f":"'21 Market Risk - Foreign Exch.'!$K$36","v":"S21.DP0106"}]
["CB100B2.S21.DP0107",{"$f":"'21 Market Risk - Foreign Exch.'!$K$37","v":"S21.DP0107"}]
["CB100B2.S21.DP0108",{"$f":"'21 Market Risk - Foreign Exch.'!$K$39","v":"S21.DP0108"}]
["CB100B2.S21.DP0109",{"$f":"'21 Market Risk - Foreign Exch.'!$K$40","v":"S21.DP0109"}]
["CB100B2.S21.DP0110",{"$f":"'21 Market Risk - Foreign Exch.'!$K$41","v":"S21.DP0110"}]
["CB100B2.S21.DP0111",{"$f":"'21 Market Risk - Foreign Exch.'!$K$42","v":"S21.DP0111"}]
["CB100B2.S21.DP0112",{"$f":"'21 Market Risk - Foreign Exch.'!$K$43","v":"S21.DP0112"}]
["CB100B2.S21.DP0113",{"$f":"'21 Market Risk - Foreign Exch.'!$M$12","v":"S21.DP0113"}]
["CB100B2.S21.DP0114",{"$f":"'21 Market Risk - Foreign Exch.'!$M$14","v":"S21.DP0114"}]
["CB100B2.S21.DP0115",{"$f":"'21 Market Risk - Foreign Exch.'!$M$15","v":"S21.DP0115"}]
["CB100B2.S21.DP0116",{"$f":"'21 Market Risk - Foreign Exch.'!$M$16","v":"S21.DP0116"}]
["CB100B2.S21.DP0117",{"$f":"'21 Market Risk - Foreign Exch.'!$M$17","v":"S21.DP0117"}]
["CB100B2.S21.DP0118",{"$f":"'21 Market Risk - Foreign Exch.'!$M$18","v":"S21.DP0118"}]
["CB100B2.S21.DP0119",{"$f":"'21 Market Risk - Foreign Exch.'!$M$20","v":"S21.DP0119"}]
["CB100B2.S21.DP0120",{"$f":"'21 Market Risk - Foreign Exch.'!$M$21","v":"S21.DP0120"}]
["CB100B2.S21.DP0121",{"$f":"'21 Market Risk - Foreign Exch.'!$M$22","v":"S21.DP0121"}]
["CB100B2.S21.DP0122",{"$f":"'21 Market Risk - Foreign Exch.'!$M$23","v":"S21.DP0122"}]
["CB100B2.S21.DP0123",{"$f":"'21 Market Risk - Foreign Exch.'!$M$24","v":"S21.DP0123"}]
["CB100B2.S21.DP0124",{"$f":"'21 Market Risk - Foreign Exch.'!$M$25","v":"S21.DP0124"}]
["CB100B2.S21.DP0125",{"$f":"'21 Market Risk - Foreign Exch.'!$M$26","v":"S21.DP0125"}]
["CB100B2.S21.DP0126",{"$f":"'21 Market Risk - Foreign Exch.'!$M$27","v":"S21.DP0126"}]
["CB100B2.S21.DP0127",{"$f":"'21 Market Risk - Foreign Exch.'!$M$28","v":"S21.DP0127"}]
["CB100B2.S21.DP0128",{"$f":"'21 Market Risk - Foreign Exch.'!$M$30","v":"S21.DP0128"}]
["CB100B2.S21.DP0129",{"$f":"'21 Market Risk - Foreign Exch.'!$M$31","v":"S21.DP0129"}]
["CB100B2.S21.DP0130",{"$f":"'21 Market Risk - Foreign Exch.'!$M$32","v":"S21.DP0130"}]
["CB100B2.S21.DP0131",{"$f":"'21 Market Risk - Foreign Exch.'!$M$33","v":"S21.DP0131"}]
["CB100B2.S21.DP0132",{"$f":"'21 Market Risk - Foreign Exch.'!$M$34","v":"S21.DP0132"}]
["CB100B2.S21.DP0133",{"$f":"'21 Market Risk - Foreign Exch.'!$M$35","v":"S21.DP0133"}]
["CB100B2.S21.DP0134",{"$f":"'21 Market Risk - Foreign Exch.'!$M$36","v":"S21.DP0134"}]
["CB100B2.S21.DP0135",{"$f":"'21 Market Risk - Foreign Exch.'!$M$37","v":"S21.DP0135"}]
["CB100B2.S21.DP0136",{"$f":"'21 Market Risk - Foreign Exch.'!$M$39","v":"S21.DP0136"}]
["CB100B2.S21.DP0137",{"$f":"'21 Market Risk - Foreign Exch.'!$M$40","v":"S21.DP0137"}]
["CB100B2.S21.DP0138",{"$f":"'21 Market Risk - Foreign Exch.'!$M$41","v":"S21.DP0138"}]
["CB100B2.S21.DP0139",{"$f":"'21 Market Risk - Foreign Exch.'!$M$42","v":"S21.DP0139"}]
["CB100B2.S21.DP0140",{"$f":"'21 Market Risk - Foreign Exch.'!$M$43","v":"S21.DP0140"}]
["CB100B2.S21.DP0141",{"$f":"'21 Market Risk - Foreign Exch.'!$O$12","v":"S21.DP0141"}]
["CB100B2.S21.DP0142",{"$f":"'21 Market Risk - Foreign Exch.'!$O$14","v":"S21.DP0142"}]
["CB100B2.S21.DP0143",{"$f":"'21 Market Risk - Foreign Exch.'!$O$15","v":"S21.DP0143"}]
["CB100B2.S21.DP0144",{"$f":"'21 Market Risk - Foreign Exch.'!$O$16","v":"S21.DP0144"}]
["CB100B2.S21.DP0145",{"$f":"'21 Market Risk - Foreign Exch.'!$O$17","v":"S21.DP0145"}]
["CB100B2.S21.DP0146",{"$f":"'21 Market Risk - Foreign Exch.'!$O$18","v":"S21.DP0146"}]
["CB100B2.S21.DP0147",{"$f":"'21 Market Risk - Foreign Exch.'!$O$20","v":"S21.DP0147"}]
["CB100B2.S21.DP0148",{"$f":"'21 Market Risk - Foreign Exch.'!$O$21","v":"S21.DP0148"}]
["CB100B2.S21.DP0149",{"$f":"'21 Market Risk - Foreign Exch.'!$O$22","v":"S21.DP0149"}]
["CB100B2.S21.DP0150",{"$f":"'21 Market Risk - Foreign Exch.'!$O$23","v":"S21.DP0150"}]
["CB100B2.S21.DP0151",{"$f":"'21 Market Risk - Foreign Exch.'!$O$24","v":"S21.DP0151"}]
["CB100B2.S21.DP0152",{"$f":"'21 Market Risk - Foreign Exch.'!$O$25","v":"S21.DP0152"}]
["CB100B2.S21.DP0153",{"$f":"'21 Market Risk - Foreign Exch.'!$O$26","v":"S21.DP0153"}]
["CB100B2.S21.DP0154",{"$f":"'21 Market Risk - Foreign Exch.'!$O$27","v":"S21.DP0154"}]
["CB100B2.S21.DP0155",{"$f":"'21 Market Risk - Foreign Exch.'!$O$28","v":"S21.DP0155"}]
["CB100B2.S21.DP0156",{"$f":"'21 Market Risk - Foreign Exch.'!$O$30","v":"S21.DP0156"}]
["CB100B2.S21.DP0157",{"$f":"'21 Market Risk - Foreign Exch.'!$O$31","v":"S21.DP0157"}]
["CB100B2.S21.DP0158",{"$f":"'21 Market Risk - Foreign Exch.'!$O$32","v":"S21.DP0158"}]
["CB100B2.S21.DP0159",{"$f":"'21 Market Risk - Foreign Exch.'!$O$33","v":"S21.DP0159"}]
["CB100B2.S21.DP0160",{"$f":"'21 Market Risk - Foreign Exch.'!$O$34","v":"S21.DP0160"}]
["CB100B2.S21.DP0161",{"$f":"'21 Market Risk - Foreign Exch.'!$O$35","v":"S21.DP0161"}]
["CB100B2.S21.DP0162",{"$f":"'21 Market Risk - Foreign Exch.'!$O$36","v":"S21.DP0162"}]
["CB100B2.S21.DP0163",{"$f":"'21 Market Risk - Foreign Exch.'!$O$37","v":"S21.DP0163"}]
["CB100B2.S21.DP0164",{"$f":"'21 Market Risk - Foreign Exch.'!$O$39","v":"S21.DP0164"}]
["CB100B2.S21.DP0165",{"$f":"'21 Market Risk - Foreign Exch.'!$O$40","v":"S21.DP0165"}]
["CB100B2.S21.DP0166",{"$f":"'21 Market Risk - Foreign Exch.'!$O$41","v":"S21.DP0166"}]
["CB100B2.S21.DP0167",{"$f":"'21 Market Risk - Foreign Exch.'!$O$42","v":"S21.DP0167"}]
["CB100B2.S21.DP0168",{"$f":"'21 Market Risk - Foreign Exch.'!$O$43","v":"S21.DP0168"}]
["CB100B2.S21.DP0169",{"$f":"'21 Market Risk - Foreign Exch.'!$Q$12","v":"S21.DP0169"}]
["CB100B2.S21.DP0170",{"$f":"'21 Market Risk - Foreign Exch.'!$Q$14","v":"S21.DP0170"}]
["CB100B2.S21.DP0171",{"$f":"'21 Market Risk - Foreign Exch.'!$Q$15","v":"S21.DP0171"}]
["CB100B2.S21.DP0172",{"$f":"'21 Market Risk - Foreign Exch.'!$Q$16","v":"S21.DP0172"}]
["CB100B2.S21.DP0173",{"$f":"'21 Market Risk - Foreign Exch.'!$Q$17","v":"S21.DP0173"}]
["CB100B2.S21.DP0174",{"$f":"'21 Market Risk - Foreign Exch.'!$Q$18","v":"S21.DP0174"}]
["CB100B2.S21.DP0175",{"$f":"'21 Market Risk - Foreign Exch.'!$Q$20","v":"S21.DP0175"}]
["CB100B2.S21.DP0176",{"$f":"'21 Market Risk - Foreign Exch.'!$Q$21","v":"S21.DP0176"}]
["CB100B2.S21.DP0177",{"$f":"'21 Market Risk - Foreign Exch.'!$Q$22","v":"S21.DP0177"}]
["CB100B2.S21.DP0178",{"$f":"'21 Market Risk - Foreign Exch.'!$Q$23","v":"S21.DP0178"}]
["CB100B2.S21.DP0179",{"$f":"'21 Market Risk - Foreign Exch.'!$Q$24","v":"S21.DP0179"}]
["CB100B2.S21.DP0180",{"$f":"'21 Market Risk - Foreign Exch.'!$Q$25","v":"S21.DP0180"}]
["CB100B2.S21.DP0181",{"$f":"'21 Market Risk - Foreign Exch.'!$Q$26","v":"S21.DP0181"}]
["CB100B2.S21.DP0182",{"$f":"'21 Market Risk - Foreign Exch.'!$Q$27","v":"S21.DP0182"}]
["CB100B2.S21.DP0183",{"$f":"'21 Market Risk - Foreign Exch.'!$Q$28","v":"S21.DP0183"}]
["CB100B2.S21.DP0184",{"$f":"'21 Market Risk - Foreign Exch.'!$Q$30","v":"S21.DP0184"}]
["CB100B2.S21.DP0185",{"$f":"'21 Market Risk - Foreign Exch.'!$Q$31","v":"S21.DP0185"}]
["CB100B2.S21.DP0186",{"$f":"'21 Market Risk - Foreign Exch.'!$Q$32","v":"S21.DP0186"}]
["CB100B2.S21.DP0187",{"$f":"'21 Market Risk - Foreign Exch.'!$Q$33","v":"S21.DP0187"}]
["CB100B2.S21.DP0188",{"$f":"'21 Market Risk - Foreign Exch.'!$Q$34","v":"S21.DP0188"}]
["CB100B2.S21.DP0189",{"$f":"'21 Market Risk - Foreign Exch.'!$Q$35","v":"S21.DP0189"}]
["CB100B2.S21.DP0190",{"$f":"'21 Market Risk - Foreign Exch.'!$Q$36","v":"S21.DP0190"}]
["CB100B2.S21.DP0191",{"$f":"'21 Market Risk - Foreign Exch.'!$Q$37","v":"S21.DP0191"}]
["CB100B2.S21.DP0192",{"$f":"'21 Market Risk - Foreign Exch.'!$Q$39","v":"S21.DP0192"}]
["CB100B2.S21.DP0193",{"$f":"'21 Market Risk - Foreign Exch.'!$Q$40","v":"S21.DP0193"}]
["CB100B2.S21.DP0194",{"$f":"'21 Market Risk - Foreign Exch.'!$Q$41","v":"S21.DP0194"}]
["CB100B2.S21.DP0195",{"$f":"'21 Market Risk - Foreign Exch.'!$Q$42","v":"S21.DP0195"}]
["CB100B2.S21.DP0196",{"$f":"'21 Market Risk - Foreign Exch.'!$Q$43","v":"S21.DP0196"}]
["CB100B2.S21.DP0197",{"$f":"'21 Market Risk - Foreign Exch.'!$S$12","v":"S21.DP0197"}]
["CB100B2.S21.DP0198",{"$f":"'21 Market Risk - Foreign Exch.'!$S$14","v":"S21.DP0198"}]
["CB100B2.S21.DP0199",{"$f":"'21 Market Risk - Foreign Exch.'!$S$15","v":"S21.DP0199"}]
["CB100B2.S21.DP0200",{"$f":"'21 Market Risk - Foreign Exch.'!$S$16","v":"S21.DP0200"}]
["CB100B2.S21.DP0201",{"$f":"'21 Market Risk - Foreign Exch.'!$S$17","v":"S21.DP0201"}]
["CB100B2.S21.DP0202",{"$f":"'21 Market Risk - Foreign Exch.'!$S$18","v":"S21.DP0202"}]
["CB100B2.S21.DP0203",{"$f":"'21 Market Risk - Foreign Exch.'!$S$20","v":"S21.DP0203"}]
["CB100B2.S21.DP0204",{"$f":"'21 Market Risk - Foreign Exch.'!$S$21","v":"S21.DP0204"}]
["CB100B2.S21.DP0205",{"$f":"'21 Market Risk - Foreign Exch.'!$S$22","v":"S21.DP0205"}]
["CB100B2.S21.DP0206",{"$f":"'21 Market Risk - Foreign Exch.'!$S$23","v":"S21.DP0206"}]
["CB100B2.S21.DP0207",{"$f":"'21 Market Risk - Foreign Exch.'!$S$24","v":"S21.DP0207"}]
["CB100B2.S21.DP0208",{"$f":"'21 Market Risk - Foreign Exch.'!$S$25","v":"S21.DP0208"}]
["CB100B2.S21.DP0209",{"$f":"'21 Market Risk - Foreign Exch.'!$S$26","v":"S21.DP0209"}]
["CB100B2.S21.DP0210",{"$f":"'21 Market Risk - Foreign Exch.'!$S$27","v":"S21.DP0210"}]
["CB100B2.S21.DP0211",{"$f":"'21 Market Risk - Foreign Exch.'!$S$28","v":"S21.DP0211"}]
["CB100B2.S21.DP0212",{"$f":"'21 Market Risk - Foreign Exch.'!$S$30","v":"S21.DP0212"}]
["CB100B2.S21.DP0213",{"$f":"'21 Market Risk - Foreign Exch.'!$S$31","v":"S21.DP0213"}]
["CB100B2.S21.DP0214",{"$f":"'21 Market Risk - Foreign Exch.'!$S$32","v":"S21.DP0214"}]
["CB100B2.S21.DP0215",{"$f":"'21 Market Risk - Foreign Exch.'!$S$33","v":"S21.DP0215"}]
["CB100B2.S21.DP0216",{"$f":"'21 Market Risk - Foreign Exch.'!$S$34","v":"S21.DP0216"}]
["CB100B2.S21.DP0217",{"$f":"'21 Market Risk - Foreign Exch.'!$S$35","v":"S21.DP0217"}]
["CB100B2.S21.DP0218",{"$f":"'21 Market Risk - Foreign Exch.'!$S$36","v":"S21.DP0218"}]
["CB100B2.S21.DP0219",{"$f":"'21 Market Risk - Foreign Exch.'!$S$37","v":"S21.DP0219"}]
["CB100B2.S21.DP0220",{"$f":"'21 Market Risk - Foreign Exch.'!$S$39","v":"S21.DP0220"}]
["CB100B2.S21.DP0221",{"$f":"'21 Market Risk - Foreign Exch.'!$S$40","v":"S21.DP0221"}]
["CB100B2.S21.DP0222",{"$f":"'21 Market Risk - Foreign Exch.'!$S$41","v":"S21.DP0222"}]
["CB100B2.S21.DP0223",{"$f":"'21 Market Risk - Foreign Exch.'!$S$42","v":"S21.DP0223"}]
["CB100B2.S21.DP0224",{"$f":"'21 Market Risk - Foreign Exch.'!$S$43","v":"S21.DP0224"}]
["CB100B2.S21.DP0225",{"$f":"'21 Market Risk - Foreign Exch.'!$U$12","v":"S21.DP0225"}]
["CB100B2.S21.DP0226",{"$f":"'21 Market Risk - Foreign Exch.'!$U$14","v":"S21.DP0226"}]
["CB100B2.S21.DP0227",{"$f":"'21 Market Risk - Foreign Exch.'!$U$15","v":"S21.DP0227"}]
["CB100B2.S21.DP0228",{"$f":"'21 Market Risk - Foreign Exch.'!$U$16","v":"S21.DP0228"}]
["CB100B2.S21.DP0229",{"$f":"'21 Market Risk - Foreign Exch.'!$U$17","v":"S21.DP0229"}]
["CB100B2.S21.DP0230",{"$f":"'21 Market Risk - Foreign Exch.'!$U$18","v":"S21.DP0230"}]
["CB100B2.S21.DP0231",{"$f":"'21 Market Risk - Foreign Exch.'!$U$20","v":"S21.DP0231"}]
["CB100B2.S21.DP0232",{"$f":"'21 Market Risk - Foreign Exch.'!$U$21","v":"S21.DP0232"}]
["CB100B2.S21.DP0233",{"$f":"'21 Market Risk - Foreign Exch.'!$U$22","v":"S21.DP0233"}]
["CB100B2.S21.DP0234",{"$f":"'21 Market Risk - Foreign Exch.'!$U$23","v":"S21.DP0234"}]
["CB100B2.S21.DP0235",{"$f":"'21 Market Risk - Foreign Exch.'!$U$24","v":"S21.DP0235"}]
["CB100B2.S21.DP0236",{"$f":"'21 Market Risk - Foreign Exch.'!$U$25","v":"S21.DP0236"}]
["CB100B2.S21.DP0237",{"$f":"'21 Market Risk - Foreign Exch.'!$U$26","v":"S21.DP0237"}]
["CB100B2.S21.DP0238",{"$f":"'21 Market Risk - Foreign Exch.'!$U$27","v":"S21.DP0238"}]
["CB100B2.S21.DP0239",{"$f":"'21 Market Risk - Foreign Exch.'!$U$28","v":"S21.DP0239"}]
["CB100B2.S21.DP0240",{"$f":"'21 Market Risk - Foreign Exch.'!$U$30","v":"S21.DP0240"}]
["CB100B2.S21.DP0241",{"$f":"'21 Market Risk - Foreign Exch.'!$U$31","v":"S21.DP0241"}]
["CB100B2.S21.DP0242",{"$f":"'21 Market Risk - Foreign Exch.'!$U$32","v":"S21.DP0242"}]
["CB100B2.S21.DP0243",{"$f":"'21 Market Risk - Foreign Exch.'!$U$33","v":"S21.DP0243"}]
["CB100B2.S21.DP0244",{"$f":"'21 Market Risk - Foreign Exch.'!$U$34","v":"S21.DP0244"}]
["CB100B2.S21.DP0245",{"$f":"'21 Market Risk - Foreign Exch.'!$U$35","v":"S21.DP0245"}]
["CB100B2.S21.DP0246",{"$f":"'21 Market Risk - Foreign Exch.'!$U$36","v":"S21.DP0246"}]
["CB100B2.S21.DP0247",{"$f":"'21 Market Risk - Foreign Exch.'!$U$37","v":"S21.DP0247"}]
["CB100B2.S21.DP0248",{"$f":"'21 Market Risk - Foreign Exch.'!$U$39","v":"S21.DP0248"}]
["CB100B2.S21.DP0249",{"$f":"'21 Market Risk - Foreign Exch.'!$U$40","v":"S21.DP0249"}]
["CB100B2.S21.DP0250",{"$f":"'21 Market Risk - Foreign Exch.'!$U$41","v":"S21.DP0250"}]
["CB100B2.S21.DP0251",{"$f":"'21 Market Risk - Foreign Exch.'!$U$42","v":"S21.DP0251"}]
["CB100B2.S21.DP0252",{"$f":"'21 Market Risk - Foreign Exch.'!$U$43","v":"S21.DP0252"}]
["CB100B2.S21.DP0253",{"$f":"'21 Market Risk - Foreign Exch.'!$W$12","v":"S21.DP0253"}]
["CB100B2.S21.DP0254",{"$f":"'21 Market Risk - Foreign Exch.'!$W$14","v":"S21.DP0254"}]
["CB100B2.S21.DP0255",{"$f":"'21 Market Risk - Foreign Exch.'!$W$15","v":"S21.DP0255"}]
["CB100B2.S21.DP0256",{"$f":"'21 Market Risk - Foreign Exch.'!$W$16","v":"S21.DP0256"}]
["CB100B2.S21.DP0257",{"$f":"'21 Market Risk - Foreign Exch.'!$W$17","v":"S21.DP0257"}]
["CB100B2.S21.DP0258",{"$f":"'21 Market Risk - Foreign Exch.'!$W$18","v":"S21.DP0258"}]
["CB100B2.S21.DP0259",{"$f":"'21 Market Risk - Foreign Exch.'!$W$20","v":"S21.DP0259"}]
["CB100B2.S21.DP0260",{"$f":"'21 Market Risk - Foreign Exch.'!$W$21","v":"S21.DP0260"}]
["CB100B2.S21.DP0261",{"$f":"'21 Market Risk - Foreign Exch.'!$W$22","v":"S21.DP0261"}]
["CB100B2.S21.DP0262",{"$f":"'21 Market Risk - Foreign Exch.'!$W$23","v":"S21.DP0262"}]
["CB100B2.S21.DP0263",{"$f":"'21 Market Risk - Foreign Exch.'!$W$24","v":"S21.DP0263"}]
["CB100B2.S21.DP0264",{"$f":"'21 Market Risk - Foreign Exch.'!$W$25","v":"S21.DP0264"}]
["CB100B2.S21.DP0265",{"$f":"'21 Market Risk - Foreign Exch.'!$W$26","v":"S21.DP0265"}]
["CB100B2.S21.DP0266",{"$f":"'21 Market Risk - Foreign Exch.'!$W$27","v":"S21.DP0266"}]
["CB100B2.S21.DP0267",{"$f":"'21 Market Risk - Foreign Exch.'!$W$28","v":"S21.DP0267"}]
["CB100B2.S21.DP0268",{"$f":"'21 Market Risk - Foreign Exch.'!$W$30","v":"S21.DP0268"}]
["CB100B2.S21.DP0269",{"$f":"'21 Market Risk - Foreign Exch.'!$W$31","v":"S21.DP0269"}]
["CB100B2.S21.DP0270",{"$f":"'21 Market Risk - Foreign Exch.'!$W$32","v":"S21.DP0270"}]
["CB100B2.S21.DP0271",{"$f":"'21 Market Risk - Foreign Exch.'!$W$33","v":"S21.DP0271"}]
["CB100B2.S21.DP0272",{"$f":"'21 Market Risk - Foreign Exch.'!$W$34","v":"S21.DP0272"}]
["CB100B2.S21.DP0273",{"$f":"'21 Market Risk - Foreign Exch.'!$W$35","v":"S21.DP0273"}]
["CB100B2.S21.DP0274",{"$f":"'21 Market Risk - Foreign Exch.'!$W$36","v":"S21.DP0274"}]
["CB100B2.S21.DP0275",{"$f":"'21 Market Risk - Foreign Exch.'!$W$37","v":"S21.DP0275"}]
["CB100B2.S21.DP0276",{"$f":"'21 Market Risk - Foreign Exch.'!$W$39","v":"S21.DP0276"}]
["CB100B2.S21.DP0277",{"$f":"'21 Market Risk - Foreign Exch.'!$W$40","v":"S21.DP0277"}]
["CB100B2.S21.DP0278",{"$f":"'21 Market Risk - Foreign Exch.'!$W$41","v":"S21.DP0278"}]
["CB100B2.S21.DP0279",{"$f":"'21 Market Risk - Foreign Exch.'!$W$42","v":"S21.DP0279"}]
["CB100B2.S21.DP0280",{"$f":"'21 Market Risk - Foreign Exch.'!$W$43","v":"S21.DP0280"}]
["CB100B2.S21.DP0281",{"$f":"'21 Market Risk - Foreign Exch.'!$Y$12","v":"S21.DP0281"}]
["CB100B2.S21.DP0282",{"$f":"'21 Market Risk - Foreign Exch.'!$Y$14","v":"S21.DP0282"}]
["CB100B2.S21.DP0283",{"$f":"'21 Market Risk - Foreign Exch.'!$Y$15","v":"S21.DP0283"}]
["CB100B2.S21.DP0284",{"$f":"'21 Market Risk - Foreign Exch.'!$Y$16","v":"S21.DP0284"}]
["CB100B2.S21.DP0285",{"$f":"'21 Market Risk - Foreign Exch.'!$Y$17","v":"S21.DP0285"}]
["CB100B2.S21.DP0286",{"$f":"'21 Market Risk - Foreign Exch.'!$Y$18","v":"S21.DP0286"}]
["CB100B2.S21.DP0287",{"$f":"'21 Market Risk - Foreign Exch.'!$Y$20","v":"S21.DP0287"}]
["CB100B2.S21.DP0288",{"$f":"'21 Market Risk - Foreign Exch.'!$Y$21","v":"S21.DP0288"}]
["CB100B2.S21.DP0289",{"$f":"'21 Market Risk - Foreign Exch.'!$Y$22","v":"S21.DP0289"}]
["CB100B2.S21.DP0290",{"$f":"'21 Market Risk - Foreign Exch.'!$Y$23","v":"S21.DP0290"}]
["CB100B2.S21.DP0291",{"$f":"'21 Market Risk - Foreign Exch.'!$Y$24","v":"S21.DP0291"}]
["CB100B2.S21.DP0292",{"$f":"'21 Market Risk - Foreign Exch.'!$Y$25","v":"S21.DP0292"}]
["CB100B2.S21.DP0293",{"$f":"'21 Market Risk - Foreign Exch.'!$Y$26","v":"S21.DP0293"}]
["CB100B2.S21.DP0294",{"$f":"'21 Market Risk - Foreign Exch.'!$Y$27","v":"S21.DP0294"}]
["CB100B2.S21.DP0295",{"$f":"'21 Market Risk - Foreign Exch.'!$Y$28","v":"S21.DP0295"}]
["CB100B2.S21.DP0296",{"$f":"'21 Market Risk - Foreign Exch.'!$Y$30","v":"S21.DP0296"}]
["CB100B2.S21.DP0297",{"$f":"'21 Market Risk - Foreign Exch.'!$Y$31","v":"S21.DP0297"}]
["CB100B2.S21.DP0298",{"$f":"'21 Market Risk - Foreign Exch.'!$Y$32","v":"S21.DP0298"}]
["CB100B2.S21.DP0299",{"$f":"'21 Market Risk - Foreign Exch.'!$Y$33","v":"S21.DP0299"}]
["CB100B2.S21.DP0300",{"$f":"'21 Market Risk - Foreign Exch.'!$Y$34","v":"S21.DP0300"}]
["CB100B2.S21.DP0301",{"$f":"'21 Market Risk - Foreign Exch.'!$Y$35","v":"S21.DP0301"}]
["CB100B2.S21.DP0302",{"$f":"'21 Market Risk - Foreign Exch.'!$Y$36","v":"S21.DP0302"}]
["CB100B2.S21.DP0303",{"$f":"'21 Market Risk - Foreign Exch.'!$Y$37","v":"S21.DP0303"}]
["CB100B2.S21.DP0304",{"$f":"'21 Market Risk - Foreign Exch.'!$Y$39","v":"S21.DP0304"}]
["CB100B2.S21.DP0305",{"$f":"'21 Market Risk - Foreign Exch.'!$Y$40","v":"S21.DP0305"}]
["CB100B2.S21.DP0306",{"$f":"'21 Market Risk - Foreign Exch.'!$Y$41","v":"S21.DP0306"}]
["CB100B2.S21.DP0307",{"$f":"'21 Market Risk - Foreign Exch.'!$Y$42","v":"S21.DP0307"}]
["CB100B2.S21.DP0308",{"$f":"'21 Market Risk - Foreign Exch.'!$Y$43","v":"S21.DP0308"}]
["CB100B2.S21.DP0309",{"$f":"'21 Market Risk - Foreign Exch.'!$AA$12","v":"S21.DP0309"}]
["CB100B2.S21.DP0310",{"$f":"'21 Market Risk - Foreign Exch.'!$AA$14","v":"S21.DP0310"}]
["CB100B2.S21.DP0311",{"$f":"'21 Market Risk - Foreign Exch.'!$AA$15","v":"S21.DP0311"}]
["CB100B2.S21.DP0312",{"$f":"'21 Market Risk - Foreign Exch.'!$AA$16","v":"S21.DP0312"}]
["CB100B2.S21.DP0313",{"$f":"'21 Market Risk - Foreign Exch.'!$AA$17","v":"S21.DP0313"}]
["CB100B2.S21.DP0314",{"$f":"'21 Market Risk - Foreign Exch.'!$AA$18","v":"S21.DP0314"}]
["CB100B2.S21.DP0315",{"$f":"'21 Market Risk - Foreign Exch.'!$AA$20","v":"S21.DP0315"}]
["CB100B2.S21.DP0316",{"$f":"'21 Market Risk - Foreign Exch.'!$AA$21","v":"S21.DP0316"}]
["CB100B2.S21.DP0317",{"$f":"'21 Market Risk - Foreign Exch.'!$AA$22","v":"S21.DP0317"}]
["CB100B2.S21.DP0318",{"$f":"'21 Market Risk - Foreign Exch.'!$AA$23","v":"S21.DP0318"}]
["CB100B2.S21.DP0319",{"$f":"'21 Market Risk - Foreign Exch.'!$AA$24","v":"S21.DP0319"}]
["CB100B2.S21.DP0320",{"$f":"'21 Market Risk - Foreign Exch.'!$AA$25","v":"S21.DP0320"}]
["CB100B2.S21.DP0321",{"$f":"'21 Market Risk - Foreign Exch.'!$AA$26","v":"S21.DP0321"}]
["CB100B2.S21.DP0322",{"$f":"'21 Market Risk - Foreign Exch.'!$AA$27","v":"S21.DP0322"}]
["CB100B2.S21.DP0323",{"$f":"'21 Market Risk - Foreign Exch.'!$AA$28","v":"S21.DP0323"}]
["CB100B2.S21.DP0324",{"$f":"'21 Market Risk - Foreign Exch.'!$AA$30","v":"S21.DP0324"}]
["CB100B2.S21.DP0325",{"$f":"'21 Market Risk - Foreign Exch.'!$AA$31","v":"S21.DP0325"}]
["CB100B2.S21.DP0326",{"$f":"'21 Market Risk - Foreign Exch.'!$AA$32","v":"S21.DP0326"}]
["CB100B2.S21.DP0327",{"$f":"'21 Market Risk - Foreign Exch.'!$AA$33","v":"S21.DP0327"}]
["CB100B2.S21.DP0328",{"$f":"'21 Market Risk - Foreign Exch.'!$AA$34","v":"S21.DP0328"}]
["CB100B2.S21.DP0329",{"$f":"'21 Market Risk - Foreign Exch.'!$AA$35","v":"S21.DP0329"}]
["CB100B2.S21.DP0330",{"$f":"'21 Market Risk - Foreign Exch.'!$AA$36","v":"S21.DP0330"}]
["CB100B2.S21.DP0331",{"$f":"'21 Market Risk - Foreign Exch.'!$AA$37","v":"S21.DP0331"}]
["CB100B2.S21.DP0332",{"$f":"'21 Market Risk - Foreign Exch.'!$AA$39","v":"S21.DP0332"}]
["CB100B2.S21.DP0333",{"$f":"'21 Market Risk - Foreign Exch.'!$AA$40","v":"S21.DP0333"}]
["CB100B2.S21.DP0334",{"$f":"'21 Market Risk - Foreign Exch.'!$AA$41","v":"S21.DP0334"}]
["CB100B2.S21.DP0335",{"$f":"'21 Market Risk - Foreign Exch.'!$AA$42","v":"S21.DP0335"}]
["CB100B2.S21.DP0336",{"$f":"'21 Market Risk - Foreign Exch.'!$AA$43","v":"S21.DP0336"}]
["CB100B2.S21.DP0337",{"$f":"'21 Market Risk - Foreign Exch.'!$AC$12","v":"S21.DP0337"}]
["CB100B2.S21.DP0338",{"$f":"'21 Market Risk - Foreign Exch.'!$AC$14","v":"S21.DP0338"}]
["CB100B2.S21.DP0339",{"$f":"'21 Market Risk - Foreign Exch.'!$AC$15","v":"S21.DP0339"}]
["CB100B2.S21.DP0340",{"$f":"'21 Market Risk - Foreign Exch.'!$AC$16","v":"S21.DP0340"}]
["CB100B2.S21.DP0341",{"$f":"'21 Market Risk - Foreign Exch.'!$AC$17","v":"S21.DP0341"}]
["CB100B2.S21.DP0342",{"$f":"'21 Market Risk - Foreign Exch.'!$AC$18","v":"S21.DP0342"}]
["CB100B2.S21.DP0343",{"$f":"'21 Market Risk - Foreign Exch.'!$AC$20","v":"S21.DP0343"}]
["CB100B2.S21.DP0344",{"$f":"'21 Market Risk - Foreign Exch.'!$AC$21","v":"S21.DP0344"}]
["CB100B2.S21.DP0345",{"$f":"'21 Market Risk - Foreign Exch.'!$AC$22","v":"S21.DP0345"}]
["CB100B2.S21.DP0346",{"$f":"'21 Market Risk - Foreign Exch.'!$AC$23","v":"S21.DP0346"}]
["CB100B2.S21.DP0347",{"$f":"'21 Market Risk - Foreign Exch.'!$AC$24","v":"S21.DP0347"}]
["CB100B2.S21.DP0348",{"$f":"'21 Market Risk - Foreign Exch.'!$AC$25","v":"S21.DP0348"}]
["CB100B2.S21.DP0349",{"$f":"'21 Market Risk - Foreign Exch.'!$AC$26","v":"S21.DP0349"}]
["CB100B2.S21.DP0350",{"$f":"'21 Market Risk - Foreign Exch.'!$AC$27","v":"S21.DP0350"}]
["CB100B2.S21.DP0351",{"$f":"'21 Market Risk - Foreign Exch.'!$AC$28","v":"S21.DP0351"}]
["CB100B2.S21.DP0352",{"$f":"'21 Market Risk - Foreign Exch.'!$AC$30","v":"S21.DP0352"}]
["CB100B2.S21.DP0353",{"$f":"'21 Market Risk - Foreign Exch.'!$AC$31","v":"S21.DP0353"}]
["CB100B2.S21.DP0354",{"$f":"'21 Market Risk - Foreign Exch.'!$AC$32","v":"S21.DP0354"}]
["CB100B2.S21.DP0355",{"$f":"'21 Market Risk - Foreign Exch.'!$AC$33","v":"S21.DP0355"}]
["CB100B2.S21.DP0356",{"$f":"'21 Market Risk - Foreign Exch.'!$AC$34","v":"S21.DP0356"}]
["CB100B2.S21.DP0357",{"$f":"'21 Market Risk - Foreign Exch.'!$AC$35","v":"S21.DP0357"}]
["CB100B2.S21.DP0358",{"$f":"'21 Market Risk - Foreign Exch.'!$AC$36","v":"S21.DP0358"}]
["CB100B2.S21.DP0359",{"$f":"'21 Market Risk - Foreign Exch.'!$AC$37","v":"S21.DP0359"}]
["CB100B2.S21.DP0360",{"$f":"'21 Market Risk - Foreign Exch.'!$AC$39","v":"S21.DP0360"}]
["CB100B2.S21.DP0361",{"$f":"'21 Market Risk - Foreign Exch.'!$AC$40","v":"S21.DP0361"}]
["CB100B2.S21.DP0362",{"$f":"'21 Market Risk - Foreign Exch.'!$AC$41","v":"S21.DP0362"}]
["CB100B2.S21.DP0363",{"$f":"'21 Market Risk - Foreign Exch.'!$AC$42","v":"S21.DP0363"}]
["CB100B2.S21.DP0364",{"$f":"'21 Market Risk - Foreign Exch.'!$AC$43","v":"S21.DP0364"}]
["CB100B2.S21.DP0365",{"$f":"'21 Market Risk - Foreign Exch.'!$AE$12","v":"S21.DP0365"}]
["CB100B2.S21.DP0366",{"$f":"'21 Market Risk - Foreign Exch.'!$AE$14","v":"S21.DP0366"}]
["CB100B2.S21.DP0367",{"$f":"'21 Market Risk - Foreign Exch.'!$AE$15","v":"S21.DP0367"}]
["CB100B2.S21.DP0368",{"$f":"'21 Market Risk - Foreign Exch.'!$AE$16","v":"S21.DP0368"}]
["CB100B2.S21.DP0369",{"$f":"'21 Market Risk - Foreign Exch.'!$AE$17","v":"S21.DP0369"}]
["CB100B2.S21.DP0370",{"$f":"'21 Market Risk - Foreign Exch.'!$AE$18","v":"S21.DP0370"}]
["CB100B2.S21.DP0371",{"$f":"'21 Market Risk - Foreign Exch.'!$AE$20","v":"S21.DP0371"}]
["CB100B2.S21.DP0372",{"$f":"'21 Market Risk - Foreign Exch.'!$AE$21","v":"S21.DP0372"}]
["CB100B2.S21.DP0373",{"$f":"'21 Market Risk - Foreign Exch.'!$AE$22","v":"S21.DP0373"}]
["CB100B2.S21.DP0374",{"$f":"'21 Market Risk - Foreign Exch.'!$AE$23","v":"S21.DP0374"}]
["CB100B2.S21.DP0375",{"$f":"'21 Market Risk - Foreign Exch.'!$AE$24","v":"S21.DP0375"}]
["CB100B2.S21.DP0376",{"$f":"'21 Market Risk - Foreign Exch.'!$AE$25","v":"S21.DP0376"}]
["CB100B2.S21.DP0377",{"$f":"'21 Market Risk - Foreign Exch.'!$AE$26","v":"S21.DP0377"}]
["CB100B2.S21.DP0378",{"$f":"'21 Market Risk - Foreign Exch.'!$AE$27","v":"S21.DP0378"}]
["CB100B2.S21.DP0379",{"$f":"'21 Market Risk - Foreign Exch.'!$AE$28","v":"S21.DP0379"}]
["CB100B2.S21.DP0380",{"$f":"'21 Market Risk - Foreign Exch.'!$AE$30","v":"S21.DP0380"}]
["CB100B2.S21.DP0381",{"$f":"'21 Market Risk - Foreign Exch.'!$AE$31","v":"S21.DP0381"}]
["CB100B2.S21.DP0382",{"$f":"'21 Market Risk - Foreign Exch.'!$AE$32","v":"S21.DP0382"}]
["CB100B2.S21.DP0383",{"$f":"'21 Market Risk - Foreign Exch.'!$AE$33","v":"S21.DP0383"}]
["CB100B2.S21.DP0384",{"$f":"'21 Market Risk - Foreign Exch.'!$AE$34","v":"S21.DP0384"}]
["CB100B2.S21.DP0385",{"$f":"'21 Market Risk - Foreign Exch.'!$AE$35","v":"S21.DP0385"}]
["CB100B2.S21.DP0386",{"$f":"'21 Market Risk - Foreign Exch.'!$AE$36","v":"S21.DP0386"}]
["CB100B2.S21.DP0387",{"$f":"'21 Market Risk - Foreign Exch.'!$AE$37","v":"S21.DP0387"}]
["CB100B2.S21.DP0388",{"$f":"'21 Market Risk - Foreign Exch.'!$AE$39","v":"S21.DP0388"}]
["CB100B2.S21.DP0389",{"$f":"'21 Market Risk - Foreign Exch.'!$AE$40","v":"S21.DP0389"}]
["CB100B2.S21.DP0390",{"$f":"'21 Market Risk - Foreign Exch.'!$AE$41","v":"S21.DP0390"}]
["CB100B2.S21.DP0391",{"$f":"'21 Market Risk - Foreign Exch.'!$AE$42","v":"S21.DP0391"}]
["CB100B2.S21.DP0392",{"$f":"'21 Market Risk - Foreign Exch.'!$AE$43","v":"S21.DP0392"}]
["CB100B2.S21.DP0393",{"$f":"'21 Market Risk - Foreign Exch.'!$AG$9","v":"S21.DP0393"}]
["CB100B2.S21.DP0394",{"$f":"'21 Market Risk - Foreign Exch.'!$AG$12","v":"S21.DP0394"}]
["CB100B2.S21.DP0395",{"$f":"'21 Market Risk - Foreign Exch.'!$AG$14","v":"S21.DP0395"}]
["CB100B2.S21.DP0396",{"$f":"'21 Market Risk - Foreign Exch.'!$AG$15","v":"S21.DP0396"}]
["CB100B2.S21.DP0397",{"$f":"'21 Market Risk - Foreign Exch.'!$AG$16","v":"S21.DP0397"}]
["CB100B2.S21.DP0398",{"$f":"'21 Market Risk - Foreign Exch.'!$AG$17","v":"S21.DP0398"}]
["CB100B2.S21.DP0399",{"$f":"'21 Market Risk - Foreign Exch.'!$AG$18","v":"S21.DP0399"}]
["CB100B2.S21.DP0400",{"$f":"'21 Market Risk - Foreign Exch.'!$AG$20","v":"S21.DP0400"}]
["CB100B2.S21.DP0401",{"$f":"'21 Market Risk - Foreign Exch.'!$AG$21","v":"S21.DP0401"}]
["CB100B2.S21.DP0402",{"$f":"'21 Market Risk - Foreign Exch.'!$AG$22","v":"S21.DP0402"}]
["CB100B2.S21.DP0403",{"$f":"'21 Market Risk - Foreign Exch.'!$AG$23","v":"S21.DP0403"}]
["CB100B2.S21.DP0404",{"$f":"'21 Market Risk - Foreign Exch.'!$AG$24","v":"S21.DP0404"}]
["CB100B2.S21.DP0405",{"$f":"'21 Market Risk - Foreign Exch.'!$AG$25","v":"S21.DP0405"}]
["CB100B2.S21.DP0406",{"$f":"'21 Market Risk - Foreign Exch.'!$AG$26","v":"S21.DP0406"}]
["CB100B2.S21.DP0407",{"$f":"'21 Market Risk - Foreign Exch.'!$AG$27","v":"S21.DP0407"}]
["CB100B2.S21.DP0408",{"$f":"'21 Market Risk - Foreign Exch.'!$AG$28","v":"S21.DP0408"}]
["CB100B2.S21.DP0409",{"$f":"'21 Market Risk - Foreign Exch.'!$AG$30","v":"S21.DP0409"}]
["CB100B2.S21.DP0410",{"$f":"'21 Market Risk - Foreign Exch.'!$AG$31","v":"S21.DP0410"}]
["CB100B2.S21.DP0411",{"$f":"'21 Market Risk - Foreign Exch.'!$AG$32","v":"S21.DP0411"}]
["CB100B2.S21.DP0412",{"$f":"'21 Market Risk - Foreign Exch.'!$AG$33","v":"S21.DP0412"}]
["CB100B2.S21.DP0413",{"$f":"'21 Market Risk - Foreign Exch.'!$AG$34","v":"S21.DP0413"}]
["CB100B2.S21.DP0414",{"$f":"'21 Market Risk - Foreign Exch.'!$AG$35","v":"S21.DP0414"}]
["CB100B2.S21.DP0415",{"$f":"'21 Market Risk - Foreign Exch.'!$AG$36","v":"S21.DP0415"}]
["CB100B2.S21.DP0416",{"$f":"'21 Market Risk - Foreign Exch.'!$AG$37","v":"S21.DP0416"}]
["CB100B2.S21.DP0417",{"$f":"'21 Market Risk - Foreign Exch.'!$AG$39","v":"S21.DP0417"}]
["CB100B2.S21.DP0418",{"$f":"'21 Market Risk - Foreign Exch.'!$AG$40","v":"S21.DP0418"}]
["CB100B2.S21.DP0419",{"$f":"'21 Market Risk - Foreign Exch.'!$AG$41","v":"S21.DP0419"}]
["CB100B2.S21.DP0420",{"$f":"'21 Market Risk - Foreign Exch.'!$AG$42","v":"S21.DP0420"}]
["CB100B2.S21.DP0421",{"$f":"'21 Market Risk - Foreign Exch.'!$AG$43","v":"S21.DP0421"}]
["CB100B2.S21.DP0422",{"$f":"'21 Market Risk - Foreign Exch.'!$AI$9","v":"S21.DP0422"}]
["CB100B2.S21.DP0423",{"$f":"'21 Market Risk - Foreign Exch.'!$AI$12","v":"S21.DP0423"}]
["CB100B2.S21.DP0424",{"$f":"'21 Market Risk - Foreign Exch.'!$AI$14","v":"S21.DP0424"}]
["CB100B2.S21.DP0425",{"$f":"'21 Market Risk - Foreign Exch.'!$AI$15","v":"S21.DP0425"}]
["CB100B2.S21.DP0426",{"$f":"'21 Market Risk - Foreign Exch.'!$AI$16","v":"S21.DP0426"}]
["CB100B2.S21.DP0427",{"$f":"'21 Market Risk - Foreign Exch.'!$AI$17","v":"S21.DP0427"}]
["CB100B2.S21.DP0428",{"$f":"'21 Market Risk - Foreign Exch.'!$AI$18","v":"S21.DP0428"}]
["CB100B2.S21.DP0429",{"$f":"'21 Market Risk - Foreign Exch.'!$AI$20","v":"S21.DP0429"}]
["CB100B2.S21.DP0430",{"$f":"'21 Market Risk - Foreign Exch.'!$AI$21","v":"S21.DP0430"}]
["CB100B2.S21.DP0431",{"$f":"'21 Market Risk - Foreign Exch.'!$AI$22","v":"S21.DP0431"}]
["CB100B2.S21.DP0432",{"$f":"'21 Market Risk - Foreign Exch.'!$AI$23","v":"S21.DP0432"}]
["CB100B2.S21.DP0433",{"$f":"'21 Market Risk - Foreign Exch.'!$AI$24","v":"S21.DP0433"}]
["CB100B2.S21.DP0434",{"$f":"'21 Market Risk - Foreign Exch.'!$AI$25","v":"S21.DP0434"}]
["CB100B2.S21.DP0435",{"$f":"'21 Market Risk - Foreign Exch.'!$AI$26","v":"S21.DP0435"}]
["CB100B2.S21.DP0436",{"$f":"'21 Market Risk - Foreign Exch.'!$AI$27","v":"S21.DP0436"}]
["CB100B2.S21.DP0437",{"$f":"'21 Market Risk - Foreign Exch.'!$AI$28","v":"S21.DP0437"}]
["CB100B2.S21.DP0438",{"$f":"'21 Market Risk - Foreign Exch.'!$AI$30","v":"S21.DP0438"}]
["CB100B2.S21.DP0439",{"$f":"'21 Market Risk - Foreign Exch.'!$AI$31","v":"S21.DP0439"}]
["CB100B2.S21.DP0440",{"$f":"'21 Market Risk - Foreign Exch.'!$AI$32","v":"S21.DP0440"}]
["CB100B2.S21.DP0441",{"$f":"'21 Market Risk - Foreign Exch.'!$AI$33","v":"S21.DP0441"}]
["CB100B2.S21.DP0442",{"$f":"'21 Market Risk - Foreign Exch.'!$AI$34","v":"S21.DP0442"}]
["CB100B2.S21.DP0443",{"$f":"'21 Market Risk - Foreign Exch.'!$AI$35","v":"S21.DP0443"}]
["CB100B2.S21.DP0444",{"$f":"'21 Market Risk - Foreign Exch.'!$AI$36","v":"S21.DP0444"}]
["CB100B2.S21.DP0445",{"$f":"'21 Market Risk - Foreign Exch.'!$AI$37","v":"S21.DP0445"}]
["CB100B2.S21.DP0446",{"$f":"'21 Market Risk - Foreign Exch.'!$AI$39","v":"S21.DP0446"}]
["CB100B2.S21.DP0447",{"$f":"'21 Market Risk - Foreign Exch.'!$AI$40","v":"S21.DP0447"}]
["CB100B2.S21.DP0448",{"$f":"'21 Market Risk - Foreign Exch.'!$AI$41","v":"S21.DP0448"}]
["CB100B2.S21.DP0449",{"$f":"'21 Market Risk - Foreign Exch.'!$AI$42","v":"S21.DP0449"}]
["CB100B2.S21.DP0450",{"$f":"'21 Market Risk - Foreign Exch.'!$AI$43","v":"S21.DP0450"}]
["CB100B2.S21.DP0451",{"$f":"'21 Market Risk - Foreign Exch.'!$AK$9","v":"S21.DP0451"}]
["CB100B2.S21.DP0452",{"$f":"'21 Market Risk - Foreign Exch.'!$AK$12","v":"S21.DP0452"}]
["CB100B2.S21.DP0453",{"$f":"'21 Market Risk - Foreign Exch.'!$AK$14","v":"S21.DP0453"}]
["CB100B2.S21.DP0454",{"$f":"'21 Market Risk - Foreign Exch.'!$AK$15","v":"S21.DP0454"}]
["CB100B2.S21.DP0455",{"$f":"'21 Market Risk - Foreign Exch.'!$AK$16","v":"S21.DP0455"}]
["CB100B2.S21.DP0456",{"$f":"'21 Market Risk - Foreign Exch.'!$AK$17","v":"S21.DP0456"}]
["CB100B2.S21.DP0457",{"$f":"'21 Market Risk - Foreign Exch.'!$AK$18","v":"S21.DP0457"}]
["CB100B2.S21.DP0458",{"$f":"'21 Market Risk - Foreign Exch.'!$AK$20","v":"S21.DP0458"}]
["CB100B2.S21.DP0459",{"$f":"'21 Market Risk - Foreign Exch.'!$AK$21","v":"S21.DP0459"}]
["CB100B2.S21.DP0460",{"$f":"'21 Market Risk - Foreign Exch.'!$AK$22","v":"S21.DP0460"}]
["CB100B2.S21.DP0461",{"$f":"'21 Market Risk - Foreign Exch.'!$AK$23","v":"S21.DP0461"}]
["CB100B2.S21.DP0462",{"$f":"'21 Market Risk - Foreign Exch.'!$AK$24","v":"S21.DP0462"}]
["CB100B2.S21.DP0463",{"$f":"'21 Market Risk - Foreign Exch.'!$AK$25","v":"S21.DP0463"}]
["CB100B2.S21.DP0464",{"$f":"'21 Market Risk - Foreign Exch.'!$AK$26","v":"S21.DP0464"}]
["CB100B2.S21.DP0465",{"$f":"'21 Market Risk - Foreign Exch.'!$AK$27","v":"S21.DP0465"}]
["CB100B2.S21.DP0466",{"$f":"'21 Market Risk - Foreign Exch.'!$AK$28","v":"S21.DP0466"}]
["CB100B2.S21.DP0467",{"$f":"'21 Market Risk - Foreign Exch.'!$AK$30","v":"S21.DP0467"}]
["CB100B2.S21.DP0468",{"$f":"'21 Market Risk - Foreign Exch.'!$AK$31","v":"S21.DP0468"}]
["CB100B2.S21.DP0469",{"$f":"'21 Market Risk - Foreign Exch.'!$AK$32","v":"S21.DP0469"}]
["CB100B2.S21.DP0470",{"$f":"'21 Market Risk - Foreign Exch.'!$AK$33","v":"S21.DP0470"}]
["CB100B2.S21.DP0471",{"$f":"'21 Market Risk - Foreign Exch.'!$AK$34","v":"S21.DP0471"}]
["CB100B2.S21.DP0472",{"$f":"'21 Market Risk - Foreign Exch.'!$AK$35","v":"S21.DP0472"}]
["CB100B2.S21.DP0473",{"$f":"'21 Market Risk - Foreign Exch.'!$AK$36","v":"S21.DP0473"}]
["CB100B2.S21.DP0474",{"$f":"'21 Market Risk - Foreign Exch.'!$AK$37","v":"S21.DP0474"}]
["CB100B2.S21.DP0475",{"$f":"'21 Market Risk - Foreign Exch.'!$AK$39","v":"S21.DP0475"}]
["CB100B2.S21.DP0476",{"$f":"'21 Market Risk - Foreign Exch.'!$AK$40","v":"S21.DP0476"}]
["CB100B2.S21.DP0477",{"$f":"'21 Market Risk - Foreign Exch.'!$AK$41","v":"S21.DP0477"}]
["CB100B2.S21.DP0478",{"$f":"'21 Market Risk - Foreign Exch.'!$AK$42","v":"S21.DP0478"}]
["CB100B2.S21.DP0479",{"$f":"'21 Market Risk - Foreign Exch.'!$AK$43","v":"S21.DP0479"}]
["CB100B2.S21.DP0480",{"$f":"'21 Market Risk - Foreign Exch.'!$AM$9","v":"S21.DP0480"}]
["CB100B2.S21.DP0481",{"$f":"'21 Market Risk - Foreign Exch.'!$AM$12","v":"S21.DP0481"}]
["CB100B2.S21.DP0482",{"$f":"'21 Market Risk - Foreign Exch.'!$AM$14","v":"S21.DP0482"}]
["CB100B2.S21.DP0483",{"$f":"'21 Market Risk - Foreign Exch.'!$AM$15","v":"S21.DP0483"}]
["CB100B2.S21.DP0484",{"$f":"'21 Market Risk - Foreign Exch.'!$AM$16","v":"S21.DP0484"}]
["CB100B2.S21.DP0485",{"$f":"'21 Market Risk - Foreign Exch.'!$AM$17","v":"S21.DP0485"}]
["CB100B2.S21.DP0486",{"$f":"'21 Market Risk - Foreign Exch.'!$AM$18","v":"S21.DP0486"}]
["CB100B2.S21.DP0487",{"$f":"'21 Market Risk - Foreign Exch.'!$AM$20","v":"S21.DP0487"}]
["CB100B2.S21.DP0488",{"$f":"'21 Market Risk - Foreign Exch.'!$AM$21","v":"S21.DP0488"}]
["CB100B2.S21.DP0489",{"$f":"'21 Market Risk - Foreign Exch.'!$AM$22","v":"S21.DP0489"}]
["CB100B2.S21.DP0490",{"$f":"'21 Market Risk - Foreign Exch.'!$AM$23","v":"S21.DP0490"}]
["CB100B2.S21.DP0491",{"$f":"'21 Market Risk - Foreign Exch.'!$AM$24","v":"S21.DP0491"}]
["CB100B2.S21.DP0492",{"$f":"'21 Market Risk - Foreign Exch.'!$AM$25","v":"S21.DP0492"}]
["CB100B2.S21.DP0493",{"$f":"'21 Market Risk - Foreign Exch.'!$AM$26","v":"S21.DP0493"}]
["CB100B2.S21.DP0494",{"$f":"'21 Market Risk - Foreign Exch.'!$AM$27","v":"S21.DP0494"}]
["CB100B2.S21.DP0495",{"$f":"'21 Market Risk - Foreign Exch.'!$AM$28","v":"S21.DP0495"}]
["CB100B2.S21.DP0496",{"$f":"'21 Market Risk - Foreign Exch.'!$AM$30","v":"S21.DP0496"}]
["CB100B2.S21.DP0497",{"$f":"'21 Market Risk - Foreign Exch.'!$AM$31","v":"S21.DP0497"}]
["CB100B2.S21.DP0498",{"$f":"'21 Market Risk - Foreign Exch.'!$AM$32","v":"S21.DP0498"}]
["CB100B2.S21.DP0499",{"$f":"'21 Market Risk - Foreign Exch.'!$AM$33","v":"S21.DP0499"}]
["CB100B2.S21.DP0500",{"$f":"'21 Market Risk - Foreign Exch.'!$AM$34","v":"S21.DP0500"}]
["CB100B2.S21.DP0501",{"$f":"'21 Market Risk - Foreign Exch.'!$AM$35","v":"S21.DP0501"}]
["CB100B2.S21.DP0502",{"$f":"'21 Market Risk - Foreign Exch.'!$AM$36","v":"S21.DP0502"}]
["CB100B2.S21.DP0503",{"$f":"'21 Market Risk - Foreign Exch.'!$AM$37","v":"S21.DP0503"}]
["CB100B2.S21.DP0504",{"$f":"'21 Market Risk - Foreign Exch.'!$AM$39","v":"S21.DP0504"}]
["CB100B2.S21.DP0505",{"$f":"'21 Market Risk - Foreign Exch.'!$AM$40","v":"S21.DP0505"}]
["CB100B2.S21.DP0506",{"$f":"'21 Market Risk - Foreign Exch.'!$AM$41","v":"S21.DP0506"}]
["CB100B2.S21.DP0507",{"$f":"'21 Market Risk - Foreign Exch.'!$AM$42","v":"S21.DP0507"}]
["CB100B2.S21.DP0508",{"$f":"'21 Market Risk - Foreign Exch.'!$AM$43","v":"S21.DP0508"}]
["CB100B2.S21.DP0509",{"$f":"'21 Market Risk - Foreign Exch.'!$AO$9","v":"S21.DP0509"}]
["CB100B2.S21.DP0510",{"$f":"'21 Market Risk - Foreign Exch.'!$AO$12","v":"S21.DP0510"}]
["CB100B2.S21.DP0511",{"$f":"'21 Market Risk - Foreign Exch.'!$AO$14","v":"S21.DP0511"}]
["CB100B2.S21.DP0512",{"$f":"'21 Market Risk - Foreign Exch.'!$AO$15","v":"S21.DP0512"}]
["CB100B2.S21.DP0513",{"$f":"'21 Market Risk - Foreign Exch.'!$AO$16","v":"S21.DP0513"}]
["CB100B2.S21.DP0514",{"$f":"'21 Market Risk - Foreign Exch.'!$AO$17","v":"S21.DP0514"}]
["CB100B2.S21.DP0515",{"$f":"'21 Market Risk - Foreign Exch.'!$AO$18","v":"S21.DP0515"}]
["CB100B2.S21.DP0516",{"$f":"'21 Market Risk - Foreign Exch.'!$AO$20","v":"S21.DP0516"}]
["CB100B2.S21.DP0517",{"$f":"'21 Market Risk - Foreign Exch.'!$AO$21","v":"S21.DP0517"}]
["CB100B2.S21.DP0518",{"$f":"'21 Market Risk - Foreign Exch.'!$AO$22","v":"S21.DP0518"}]
["CB100B2.S21.DP0519",{"$f":"'21 Market Risk - Foreign Exch.'!$AO$23","v":"S21.DP0519"}]
["CB100B2.S21.DP0520",{"$f":"'21 Market Risk - Foreign Exch.'!$AO$24","v":"S21.DP0520"}]
["CB100B2.S21.DP0521",{"$f":"'21 Market Risk - Foreign Exch.'!$AO$25","v":"S21.DP0521"}]
["CB100B2.S21.DP0522",{"$f":"'21 Market Risk - Foreign Exch.'!$AO$26","v":"S21.DP0522"}]
["CB100B2.S21.DP0523",{"$f":"'21 Market Risk - Foreign Exch.'!$AO$27","v":"S21.DP0523"}]
["CB100B2.S21.DP0524",{"$f":"'21 Market Risk - Foreign Exch.'!$AO$28","v":"S21.DP0524"}]
["CB100B2.S21.DP0525",{"$f":"'21 Market Risk - Foreign Exch.'!$AO$30","v":"S21.DP0525"}]
["CB100B2.S21.DP0526",{"$f":"'21 Market Risk - Foreign Exch.'!$AO$31","v":"S21.DP0526"}]
["CB100B2.S21.DP0527",{"$f":"'21 Market Risk - Foreign Exch.'!$AO$32","v":"S21.DP0527"}]
["CB100B2.S21.DP0528",{"$f":"'21 Market Risk - Foreign Exch.'!$AO$33","v":"S21.DP0528"}]
["CB100B2.S21.DP0529",{"$f":"'21 Market Risk - Foreign Exch.'!$AO$34","v":"S21.DP0529"}]
["CB100B2.S21.DP0530",{"$f":"'21 Market Risk - Foreign Exch.'!$AO$35","v":"S21.DP0530"}]
["CB100B2.S21.DP0531",{"$f":"'21 Market Risk - Foreign Exch.'!$AO$36","v":"S21.DP0531"}]
["CB100B2.S21.DP0532",{"$f":"'21 Market Risk - Foreign Exch.'!$AO$37","v":"S21.DP0532"}]
["CB100B2.S21.DP0533",{"$f":"'21 Market Risk - Foreign Exch.'!$AO$39","v":"S21.DP0533"}]
["CB100B2.S21.DP0534",{"$f":"'21 Market Risk - Foreign Exch.'!$AO$40","v":"S21.DP0534"}]
["CB100B2.S21.DP0535",{"$f":"'21 Market Risk - Foreign Exch.'!$AO$41","v":"S21.DP0535"}]
["CB100B2.S21.DP0536",{"$f":"'21 Market Risk - Foreign Exch.'!$AO$42","v":"S21.DP0536"}]
["CB100B2.S21.DP0537",{"$f":"'21 Market Risk - Foreign Exch.'!$AO$43","v":"S21.DP0537"}]
["CB100B2.S21.DP0538",{"$f":"'21 Market Risk - Foreign Exch.'!$E$48","v":"S21.DP0538"}]
["CB100B2.S21.DP0539",{"$f":"'21 Market Risk - Foreign Exch.'!$E$49","v":"S21.DP0539"}]
["CB100B2.S21.DP0540",{"$f":"'21 Market Risk - Foreign Exch.'!$E$50","v":"S21.DP0540"}]
["CB100B2.S21.DP0541",{"$f":"'21 Market Risk - Foreign Exch.'!$E$51","v":"S21.DP0541"}]
["CB100B2.S21.DP0542",{"$f":"'21 Market Risk - Foreign Exch.'!$E$53","v":"S21.DP0542"}]
["CB100B2.S21.DP0543",{"$f":"'21 Market Risk - Foreign Exch.'!$E$54","v":"S21.DP0543"}]
["CB100B2.S21.DP0544",{"$f":"'21 Market Risk - Foreign Exch.'!$E$55","v":"S21.DP0544"}]
["CB100B2.S21.DP0545",{"$f":"'21 Market Risk - Foreign Exch.'!$E$56","v":"S21.DP0545"}]
["CB100B2.S21.DP0546",{"$f":"'21 Market Risk - Foreign Exch.'!$E$58","v":"S21.DP0546"}]
["CB100B2.S21.DP0547",{"$f":"'21 Market Risk - Foreign Exch.'!$E$59","v":"S21.DP0547"}]
["CB100B2.S21.DP0548",{"$f":"'21 Market Risk - Foreign Exch.'!$E$60","v":"S21.DP0548"}]
["CB100B2.S21.DP0549",{"$f":"'21 Market Risk - Foreign Exch.'!$E$61","v":"S21.DP0549"}]
["CB100B2.S21.DP0550",{"$f":"'21 Market Risk - Foreign Exch.'!$E$62","v":"S21.DP0550"}]
["CB100B2.S21.DP0551",{"$f":"'21 Market Risk - Foreign Exch.'!$E$64","v":"S21.DP0551"}]
["CB100B2.S21.DP0552",{"$f":"'21 Market Risk - Foreign Exch.'!$E$65","v":"S21.DP0552"}]
["CB100B2.S21.DP0553",{"$f":"'21 Market Risk - Foreign Exch.'!$E$67","v":"S21.DP0553"}]
["CB100B2.S21.DP0554",{"$f":"'21 Market Risk - Foreign Exch.'!$E$68","v":"S21.DP0554"}]
["CB100B2.S21.DP0555",{"$f":"'21 Market Risk - Foreign Exch.'!$E$69","v":"S21.DP0555"}]
["CB100B2.S21.DP0556",{"$f":"'21 Market Risk - Foreign Exch.'!$E$70","v":"S21.DP0556"}]
["CB100B2.S21.DP0557",{"$f":"'21 Market Risk - Foreign Exch.'!$G$48","v":"S21.DP0557"}]
["CB100B2.S21.DP0558",{"$f":"'21 Market Risk - Foreign Exch.'!$G$49","v":"S21.DP0558"}]
["CB100B2.S21.DP0559",{"$f":"'21 Market Risk - Foreign Exch.'!$G$50","v":"S21.DP0559"}]
["CB100B2.S21.DP0560",{"$f":"'21 Market Risk - Foreign Exch.'!$G$51","v":"S21.DP0560"}]
["CB100B2.S21.DP0561",{"$f":"'21 Market Risk - Foreign Exch.'!$G$53","v":"S21.DP0561"}]
["CB100B2.S21.DP0562",{"$f":"'21 Market Risk - Foreign Exch.'!$G$54","v":"S21.DP0562"}]
["CB100B2.S21.DP0563",{"$f":"'21 Market Risk - Foreign Exch.'!$G$55","v":"S21.DP0563"}]
["CB100B2.S21.DP0564",{"$f":"'21 Market Risk - Foreign Exch.'!$G$56","v":"S21.DP0564"}]
["CB100B2.S21.DP0565",{"$f":"'21 Market Risk - Foreign Exch.'!$G$58","v":"S21.DP0565"}]
["CB100B2.S21.DP0566",{"$f":"'21 Market Risk - Foreign Exch.'!$G$59","v":"S21.DP0566"}]
["CB100B2.S21.DP0567",{"$f":"'21 Market Risk - Foreign Exch.'!$G$60","v":"S21.DP0567"}]
["CB100B2.S21.DP0568",{"$f":"'21 Market Risk - Foreign Exch.'!$G$61","v":"S21.DP0568"}]
["CB100B2.S21.DP0569",{"$f":"'21 Market Risk - Foreign Exch.'!$G$62","v":"S21.DP0569"}]
["CB100B2.S21.DP0570",{"$f":"'21 Market Risk - Foreign Exch.'!$G$64","v":"S21.DP0570"}]
["CB100B2.S21.DP0571",{"$f":"'21 Market Risk - Foreign Exch.'!$G$65","v":"S21.DP0571"}]
["CB100B2.S21.DP0572",{"$f":"'21 Market Risk - Foreign Exch.'!$G$67","v":"S21.DP0572"}]
["CB100B2.S21.DP0573",{"$f":"'21 Market Risk - Foreign Exch.'!$G$68","v":"S21.DP0573"}]
["CB100B2.S21.DP0574",{"$f":"'21 Market Risk - Foreign Exch.'!$G$69","v":"S21.DP0574"}]
["CB100B2.S21.DP0575",{"$f":"'21 Market Risk - Foreign Exch.'!$G$70","v":"S21.DP0575"}]
["CB100B2.S21.DP0576",{"$f":"'21 Market Risk - Foreign Exch.'!$I$48","v":"S21.DP0576"}]
["CB100B2.S21.DP0577",{"$f":"'21 Market Risk - Foreign Exch.'!$I$49","v":"S21.DP0577"}]
["CB100B2.S21.DP0578",{"$f":"'21 Market Risk - Foreign Exch.'!$I$50","v":"S21.DP0578"}]
["CB100B2.S21.DP0579",{"$f":"'21 Market Risk - Foreign Exch.'!$I$51","v":"S21.DP0579"}]
["CB100B2.S21.DP0580",{"$f":"'21 Market Risk - Foreign Exch.'!$I$53","v":"S21.DP0580"}]
["CB100B2.S21.DP0581",{"$f":"'21 Market Risk - Foreign Exch.'!$I$54","v":"S21.DP0581"}]
["CB100B2.S21.DP0582",{"$f":"'21 Market Risk - Foreign Exch.'!$I$55","v":"S21.DP0582"}]
["CB100B2.S21.DP0583",{"$f":"'21 Market Risk - Foreign Exch.'!$I$56","v":"S21.DP0583"}]
["CB100B2.S21.DP0584",{"$f":"'21 Market Risk - Foreign Exch.'!$I$58","v":"S21.DP0584"}]
["CB100B2.S21.DP0585",{"$f":"'21 Market Risk - Foreign Exch.'!$I$59","v":"S21.DP0585"}]
["CB100B2.S21.DP0586",{"$f":"'21 Market Risk - Foreign Exch.'!$I$60","v":"S21.DP0586"}]
["CB100B2.S21.DP0587",{"$f":"'21 Market Risk - Foreign Exch.'!$I$61","v":"S21.DP0587"}]
["CB100B2.S21.DP0588",{"$f":"'21 Market Risk - Foreign Exch.'!$I$62","v":"S21.DP0588"}]
["CB100B2.S21.DP0589",{"$f":"'21 Market Risk - Foreign Exch.'!$I$64","v":"S21.DP0589"}]
["CB100B2.S21.DP0590",{"$f":"'21 Market Risk - Foreign Exch.'!$I$65","v":"S21.DP0590"}]
["CB100B2.S21.DP0591",{"$f":"'21 Market Risk - Foreign Exch.'!$I$67","v":"S21.DP0591"}]
["CB100B2.S21.DP0592",{"$f":"'21 Market Risk - Foreign Exch.'!$I$68","v":"S21.DP0592"}]
["CB100B2.S21.DP0593",{"$f":"'21 Market Risk - Foreign Exch.'!$I$69","v":"S21.DP0593"}]
["CB100B2.S21.DP0594",{"$f":"'21 Market Risk - Foreign Exch.'!$I$70","v":"S21.DP0594"}]
["CB100B2.S21.DP0595",{"$f":"'21 Market Risk - Foreign Exch.'!$K$48","v":"S21.DP0595"}]
["CB100B2.S21.DP0596",{"$f":"'21 Market Risk - Foreign Exch.'!$K$49","v":"S21.DP0596"}]
["CB100B2.S21.DP0597",{"$f":"'21 Market Risk - Foreign Exch.'!$K$50","v":"S21.DP0597"}]
["CB100B2.S21.DP0598",{"$f":"'21 Market Risk - Foreign Exch.'!$K$51","v":"S21.DP0598"}]
["CB100B2.S21.DP0599",{"$f":"'21 Market Risk - Foreign Exch.'!$K$53","v":"S21.DP0599"}]
["CB100B2.S21.DP0600",{"$f":"'21 Market Risk - Foreign Exch.'!$K$54","v":"S21.DP0600"}]
["CB100B2.S21.DP0601",{"$f":"'21 Market Risk - Foreign Exch.'!$K$55","v":"S21.DP0601"}]
["CB100B2.S21.DP0602",{"$f":"'21 Market Risk - Foreign Exch.'!$K$56","v":"S21.DP0602"}]
["CB100B2.S21.DP0603",{"$f":"'21 Market Risk - Foreign Exch.'!$K$58","v":"S21.DP0603"}]
["CB100B2.S21.DP0604",{"$f":"'21 Market Risk - Foreign Exch.'!$K$59","v":"S21.DP0604"}]
["CB100B2.S21.DP0605",{"$f":"'21 Market Risk - Foreign Exch.'!$K$60","v":"S21.DP0605"}]
["CB100B2.S21.DP0606",{"$f":"'21 Market Risk - Foreign Exch.'!$K$61","v":"S21.DP0606"}]
["CB100B2.S21.DP0607",{"$f":"'21 Market Risk - Foreign Exch.'!$K$62","v":"S21.DP0607"}]
["CB100B2.S21.DP0608",{"$f":"'21 Market Risk - Foreign Exch.'!$K$64","v":"S21.DP0608"}]
["CB100B2.S21.DP0609",{"$f":"'21 Market Risk - Foreign Exch.'!$K$65","v":"S21.DP0609"}]
["CB100B2.S21.DP0610",{"$f":"'21 Market Risk - Foreign Exch.'!$K$67","v":"S21.DP0610"}]
["CB100B2.S21.DP0611",{"$f":"'21 Market Risk - Foreign Exch.'!$K$68","v":"S21.DP0611"}]
["CB100B2.S21.DP0612",{"$f":"'21 Market Risk - Foreign Exch.'!$K$69","v":"S21.DP0612"}]
["CB100B2.S21.DP0613",{"$f":"'21 Market Risk - Foreign Exch.'!$K$70","v":"S21.DP0613"}]
["CB100B2.S21.DP0614",{"$f":"'21 Market Risk - Foreign Exch.'!$M$48","v":"S21.DP0614"}]
["CB100B2.S21.DP0615",{"$f":"'21 Market Risk - Foreign Exch.'!$M$49","v":"S21.DP0615"}]
["CB100B2.S21.DP0616",{"$f":"'21 Market Risk - Foreign Exch.'!$M$50","v":"S21.DP0616"}]
["CB100B2.S21.DP0617",{"$f":"'21 Market Risk - Foreign Exch.'!$M$51","v":"S21.DP0617"}]
["CB100B2.S21.DP0618",{"$f":"'21 Market Risk - Foreign Exch.'!$M$53","v":"S21.DP0618"}]
["CB100B2.S21.DP0619",{"$f":"'21 Market Risk - Foreign Exch.'!$M$54","v":"S21.DP0619"}]
["CB100B2.S21.DP0620",{"$f":"'21 Market Risk - Foreign Exch.'!$M$55","v":"S21.DP0620"}]
["CB100B2.S21.DP0621",{"$f":"'21 Market Risk - Foreign Exch.'!$M$56","v":"S21.DP0621"}]
["CB100B2.S21.DP0622",{"$f":"'21 Market Risk - Foreign Exch.'!$M$58","v":"S21.DP0622"}]
["CB100B2.S21.DP0623",{"$f":"'21 Market Risk - Foreign Exch.'!$M$59","v":"S21.DP0623"}]
["CB100B2.S21.DP0624",{"$f":"'21 Market Risk - Foreign Exch.'!$M$60","v":"S21.DP0624"}]
["CB100B2.S21.DP0625",{"$f":"'21 Market Risk - Foreign Exch.'!$M$61","v":"S21.DP0625"}]
["CB100B2.S21.DP0626",{"$f":"'21 Market Risk - Foreign Exch.'!$M$62","v":"S21.DP0626"}]
["CB100B2.S21.DP0627",{"$f":"'21 Market Risk - Foreign Exch.'!$M$64","v":"S21.DP0627"}]
["CB100B2.S21.DP0628",{"$f":"'21 Market Risk - Foreign Exch.'!$M$65","v":"S21.DP0628"}]
["CB100B2.S21.DP0629",{"$f":"'21 Market Risk - Foreign Exch.'!$M$67","v":"S21.DP0629"}]
["CB100B2.S21.DP0630",{"$f":"'21 Market Risk - Foreign Exch.'!$M$68","v":"S21.DP0630"}]
["CB100B2.S21.DP0631",{"$f":"'21 Market Risk - Foreign Exch.'!$M$69","v":"S21.DP0631"}]
["CB100B2.S21.DP0632",{"$f":"'21 Market Risk - Foreign Exch.'!$M$70","v":"S21.DP0632"}]
["CB100B2.S21.DP0633",{"$f":"'21 Market Risk - Foreign Exch.'!$O$48","v":"S21.DP0633"}]
["CB100B2.S21.DP0634",{"$f":"'21 Market Risk - Foreign Exch.'!$O$49","v":"S21.DP0634"}]
["CB100B2.S21.DP0635",{"$f":"'21 Market Risk - Foreign Exch.'!$O$50","v":"S21.DP0635"}]
["CB100B2.S21.DP0636",{"$f":"'21 Market Risk - Foreign Exch.'!$O$51","v":"S21.DP0636"}]
["CB100B2.S21.DP0637",{"$f":"'21 Market Risk - Foreign Exch.'!$O$53","v":"S21.DP0637"}]
["CB100B2.S21.DP0638",{"$f":"'21 Market Risk - Foreign Exch.'!$O$54","v":"S21.DP0638"}]
["CB100B2.S21.DP0639",{"$f":"'21 Market Risk - Foreign Exch.'!$O$55","v":"S21.DP0639"}]
["CB100B2.S21.DP0640",{"$f":"'21 Market Risk - Foreign Exch.'!$O$56","v":"S21.DP0640"}]
["CB100B2.S21.DP0641",{"$f":"'21 Market Risk - Foreign Exch.'!$O$58","v":"S21.DP0641"}]
["CB100B2.S21.DP0642",{"$f":"'21 Market Risk - Foreign Exch.'!$O$59","v":"S21.DP0642"}]
["CB100B2.S21.DP0643",{"$f":"'21 Market Risk - Foreign Exch.'!$O$60","v":"S21.DP0643"}]
["CB100B2.S21.DP0644",{"$f":"'21 Market Risk - Foreign Exch.'!$O$61","v":"S21.DP0644"}]
["CB100B2.S21.DP0645",{"$f":"'21 Market Risk - Foreign Exch.'!$O$62","v":"S21.DP0645"}]
["CB100B2.S21.DP0646",{"$f":"'21 Market Risk - Foreign Exch.'!$O$64","v":"S21.DP0646"}]
["CB100B2.S21.DP0647",{"$f":"'21 Market Risk - Foreign Exch.'!$O$65","v":"S21.DP0647"}]
["CB100B2.S21.DP0648",{"$f":"'21 Market Risk - Foreign Exch.'!$O$67","v":"S21.DP0648"}]
["CB100B2.S21.DP0649",{"$f":"'21 Market Risk - Foreign Exch.'!$O$68","v":"S21.DP0649"}]
["CB100B2.S21.DP0650",{"$f":"'21 Market Risk - Foreign Exch.'!$O$69","v":"S21.DP0650"}]
["CB100B2.S21.DP0651",{"$f":"'21 Market Risk - Foreign Exch.'!$O$70","v":"S21.DP0651"}]
["CB100B2.S21.DP0652",{"$f":"'21 Market Risk - Foreign Exch.'!$Q$48","v":"S21.DP0652"}]
["CB100B2.S21.DP0653",{"$f":"'21 Market Risk - Foreign Exch.'!$Q$49","v":"S21.DP0653"}]
["CB100B2.S21.DP0654",{"$f":"'21 Market Risk - Foreign Exch.'!$Q$50","v":"S21.DP0654"}]
["CB100B2.S21.DP0655",{"$f":"'21 Market Risk - Foreign Exch.'!$Q$51","v":"S21.DP0655"}]
["CB100B2.S21.DP0656",{"$f":"'21 Market Risk - Foreign Exch.'!$Q$53","v":"S21.DP0656"}]
["CB100B2.S21.DP0657",{"$f":"'21 Market Risk - Foreign Exch.'!$Q$54","v":"S21.DP0657"}]
["CB100B2.S21.DP0658",{"$f":"'21 Market Risk - Foreign Exch.'!$Q$55","v":"S21.DP0658"}]
["CB100B2.S21.DP0659",{"$f":"'21 Market Risk - Foreign Exch.'!$Q$56","v":"S21.DP0659"}]
["CB100B2.S21.DP0660",{"$f":"'21 Market Risk - Foreign Exch.'!$Q$58","v":"S21.DP0660"}]
["CB100B2.S21.DP0661",{"$f":"'21 Market Risk - Foreign Exch.'!$Q$59","v":"S21.DP0661"}]
["CB100B2.S21.DP0662",{"$f":"'21 Market Risk - Foreign Exch.'!$Q$60","v":"S21.DP0662"}]
["CB100B2.S21.DP0663",{"$f":"'21 Market Risk - Foreign Exch.'!$Q$61","v":"S21.DP0663"}]
["CB100B2.S21.DP0664",{"$f":"'21 Market Risk - Foreign Exch.'!$Q$62","v":"S21.DP0664"}]
["CB100B2.S21.DP0665",{"$f":"'21 Market Risk - Foreign Exch.'!$Q$64","v":"S21.DP0665"}]
["CB100B2.S21.DP0666",{"$f":"'21 Market Risk - Foreign Exch.'!$Q$65","v":"S21.DP0666"}]
["CB100B2.S21.DP0667",{"$f":"'21 Market Risk - Foreign Exch.'!$Q$67","v":"S21.DP0667"}]
["CB100B2.S21.DP0668",{"$f":"'21 Market Risk - Foreign Exch.'!$Q$68","v":"S21.DP0668"}]
["CB100B2.S21.DP0669",{"$f":"'21 Market Risk - Foreign Exch.'!$Q$69","v":"S21.DP0669"}]
["CB100B2.S21.DP0670",{"$f":"'21 Market Risk - Foreign Exch.'!$Q$70","v":"S21.DP0670"}]
["CB100B2.S21.DP0671",{"$f":"'21 Market Risk - Foreign Exch.'!$S$48","v":"S21.DP0671"}]
["CB100B2.S21.DP0672",{"$f":"'21 Market Risk - Foreign Exch.'!$S$49","v":"S21.DP0672"}]
["CB100B2.S21.DP0673",{"$f":"'21 Market Risk - Foreign Exch.'!$S$50","v":"S21.DP0673"}]
["CB100B2.S21.DP0674",{"$f":"'21 Market Risk - Foreign Exch.'!$S$51","v":"S21.DP0674"}]
["CB100B2.S21.DP0675",{"$f":"'21 Market Risk - Foreign Exch.'!$S$53","v":"S21.DP0675"}]
["CB100B2.S21.DP0676",{"$f":"'21 Market Risk - Foreign Exch.'!$S$54","v":"S21.DP0676"}]
["CB100B2.S21.DP0677",{"$f":"'21 Market Risk - Foreign Exch.'!$S$55","v":"S21.DP0677"}]
["CB100B2.S21.DP0678",{"$f":"'21 Market Risk - Foreign Exch.'!$S$56","v":"S21.DP0678"}]
["CB100B2.S21.DP0679",{"$f":"'21 Market Risk - Foreign Exch.'!$S$58","v":"S21.DP0679"}]
["CB100B2.S21.DP0680",{"$f":"'21 Market Risk - Foreign Exch.'!$S$59","v":"S21.DP0680"}]
["CB100B2.S21.DP0681",{"$f":"'21 Market Risk - Foreign Exch.'!$S$60","v":"S21.DP0681"}]
["CB100B2.S21.DP0682",{"$f":"'21 Market Risk - Foreign Exch.'!$S$61","v":"S21.DP0682"}]
["CB100B2.S21.DP0683",{"$f":"'21 Market Risk - Foreign Exch.'!$S$62","v":"S21.DP0683"}]
["CB100B2.S21.DP0684",{"$f":"'21 Market Risk - Foreign Exch.'!$S$64","v":"S21.DP0684"}]
["CB100B2.S21.DP0685",{"$f":"'21 Market Risk - Foreign Exch.'!$S$65","v":"S21.DP0685"}]
["CB100B2.S21.DP0686",{"$f":"'21 Market Risk - Foreign Exch.'!$S$67","v":"S21.DP0686"}]
["CB100B2.S21.DP0687",{"$f":"'21 Market Risk - Foreign Exch.'!$S$68","v":"S21.DP0687"}]
["CB100B2.S21.DP0688",{"$f":"'21 Market Risk - Foreign Exch.'!$S$69","v":"S21.DP0688"}]
["CB100B2.S21.DP0689",{"$f":"'21 Market Risk - Foreign Exch.'!$S$70","v":"S21.DP0689"}]
["CB100B2.S21.DP0690",{"$f":"'21 Market Risk - Foreign Exch.'!$U$48","v":"S21.DP0690"}]
["CB100B2.S21.DP0691",{"$f":"'21 Market Risk - Foreign Exch.'!$U$49","v":"S21.DP0691"}]
["CB100B2.S21.DP0692",{"$f":"'21 Market Risk - Foreign Exch.'!$U$50","v":"S21.DP0692"}]
["CB100B2.S21.DP0693",{"$f":"'21 Market Risk - Foreign Exch.'!$U$51","v":"S21.DP0693"}]
["CB100B2.S21.DP0694",{"$f":"'21 Market Risk - Foreign Exch.'!$U$53","v":"S21.DP0694"}]
["CB100B2.S21.DP0695",{"$f":"'21 Market Risk - Foreign Exch.'!$U$54","v":"S21.DP0695"}]
["CB100B2.S21.DP0696",{"$f":"'21 Market Risk - Foreign Exch.'!$U$55","v":"S21.DP0696"}]
["CB100B2.S21.DP0697",{"$f":"'21 Market Risk - Foreign Exch.'!$U$56","v":"S21.DP0697"}]
["CB100B2.S21.DP0698",{"$f":"'21 Market Risk - Foreign Exch.'!$U$58","v":"S21.DP0698"}]
["CB100B2.S21.DP0699",{"$f":"'21 Market Risk - Foreign Exch.'!$U$59","v":"S21.DP0699"}]
["CB100B2.S21.DP0700",{"$f":"'21 Market Risk - Foreign Exch.'!$U$60","v":"S21.DP0700"}]
["CB100B2.S21.DP0701",{"$f":"'21 Market Risk - Foreign Exch.'!$U$61","v":"S21.DP0701"}]
["CB100B2.S21.DP0702",{"$f":"'21 Market Risk - Foreign Exch.'!$U$62","v":"S21.DP0702"}]
["CB100B2.S21.DP0703",{"$f":"'21 Market Risk - Foreign Exch.'!$U$64","v":"S21.DP0703"}]
["CB100B2.S21.DP0704",{"$f":"'21 Market Risk - Foreign Exch.'!$U$65","v":"S21.DP0704"}]
["CB100B2.S21.DP0705",{"$f":"'21 Market Risk - Foreign Exch.'!$U$67","v":"S21.DP0705"}]
["CB100B2.S21.DP0706",{"$f":"'21 Market Risk - Foreign Exch.'!$U$68","v":"S21.DP0706"}]
["CB100B2.S21.DP0707",{"$f":"'21 Market Risk - Foreign Exch.'!$U$69","v":"S21.DP0707"}]
["CB100B2.S21.DP0708",{"$f":"'21 Market Risk - Foreign Exch.'!$U$70","v":"S21.DP0708"}]
["CB100B2.S21.DP0709",{"$f":"'21 Market Risk - Foreign Exch.'!$W$48","v":"S21.DP0709"}]
["CB100B2.S21.DP0710",{"$f":"'21 Market Risk - Foreign Exch.'!$W$49","v":"S21.DP0710"}]
["CB100B2.S21.DP0711",{"$f":"'21 Market Risk - Foreign Exch.'!$W$50","v":"S21.DP0711"}]
["CB100B2.S21.DP0712",{"$f":"'21 Market Risk - Foreign Exch.'!$W$51","v":"S21.DP0712"}]
["CB100B2.S21.DP0713",{"$f":"'21 Market Risk - Foreign Exch.'!$W$53","v":"S21.DP0713"}]
["CB100B2.S21.DP0714",{"$f":"'21 Market Risk - Foreign Exch.'!$W$54","v":"S21.DP0714"}]
["CB100B2.S21.DP0715",{"$f":"'21 Market Risk - Foreign Exch.'!$W$55","v":"S21.DP0715"}]
["CB100B2.S21.DP0716",{"$f":"'21 Market Risk - Foreign Exch.'!$W$56","v":"S21.DP0716"}]
["CB100B2.S21.DP0717",{"$f":"'21 Market Risk - Foreign Exch.'!$W$58","v":"S21.DP0717"}]
["CB100B2.S21.DP0718",{"$f":"'21 Market Risk - Foreign Exch.'!$W$59","v":"S21.DP0718"}]
["CB100B2.S21.DP0719",{"$f":"'21 Market Risk - Foreign Exch.'!$W$60","v":"S21.DP0719"}]
["CB100B2.S21.DP0720",{"$f":"'21 Market Risk - Foreign Exch.'!$W$61","v":"S21.DP0720"}]
["CB100B2.S21.DP0721",{"$f":"'21 Market Risk - Foreign Exch.'!$W$62","v":"S21.DP0721"}]
["CB100B2.S21.DP0722",{"$f":"'21 Market Risk - Foreign Exch.'!$W$64","v":"S21.DP0722"}]
["CB100B2.S21.DP0723",{"$f":"'21 Market Risk - Foreign Exch.'!$W$65","v":"S21.DP0723"}]
["CB100B2.S21.DP0724",{"$f":"'21 Market Risk - Foreign Exch.'!$W$67","v":"S21.DP0724"}]
["CB100B2.S21.DP0725",{"$f":"'21 Market Risk - Foreign Exch.'!$W$68","v":"S21.DP0725"}]
["CB100B2.S21.DP0726",{"$f":"'21 Market Risk - Foreign Exch.'!$W$69","v":"S21.DP0726"}]
["CB100B2.S21.DP0727",{"$f":"'21 Market Risk - Foreign Exch.'!$W$70","v":"S21.DP0727"}]
["CB100B2.S21.DP0728",{"$f":"'21 Market Risk - Foreign Exch.'!$Y$48","v":"S21.DP0728"}]
["CB100B2.S21.DP0729",{"$f":"'21 Market Risk - Foreign Exch.'!$Y$49","v":"S21.DP0729"}]
["CB100B2.S21.DP0730",{"$f":"'21 Market Risk - Foreign Exch.'!$Y$50","v":"S21.DP0730"}]
["CB100B2.S21.DP0731",{"$f":"'21 Market Risk - Foreign Exch.'!$Y$51","v":"S21.DP0731"}]
["CB100B2.S21.DP0732",{"$f":"'21 Market Risk - Foreign Exch.'!$Y$53","v":"S21.DP0732"}]
["CB100B2.S21.DP0733",{"$f":"'21 Market Risk - Foreign Exch.'!$Y$54","v":"S21.DP0733"}]
["CB100B2.S21.DP0734",{"$f":"'21 Market Risk - Foreign Exch.'!$Y$55","v":"S21.DP0734"}]
["CB100B2.S21.DP0735",{"$f":"'21 Market Risk - Foreign Exch.'!$Y$56","v":"S21.DP0735"}]
["CB100B2.S21.DP0736",{"$f":"'21 Market Risk - Foreign Exch.'!$Y$58","v":"S21.DP0736"}]
["CB100B2.S21.DP0737",{"$f":"'21 Market Risk - Foreign Exch.'!$Y$59","v":"S21.DP0737"}]
["CB100B2.S21.DP0738",{"$f":"'21 Market Risk - Foreign Exch.'!$Y$60","v":"S21.DP0738"}]
["CB100B2.S21.DP0739",{"$f":"'21 Market Risk - Foreign Exch.'!$Y$61","v":"S21.DP0739"}]
["CB100B2.S21.DP0740",{"$f":"'21 Market Risk - Foreign Exch.'!$Y$62","v":"S21.DP0740"}]
["CB100B2.S21.DP0741",{"$f":"'21 Market Risk - Foreign Exch.'!$Y$64","v":"S21.DP0741"}]
["CB100B2.S21.DP0742",{"$f":"'21 Market Risk - Foreign Exch.'!$Y$65","v":"S21.DP0742"}]
["CB100B2.S21.DP0743",{"$f":"'21 Market Risk - Foreign Exch.'!$Y$67","v":"S21.DP0743"}]
["CB100B2.S21.DP0744",{"$f":"'21 Market Risk - Foreign Exch.'!$Y$68","v":"S21.DP0744"}]
["CB100B2.S21.DP0745",{"$f":"'21 Market Risk - Foreign Exch.'!$Y$69","v":"S21.DP0745"}]
["CB100B2.S21.DP0746",{"$f":"'21 Market Risk - Foreign Exch.'!$Y$70","v":"S21.DP0746"}]
["CB100B2.S21.DP0747",{"$f":"'21 Market Risk - Foreign Exch.'!$AA$48","v":"S21.DP0747"}]
["CB100B2.S21.DP0748",{"$f":"'21 Market Risk - Foreign Exch.'!$AA$49","v":"S21.DP0748"}]
["CB100B2.S21.DP0749",{"$f":"'21 Market Risk - Foreign Exch.'!$AA$50","v":"S21.DP0749"}]
["CB100B2.S21.DP0750",{"$f":"'21 Market Risk - Foreign Exch.'!$AA$51","v":"S21.DP0750"}]
["CB100B2.S21.DP0751",{"$f":"'21 Market Risk - Foreign Exch.'!$AA$53","v":"S21.DP0751"}]
["CB100B2.S21.DP0752",{"$f":"'21 Market Risk - Foreign Exch.'!$AA$54","v":"S21.DP0752"}]
["CB100B2.S21.DP0753",{"$f":"'21 Market Risk - Foreign Exch.'!$AA$55","v":"S21.DP0753"}]
["CB100B2.S21.DP0754",{"$f":"'21 Market Risk - Foreign Exch.'!$AA$56","v":"S21.DP0754"}]
["CB100B2.S21.DP0755",{"$f":"'21 Market Risk - Foreign Exch.'!$AA$58","v":"S21.DP0755"}]
["CB100B2.S21.DP0756",{"$f":"'21 Market Risk - Foreign Exch.'!$AA$59","v":"S21.DP0756"}]
["CB100B2.S21.DP0757",{"$f":"'21 Market Risk - Foreign Exch.'!$AA$60","v":"S21.DP0757"}]
["CB100B2.S21.DP0758",{"$f":"'21 Market Risk - Foreign Exch.'!$AA$61","v":"S21.DP0758"}]
["CB100B2.S21.DP0759",{"$f":"'21 Market Risk - Foreign Exch.'!$AA$62","v":"S21.DP0759"}]
["CB100B2.S21.DP0760",{"$f":"'21 Market Risk - Foreign Exch.'!$AA$64","v":"S21.DP0760"}]
["CB100B2.S21.DP0761",{"$f":"'21 Market Risk - Foreign Exch.'!$AA$65","v":"S21.DP0761"}]
["CB100B2.S21.DP0762",{"$f":"'21 Market Risk - Foreign Exch.'!$AA$67","v":"S21.DP0762"}]
["CB100B2.S21.DP0763",{"$f":"'21 Market Risk - Foreign Exch.'!$AA$68","v":"S21.DP0763"}]
["CB100B2.S21.DP0764",{"$f":"'21 Market Risk - Foreign Exch.'!$AA$69","v":"S21.DP0764"}]
["CB100B2.S21.DP0765",{"$f":"'21 Market Risk - Foreign Exch.'!$AA$70","v":"S21.DP0765"}]
["CB100B2.S21.DP0766",{"$f":"'21 Market Risk - Foreign Exch.'!$AC$48","v":"S21.DP0766"}]
["CB100B2.S21.DP0767",{"$f":"'21 Market Risk - Foreign Exch.'!$AC$49","v":"S21.DP0767"}]
["CB100B2.S21.DP0768",{"$f":"'21 Market Risk - Foreign Exch.'!$AC$50","v":"S21.DP0768"}]
["CB100B2.S21.DP0769",{"$f":"'21 Market Risk - Foreign Exch.'!$AC$51","v":"S21.DP0769"}]
["CB100B2.S21.DP0770",{"$f":"'21 Market Risk - Foreign Exch.'!$AC$53","v":"S21.DP0770"}]
["CB100B2.S21.DP0771",{"$f":"'21 Market Risk - Foreign Exch.'!$AC$54","v":"S21.DP0771"}]
["CB100B2.S21.DP0772",{"$f":"'21 Market Risk - Foreign Exch.'!$AC$55","v":"S21.DP0772"}]
["CB100B2.S21.DP0773",{"$f":"'21 Market Risk - Foreign Exch.'!$AC$56","v":"S21.DP0773"}]
["CB100B2.S21.DP0774",{"$f":"'21 Market Risk - Foreign Exch.'!$AC$58","v":"S21.DP0774"}]
["CB100B2.S21.DP0775",{"$f":"'21 Market Risk - Foreign Exch.'!$AC$59","v":"S21.DP0775"}]
["CB100B2.S21.DP0776",{"$f":"'21 Market Risk - Foreign Exch.'!$AC$60","v":"S21.DP0776"}]
["CB100B2.S21.DP0777",{"$f":"'21 Market Risk - Foreign Exch.'!$AC$61","v":"S21.DP0777"}]
["CB100B2.S21.DP0778",{"$f":"'21 Market Risk - Foreign Exch.'!$AC$62","v":"S21.DP0778"}]
["CB100B2.S21.DP0779",{"$f":"'21 Market Risk - Foreign Exch.'!$AC$64","v":"S21.DP0779"}]
["CB100B2.S21.DP0780",{"$f":"'21 Market Risk - Foreign Exch.'!$AC$65","v":"S21.DP0780"}]
["CB100B2.S21.DP0781",{"$f":"'21 Market Risk - Foreign Exch.'!$AC$67","v":"S21.DP0781"}]
["CB100B2.S21.DP0782",{"$f":"'21 Market Risk - Foreign Exch.'!$AC$68","v":"S21.DP0782"}]
["CB100B2.S21.DP0783",{"$f":"'21 Market Risk - Foreign Exch.'!$AC$69","v":"S21.DP0783"}]
["CB100B2.S21.DP0784",{"$f":"'21 Market Risk - Foreign Exch.'!$AC$70","v":"S21.DP0784"}]
["CB100B2.S21.DP0785",{"$f":"'21 Market Risk - Foreign Exch.'!$AE$48","v":"S21.DP0785"}]
["CB100B2.S21.DP0786",{"$f":"'21 Market Risk - Foreign Exch.'!$AE$49","v":"S21.DP0786"}]
["CB100B2.S21.DP0787",{"$f":"'21 Market Risk - Foreign Exch.'!$AE$50","v":"S21.DP0787"}]
["CB100B2.S21.DP0788",{"$f":"'21 Market Risk - Foreign Exch.'!$AE$51","v":"S21.DP0788"}]
["CB100B2.S21.DP0789",{"$f":"'21 Market Risk - Foreign Exch.'!$AE$53","v":"S21.DP0789"}]
["CB100B2.S21.DP0790",{"$f":"'21 Market Risk - Foreign Exch.'!$AE$54","v":"S21.DP0790"}]
["CB100B2.S21.DP0791",{"$f":"'21 Market Risk - Foreign Exch.'!$AE$55","v":"S21.DP0791"}]
["CB100B2.S21.DP0792",{"$f":"'21 Market Risk - Foreign Exch.'!$AE$56","v":"S21.DP0792"}]
["CB100B2.S21.DP0793",{"$f":"'21 Market Risk - Foreign Exch.'!$AE$58","v":"S21.DP0793"}]
["CB100B2.S21.DP0794",{"$f":"'21 Market Risk - Foreign Exch.'!$AE$59","v":"S21.DP0794"}]
["CB100B2.S21.DP0795",{"$f":"'21 Market Risk - Foreign Exch.'!$AE$60","v":"S21.DP0795"}]
["CB100B2.S21.DP0796",{"$f":"'21 Market Risk - Foreign Exch.'!$AE$61","v":"S21.DP0796"}]
["CB100B2.S21.DP0797",{"$f":"'21 Market Risk - Foreign Exch.'!$AE$62","v":"S21.DP0797"}]
["CB100B2.S21.DP0798",{"$f":"'21 Market Risk - Foreign Exch.'!$AE$64","v":"S21.DP0798"}]
["CB100B2.S21.DP0799",{"$f":"'21 Market Risk - Foreign Exch.'!$AE$65","v":"S21.DP0799"}]
["CB100B2.S21.DP0800",{"$f":"'21 Market Risk - Foreign Exch.'!$AE$67","v":"S21.DP0800"}]
["CB100B2.S21.DP0801",{"$f":"'21 Market Risk - Foreign Exch.'!$AE$68","v":"S21.DP0801"}]
["CB100B2.S21.DP0802",{"$f":"'21 Market Risk - Foreign Exch.'!$AE$69","v":"S21.DP0802"}]
["CB100B2.S21.DP0803",{"$f":"'21 Market Risk - Foreign Exch.'!$AE$70","v":"S21.DP0803"}]
["CB100B2.S21.DP0804",{"$f":"'21 Market Risk - Foreign Exch.'!$AG$48","v":"S21.DP0804"}]
["CB100B2.S21.DP0805",{"$f":"'21 Market Risk - Foreign Exch.'!$AG$49","v":"S21.DP0805"}]
["CB100B2.S21.DP0806",{"$f":"'21 Market Risk - Foreign Exch.'!$AG$50","v":"S21.DP0806"}]
["CB100B2.S21.DP0807",{"$f":"'21 Market Risk - Foreign Exch.'!$AG$51","v":"S21.DP0807"}]
["CB100B2.S21.DP0808",{"$f":"'21 Market Risk - Foreign Exch.'!$AG$53","v":"S21.DP0808"}]
["CB100B2.S21.DP0809",{"$f":"'21 Market Risk - Foreign Exch.'!$AG$54","v":"S21.DP0809"}]
["CB100B2.S21.DP0810",{"$f":"'21 Market Risk - Foreign Exch.'!$AG$55","v":"S21.DP0810"}]
["CB100B2.S21.DP0811",{"$f":"'21 Market Risk - Foreign Exch.'!$AG$56","v":"S21.DP0811"}]
["CB100B2.S21.DP0812",{"$f":"'21 Market Risk - Foreign Exch.'!$AG$58","v":"S21.DP0812"}]
["CB100B2.S21.DP0813",{"$f":"'21 Market Risk - Foreign Exch.'!$AG$59","v":"S21.DP0813"}]
["CB100B2.S21.DP0814",{"$f":"'21 Market Risk - Foreign Exch.'!$AG$60","v":"S21.DP0814"}]
["CB100B2.S21.DP0815",{"$f":"'21 Market Risk - Foreign Exch.'!$AG$61","v":"S21.DP0815"}]
["CB100B2.S21.DP0816",{"$f":"'21 Market Risk - Foreign Exch.'!$AG$62","v":"S21.DP0816"}]
["CB100B2.S21.DP0817",{"$f":"'21 Market Risk - Foreign Exch.'!$AG$64","v":"S21.DP0817"}]
["CB100B2.S21.DP0818",{"$f":"'21 Market Risk - Foreign Exch.'!$AG$65","v":"S21.DP0818"}]
["CB100B2.S21.DP0819",{"$f":"'21 Market Risk - Foreign Exch.'!$AG$67","v":"S21.DP0819"}]
["CB100B2.S21.DP0820",{"$f":"'21 Market Risk - Foreign Exch.'!$AG$68","v":"S21.DP0820"}]
["CB100B2.S21.DP0821",{"$f":"'21 Market Risk - Foreign Exch.'!$AG$69","v":"S21.DP0821"}]
["CB100B2.S21.DP0822",{"$f":"'21 Market Risk - Foreign Exch.'!$AG$70","v":"S21.DP0822"}]
["CB100B2.S21.DP0823",{"$f":"'21 Market Risk - Foreign Exch.'!$AI$48","v":"S21.DP0823"}]
["CB100B2.S21.DP0824",{"$f":"'21 Market Risk - Foreign Exch.'!$AI$49","v":"S21.DP0824"}]
["CB100B2.S21.DP0825",{"$f":"'21 Market Risk - Foreign Exch.'!$AI$50","v":"S21.DP0825"}]
["CB100B2.S21.DP0826",{"$f":"'21 Market Risk - Foreign Exch.'!$AI$51","v":"S21.DP0826"}]
["CB100B2.S21.DP0827",{"$f":"'21 Market Risk - Foreign Exch.'!$AI$53","v":"S21.DP0827"}]
["CB100B2.S21.DP0828",{"$f":"'21 Market Risk - Foreign Exch.'!$AI$54","v":"S21.DP0828"}]
["CB100B2.S21.DP0829",{"$f":"'21 Market Risk - Foreign Exch.'!$AI$55","v":"S21.DP0829"}]
["CB100B2.S21.DP0830",{"$f":"'21 Market Risk - Foreign Exch.'!$AI$56","v":"S21.DP0830"}]
["CB100B2.S21.DP0831",{"$f":"'21 Market Risk - Foreign Exch.'!$AI$58","v":"S21.DP0831"}]
["CB100B2.S21.DP0832",{"$f":"'21 Market Risk - Foreign Exch.'!$AI$59","v":"S21.DP0832"}]
["CB100B2.S21.DP0833",{"$f":"'21 Market Risk - Foreign Exch.'!$AI$60","v":"S21.DP0833"}]
["CB100B2.S21.DP0834",{"$f":"'21 Market Risk - Foreign Exch.'!$AI$61","v":"S21.DP0834"}]
["CB100B2.S21.DP0835",{"$f":"'21 Market Risk - Foreign Exch.'!$AI$62","v":"S21.DP0835"}]
["CB100B2.S21.DP0836",{"$f":"'21 Market Risk - Foreign Exch.'!$AI$64","v":"S21.DP0836"}]
["CB100B2.S21.DP0837",{"$f":"'21 Market Risk - Foreign Exch.'!$AI$65","v":"S21.DP0837"}]
["CB100B2.S21.DP0838",{"$f":"'21 Market Risk - Foreign Exch.'!$AI$67","v":"S21.DP0838"}]
["CB100B2.S21.DP0839",{"$f":"'21 Market Risk - Foreign Exch.'!$AI$68","v":"S21.DP0839"}]
["CB100B2.S21.DP0840",{"$f":"'21 Market Risk - Foreign Exch.'!$AI$69","v":"S21.DP0840"}]
["CB100B2.S21.DP0841",{"$f":"'21 Market Risk - Foreign Exch.'!$AI$70","v":"S21.DP0841"}]
["CB100B2.S21.DP0842",{"$f":"'21 Market Risk - Foreign Exch.'!$AK$48","v":"S21.DP0842"}]
["CB100B2.S21.DP0843",{"$f":"'21 Market Risk - Foreign Exch.'!$AK$49","v":"S21.DP0843"}]
["CB100B2.S21.DP0844",{"$f":"'21 Market Risk - Foreign Exch.'!$AK$50","v":"S21.DP0844"}]
["CB100B2.S21.DP0845",{"$f":"'21 Market Risk - Foreign Exch.'!$AK$51","v":"S21.DP0845"}]
["CB100B2.S21.DP0846",{"$f":"'21 Market Risk - Foreign Exch.'!$AK$53","v":"S21.DP0846"}]
["CB100B2.S21.DP0847",{"$f":"'21 Market Risk - Foreign Exch.'!$AK$54","v":"S21.DP0847"}]
["CB100B2.S21.DP0848",{"$f":"'21 Market Risk - Foreign Exch.'!$AK$55","v":"S21.DP0848"}]
["CB100B2.S21.DP0849",{"$f":"'21 Market Risk - Foreign Exch.'!$AK$56","v":"S21.DP0849"}]
["CB100B2.S21.DP0850",{"$f":"'21 Market Risk - Foreign Exch.'!$AK$58","v":"S21.DP0850"}]
["CB100B2.S21.DP0851",{"$f":"'21 Market Risk - Foreign Exch.'!$AK$59","v":"S21.DP0851"}]
["CB100B2.S21.DP0852",{"$f":"'21 Market Risk - Foreign Exch.'!$AK$60","v":"S21.DP0852"}]
["CB100B2.S21.DP0853",{"$f":"'21 Market Risk - Foreign Exch.'!$AK$61","v":"S21.DP0853"}]
["CB100B2.S21.DP0854",{"$f":"'21 Market Risk - Foreign Exch.'!$AK$62","v":"S21.DP0854"}]
["CB100B2.S21.DP0855",{"$f":"'21 Market Risk - Foreign Exch.'!$AK$64","v":"S21.DP0855"}]
["CB100B2.S21.DP0856",{"$f":"'21 Market Risk - Foreign Exch.'!$AK$65","v":"S21.DP0856"}]
["CB100B2.S21.DP0857",{"$f":"'21 Market Risk - Foreign Exch.'!$AK$67","v":"S21.DP0857"}]
["CB100B2.S21.DP0858",{"$f":"'21 Market Risk - Foreign Exch.'!$AK$68","v":"S21.DP0858"}]
["CB100B2.S21.DP0859",{"$f":"'21 Market Risk - Foreign Exch.'!$AK$69","v":"S21.DP0859"}]
["CB100B2.S21.DP0860",{"$f":"'21 Market Risk - Foreign Exch.'!$AK$70","v":"S21.DP0860"}]
["CB100B2.S21.DP0861",{"$f":"'21 Market Risk - Foreign Exch.'!$AM$48","v":"S21.DP0861"}]
["CB100B2.S21.DP0862",{"$f":"'21 Market Risk - Foreign Exch.'!$AM$49","v":"S21.DP0862"}]
["CB100B2.S21.DP0863",{"$f":"'21 Market Risk - Foreign Exch.'!$AM$50","v":"S21.DP0863"}]
["CB100B2.S21.DP0864",{"$f":"'21 Market Risk - Foreign Exch.'!$AM$51","v":"S21.DP0864"}]
["CB100B2.S21.DP0865",{"$f":"'21 Market Risk - Foreign Exch.'!$AM$53","v":"S21.DP0865"}]
["CB100B2.S21.DP0866",{"$f":"'21 Market Risk - Foreign Exch.'!$AM$54","v":"S21.DP0866"}]
["CB100B2.S21.DP0867",{"$f":"'21 Market Risk - Foreign Exch.'!$AM$55","v":"S21.DP0867"}]
["CB100B2.S21.DP0868",{"$f":"'21 Market Risk - Foreign Exch.'!$AM$56","v":"S21.DP0868"}]
["CB100B2.S21.DP0869",{"$f":"'21 Market Risk - Foreign Exch.'!$AM$58","v":"S21.DP0869"}]
["CB100B2.S21.DP0870",{"$f":"'21 Market Risk - Foreign Exch.'!$AM$59","v":"S21.DP0870"}]
["CB100B2.S21.DP0871",{"$f":"'21 Market Risk - Foreign Exch.'!$AM$60","v":"S21.DP0871"}]
["CB100B2.S21.DP0872",{"$f":"'21 Market Risk - Foreign Exch.'!$AM$61","v":"S21.DP0872"}]
["CB100B2.S21.DP0873",{"$f":"'21 Market Risk - Foreign Exch.'!$AM$62","v":"S21.DP0873"}]
["CB100B2.S21.DP0874",{"$f":"'21 Market Risk - Foreign Exch.'!$AM$64","v":"S21.DP0874"}]
["CB100B2.S21.DP0875",{"$f":"'21 Market Risk - Foreign Exch.'!$AM$65","v":"S21.DP0875"}]
["CB100B2.S21.DP0876",{"$f":"'21 Market Risk - Foreign Exch.'!$AM$67","v":"S21.DP0876"}]
["CB100B2.S21.DP0877",{"$f":"'21 Market Risk - Foreign Exch.'!$AM$68","v":"S21.DP0877"}]
["CB100B2.S21.DP0878",{"$f":"'21 Market Risk - Foreign Exch.'!$AM$69","v":"S21.DP0878"}]
["CB100B2.S21.DP0879",{"$f":"'21 Market Risk - Foreign Exch.'!$AM$70","v":"S21.DP0879"}]
["CB100B2.S21.DP0880",{"$f":"'21 Market Risk - Foreign Exch.'!$AO$48","v":"S21.DP0880"}]
["CB100B2.S21.DP0881",{"$f":"'21 Market Risk - Foreign Exch.'!$AO$49","v":"S21.DP0881"}]
["CB100B2.S21.DP0882",{"$f":"'21 Market Risk - Foreign Exch.'!$AO$50","v":"S21.DP0882"}]
["CB100B2.S21.DP0883",{"$f":"'21 Market Risk - Foreign Exch.'!$AO$51","v":"S21.DP0883"}]
["CB100B2.S21.DP0884",{"$f":"'21 Market Risk - Foreign Exch.'!$AO$53","v":"S21.DP0884"}]
["CB100B2.S21.DP0885",{"$f":"'21 Market Risk - Foreign Exch.'!$AO$54","v":"S21.DP0885"}]
["CB100B2.S21.DP0886",{"$f":"'21 Market Risk - Foreign Exch.'!$AO$55","v":"S21.DP0886"}]
["CB100B2.S21.DP0887",{"$f":"'21 Market Risk - Foreign Exch.'!$AO$56","v":"S21.DP0887"}]
["CB100B2.S21.DP0888",{"$f":"'21 Market Risk - Foreign Exch.'!$AO$58","v":"S21.DP0888"}]
["CB100B2.S21.DP0889",{"$f":"'21 Market Risk - Foreign Exch.'!$AO$59","v":"S21.DP0889"}]
["CB100B2.S21.DP0890",{"$f":"'21 Market Risk - Foreign Exch.'!$AO$60","v":"S21.DP0890"}]
["CB100B2.S21.DP0891",{"$f":"'21 Market Risk - Foreign Exch.'!$AO$61","v":"S21.DP0891"}]
["CB100B2.S21.DP0892",{"$f":"'21 Market Risk - Foreign Exch.'!$AO$62","v":"S21.DP0892"}]
["CB100B2.S21.DP0893",{"$f":"'21 Market Risk - Foreign Exch.'!$AO$64","v":"S21.DP0893"}]
["CB100B2.S21.DP0894",{"$f":"'21 Market Risk - Foreign Exch.'!$AO$65","v":"S21.DP0894"}]
["CB100B2.S21.DP0895",{"$f":"'21 Market Risk - Foreign Exch.'!$AO$67","v":"S21.DP0895"}]
["CB100B2.S21.DP0896",{"$f":"'21 Market Risk - Foreign Exch.'!$AO$68","v":"S21.DP0896"}]
["CB100B2.S21.DP0897",{"$f":"'21 Market Risk - Foreign Exch.'!$AO$69","v":"S21.DP0897"}]
["CB100B2.S21.DP0898",{"$f":"'21 Market Risk - Foreign Exch.'!$AO$70","v":"S21.DP0898"}]
["CB100B2.S21.DP0899",{"$f":"'21 Market Risk - Foreign Exch.'!$E$72","v":"S21.DP0899"}]
["CB100B2.S21.DP0900",{"$f":"'21 Market Risk - Foreign Exch.'!$E$73","v":"S21.DP0900"}]
["CB100B2.S21.DP0901",{"$f":"'21 Market Risk - Foreign Exch.'!$E$74","v":"S21.DP0901"}]
["CB100B2.S21.DP0902",{"$f":"'21 Market Risk - Foreign Exch.'!$E$75","v":"S21.DP0902"}]
["CB100B2.S21.DP0903",{"$f":"'21 Market Risk - Foreign Exch.'!$E$76","v":"S21.DP0903"}]
["CB100B2.S21.DP0904",{"$f":"'21 Market Risk - Foreign Exch.'!$G$72","v":"S21.DP0904"}]
["CB100B2.S21.DP0905",{"$f":"'21 Market Risk - Foreign Exch.'!$G$73","v":"S21.DP0905"}]
["CB100B2.S21.DP0906",{"$f":"'21 Market Risk - Foreign Exch.'!$G$74","v":"S21.DP0906"}]
["CB100B2.S21.DP0907",{"$f":"'21 Market Risk - Foreign Exch.'!$G$75","v":"S21.DP0907"}]
["CB100B2.S21.DP0908",{"$f":"'21 Market Risk - Foreign Exch.'!$G$76","v":"S21.DP0908"}]
["CB100B2.S21.DP0909",{"$f":"'21 Market Risk - Foreign Exch.'!$I$72","v":"S21.DP0909"}]
["CB100B2.S21.DP0910",{"$f":"'21 Market Risk - Foreign Exch.'!$I$73","v":"S21.DP0910"}]
["CB100B2.S21.DP0911",{"$f":"'21 Market Risk - Foreign Exch.'!$I$74","v":"S21.DP0911"}]
["CB100B2.S21.DP0912",{"$f":"'21 Market Risk - Foreign Exch.'!$I$75","v":"S21.DP0912"}]
["CB100B2.S21.DP0913",{"$f":"'21 Market Risk - Foreign Exch.'!$I$76","v":"S21.DP0913"}]
["CB100B2.S21.DP0914",{"$f":"'21 Market Risk - Foreign Exch.'!$K$72","v":"S21.DP0914"}]
["CB100B2.S21.DP0915",{"$f":"'21 Market Risk - Foreign Exch.'!$K$73","v":"S21.DP0915"}]
["CB100B2.S21.DP0916",{"$f":"'21 Market Risk - Foreign Exch.'!$K$74","v":"S21.DP0916"}]
["CB100B2.S21.DP0917",{"$f":"'21 Market Risk - Foreign Exch.'!$K$75","v":"S21.DP0917"}]
["CB100B2.S21.DP0918",{"$f":"'21 Market Risk - Foreign Exch.'!$K$76","v":"S21.DP0918"}]
["CB100B2.S21.DP0919",{"$f":"'21 Market Risk - Foreign Exch.'!$M$72","v":"S21.DP0919"}]
["CB100B2.S21.DP0920",{"$f":"'21 Market Risk - Foreign Exch.'!$M$73","v":"S21.DP0920"}]
["CB100B2.S21.DP0921",{"$f":"'21 Market Risk - Foreign Exch.'!$M$74","v":"S21.DP0921"}]
["CB100B2.S21.DP0922",{"$f":"'21 Market Risk - Foreign Exch.'!$M$75","v":"S21.DP0922"}]
["CB100B2.S21.DP0923",{"$f":"'21 Market Risk - Foreign Exch.'!$M$76","v":"S21.DP0923"}]
["CB100B2.S21.DP0924",{"$f":"'21 Market Risk - Foreign Exch.'!$O$72","v":"S21.DP0924"}]
["CB100B2.S21.DP0925",{"$f":"'21 Market Risk - Foreign Exch.'!$O$73","v":"S21.DP0925"}]
["CB100B2.S21.DP0926",{"$f":"'21 Market Risk - Foreign Exch.'!$O$74","v":"S21.DP0926"}]
["CB100B2.S21.DP0927",{"$f":"'21 Market Risk - Foreign Exch.'!$O$75","v":"S21.DP0927"}]
["CB100B2.S21.DP0928",{"$f":"'21 Market Risk - Foreign Exch.'!$O$76","v":"S21.DP0928"}]
["CB100B2.S21.DP0929",{"$f":"'21 Market Risk - Foreign Exch.'!$Q$72","v":"S21.DP0929"}]
["CB100B2.S21.DP0930",{"$f":"'21 Market Risk - Foreign Exch.'!$Q$73","v":"S21.DP0930"}]
["CB100B2.S21.DP0931",{"$f":"'21 Market Risk - Foreign Exch.'!$Q$74","v":"S21.DP0931"}]
["CB100B2.S21.DP0932",{"$f":"'21 Market Risk - Foreign Exch.'!$Q$75","v":"S21.DP0932"}]
["CB100B2.S21.DP0933",{"$f":"'21 Market Risk - Foreign Exch.'!$Q$76","v":"S21.DP0933"}]
["CB100B2.S21.DP0934",{"$f":"'21 Market Risk - Foreign Exch.'!$S$72","v":"S21.DP0934"}]
["CB100B2.S21.DP0935",{"$f":"'21 Market Risk - Foreign Exch.'!$S$73","v":"S21.DP0935"}]
["CB100B2.S21.DP0936",{"$f":"'21 Market Risk - Foreign Exch.'!$S$74","v":"S21.DP0936"}]
["CB100B2.S21.DP0937",{"$f":"'21 Market Risk - Foreign Exch.'!$S$75","v":"S21.DP0937"}]
["CB100B2.S21.DP0938",{"$f":"'21 Market Risk - Foreign Exch.'!$S$76","v":"S21.DP0938"}]
["CB100B2.S21.DP0939",{"$f":"'21 Market Risk - Foreign Exch.'!$U$72","v":"S21.DP0939"}]
["CB100B2.S21.DP0940",{"$f":"'21 Market Risk - Foreign Exch.'!$U$73","v":"S21.DP0940"}]
["CB100B2.S21.DP0941",{"$f":"'21 Market Risk - Foreign Exch.'!$U$74","v":"S21.DP0941"}]
["CB100B2.S21.DP0942",{"$f":"'21 Market Risk - Foreign Exch.'!$U$75","v":"S21.DP0942"}]
["CB100B2.S21.DP0943",{"$f":"'21 Market Risk - Foreign Exch.'!$U$76","v":"S21.DP0943"}]
["CB100B2.S21.DP0944",{"$f":"'21 Market Risk - Foreign Exch.'!$W$72","v":"S21.DP0944"}]
["CB100B2.S21.DP0945",{"$f":"'21 Market Risk - Foreign Exch.'!$W$73","v":"S21.DP0945"}]
["CB100B2.S21.DP0946",{"$f":"'21 Market Risk - Foreign Exch.'!$W$74","v":"S21.DP0946"}]
["CB100B2.S21.DP0947",{"$f":"'21 Market Risk - Foreign Exch.'!$W$75","v":"S21.DP0947"}]
["CB100B2.S21.DP0948",{"$f":"'21 Market Risk - Foreign Exch.'!$W$76","v":"S21.DP0948"}]
["CB100B2.S21.DP0949",{"$f":"'21 Market Risk - Foreign Exch.'!$Y$72","v":"S21.DP0949"}]
["CB100B2.S21.DP0950",{"$f":"'21 Market Risk - Foreign Exch.'!$Y$73","v":"S21.DP0950"}]
["CB100B2.S21.DP0951",{"$f":"'21 Market Risk - Foreign Exch.'!$Y$74","v":"S21.DP0951"}]
["CB100B2.S21.DP0952",{"$f":"'21 Market Risk - Foreign Exch.'!$Y$75","v":"S21.DP0952"}]
["CB100B2.S21.DP0953",{"$f":"'21 Market Risk - Foreign Exch.'!$Y$76","v":"S21.DP0953"}]
["CB100B2.S21.DP0954",{"$f":"'21 Market Risk - Foreign Exch.'!$AA$72","v":"S21.DP0954"}]
["CB100B2.S21.DP0955",{"$f":"'21 Market Risk - Foreign Exch.'!$AA$73","v":"S21.DP0955"}]
["CB100B2.S21.DP0956",{"$f":"'21 Market Risk - Foreign Exch.'!$AA$74","v":"S21.DP0956"}]
["CB100B2.S21.DP0957",{"$f":"'21 Market Risk - Foreign Exch.'!$AA$75","v":"S21.DP0957"}]
["CB100B2.S21.DP0958",{"$f":"'21 Market Risk - Foreign Exch.'!$AA$76","v":"S21.DP0958"}]
["CB100B2.S21.DP0959",{"$f":"'21 Market Risk - Foreign Exch.'!$AC$72","v":"S21.DP0959"}]
["CB100B2.S21.DP0960",{"$f":"'21 Market Risk - Foreign Exch.'!$AC$73","v":"S21.DP0960"}]
["CB100B2.S21.DP0961",{"$f":"'21 Market Risk - Foreign Exch.'!$AC$74","v":"S21.DP0961"}]
["CB100B2.S21.DP0962",{"$f":"'21 Market Risk - Foreign Exch.'!$AC$75","v":"S21.DP0962"}]
["CB100B2.S21.DP0963",{"$f":"'21 Market Risk - Foreign Exch.'!$AC$76","v":"S21.DP0963"}]
["CB100B2.S21.DP0964",{"$f":"'21 Market Risk - Foreign Exch.'!$AE$72","v":"S21.DP0964"}]
["CB100B2.S21.DP0965",{"$f":"'21 Market Risk - Foreign Exch.'!$AE$73","v":"S21.DP0965"}]
["CB100B2.S21.DP0966",{"$f":"'21 Market Risk - Foreign Exch.'!$AE$74","v":"S21.DP0966"}]
["CB100B2.S21.DP0967",{"$f":"'21 Market Risk - Foreign Exch.'!$AE$75","v":"S21.DP0967"}]
["CB100B2.S21.DP0968",{"$f":"'21 Market Risk - Foreign Exch.'!$AE$76","v":"S21.DP0968"}]
["CB100B2.S21.DP0969",{"$f":"'21 Market Risk - Foreign Exch.'!$AG$72","v":"S21.DP0969"}]
["CB100B2.S21.DP0970",{"$f":"'21 Market Risk - Foreign Exch.'!$AG$73","v":"S21.DP0970"}]
["CB100B2.S21.DP0971",{"$f":"'21 Market Risk - Foreign Exch.'!$AG$74","v":"S21.DP0971"}]
["CB100B2.S21.DP0972",{"$f":"'21 Market Risk - Foreign Exch.'!$AG$75","v":"S21.DP0972"}]
["CB100B2.S21.DP0973",{"$f":"'21 Market Risk - Foreign Exch.'!$AG$76","v":"S21.DP0973"}]
["CB100B2.S21.DP0974",{"$f":"'21 Market Risk - Foreign Exch.'!$AI$72","v":"S21.DP0974"}]
["CB100B2.S21.DP0975",{"$f":"'21 Market Risk - Foreign Exch.'!$AI$73","v":"S21.DP0975"}]
["CB100B2.S21.DP0976",{"$f":"'21 Market Risk - Foreign Exch.'!$AI$74","v":"S21.DP0976"}]
["CB100B2.S21.DP0977",{"$f":"'21 Market Risk - Foreign Exch.'!$AI$75","v":"S21.DP0977"}]
["CB100B2.S21.DP0978",{"$f":"'21 Market Risk - Foreign Exch.'!$AI$76","v":"S21.DP0978"}]
["CB100B2.S21.DP0979",{"$f":"'21 Market Risk - Foreign Exch.'!$AK$72","v":"S21.DP0979"}]
["CB100B2.S21.DP0980",{"$f":"'21 Market Risk - Foreign Exch.'!$AK$73","v":"S21.DP0980"}]
["CB100B2.S21.DP0981",{"$f":"'21 Market Risk - Foreign Exch.'!$AK$74","v":"S21.DP0981"}]
["CB100B2.S21.DP0982",{"$f":"'21 Market Risk - Foreign Exch.'!$AK$75","v":"S21.DP0982"}]
["CB100B2.S21.DP0983",{"$f":"'21 Market Risk - Foreign Exch.'!$AK$76","v":"S21.DP0983"}]
["CB100B2.S21.DP0984",{"$f":"'21 Market Risk - Foreign Exch.'!$AM$72","v":"S21.DP0984"}]
["CB100B2.S21.DP0985",{"$f":"'21 Market Risk - Foreign Exch.'!$AM$73","v":"S21.DP0985"}]
["CB100B2.S21.DP0986",{"$f":"'21 Market Risk - Foreign Exch.'!$AM$74","v":"S21.DP0986"}]
["CB100B2.S21.DP0987",{"$f":"'21 Market Risk - Foreign Exch.'!$AM$75","v":"S21.DP0987"}]
["CB100B2.S21.DP0988",{"$f":"'21 Market Risk - Foreign Exch.'!$AM$76","v":"S21.DP0988"}]
["CB100B2.S21.DP0989",{"$f":"'21 Market Risk - Foreign Exch.'!$AO$72","v":"S21.DP0989"}]
["CB100B2.S21.DP0990",{"$f":"'21 Market Risk - Foreign Exch.'!$AO$73","v":"S21.DP0990"}]
["CB100B2.S21.DP0991",{"$f":"'21 Market Risk - Foreign Exch.'!$AO$74","v":"S21.DP0991"}]
["CB100B2.S21.DP0992",{"$f":"'21 Market Risk - Foreign Exch.'!$AO$75","v":"S21.DP0992"}]
["CB100B2.S21.DP0993",{"$f":"'21 Market Risk - Foreign Exch.'!$AO$76","v":"S21.DP0993"}]
["CB100B2.S21.DP0994",{"$f":"'21 Market Risk - Foreign Exch.'!$E$81","v":"S21.DP0994"}]
["CB100B2.S21.DP0995",{"$f":"'21 Market Risk - Foreign Exch.'!$E$84","v":"S21.DP0995"}]
["CB100B2.S21.DP0996",{"$f":"'21 Market Risk - Foreign Exch.'!$E$86","v":"S21.DP0996"}]
["CB100B2.S21.DP0997",{"$f":"'21 Market Risk - Foreign Exch.'!$G$81","v":"S21.DP0997"}]
["CB100B2.S21.DP0998",{"$f":"'21 Market Risk - Foreign Exch.'!$G$84","v":"S21.DP0998"}]
["CB100B2.S21.DP0999",{"$f":"'21 Market Risk - Foreign Exch.'!$G$86","v":"S21.DP0999"}]
["CB100B2.S21.DP1000",{"$f":"'21 Market Risk - Foreign Exch.'!$I$81","v":"S21.DP1000"}]
["CB100B2.S21.DP1001",{"$f":"'21 Market Risk - Foreign Exch.'!$I$84","v":"S21.DP1001"}]
["CB100B2.S21.DP1002",{"$f":"'21 Market Risk - Foreign Exch.'!$I$86","v":"S21.DP1002"}]
["CB100B2.S21.DP1003",{"$f":"'21 Market Risk - Foreign Exch.'!$K$81","v":"S21.DP1003"}]
["CB100B2.S21.DP1004",{"$f":"'21 Market Risk - Foreign Exch.'!$K$84","v":"S21.DP1004"}]
["CB100B2.S21.DP1005",{"$f":"'21 Market Risk - Foreign Exch.'!$K$86","v":"S21.DP1005"}]
["CB100B2.S21.DP1006",{"$f":"'21 Market Risk - Foreign Exch.'!$M$81","v":"S21.DP1006"}]
["CB100B2.S21.DP1007",{"$f":"'21 Market Risk - Foreign Exch.'!$M$84","v":"S21.DP1007"}]
["CB100B2.S21.DP1008",{"$f":"'21 Market Risk - Foreign Exch.'!$M$86","v":"S21.DP1008"}]
["CB100B2.S21.DP1009",{"$f":"'21 Market Risk - Foreign Exch.'!$O$81","v":"S21.DP1009"}]
["CB100B2.S21.DP1010",{"$f":"'21 Market Risk - Foreign Exch.'!$O$84","v":"S21.DP1010"}]
["CB100B2.S21.DP1011",{"$f":"'21 Market Risk - Foreign Exch.'!$O$86","v":"S21.DP1011"}]
["CB100B2.S21.DP1012",{"$f":"'21 Market Risk - Foreign Exch.'!$Q$81","v":"S21.DP1012"}]
["CB100B2.S21.DP1013",{"$f":"'21 Market Risk - Foreign Exch.'!$Q$84","v":"S21.DP1013"}]
["CB100B2.S21.DP1014",{"$f":"'21 Market Risk - Foreign Exch.'!$Q$86","v":"S21.DP1014"}]
["CB100B2.S21.DP1015",{"$f":"'21 Market Risk - Foreign Exch.'!$S$81","v":"S21.DP1015"}]
["CB100B2.S21.DP1016",{"$f":"'21 Market Risk - Foreign Exch.'!$S$84","v":"S21.DP1016"}]
["CB100B2.S21.DP1017",{"$f":"'21 Market Risk - Foreign Exch.'!$S$86","v":"S21.DP1017"}]
["CB100B2.S21.DP1018",{"$f":"'21 Market Risk - Foreign Exch.'!$U$81","v":"S21.DP1018"}]
["CB100B2.S21.DP1019",{"$f":"'21 Market Risk - Foreign Exch.'!$U$84","v":"S21.DP1019"}]
["CB100B2.S21.DP1020",{"$f":"'21 Market Risk - Foreign Exch.'!$U$86","v":"S21.DP1020"}]
["CB100B2.S21.DP1021",{"$f":"'21 Market Risk - Foreign Exch.'!$W$81","v":"S21.DP1021"}]
["CB100B2.S21.DP1022",{"$f":"'21 Market Risk - Foreign Exch.'!$W$84","v":"S21.DP1022"}]
["CB100B2.S21.DP1023",{"$f":"'21 Market Risk - Foreign Exch.'!$W$86","v":"S21.DP1023"}]
["CB100B2.S21.DP1024",{"$f":"'21 Market Risk - Foreign Exch.'!$Y$81","v":"S21.DP1024"}]
["CB100B2.S21.DP1025",{"$f":"'21 Market Risk - Foreign Exch.'!$Y$84","v":"S21.DP1025"}]
["CB100B2.S21.DP1026",{"$f":"'21 Market Risk - Foreign Exch.'!$Y$86","v":"S21.DP1026"}]
["CB100B2.S21.DP1027",{"$f":"'21 Market Risk - Foreign Exch.'!$AA$81","v":"S21.DP1027"}]
["CB100B2.S21.DP1028",{"$f":"'21 Market Risk - Foreign Exch.'!$AA$84","v":"S21.DP1028"}]
["CB100B2.S21.DP1029",{"$f":"'21 Market Risk - Foreign Exch.'!$AA$86","v":"S21.DP1029"}]
["CB100B2.S21.DP1030",{"$f":"'21 Market Risk - Foreign Exch.'!$AC$81","v":"S21.DP1030"}]
["CB100B2.S21.DP1031",{"$f":"'21 Market Risk - Foreign Exch.'!$AC$84","v":"S21.DP1031"}]
["CB100B2.S21.DP1032",{"$f":"'21 Market Risk - Foreign Exch.'!$AC$86","v":"S21.DP1032"}]
["CB100B2.S21.DP1033",{"$f":"'21 Market Risk - Foreign Exch.'!$AE$81","v":"S21.DP1033"}]
["CB100B2.S21.DP1034",{"$f":"'21 Market Risk - Foreign Exch.'!$AE$84","v":"S21.DP1034"}]
["CB100B2.S21.DP1035",{"$f":"'21 Market Risk - Foreign Exch.'!$AE$86","v":"S21.DP1035"}]
["CB100B2.S21.DP1036",{"$f":"'21 Market Risk - Foreign Exch.'!$AG$81","v":"S21.DP1036"}]
["CB100B2.S21.DP1037",{"$f":"'21 Market Risk - Foreign Exch.'!$AG$84","v":"S21.DP1037"}]
["CB100B2.S21.DP1038",{"$f":"'21 Market Risk - Foreign Exch.'!$AG$86","v":"S21.DP1038"}]
["CB100B2.S21.DP1039",{"$f":"'21 Market Risk - Foreign Exch.'!$AI$81","v":"S21.DP1039"}]
["CB100B2.S21.DP1040",{"$f":"'21 Market Risk - Foreign Exch.'!$AI$84","v":"S21.DP1040"}]
["CB100B2.S21.DP1041",{"$f":"'21 Market Risk - Foreign Exch.'!$AI$86","v":"S21.DP1041"}]
["CB100B2.S21.DP1042",{"$f":"'21 Market Risk - Foreign Exch.'!$AK$81","v":"S21.DP1042"}]
["CB100B2.S21.DP1043",{"$f":"'21 Market Risk - Foreign Exch.'!$AK$84","v":"S21.DP1043"}]
["CB100B2.S21.DP1044",{"$f":"'21 Market Risk - Foreign Exch.'!$AK$86","v":"S21.DP1044"}]
["CB100B2.S21.DP1045",{"$f":"'21 Market Risk - Foreign Exch.'!$AM$81","v":"S21.DP1045"}]
["CB100B2.S21.DP1046",{"$f":"'21 Market Risk - Foreign Exch.'!$AM$84","v":"S21.DP1046"}]
["CB100B2.S21.DP1047",{"$f":"'21 Market Risk - Foreign Exch.'!$AM$86","v":"S21.DP1047"}]
["CB100B2.S21.DP1048",{"$f":"'21 Market Risk - Foreign Exch.'!$AO$81","v":"S21.DP1048"}]
["CB100B2.S21.DP1049",{"$f":"'21 Market Risk - Foreign Exch.'!$AO$84","v":"S21.DP1049"}]
["CB100B2.S21.DP1050",{"$f":"'21 Market Risk - Foreign Exch.'!$AO$86","v":"S21.DP1050"}]
["CB100B2.S21.DP1051",{"$f":"'21 Market Risk - Foreign Exch.'!$C$113","v":"S21.DP1051"}]
["CB100B2.S21.DP1052",{"$f":"'21 Market Risk - Foreign Exch.'!$C$114","v":"S21.DP1052"}]
["CB100B2.S21.DP1053",{"$f":"'21 Market Risk - Foreign Exch.'!$C$115","v":"S21.DP1053"}]
["CB100B2.S21.DP1054",{"$f":"'21 Market Risk - Foreign Exch.'!$C$116","v":"S21.DP1054"}]
["CB100B2.S21.DP1055",{"$f":"'21 Market Risk - Foreign Exch.'!$C$117","v":"S21.DP1055"}]
["CB100B2.S21.DP1056",{"$f":"'21 Market Risk - Foreign Exch.'!$D$100","v":"S21.DP1056"}]
["CB100B2.S21.DP1057",{"$f":"'21 Market Risk - Foreign Exch.'!$D$101","v":"S21.DP1057"}]
["CB100B2.S21.DP1058",{"$f":"'21 Market Risk - Foreign Exch.'!$D$102","v":"S21.DP1058"}]
["CB100B2.S21.DP1059",{"$f":"'21 Market Risk - Foreign Exch.'!$D$103","v":"S21.DP1059"}]
["CB100B2.S21.DP1060",{"$f":"'21 Market Risk - Foreign Exch.'!$D$104","v":"S21.DP1060"}]
["CB100B2.S21.DP1061",{"$f":"'21 Market Risk - Foreign Exch.'!$D$105","v":"S21.DP1061"}]
["CB100B2.S21.DP1062",{"$f":"'21 Market Risk - Foreign Exch.'!$D$106","v":"S21.DP1062"}]
["CB100B2.S21.DP1063",{"$f":"'21 Market Risk - Foreign Exch.'!$D$107","v":"S21.DP1063"}]
["CB100B2.S21.DP1064",{"$f":"'21 Market Risk - Foreign Exch.'!$D$108","v":"S21.DP1064"}]
["CB100B2.S21.DP1065",{"$f":"'21 Market Risk - Foreign Exch.'!$D$109","v":"S21.DP1065"}]
["CB100B2.S21.DP1066",{"$f":"'21 Market Risk - Foreign Exch.'!$D$110","v":"S21.DP1066"}]
["CB100B2.S21.DP1067",{"$f":"'21 Market Risk - Foreign Exch.'!$D$111","v":"S21.DP1067"}]
["CB100B2.S21.DP1068",{"$f":"'21 Market Risk - Foreign Exch.'!$D$112","v":"S21.DP1068"}]
["CB100B2.S21.DP1069",{"$f":"'21 Market Risk - Foreign Exch.'!$D$113","v":"S21.DP1069"}]
["CB100B2.S21.DP1070",{"$f":"'21 Market Risk - Foreign Exch.'!$D$114","v":"S21.DP1070"}]
["CB100B2.S21.DP1071",{"$f":"'21 Market Risk - Foreign Exch.'!$D$115","v":"S21.DP1071"}]
["CB100B2.S21.DP1072",{"$f":"'21 Market Risk - Foreign Exch.'!$D$116","v":"S21.DP1072"}]
["CB100B2.S21.DP1073",{"$f":"'21 Market Risk - Foreign Exch.'!$D$117","v":"S21.DP1073"}]
["CB100B2.S21.DP1074",{"$f":"'21 Market Risk - Foreign Exch.'!$D$118","v":"S21.DP1074"}]
["CB100B2.S21.DP1075",{"$f":"'21 Market Risk - Foreign Exch.'!$D$119","v":"S21.DP1075"}]
["CB100B2.S21.DP1076",{"$f":"'21 Market Risk - Foreign Exch.'!$D$122","v":"S21.DP1076"}]
["CB100B2.S21.DP1077",{"$f":"'21 Market Risk - Foreign Exch.'!$D$124","v":"S21.DP1077"}]
["CB100B2.S21.DP1078",{"$f":"'21 Market Risk - Foreign Exch.'!$D$126","v":"S21.DP1078"}]
["CB100B2.S21.DP1079",{"$f":"'21 Market Risk - Foreign Exch.'!$D$128","v":"S21.DP1079"}]
["CB100B2.S21A.DP0001",{"$f":"'21A Market  Risk - Trigger'!$C$8","v":"S21A.DP0001"}]
["CB100B2.S21A.DP0002",{"$f":"'21A Market  Risk - Trigger'!$C$9","v":"S21A.DP0002"}]
["CB100B2.S21A.DP0003",{"$f":"'21A Market  Risk - Trigger'!$C$10","v":"S21A.DP0003"}]
["CB100B2.S21B.DP0001",{"$f":"'21B Market Risk - IRR Spec.'!$C$8","v":"S21B.DP0001"}]
["CB100B2.S21B.DP0002",{"$f":"'21B Market Risk - IRR Spec.'!$C$10","v":"S21B.DP0002"}]
["CB100B2.S21B.DP0003",{"$f":"'21B Market Risk - IRR Spec.'!$C$11","v":"S21B.DP0003"}]
["CB100B2.S21B.DP0004",{"$f":"'21B Market Risk - IRR Spec.'!$C$12","v":"S21B.DP0004"}]
["CB100B2.S21B.DP0005",{"$f":"'21B Market Risk - IRR Spec.'!$C$13","v":"S21B.DP0005"}]
["CB100B2.S21B.DP0006",{"$f":"'21B Market Risk - IRR Spec.'!$E$8","v":"S21B.DP0006"}]
["CB100B2.S21B.DP0007",{"$f":"'21B Market Risk - IRR Spec.'!$E$10","v":"S21B.DP0007"}]
["CB100B2.S21B.DP0008",{"$f":"'21B Market Risk - IRR Spec.'!$E$11","v":"S21B.DP0008"}]
["CB100B2.S21B.DP0009",{"$f":"'21B Market Risk - IRR Spec.'!$E$12","v":"S21B.DP0009"}]
["CB100B2.S21B.DP0010",{"$f":"'21B Market Risk - IRR Spec.'!$E$13","v":"S21B.DP0010"}]
["CB100B2.S21B.DP0011",{"$f":"'21B Market Risk - IRR Spec.'!$E$14","v":"S21B.DP0011"}]
["CB100B2.S21B.DP0012",{"$f":"'21B Market Risk - IRR Spec.'!$E$15","v":"S21B.DP0012"}]
["CB100B2.S21B.DP0013",{"$f":"'21B Market Risk - IRR Spec.'!$E$16","v":"S21B.DP0013"}]
["CB100B2.S21B.DP0014",{"$f":"'21B Market Risk - IRR Spec.'!$E$17","v":"S21B.DP0014"}]
["CB100B2.S21B.DP0015",{"$f":"'21B Market Risk - IRR Spec.'!$E$18","v":"S21B.DP0015"}]
["CB100B2.S21C.DP0001",{"$f":"'21C Market Risk - IRR Gen.'!$C$10","v":"S21C.DP0001"}]
["CB100B2.S21C.DP0002",{"$f":"'21C Market Risk - IRR Gen.'!$C$11","v":"S21C.DP0002"}]
["CB100B2.S21C.DP0003",{"$f":"'21C Market Risk - IRR Gen.'!$C$13","v":"S21C.DP0003"}]
["CB100B2.S21C.DP0004",{"$f":"'21C Market Risk - IRR Gen.'!$C$14","v":"S21C.DP0004"}]
["CB100B2.S21C.DP0005",{"$f":"'21C Market Risk - IRR Gen.'!$C$15","v":"S21C.DP0005"}]
["CB100B2.S21C.DP0006",{"$f":"'21C Market Risk - IRR Gen.'!$C$16","v":"S21C.DP0006"}]
["CB100B2.S21C.DP0007",{"$f":"'21C Market Risk - IRR Gen.'!$C$18","v":"S21C.DP0007"}]
["CB100B2.S21C.DP0008",{"$f":"'21C Market Risk - IRR Gen.'!$C$31","v":"S21C.DP0008"}]
["CB100B2.S21C.DP0009",{"$f":"'21C Market Risk - IRR Gen.'!$C$32","v":"S21C.DP0009"}]
["CB100B2.S21C.DP0010",{"$f":"'21C Market Risk - IRR Gen.'!$D$10","v":"S21C.DP0010"}]
["CB100B2.S21C.DP0011",{"$f":"'21C Market Risk - IRR Gen.'!$D$11","v":"S21C.DP0011"}]
["CB100B2.S21C.DP0012",{"$f":"'21C Market Risk - IRR Gen.'!$D$13","v":"S21C.DP0012"}]
["CB100B2.S21C.DP0013",{"$f":"'21C Market Risk - IRR Gen.'!$D$14","v":"S21C.DP0013"}]
["CB100B2.S21C.DP0014",{"$f":"'21C Market Risk - IRR Gen.'!$D$15","v":"S21C.DP0014"}]
["CB100B2.S21C.DP0015",{"$f":"'21C Market Risk - IRR Gen.'!$D$16","v":"S21C.DP0015"}]
["CB100B2.S21C.DP0016",{"$f":"'21C Market Risk - IRR Gen.'!$D$18","v":"S21C.DP0016"}]
["CB100B2.S21C.DP0017",{"$f":"'21C Market Risk - IRR Gen.'!$D$31","v":"S21C.DP0017"}]
["CB100B2.S21C.DP0018",{"$f":"'21C Market Risk - IRR Gen.'!$D$32","v":"S21C.DP0018"}]
["CB100B2.S21C.DP0019",{"$f":"'21C Market Risk - IRR Gen.'!$E$10","v":"S21C.DP0019"}]
["CB100B2.S21C.DP0020",{"$f":"'21C Market Risk - IRR Gen.'!$E$11","v":"S21C.DP0020"}]
["CB100B2.S21C.DP0021",{"$f":"'21C Market Risk - IRR Gen.'!$E$13","v":"S21C.DP0021"}]
["CB100B2.S21C.DP0022",{"$f":"'21C Market Risk - IRR Gen.'!$E$14","v":"S21C.DP0022"}]
["CB100B2.S21C.DP0023",{"$f":"'21C Market Risk - IRR Gen.'!$E$15","v":"S21C.DP0023"}]
["CB100B2.S21C.DP0024",{"$f":"'21C Market Risk - IRR Gen.'!$E$16","v":"S21C.DP0024"}]
["CB100B2.S21C.DP0025",{"$f":"'21C Market Risk - IRR Gen.'!$E$18","v":"S21C.DP0025"}]
["CB100B2.S21C.DP0026",{"$f":"'21C Market Risk - IRR Gen.'!$F$10","v":"S21C.DP0026"}]
["CB100B2.S21C.DP0027",{"$f":"'21C Market Risk - IRR Gen.'!$F$11","v":"S21C.DP0027"}]
["CB100B2.S21C.DP0028",{"$f":"'21C Market Risk - IRR Gen.'!$F$13","v":"S21C.DP0028"}]
["CB100B2.S21C.DP0029",{"$f":"'21C Market Risk - IRR Gen.'!$F$14","v":"S21C.DP0029"}]
["CB100B2.S21C.DP0030",{"$f":"'21C Market Risk - IRR Gen.'!$F$15","v":"S21C.DP0030"}]
["CB100B2.S21C.DP0031",{"$f":"'21C Market Risk - IRR Gen.'!$F$16","v":"S21C.DP0031"}]
["CB100B2.S21C.DP0032",{"$f":"'21C Market Risk - IRR Gen.'!$F$18","v":"S21C.DP0032"}]
["CB100B2.S21C.DP0033",{"$f":"'21C Market Risk - IRR Gen.'!$F$19","v":"S21C.DP0033"}]
["CB100B2.S21C.DP0034",{"$f":"'21C Market Risk - IRR Gen.'!$F$20","v":"S21C.DP0034"}]
["CB100B2.S21C.DP0035",{"$f":"'21C Market Risk - IRR Gen.'!$F$22","v":"S21C.DP0035"}]
["CB100B2.S21C.DP0036",{"$f":"'21C Market Risk - IRR Gen.'!$G$10","v":"S21C.DP0036"}]
["CB100B2.S21C.DP0037",{"$f":"'21C Market Risk - IRR Gen.'!$G$11","v":"S21C.DP0037"}]
["CB100B2.S21C.DP0038",{"$f":"'21C Market Risk - IRR Gen.'!$G$13","v":"S21C.DP0038"}]
["CB100B2.S21C.DP0039",{"$f":"'21C Market Risk - IRR Gen.'!$G$14","v":"S21C.DP0039"}]
["CB100B2.S21C.DP0040",{"$f":"'21C Market Risk - IRR Gen.'!$G$15","v":"S21C.DP0040"}]
["CB100B2.S21C.DP0041",{"$f":"'21C Market Risk - IRR Gen.'!$G$16","v":"S21C.DP0041"}]
["CB100B2.S21C.DP0042",{"$f":"'21C Market Risk - IRR Gen.'!$G$18","v":"S21C.DP0042"}]
["CB100B2.S21C.DP0043",{"$f":"'21C Market Risk - IRR Gen.'!$G$33","v":"S21C.DP0043"}]
["CB100B2.S21C.DP0044",{"$f":"'21C Market Risk - IRR Gen.'!$H$10","v":"S21C.DP0044"}]
["CB100B2.S21C.DP0045",{"$f":"'21C Market Risk - IRR Gen.'!$H$11","v":"S21C.DP0045"}]
["CB100B2.S21C.DP0046",{"$f":"'21C Market Risk - IRR Gen.'!$H$13","v":"S21C.DP0046"}]
["CB100B2.S21C.DP0047",{"$f":"'21C Market Risk - IRR Gen.'!$H$14","v":"S21C.DP0047"}]
["CB100B2.S21C.DP0048",{"$f":"'21C Market Risk - IRR Gen.'!$H$15","v":"S21C.DP0048"}]
["CB100B2.S21C.DP0049",{"$f":"'21C Market Risk - IRR Gen.'!$H$16","v":"S21C.DP0049"}]
["CB100B2.S21C.DP0050",{"$f":"'21C Market Risk - IRR Gen.'!$H$18","v":"S21C.DP0050"}]
["CB100B2.S21C.DP0051",{"$f":"'21C Market Risk - IRR Gen.'!$I$10","v":"S21C.DP0051"}]
["CB100B2.S21C.DP0052",{"$f":"'21C Market Risk - IRR Gen.'!$I$11","v":"S21C.DP0052"}]
["CB100B2.S21C.DP0053",{"$f":"'21C Market Risk - IRR Gen.'!$I$13","v":"S21C.DP0053"}]
["CB100B2.S21C.DP0054",{"$f":"'21C Market Risk - IRR Gen.'!$I$14","v":"S21C.DP0054"}]
["CB100B2.S21C.DP0055",{"$f":"'21C Market Risk - IRR Gen.'!$I$15","v":"S21C.DP0055"}]
["CB100B2.S21C.DP0056",{"$f":"'21C Market Risk - IRR Gen.'!$I$16","v":"S21C.DP0056"}]
["CB100B2.S21C.DP0057",{"$f":"'21C Market Risk - IRR Gen.'!$I$18","v":"S21C.DP0057"}]
["CB100B2.S21C.DP0058",{"$f":"'21C Market Risk - IRR Gen.'!$I$19","v":"S21C.DP0058"}]
["CB100B2.S21C.DP0059",{"$f":"'21C Market Risk - IRR Gen.'!$I$20","v":"S21C.DP0059"}]
["CB100B2.S21C.DP0060",{"$f":"'21C Market Risk - IRR Gen.'!$I$22","v":"S21C.DP0060"}]
["CB100B2.S21C.DP0061",{"$f":"'21C Market Risk - IRR Gen.'!$I$23","v":"S21C.DP0061"}]
["CB100B2.S21C.DP0062",{"$f":"'21C Market Risk - IRR Gen.'!$I$24","v":"S21C.DP0062"}]
["CB100B2.S21C.DP0063",{"$f":"'21C Market Risk - IRR Gen.'!$I$26","v":"S21C.DP0063"}]
["CB100B2.S21C.DP0064",{"$f":"'21C Market Risk - IRR Gen.'!$J$10","v":"S21C.DP0064"}]
["CB100B2.S21C.DP0065",{"$f":"'21C Market Risk - IRR Gen.'!$J$11","v":"S21C.DP0065"}]
["CB100B2.S21C.DP0066",{"$f":"'21C Market Risk - IRR Gen.'!$J$13","v":"S21C.DP0066"}]
["CB100B2.S21C.DP0067",{"$f":"'21C Market Risk - IRR Gen.'!$J$14","v":"S21C.DP0067"}]
["CB100B2.S21C.DP0068",{"$f":"'21C Market Risk - IRR Gen.'!$J$15","v":"S21C.DP0068"}]
["CB100B2.S21C.DP0069",{"$f":"'21C Market Risk - IRR Gen.'!$J$16","v":"S21C.DP0069"}]
["CB100B2.S21C.DP0070",{"$f":"'21C Market Risk - IRR Gen.'!$J$18","v":"S21C.DP0070"}]
["CB100B2.S21C.DP0071",{"$f":"'21C Market Risk - IRR Gen.'!$K$10","v":"S21C.DP0071"}]
["CB100B2.S21C.DP0072",{"$f":"'21C Market Risk - IRR Gen.'!$K$11","v":"S21C.DP0072"}]
["CB100B2.S21C.DP0073",{"$f":"'21C Market Risk - IRR Gen.'!$K$13","v":"S21C.DP0073"}]
["CB100B2.S21C.DP0074",{"$f":"'21C Market Risk - IRR Gen.'!$K$14","v":"S21C.DP0074"}]
["CB100B2.S21C.DP0075",{"$f":"'21C Market Risk - IRR Gen.'!$K$15","v":"S21C.DP0075"}]
["CB100B2.S21C.DP0076",{"$f":"'21C Market Risk - IRR Gen.'!$K$16","v":"S21C.DP0076"}]
["CB100B2.S21C.DP0077",{"$f":"'21C Market Risk - IRR Gen.'!$K$18","v":"S21C.DP0077"}]
["CB100B2.S21C.DP0078",{"$f":"'21C Market Risk - IRR Gen.'!$L$10","v":"S21C.DP0078"}]
["CB100B2.S21C.DP0079",{"$f":"'21C Market Risk - IRR Gen.'!$L$11","v":"S21C.DP0079"}]
["CB100B2.S21C.DP0080",{"$f":"'21C Market Risk - IRR Gen.'!$L$13","v":"S21C.DP0080"}]
["CB100B2.S21C.DP0081",{"$f":"'21C Market Risk - IRR Gen.'!$L$14","v":"S21C.DP0081"}]
["CB100B2.S21C.DP0082",{"$f":"'21C Market Risk - IRR Gen.'!$L$15","v":"S21C.DP0082"}]
["CB100B2.S21C.DP0083",{"$f":"'21C Market Risk - IRR Gen.'!$L$16","v":"S21C.DP0083"}]
["CB100B2.S21C.DP0084",{"$f":"'21C Market Risk - IRR Gen.'!$L$18","v":"S21C.DP0084"}]
["CB100B2.S21C.DP0085",{"$f":"'21C Market Risk - IRR Gen.'!$M$10","v":"S21C.DP0085"}]
["CB100B2.S21C.DP0086",{"$f":"'21C Market Risk - IRR Gen.'!$M$11","v":"S21C.DP0086"}]
["CB100B2.S21C.DP0087",{"$f":"'21C Market Risk - IRR Gen.'!$M$13","v":"S21C.DP0087"}]
["CB100B2.S21C.DP0088",{"$f":"'21C Market Risk - IRR Gen.'!$M$14","v":"S21C.DP0088"}]
["CB100B2.S21C.DP0089",{"$f":"'21C Market Risk - IRR Gen.'!$M$15","v":"S21C.DP0089"}]
["CB100B2.S21C.DP0090",{"$f":"'21C Market Risk - IRR Gen.'!$M$16","v":"S21C.DP0090"}]
["CB100B2.S21C.DP0091",{"$f":"'21C Market Risk - IRR Gen.'!$M$18","v":"S21C.DP0091"}]
["CB100B2.S21C.DP0092",{"$f":"'21C Market Risk - IRR Gen.'!$N$10","v":"S21C.DP0092"}]
["CB100B2.S21C.DP0093",{"$f":"'21C Market Risk - IRR Gen.'!$N$11","v":"S21C.DP0093"}]
["CB100B2.S21C.DP0094",{"$f":"'21C Market Risk - IRR Gen.'!$N$13","v":"S21C.DP0094"}]
["CB100B2.S21C.DP0095",{"$f":"'21C Market Risk - IRR Gen.'!$N$14","v":"S21C.DP0095"}]
["CB100B2.S21C.DP0096",{"$f":"'21C Market Risk - IRR Gen.'!$N$15","v":"S21C.DP0096"}]
["CB100B2.S21C.DP0097",{"$f":"'21C Market Risk - IRR Gen.'!$N$16","v":"S21C.DP0097"}]
["CB100B2.S21C.DP0098",{"$f":"'21C Market Risk - IRR Gen.'!$N$18","v":"S21C.DP0098"}]
["CB100B2.S21C.DP0099",{"$f":"'21C Market Risk - IRR Gen.'!$O$10","v":"S21C.DP0099"}]
["CB100B2.S21C.DP0100",{"$f":"'21C Market Risk - IRR Gen.'!$O$11","v":"S21C.DP0100"}]
["CB100B2.S21C.DP0101",{"$f":"'21C Market Risk - IRR Gen.'!$O$13","v":"S21C.DP0101"}]
["CB100B2.S21C.DP0102",{"$f":"'21C Market Risk - IRR Gen.'!$O$14","v":"S21C.DP0102"}]
["CB100B2.S21C.DP0103",{"$f":"'21C Market Risk - IRR Gen.'!$O$15","v":"S21C.DP0103"}]
["CB100B2.S21C.DP0104",{"$f":"'21C Market Risk - IRR Gen.'!$O$16","v":"S21C.DP0104"}]
["CB100B2.S21C.DP0105",{"$f":"'21C Market Risk - IRR Gen.'!$O$18","v":"S21C.DP0105"}]
["CB100B2.S21C.DP0106",{"$f":"'21C Market Risk - IRR Gen.'!$P$10","v":"S21C.DP0106"}]
["CB100B2.S21C.DP0107",{"$f":"'21C Market Risk - IRR Gen.'!$P$11","v":"S21C.DP0107"}]
["CB100B2.S21C.DP0108",{"$f":"'21C Market Risk - IRR Gen.'!$P$13","v":"S21C.DP0108"}]
["CB100B2.S21C.DP0109",{"$f":"'21C Market Risk - IRR Gen.'!$P$14","v":"S21C.DP0109"}]
["CB100B2.S21C.DP0110",{"$f":"'21C Market Risk - IRR Gen.'!$P$15","v":"S21C.DP0110"}]
["CB100B2.S21C.DP0111",{"$f":"'21C Market Risk - IRR Gen.'!$P$16","v":"S21C.DP0111"}]
["CB100B2.S21C.DP0112",{"$f":"'21C Market Risk - IRR Gen.'!$P$18","v":"S21C.DP0112"}]
["CB100B2.S21C.DP0113",{"$f":"'21C Market Risk - IRR Gen.'!$Q$10","v":"S21C.DP0113"}]
["CB100B2.S21C.DP0114",{"$f":"'21C Market Risk - IRR Gen.'!$Q$11","v":"S21C.DP0114"}]
["CB100B2.S21C.DP0115",{"$f":"'21C Market Risk - IRR Gen.'!$Q$13","v":"S21C.DP0115"}]
["CB100B2.S21C.DP0116",{"$f":"'21C Market Risk - IRR Gen.'!$Q$14","v":"S21C.DP0116"}]
["CB100B2.S21C.DP0117",{"$f":"'21C Market Risk - IRR Gen.'!$Q$15","v":"S21C.DP0117"}]
["CB100B2.S21C.DP0118",{"$f":"'21C Market Risk - IRR Gen.'!$Q$16","v":"S21C.DP0118"}]
["CB100B2.S21C.DP0119",{"$f":"'21C Market Risk - IRR Gen.'!$Q$18","v":"S21C.DP0119"}]
["CB100B2.S21C.DP0120",{"$f":"'21C Market Risk - IRR Gen.'!$Q$19","v":"S21C.DP0120"}]
["CB100B2.S21C.DP0121",{"$f":"'21C Market Risk - IRR Gen.'!$Q$20","v":"S21C.DP0121"}]
["CB100B2.S21C.DP0122",{"$f":"'21C Market Risk - IRR Gen.'!$Q$22","v":"S21C.DP0122"}]
["CB100B2.S21C.DP0123",{"$f":"'21C Market Risk - IRR Gen.'!$Q$23","v":"S21C.DP0123"}]
["CB100B2.S21C.DP0124",{"$f":"'21C Market Risk - IRR Gen.'!$Q$24","v":"S21C.DP0124"}]
["CB100B2.S21C.DP0125",{"$f":"'21C Market Risk - IRR Gen.'!$Q$26","v":"S21C.DP0125"}]
["CB100B2.S21C.DP0126",{"$f":"'21C Market Risk - IRR Gen.'!$Q$27","v":"S21C.DP0126"}]
["CB100B2.S21C.DP0127",{"$f":"'21C Market Risk - IRR Gen.'!$Q$28","v":"S21C.DP0127"}]
["CB100B2.S21C.DP0128",{"$f":"'21C Market Risk - IRR Gen.'!$Q$30","v":"S21C.DP0128"}]
["CB100B2.S21C.DP0129",{"$f":"'21C Market Risk - IRR Gen.'!$R$18","v":"S21C.DP0129"}]
["CB100B2.S21C.DP0130",{"$f":"'21C Market Risk - IRR Gen.'!$R$22","v":"S21C.DP0130"}]
["CB100B2.S21C.DP0131",{"$f":"'21C Market Risk - IRR Gen.'!$R$26","v":"S21C.DP0131"}]
["CB100B2.S21C.DP0132",{"$f":"'21C Market Risk - IRR Gen.'!$R$30","v":"S21C.DP0132"}]
["CB100B2.S21C.DP0133",{"$f":"'21C Market Risk - IRR Gen.'!$R$31","v":"S21C.DP0133"}]
["CB100B2.S21C.DP0134",{"$f":"'21C Market Risk - IRR Gen.'!$R$32","v":"S21C.DP0134"}]
["CB100B2.S21C.DP0135",{"$f":"'21C Market Risk - IRR Gen.'!$R$33","v":"S21C.DP0135"}]
["CB100B2.S21C.DP0136",{"$f":"'21C Market Risk - IRR Gen.'!$C$42","v":"S21C.DP0136"}]
["CB100B2.S21C.DP0137",{"$f":"'21C Market Risk - IRR Gen.'!$C$43","v":"S21C.DP0137"}]
["CB100B2.S21C.DP0138",{"$f":"'21C Market Risk - IRR Gen.'!$C$45","v":"S21C.DP0138"}]
["CB100B2.S21C.DP0139",{"$f":"'21C Market Risk - IRR Gen.'!$C$46","v":"S21C.DP0139"}]
["CB100B2.S21C.DP0140",{"$f":"'21C Market Risk - IRR Gen.'!$C$47","v":"S21C.DP0140"}]
["CB100B2.S21C.DP0141",{"$f":"'21C Market Risk - IRR Gen.'!$C$48","v":"S21C.DP0141"}]
["CB100B2.S21C.DP0142",{"$f":"'21C Market Risk - IRR Gen.'!$C$50","v":"S21C.DP0142"}]
["CB100B2.S21C.DP0143",{"$f":"'21C Market Risk - IRR Gen.'!$C$63","v":"S21C.DP0143"}]
["CB100B2.S21C.DP0144",{"$f":"'21C Market Risk - IRR Gen.'!$C$64","v":"S21C.DP0144"}]
["CB100B2.S21C.DP0145",{"$f":"'21C Market Risk - IRR Gen.'!$D$42","v":"S21C.DP0145"}]
["CB100B2.S21C.DP0146",{"$f":"'21C Market Risk - IRR Gen.'!$D$43","v":"S21C.DP0146"}]
["CB100B2.S21C.DP0147",{"$f":"'21C Market Risk - IRR Gen.'!$D$45","v":"S21C.DP0147"}]
["CB100B2.S21C.DP0148",{"$f":"'21C Market Risk - IRR Gen.'!$D$46","v":"S21C.DP0148"}]
["CB100B2.S21C.DP0149",{"$f":"'21C Market Risk - IRR Gen.'!$D$47","v":"S21C.DP0149"}]
["CB100B2.S21C.DP0150",{"$f":"'21C Market Risk - IRR Gen.'!$D$48","v":"S21C.DP0150"}]
["CB100B2.S21C.DP0151",{"$f":"'21C Market Risk - IRR Gen.'!$D$50","v":"S21C.DP0151"}]
["CB100B2.S21C.DP0152",{"$f":"'21C Market Risk - IRR Gen.'!$D$63","v":"S21C.DP0152"}]
["CB100B2.S21C.DP0153",{"$f":"'21C Market Risk - IRR Gen.'!$D$64","v":"S21C.DP0153"}]
["CB100B2.S21C.DP0154",{"$f":"'21C Market Risk - IRR Gen.'!$E$42","v":"S21C.DP0154"}]
["CB100B2.S21C.DP0155",{"$f":"'21C Market Risk - IRR Gen.'!$E$43","v":"S21C.DP0155"}]
["CB100B2.S21C.DP0156",{"$f":"'21C Market Risk - IRR Gen.'!$E$45","v":"S21C.DP0156"}]
["CB100B2.S21C.DP0157",{"$f":"'21C Market Risk - IRR Gen.'!$E$46","v":"S21C.DP0157"}]
["CB100B2.S21C.DP0158",{"$f":"'21C Market Risk - IRR Gen.'!$E$47","v":"S21C.DP0158"}]
["CB100B2.S21C.DP0159",{"$f":"'21C Market Risk - IRR Gen.'!$E$48","v":"S21C.DP0159"}]
["CB100B2.S21C.DP0160",{"$f":"'21C Market Risk - IRR Gen.'!$E$50","v":"S21C.DP0160"}]
["CB100B2.S21C.DP0161",{"$f":"'21C Market Risk - IRR Gen.'!$F$42","v":"S21C.DP0161"}]
["CB100B2.S21C.DP0162",{"$f":"'21C Market Risk - IRR Gen.'!$F$43","v":"S21C.DP0162"}]
["CB100B2.S21C.DP0163",{"$f":"'21C Market Risk - IRR Gen.'!$F$45","v":"S21C.DP0163"}]
["CB100B2.S21C.DP0164",{"$f":"'21C Market Risk - IRR Gen.'!$F$46","v":"S21C.DP0164"}]
["CB100B2.S21C.DP0165",{"$f":"'21C Market Risk - IRR Gen.'!$F$47","v":"S21C.DP0165"}]
["CB100B2.S21C.DP0166",{"$f":"'21C Market Risk - IRR Gen.'!$F$48","v":"S21C.DP0166"}]
["CB100B2.S21C.DP0167",{"$f":"'21C Market Risk - IRR Gen.'!$F$50","v":"S21C.DP0167"}]
["CB100B2.S21C.DP0168",{"$f":"'21C Market Risk - IRR Gen.'!$F$51","v":"S21C.DP0168"}]
["CB100B2.S21C.DP0169",{"$f":"'21C Market Risk - IRR Gen.'!$F$52","v":"S21C.DP0169"}]
["CB100B2.S21C.DP0170",{"$f":"'21C Market Risk - IRR Gen.'!$F$54","v":"S21C.DP0170"}]
["CB100B2.S21C.DP0171",{"$f":"'21C Market Risk - IRR Gen.'!$G$42","v":"S21C.DP0171"}]
["CB100B2.S21C.DP0172",{"$f":"'21C Market Risk - IRR Gen.'!$G$43","v":"S21C.DP0172"}]
["CB100B2.S21C.DP0173",{"$f":"'21C Market Risk - IRR Gen.'!$G$45","v":"S21C.DP0173"}]
["CB100B2.S21C.DP0174",{"$f":"'21C Market Risk - IRR Gen.'!$G$46","v":"S21C.DP0174"}]
["CB100B2.S21C.DP0175",{"$f":"'21C Market Risk - IRR Gen.'!$G$47","v":"S21C.DP0175"}]
["CB100B2.S21C.DP0176",{"$f":"'21C Market Risk - IRR Gen.'!$G$48","v":"S21C.DP0176"}]
["CB100B2.S21C.DP0177",{"$f":"'21C Market Risk - IRR Gen.'!$G$50","v":"S21C.DP0177"}]
["CB100B2.S21C.DP0178",{"$f":"'21C Market Risk - IRR Gen.'!$G$65","v":"S21C.DP0178"}]
["CB100B2.S21C.DP0179",{"$f":"'21C Market Risk - IRR Gen.'!$H$42","v":"S21C.DP0179"}]
["CB100B2.S21C.DP0180",{"$f":"'21C Market Risk - IRR Gen.'!$H$43","v":"S21C.DP0180"}]
["CB100B2.S21C.DP0181",{"$f":"'21C Market Risk - IRR Gen.'!$H$45","v":"S21C.DP0181"}]
["CB100B2.S21C.DP0182",{"$f":"'21C Market Risk - IRR Gen.'!$H$46","v":"S21C.DP0182"}]
["CB100B2.S21C.DP0183",{"$f":"'21C Market Risk - IRR Gen.'!$H$47","v":"S21C.DP0183"}]
["CB100B2.S21C.DP0184",{"$f":"'21C Market Risk - IRR Gen.'!$H$48","v":"S21C.DP0184"}]
["CB100B2.S21C.DP0185",{"$f":"'21C Market Risk - IRR Gen.'!$H$50","v":"S21C.DP0185"}]
["CB100B2.S21C.DP0186",{"$f":"'21C Market Risk - IRR Gen.'!$I$42","v":"S21C.DP0186"}]
["CB100B2.S21C.DP0187",{"$f":"'21C Market Risk - IRR Gen.'!$I$43","v":"S21C.DP0187"}]
["CB100B2.S21C.DP0188",{"$f":"'21C Market Risk - IRR Gen.'!$I$45","v":"S21C.DP0188"}]
["CB100B2.S21C.DP0189",{"$f":"'21C Market Risk - IRR Gen.'!$I$46","v":"S21C.DP0189"}]
["CB100B2.S21C.DP0190",{"$f":"'21C Market Risk - IRR Gen.'!$I$47","v":"S21C.DP0190"}]
["CB100B2.S21C.DP0191",{"$f":"'21C Market Risk - IRR Gen.'!$I$48","v":"S21C.DP0191"}]
["CB100B2.S21C.DP0192",{"$f":"'21C Market Risk - IRR Gen.'!$I$50","v":"S21C.DP0192"}]
["CB100B2.S21C.DP0193",{"$f":"'21C Market Risk - IRR Gen.'!$I$51","v":"S21C.DP0193"}]
["CB100B2.S21C.DP0194",{"$f":"'21C Market Risk - IRR Gen.'!$I$52","v":"S21C.DP0194"}]
["CB100B2.S21C.DP0195",{"$f":"'21C Market Risk - IRR Gen.'!$I$54","v":"S21C.DP0195"}]
["CB100B2.S21C.DP0196",{"$f":"'21C Market Risk - IRR Gen.'!$I$55","v":"S21C.DP0196"}]
["CB100B2.S21C.DP0197",{"$f":"'21C Market Risk - IRR Gen.'!$I$56","v":"S21C.DP0197"}]
["CB100B2.S21C.DP0198",{"$f":"'21C Market Risk - IRR Gen.'!$I$58","v":"S21C.DP0198"}]
["CB100B2.S21C.DP0199",{"$f":"'21C Market Risk - IRR Gen.'!$J$42","v":"S21C.DP0199"}]
["CB100B2.S21C.DP0200",{"$f":"'21C Market Risk - IRR Gen.'!$J$43","v":"S21C.DP0200"}]
["CB100B2.S21C.DP0201",{"$f":"'21C Market Risk - IRR Gen.'!$J$45","v":"S21C.DP0201"}]
["CB100B2.S21C.DP0202",{"$f":"'21C Market Risk - IRR Gen.'!$J$46","v":"S21C.DP0202"}]
["CB100B2.S21C.DP0203",{"$f":"'21C Market Risk - IRR Gen.'!$J$47","v":"S21C.DP0203"}]
["CB100B2.S21C.DP0204",{"$f":"'21C Market Risk - IRR Gen.'!$J$48","v":"S21C.DP0204"}]
["CB100B2.S21C.DP0205",{"$f":"'21C Market Risk - IRR Gen.'!$J$50","v":"S21C.DP0205"}]
["CB100B2.S21C.DP0206",{"$f":"'21C Market Risk - IRR Gen.'!$K$42","v":"S21C.DP0206"}]
["CB100B2.S21C.DP0207",{"$f":"'21C Market Risk - IRR Gen.'!$K$43","v":"S21C.DP0207"}]
["CB100B2.S21C.DP0208",{"$f":"'21C Market Risk - IRR Gen.'!$K$45","v":"S21C.DP0208"}]
["CB100B2.S21C.DP0209",{"$f":"'21C Market Risk - IRR Gen.'!$K$46","v":"S21C.DP0209"}]
["CB100B2.S21C.DP0210",{"$f":"'21C Market Risk - IRR Gen.'!$K$47","v":"S21C.DP0210"}]
["CB100B2.S21C.DP0211",{"$f":"'21C Market Risk - IRR Gen.'!$K$48","v":"S21C.DP0211"}]
["CB100B2.S21C.DP0212",{"$f":"'21C Market Risk - IRR Gen.'!$K$50","v":"S21C.DP0212"}]
["CB100B2.S21C.DP0213",{"$f":"'21C Market Risk - IRR Gen.'!$L$42","v":"S21C.DP0213"}]
["CB100B2.S21C.DP0214",{"$f":"'21C Market Risk - IRR Gen.'!$L$43","v":"S21C.DP0214"}]
["CB100B2.S21C.DP0215",{"$f":"'21C Market Risk - IRR Gen.'!$L$45","v":"S21C.DP0215"}]
["CB100B2.S21C.DP0216",{"$f":"'21C Market Risk - IRR Gen.'!$L$46","v":"S21C.DP0216"}]
["CB100B2.S21C.DP0217",{"$f":"'21C Market Risk - IRR Gen.'!$L$47","v":"S21C.DP0217"}]
["CB100B2.S21C.DP0218",{"$f":"'21C Market Risk - IRR Gen.'!$L$48","v":"S21C.DP0218"}]
["CB100B2.S21C.DP0219",{"$f":"'21C Market Risk - IRR Gen.'!$L$50","v":"S21C.DP0219"}]
["CB100B2.S21C.DP0220",{"$f":"'21C Market Risk - IRR Gen.'!$M$42","v":"S21C.DP0220"}]
["CB100B2.S21C.DP0221",{"$f":"'21C Market Risk - IRR Gen.'!$M$43","v":"S21C.DP0221"}]
["CB100B2.S21C.DP0222",{"$f":"'21C Market Risk - IRR Gen.'!$M$45","v":"S21C.DP0222"}]
["CB100B2.S21C.DP0223",{"$f":"'21C Market Risk - IRR Gen.'!$M$46","v":"S21C.DP0223"}]
["CB100B2.S21C.DP0224",{"$f":"'21C Market Risk - IRR Gen.'!$M$47","v":"S21C.DP0224"}]
["CB100B2.S21C.DP0225",{"$f":"'21C Market Risk - IRR Gen.'!$M$48","v":"S21C.DP0225"}]
["CB100B2.S21C.DP0226",{"$f":"'21C Market Risk - IRR Gen.'!$M$50","v":"S21C.DP0226"}]
["CB100B2.S21C.DP0227",{"$f":"'21C Market Risk - IRR Gen.'!$N$42","v":"S21C.DP0227"}]
["CB100B2.S21C.DP0228",{"$f":"'21C Market Risk - IRR Gen.'!$N$43","v":"S21C.DP0228"}]
["CB100B2.S21C.DP0229",{"$f":"'21C Market Risk - IRR Gen.'!$N$45","v":"S21C.DP0229"}]
["CB100B2.S21C.DP0230",{"$f":"'21C Market Risk - IRR Gen.'!$N$46","v":"S21C.DP0230"}]
["CB100B2.S21C.DP0231",{"$f":"'21C Market Risk - IRR Gen.'!$N$47","v":"S21C.DP0231"}]
["CB100B2.S21C.DP0232",{"$f":"'21C Market Risk - IRR Gen.'!$N$48","v":"S21C.DP0232"}]
["CB100B2.S21C.DP0233",{"$f":"'21C Market Risk - IRR Gen.'!$N$50","v":"S21C.DP0233"}]
["CB100B2.S21C.DP0234",{"$f":"'21C Market Risk - IRR Gen.'!$O$42","v":"S21C.DP0234"}]
["CB100B2.S21C.DP0235",{"$f":"'21C Market Risk - IRR Gen.'!$O$43","v":"S21C.DP0235"}]
["CB100B2.S21C.DP0236",{"$f":"'21C Market Risk - IRR Gen.'!$O$45","v":"S21C.DP0236"}]
["CB100B2.S21C.DP0237",{"$f":"'21C Market Risk - IRR Gen.'!$O$46","v":"S21C.DP0237"}]
["CB100B2.S21C.DP0238",{"$f":"'21C Market Risk - IRR Gen.'!$O$47","v":"S21C.DP0238"}]
["CB100B2.S21C.DP0239",{"$f":"'21C Market Risk - IRR Gen.'!$O$48","v":"S21C.DP0239"}]
["CB100B2.S21C.DP0240",{"$f":"'21C Market Risk - IRR Gen.'!$O$50","v":"S21C.DP0240"}]
["CB100B2.S21C.DP0241",{"$f":"'21C Market Risk - IRR Gen.'!$P$42","v":"S21C.DP0241"}]
["CB100B2.S21C.DP0242",{"$f":"'21C Market Risk - IRR Gen.'!$P$43","v":"S21C.DP0242"}]
["CB100B2.S21C.DP0243",{"$f":"'21C Market Risk - IRR Gen.'!$P$45","v":"S21C.DP0243"}]
["CB100B2.S21C.DP0244",{"$f":"'21C Market Risk - IRR Gen.'!$P$46","v":"S21C.DP0244"}]
["CB100B2.S21C.DP0245",{"$f":"'21C Market Risk - IRR Gen.'!$P$47","v":"S21C.DP0245"}]
["CB100B2.S21C.DP0246",{"$f":"'21C Market Risk - IRR Gen.'!$P$48","v":"S21C.DP0246"}]
["CB100B2.S21C.DP0247",{"$f":"'21C Market Risk - IRR Gen.'!$P$50","v":"S21C.DP0247"}]
["CB100B2.S21C.DP0248",{"$f":"'21C Market Risk - IRR Gen.'!$Q$42","v":"S21C.DP0248"}]
["CB100B2.S21C.DP0249",{"$f":"'21C Market Risk - IRR Gen.'!$Q$43","v":"S21C.DP0249"}]
["CB100B2.S21C.DP0250",{"$f":"'21C Market Risk - IRR Gen.'!$Q$45","v":"S21C.DP0250"}]
["CB100B2.S21C.DP0251",{"$f":"'21C Market Risk - IRR Gen.'!$Q$46","v":"S21C.DP0251"}]
["CB100B2.S21C.DP0252",{"$f":"'21C Market Risk - IRR Gen.'!$Q$47","v":"S21C.DP0252"}]
["CB100B2.S21C.DP0253",{"$f":"'21C Market Risk - IRR Gen.'!$Q$48","v":"S21C.DP0253"}]
["CB100B2.S21C.DP0254",{"$f":"'21C Market Risk - IRR Gen.'!$Q$50","v":"S21C.DP0254"}]
["CB100B2.S21C.DP0255",{"$f":"'21C Market Risk - IRR Gen.'!$Q$51","v":"S21C.DP0255"}]
["CB100B2.S21C.DP0256",{"$f":"'21C Market Risk - IRR Gen.'!$Q$52","v":"S21C.DP0256"}]
["CB100B2.S21C.DP0257",{"$f":"'21C Market Risk - IRR Gen.'!$Q$54","v":"S21C.DP0257"}]
["CB100B2.S21C.DP0258",{"$f":"'21C Market Risk - IRR Gen.'!$Q$55","v":"S21C.DP0258"}]
["CB100B2.S21C.DP0259",{"$f":"'21C Market Risk - IRR Gen.'!$Q$56","v":"S21C.DP0259"}]
["CB100B2.S21C.DP0260",{"$f":"'21C Market Risk - IRR Gen.'!$Q$58","v":"S21C.DP0260"}]
["CB100B2.S21C.DP0261",{"$f":"'21C Market Risk - IRR Gen.'!$Q$59","v":"S21C.DP0261"}]
["CB100B2.S21C.DP0262",{"$f":"'21C Market Risk - IRR Gen.'!$Q$60","v":"S21C.DP0262"}]
["CB100B2.S21C.DP0263",{"$f":"'21C Market Risk - IRR Gen.'!$Q$62","v":"S21C.DP0263"}]
["CB100B2.S21C.DP0264",{"$f":"'21C Market Risk - IRR Gen.'!$R$50","v":"S21C.DP0264"}]
["CB100B2.S21C.DP0265",{"$f":"'21C Market Risk - IRR Gen.'!$R$54","v":"S21C.DP0265"}]
["CB100B2.S21C.DP0266",{"$f":"'21C Market Risk - IRR Gen.'!$R$58","v":"S21C.DP0266"}]
["CB100B2.S21C.DP0267",{"$f":"'21C Market Risk - IRR Gen.'!$R$62","v":"S21C.DP0267"}]
["CB100B2.S21C.DP0268",{"$f":"'21C Market Risk - IRR Gen.'!$R$63","v":"S21C.DP0268"}]
["CB100B2.S21C.DP0269",{"$f":"'21C Market Risk - IRR Gen.'!$R$64","v":"S21C.DP0269"}]
["CB100B2.S21C.DP0270",{"$f":"'21C Market Risk - IRR Gen.'!$R$65","v":"S21C.DP0270"}]
["CB100B2.S21C.DP0271",{"$f":"'21C Market Risk - IRR Gen.'!$C$74","v":"S21C.DP0271"}]
["CB100B2.S21C.DP0272",{"$f":"'21C Market Risk - IRR Gen.'!$C$75","v":"S21C.DP0272"}]
["CB100B2.S21C.DP0273",{"$f":"'21C Market Risk - IRR Gen.'!$C$77","v":"S21C.DP0273"}]
["CB100B2.S21C.DP0274",{"$f":"'21C Market Risk - IRR Gen.'!$C$78","v":"S21C.DP0274"}]
["CB100B2.S21C.DP0275",{"$f":"'21C Market Risk - IRR Gen.'!$C$79","v":"S21C.DP0275"}]
["CB100B2.S21C.DP0276",{"$f":"'21C Market Risk - IRR Gen.'!$C$80","v":"S21C.DP0276"}]
["CB100B2.S21C.DP0277",{"$f":"'21C Market Risk - IRR Gen.'!$C$82","v":"S21C.DP0277"}]
["CB100B2.S21C.DP0278",{"$f":"'21C Market Risk - IRR Gen.'!$C$95","v":"S21C.DP0278"}]
["CB100B2.S21C.DP0279",{"$f":"'21C Market Risk - IRR Gen.'!$C$96","v":"S21C.DP0279"}]
["CB100B2.S21C.DP0280",{"$f":"'21C Market Risk - IRR Gen.'!$D$74","v":"S21C.DP0280"}]
["CB100B2.S21C.DP0281",{"$f":"'21C Market Risk - IRR Gen.'!$D$75","v":"S21C.DP0281"}]
["CB100B2.S21C.DP0282",{"$f":"'21C Market Risk - IRR Gen.'!$D$77","v":"S21C.DP0282"}]
["CB100B2.S21C.DP0283",{"$f":"'21C Market Risk - IRR Gen.'!$D$78","v":"S21C.DP0283"}]
["CB100B2.S21C.DP0284",{"$f":"'21C Market Risk - IRR Gen.'!$D$79","v":"S21C.DP0284"}]
["CB100B2.S21C.DP0285",{"$f":"'21C Market Risk - IRR Gen.'!$D$80","v":"S21C.DP0285"}]
["CB100B2.S21C.DP0286",{"$f":"'21C Market Risk - IRR Gen.'!$D$82","v":"S21C.DP0286"}]
["CB100B2.S21C.DP0287",{"$f":"'21C Market Risk - IRR Gen.'!$D$95","v":"S21C.DP0287"}]
["CB100B2.S21C.DP0288",{"$f":"'21C Market Risk - IRR Gen.'!$D$96","v":"S21C.DP0288"}]
["CB100B2.S21C.DP0289",{"$f":"'21C Market Risk - IRR Gen.'!$E$74","v":"S21C.DP0289"}]
["CB100B2.S21C.DP0290",{"$f":"'21C Market Risk - IRR Gen.'!$E$75","v":"S21C.DP0290"}]
["CB100B2.S21C.DP0291",{"$f":"'21C Market Risk - IRR Gen.'!$E$77","v":"S21C.DP0291"}]
["CB100B2.S21C.DP0292",{"$f":"'21C Market Risk - IRR Gen.'!$E$78","v":"S21C.DP0292"}]
["CB100B2.S21C.DP0293",{"$f":"'21C Market Risk - IRR Gen.'!$E$79","v":"S21C.DP0293"}]
["CB100B2.S21C.DP0294",{"$f":"'21C Market Risk - IRR Gen.'!$E$80","v":"S21C.DP0294"}]
["CB100B2.S21C.DP0295",{"$f":"'21C Market Risk - IRR Gen.'!$E$82","v":"S21C.DP0295"}]
["CB100B2.S21C.DP0296",{"$f":"'21C Market Risk - IRR Gen.'!$F$74","v":"S21C.DP0296"}]
["CB100B2.S21C.DP0297",{"$f":"'21C Market Risk - IRR Gen.'!$F$75","v":"S21C.DP0297"}]
["CB100B2.S21C.DP0298",{"$f":"'21C Market Risk - IRR Gen.'!$F$77","v":"S21C.DP0298"}]
["CB100B2.S21C.DP0299",{"$f":"'21C Market Risk - IRR Gen.'!$F$78","v":"S21C.DP0299"}]
["CB100B2.S21C.DP0300",{"$f":"'21C Market Risk - IRR Gen.'!$F$79","v":"S21C.DP0300"}]
["CB100B2.S21C.DP0301",{"$f":"'21C Market Risk - IRR Gen.'!$F$80","v":"S21C.DP0301"}]
["CB100B2.S21C.DP0302",{"$f":"'21C Market Risk - IRR Gen.'!$F$82","v":"S21C.DP0302"}]
["CB100B2.S21C.DP0303",{"$f":"'21C Market Risk - IRR Gen.'!$F$83","v":"S21C.DP0303"}]
["CB100B2.S21C.DP0304",{"$f":"'21C Market Risk - IRR Gen.'!$F$84","v":"S21C.DP0304"}]
["CB100B2.S21C.DP0305",{"$f":"'21C Market Risk - IRR Gen.'!$F$86","v":"S21C.DP0305"}]
["CB100B2.S21C.DP0306",{"$f":"'21C Market Risk - IRR Gen.'!$G$74","v":"S21C.DP0306"}]
["CB100B2.S21C.DP0307",{"$f":"'21C Market Risk - IRR Gen.'!$G$75","v":"S21C.DP0307"}]
["CB100B2.S21C.DP0308",{"$f":"'21C Market Risk - IRR Gen.'!$G$77","v":"S21C.DP0308"}]
["CB100B2.S21C.DP0309",{"$f":"'21C Market Risk - IRR Gen.'!$G$78","v":"S21C.DP0309"}]
["CB100B2.S21C.DP0310",{"$f":"'21C Market Risk - IRR Gen.'!$G$79","v":"S21C.DP0310"}]
["CB100B2.S21C.DP0311",{"$f":"'21C Market Risk - IRR Gen.'!$G$80","v":"S21C.DP0311"}]
["CB100B2.S21C.DP0312",{"$f":"'21C Market Risk - IRR Gen.'!$G$82","v":"S21C.DP0312"}]
["CB100B2.S21C.DP0313",{"$f":"'21C Market Risk - IRR Gen.'!$G$97","v":"S21C.DP0313"}]
["CB100B2.S21C.DP0314",{"$f":"'21C Market Risk - IRR Gen.'!$H$74","v":"S21C.DP0314"}]
["CB100B2.S21C.DP0315",{"$f":"'21C Market Risk - IRR Gen.'!$H$75","v":"S21C.DP0315"}]
["CB100B2.S21C.DP0316",{"$f":"'21C Market Risk - IRR Gen.'!$H$77","v":"S21C.DP0316"}]
["CB100B2.S21C.DP0317",{"$f":"'21C Market Risk - IRR Gen.'!$H$78","v":"S21C.DP0317"}]
["CB100B2.S21C.DP0318",{"$f":"'21C Market Risk - IRR Gen.'!$H$79","v":"S21C.DP0318"}]
["CB100B2.S21C.DP0319",{"$f":"'21C Market Risk - IRR Gen.'!$H$80","v":"S21C.DP0319"}]
["CB100B2.S21C.DP0320",{"$f":"'21C Market Risk - IRR Gen.'!$H$82","v":"S21C.DP0320"}]
["CB100B2.S21C.DP0321",{"$f":"'21C Market Risk - IRR Gen.'!$I$74","v":"S21C.DP0321"}]
["CB100B2.S21C.DP0322",{"$f":"'21C Market Risk - IRR Gen.'!$I$75","v":"S21C.DP0322"}]
["CB100B2.S21C.DP0323",{"$f":"'21C Market Risk - IRR Gen.'!$I$77","v":"S21C.DP0323"}]
["CB100B2.S21C.DP0324",{"$f":"'21C Market Risk - IRR Gen.'!$I$78","v":"S21C.DP0324"}]
["CB100B2.S21C.DP0325",{"$f":"'21C Market Risk - IRR Gen.'!$I$79","v":"S21C.DP0325"}]
["CB100B2.S21C.DP0326",{"$f":"'21C Market Risk - IRR Gen.'!$I$80","v":"S21C.DP0326"}]
["CB100B2.S21C.DP0327",{"$f":"'21C Market Risk - IRR Gen.'!$I$82","v":"S21C.DP0327"}]
["CB100B2.S21C.DP0328",{"$f":"'21C Market Risk - IRR Gen.'!$I$83","v":"S21C.DP0328"}]
["CB100B2.S21C.DP0329",{"$f":"'21C Market Risk - IRR Gen.'!$I$84","v":"S21C.DP0329"}]
["CB100B2.S21C.DP0330",{"$f":"'21C Market Risk - IRR Gen.'!$I$86","v":"S21C.DP0330"}]
["CB100B2.S21C.DP0331",{"$f":"'21C Market Risk - IRR Gen.'!$I$87","v":"S21C.DP0331"}]
["CB100B2.S21C.DP0332",{"$f":"'21C Market Risk - IRR Gen.'!$I$88","v":"S21C.DP0332"}]
["CB100B2.S21C.DP0333",{"$f":"'21C Market Risk - IRR Gen.'!$I$90","v":"S21C.DP0333"}]
["CB100B2.S21C.DP0334",{"$f":"'21C Market Risk - IRR Gen.'!$J$74","v":"S21C.DP0334"}]
["CB100B2.S21C.DP0335",{"$f":"'21C Market Risk - IRR Gen.'!$J$75","v":"S21C.DP0335"}]
["CB100B2.S21C.DP0336",{"$f":"'21C Market Risk - IRR Gen.'!$J$77","v":"S21C.DP0336"}]
["CB100B2.S21C.DP0337",{"$f":"'21C Market Risk - IRR Gen.'!$J$78","v":"S21C.DP0337"}]
["CB100B2.S21C.DP0338",{"$f":"'21C Market Risk - IRR Gen.'!$J$79","v":"S21C.DP0338"}]
["CB100B2.S21C.DP0339",{"$f":"'21C Market Risk - IRR Gen.'!$J$80","v":"S21C.DP0339"}]
["CB100B2.S21C.DP0340",{"$f":"'21C Market Risk - IRR Gen.'!$J$82","v":"S21C.DP0340"}]
["CB100B2.S21C.DP0341",{"$f":"'21C Market Risk - IRR Gen.'!$K$74","v":"S21C.DP0341"}]
["CB100B2.S21C.DP0342",{"$f":"'21C Market Risk - IRR Gen.'!$K$75","v":"S21C.DP0342"}]
["CB100B2.S21C.DP0343",{"$f":"'21C Market Risk - IRR Gen.'!$K$77","v":"S21C.DP0343"}]
["CB100B2.S21C.DP0344",{"$f":"'21C Market Risk - IRR Gen.'!$K$78","v":"S21C.DP0344"}]
["CB100B2.S21C.DP0345",{"$f":"'21C Market Risk - IRR Gen.'!$K$79","v":"S21C.DP0345"}]
["CB100B2.S21C.DP0346",{"$f":"'21C Market Risk - IRR Gen.'!$K$80","v":"S21C.DP0346"}]
["CB100B2.S21C.DP0347",{"$f":"'21C Market Risk - IRR Gen.'!$K$82","v":"S21C.DP0347"}]
["CB100B2.S21C.DP0348",{"$f":"'21C Market Risk - IRR Gen.'!$L$74","v":"S21C.DP0348"}]
["CB100B2.S21C.DP0349",{"$f":"'21C Market Risk - IRR Gen.'!$L$75","v":"S21C.DP0349"}]
["CB100B2.S21C.DP0350",{"$f":"'21C Market Risk - IRR Gen.'!$L$77","v":"S21C.DP0350"}]
["CB100B2.S21C.DP0351",{"$f":"'21C Market Risk - IRR Gen.'!$L$78","v":"S21C.DP0351"}]
["CB100B2.S21C.DP0352",{"$f":"'21C Market Risk - IRR Gen.'!$L$79","v":"S21C.DP0352"}]
["CB100B2.S21C.DP0353",{"$f":"'21C Market Risk - IRR Gen.'!$L$80","v":"S21C.DP0353"}]
["CB100B2.S21C.DP0354",{"$f":"'21C Market Risk - IRR Gen.'!$L$82","v":"S21C.DP0354"}]
["CB100B2.S21C.DP0355",{"$f":"'21C Market Risk - IRR Gen.'!$M$74","v":"S21C.DP0355"}]
["CB100B2.S21C.DP0356",{"$f":"'21C Market Risk - IRR Gen.'!$M$75","v":"S21C.DP0356"}]
["CB100B2.S21C.DP0357",{"$f":"'21C Market Risk - IRR Gen.'!$M$77","v":"S21C.DP0357"}]
["CB100B2.S21C.DP0358",{"$f":"'21C Market Risk - IRR Gen.'!$M$78","v":"S21C.DP0358"}]
["CB100B2.S21C.DP0359",{"$f":"'21C Market Risk - IRR Gen.'!$M$79","v":"S21C.DP0359"}]
["CB100B2.S21C.DP0360",{"$f":"'21C Market Risk - IRR Gen.'!$M$80","v":"S21C.DP0360"}]
["CB100B2.S21C.DP0361",{"$f":"'21C Market Risk - IRR Gen.'!$M$82","v":"S21C.DP0361"}]
["CB100B2.S21C.DP0362",{"$f":"'21C Market Risk - IRR Gen.'!$N$74","v":"S21C.DP0362"}]
["CB100B2.S21C.DP0363",{"$f":"'21C Market Risk - IRR Gen.'!$N$75","v":"S21C.DP0363"}]
["CB100B2.S21C.DP0364",{"$f":"'21C Market Risk - IRR Gen.'!$N$77","v":"S21C.DP0364"}]
["CB100B2.S21C.DP0365",{"$f":"'21C Market Risk - IRR Gen.'!$N$78","v":"S21C.DP0365"}]
["CB100B2.S21C.DP0366",{"$f":"'21C Market Risk - IRR Gen.'!$N$79","v":"S21C.DP0366"}]
["CB100B2.S21C.DP0367",{"$f":"'21C Market Risk - IRR Gen.'!$N$80","v":"S21C.DP0367"}]
["CB100B2.S21C.DP0368",{"$f":"'21C Market Risk - IRR Gen.'!$N$82","v":"S21C.DP0368"}]
["CB100B2.S21C.DP0369",{"$f":"'21C Market Risk - IRR Gen.'!$O$74","v":"S21C.DP0369"}]
["CB100B2.S21C.DP0370",{"$f":"'21C Market Risk - IRR Gen.'!$O$75","v":"S21C.DP0370"}]
["CB100B2.S21C.DP0371",{"$f":"'21C Market Risk - IRR Gen.'!$O$77","v":"S21C.DP0371"}]
["CB100B2.S21C.DP0372",{"$f":"'21C Market Risk - IRR Gen.'!$O$78","v":"S21C.DP0372"}]
["CB100B2.S21C.DP0373",{"$f":"'21C Market Risk - IRR Gen.'!$O$79","v":"S21C.DP0373"}]
["CB100B2.S21C.DP0374",{"$f":"'21C Market Risk - IRR Gen.'!$O$80","v":"S21C.DP0374"}]
["CB100B2.S21C.DP0375",{"$f":"'21C Market Risk - IRR Gen.'!$O$82","v":"S21C.DP0375"}]
["CB100B2.S21C.DP0376",{"$f":"'21C Market Risk - IRR Gen.'!$P$74","v":"S21C.DP0376"}]
["CB100B2.S21C.DP0377",{"$f":"'21C Market Risk - IRR Gen.'!$P$75","v":"S21C.DP0377"}]
["CB100B2.S21C.DP0378",{"$f":"'21C Market Risk - IRR Gen.'!$P$77","v":"S21C.DP0378"}]
["CB100B2.S21C.DP0379",{"$f":"'21C Market Risk - IRR Gen.'!$P$78","v":"S21C.DP0379"}]
["CB100B2.S21C.DP0380",{"$f":"'21C Market Risk - IRR Gen.'!$P$79","v":"S21C.DP0380"}]
["CB100B2.S21C.DP0381",{"$f":"'21C Market Risk - IRR Gen.'!$P$80","v":"S21C.DP0381"}]
["CB100B2.S21C.DP0382",{"$f":"'21C Market Risk - IRR Gen.'!$P$82","v":"S21C.DP0382"}]
["CB100B2.S21C.DP0383",{"$f":"'21C Market Risk - IRR Gen.'!$Q$74","v":"S21C.DP0383"}]
["CB100B2.S21C.DP0384",{"$f":"'21C Market Risk - IRR Gen.'!$Q$75","v":"S21C.DP0384"}]
["CB100B2.S21C.DP0385",{"$f":"'21C Market Risk - IRR Gen.'!$Q$77","v":"S21C.DP0385"}]
["CB100B2.S21C.DP0386",{"$f":"'21C Market Risk - IRR Gen.'!$Q$78","v":"S21C.DP0386"}]
["CB100B2.S21C.DP0387",{"$f":"'21C Market Risk - IRR Gen.'!$Q$79","v":"S21C.DP0387"}]
["CB100B2.S21C.DP0388",{"$f":"'21C Market Risk - IRR Gen.'!$Q$80","v":"S21C.DP0388"}]
["CB100B2.S21C.DP0389",{"$f":"'21C Market Risk - IRR Gen.'!$Q$82","v":"S21C.DP0389"}]
["CB100B2.S21C.DP0390",{"$f":"'21C Market Risk - IRR Gen.'!$Q$83","v":"S21C.DP0390"}]
["CB100B2.S21C.DP0391",{"$f":"'21C Market Risk - IRR Gen.'!$Q$84","v":"S21C.DP0391"}]
["CB100B2.S21C.DP0392",{"$f":"'21C Market Risk - IRR Gen.'!$Q$86","v":"S21C.DP0392"}]
["CB100B2.S21C.DP0393",{"$f":"'21C Market Risk - IRR Gen.'!$Q$87","v":"S21C.DP0393"}]
["CB100B2.S21C.DP0394",{"$f":"'21C Market Risk - IRR Gen.'!$Q$88","v":"S21C.DP0394"}]
["CB100B2.S21C.DP0395",{"$f":"'21C Market Risk - IRR Gen.'!$Q$90","v":"S21C.DP0395"}]
["CB100B2.S21C.DP0396",{"$f":"'21C Market Risk - IRR Gen.'!$Q$91","v":"S21C.DP0396"}]
["CB100B2.S21C.DP0397",{"$f":"'21C Market Risk - IRR Gen.'!$Q$92","v":"S21C.DP0397"}]
["CB100B2.S21C.DP0398",{"$f":"'21C Market Risk - IRR Gen.'!$Q$94","v":"S21C.DP0398"}]
["CB100B2.S21C.DP0399",{"$f":"'21C Market Risk - IRR Gen.'!$R$82","v":"S21C.DP0399"}]
["CB100B2.S21C.DP0400",{"$f":"'21C Market Risk - IRR Gen.'!$R$86","v":"S21C.DP0400"}]
["CB100B2.S21C.DP0401",{"$f":"'21C Market Risk - IRR Gen.'!$R$90","v":"S21C.DP0401"}]
["CB100B2.S21C.DP0402",{"$f":"'21C Market Risk - IRR Gen.'!$R$94","v":"S21C.DP0402"}]
["CB100B2.S21C.DP0403",{"$f":"'21C Market Risk - IRR Gen.'!$R$95","v":"S21C.DP0403"}]
["CB100B2.S21C.DP0404",{"$f":"'21C Market Risk - IRR Gen.'!$R$96","v":"S21C.DP0404"}]
["CB100B2.S21C.DP0405",{"$f":"'21C Market Risk - IRR Gen.'!$R$97","v":"S21C.DP0405"}]
["CB100B2.S21C.DP0406",{"$f":"'21C Market Risk - IRR Gen.'!$C$106","v":"S21C.DP0406"}]
["CB100B2.S21C.DP0407",{"$f":"'21C Market Risk - IRR Gen.'!$C$107","v":"S21C.DP0407"}]
["CB100B2.S21C.DP0408",{"$f":"'21C Market Risk - IRR Gen.'!$C$109","v":"S21C.DP0408"}]
["CB100B2.S21C.DP0409",{"$f":"'21C Market Risk - IRR Gen.'!$C$110","v":"S21C.DP0409"}]
["CB100B2.S21C.DP0410",{"$f":"'21C Market Risk - IRR Gen.'!$C$111","v":"S21C.DP0410"}]
["CB100B2.S21C.DP0411",{"$f":"'21C Market Risk - IRR Gen.'!$C$112","v":"S21C.DP0411"}]
["CB100B2.S21C.DP0412",{"$f":"'21C Market Risk - IRR Gen.'!$C$114","v":"S21C.DP0412"}]
["CB100B2.S21C.DP0413",{"$f":"'21C Market Risk - IRR Gen.'!$C$127","v":"S21C.DP0413"}]
["CB100B2.S21C.DP0414",{"$f":"'21C Market Risk - IRR Gen.'!$C$128","v":"S21C.DP0414"}]
["CB100B2.S21C.DP0415",{"$f":"'21C Market Risk - IRR Gen.'!$D$106","v":"S21C.DP0415"}]
["CB100B2.S21C.DP0416",{"$f":"'21C Market Risk - IRR Gen.'!$D$107","v":"S21C.DP0416"}]
["CB100B2.S21C.DP0417",{"$f":"'21C Market Risk - IRR Gen.'!$D$109","v":"S21C.DP0417"}]
["CB100B2.S21C.DP0418",{"$f":"'21C Market Risk - IRR Gen.'!$D$110","v":"S21C.DP0418"}]
["CB100B2.S21C.DP0419",{"$f":"'21C Market Risk - IRR Gen.'!$D$111","v":"S21C.DP0419"}]
["CB100B2.S21C.DP0420",{"$f":"'21C Market Risk - IRR Gen.'!$D$112","v":"S21C.DP0420"}]
["CB100B2.S21C.DP0421",{"$f":"'21C Market Risk - IRR Gen.'!$D$114","v":"S21C.DP0421"}]
["CB100B2.S21C.DP0422",{"$f":"'21C Market Risk - IRR Gen.'!$D$127","v":"S21C.DP0422"}]
["CB100B2.S21C.DP0423",{"$f":"'21C Market Risk - IRR Gen.'!$D$128","v":"S21C.DP0423"}]
["CB100B2.S21C.DP0424",{"$f":"'21C Market Risk - IRR Gen.'!$E$106","v":"S21C.DP0424"}]
["CB100B2.S21C.DP0425",{"$f":"'21C Market Risk - IRR Gen.'!$E$107","v":"S21C.DP0425"}]
["CB100B2.S21C.DP0426",{"$f":"'21C Market Risk - IRR Gen.'!$E$109","v":"S21C.DP0426"}]
["CB100B2.S21C.DP0427",{"$f":"'21C Market Risk - IRR Gen.'!$E$110","v":"S21C.DP0427"}]
["CB100B2.S21C.DP0428",{"$f":"'21C Market Risk - IRR Gen.'!$E$111","v":"S21C.DP0428"}]
["CB100B2.S21C.DP0429",{"$f":"'21C Market Risk - IRR Gen.'!$E$112","v":"S21C.DP0429"}]
["CB100B2.S21C.DP0430",{"$f":"'21C Market Risk - IRR Gen.'!$E$114","v":"S21C.DP0430"}]
["CB100B2.S21C.DP0431",{"$f":"'21C Market Risk - IRR Gen.'!$F$106","v":"S21C.DP0431"}]
["CB100B2.S21C.DP0432",{"$f":"'21C Market Risk - IRR Gen.'!$F$107","v":"S21C.DP0432"}]
["CB100B2.S21C.DP0433",{"$f":"'21C Market Risk - IRR Gen.'!$F$109","v":"S21C.DP0433"}]
["CB100B2.S21C.DP0434",{"$f":"'21C Market Risk - IRR Gen.'!$F$110","v":"S21C.DP0434"}]
["CB100B2.S21C.DP0435",{"$f":"'21C Market Risk - IRR Gen.'!$F$111","v":"S21C.DP0435"}]
["CB100B2.S21C.DP0436",{"$f":"'21C Market Risk - IRR Gen.'!$F$112","v":"S21C.DP0436"}]
["CB100B2.S21C.DP0437",{"$f":"'21C Market Risk - IRR Gen.'!$F$114","v":"S21C.DP0437"}]
["CB100B2.S21C.DP0438",{"$f":"'21C Market Risk - IRR Gen.'!$F$115","v":"S21C.DP0438"}]
["CB100B2.S21C.DP0439",{"$f":"'21C Market Risk - IRR Gen.'!$F$116","v":"S21C.DP0439"}]
["CB100B2.S21C.DP0440",{"$f":"'21C Market Risk - IRR Gen.'!$F$118","v":"S21C.DP0440"}]
["CB100B2.S21C.DP0441",{"$f":"'21C Market Risk - IRR Gen.'!$G$106","v":"S21C.DP0441"}]
["CB100B2.S21C.DP0442",{"$f":"'21C Market Risk - IRR Gen.'!$G$107","v":"S21C.DP0442"}]
["CB100B2.S21C.DP0443",{"$f":"'21C Market Risk - IRR Gen.'!$G$109","v":"S21C.DP0443"}]
["CB100B2.S21C.DP0444",{"$f":"'21C Market Risk - IRR Gen.'!$G$110","v":"S21C.DP0444"}]
["CB100B2.S21C.DP0445",{"$f":"'21C Market Risk - IRR Gen.'!$G$111","v":"S21C.DP0445"}]
["CB100B2.S21C.DP0446",{"$f":"'21C Market Risk - IRR Gen.'!$G$112","v":"S21C.DP0446"}]
["CB100B2.S21C.DP0447",{"$f":"'21C Market Risk - IRR Gen.'!$G$114","v":"S21C.DP0447"}]
["CB100B2.S21C.DP0448",{"$f":"'21C Market Risk - IRR Gen.'!$G$129","v":"S21C.DP0448"}]
["CB100B2.S21C.DP0449",{"$f":"'21C Market Risk - IRR Gen.'!$H$106","v":"S21C.DP0449"}]
["CB100B2.S21C.DP0450",{"$f":"'21C Market Risk - IRR Gen.'!$H$107","v":"S21C.DP0450"}]
["CB100B2.S21C.DP0451",{"$f":"'21C Market Risk - IRR Gen.'!$H$109","v":"S21C.DP0451"}]
["CB100B2.S21C.DP0452",{"$f":"'21C Market Risk - IRR Gen.'!$H$110","v":"S21C.DP0452"}]
["CB100B2.S21C.DP0453",{"$f":"'21C Market Risk - IRR Gen.'!$H$111","v":"S21C.DP0453"}]
["CB100B2.S21C.DP0454",{"$f":"'21C Market Risk - IRR Gen.'!$H$112","v":"S21C.DP0454"}]
["CB100B2.S21C.DP0455",{"$f":"'21C Market Risk - IRR Gen.'!$H$114","v":"S21C.DP0455"}]
["CB100B2.S21C.DP0456",{"$f":"'21C Market Risk - IRR Gen.'!$I$106","v":"S21C.DP0456"}]
["CB100B2.S21C.DP0457",{"$f":"'21C Market Risk - IRR Gen.'!$I$107","v":"S21C.DP0457"}]
["CB100B2.S21C.DP0458",{"$f":"'21C Market Risk - IRR Gen.'!$I$109","v":"S21C.DP0458"}]
["CB100B2.S21C.DP0459",{"$f":"'21C Market Risk - IRR Gen.'!$I$110","v":"S21C.DP0459"}]
["CB100B2.S21C.DP0460",{"$f":"'21C Market Risk - IRR Gen.'!$I$111","v":"S21C.DP0460"}]
["CB100B2.S21C.DP0461",{"$f":"'21C Market Risk - IRR Gen.'!$I$112","v":"S21C.DP0461"}]
["CB100B2.S21C.DP0462",{"$f":"'21C Market Risk - IRR Gen.'!$I$114","v":"S21C.DP0462"}]
["CB100B2.S21C.DP0463",{"$f":"'21C Market Risk - IRR Gen.'!$I$115","v":"S21C.DP0463"}]
["CB100B2.S21C.DP0464",{"$f":"'21C Market Risk - IRR Gen.'!$I$116","v":"S21C.DP0464"}]
["CB100B2.S21C.DP0465",{"$f":"'21C Market Risk - IRR Gen.'!$I$118","v":"S21C.DP0465"}]
["CB100B2.S21C.DP0466",{"$f":"'21C Market Risk - IRR Gen.'!$I$119","v":"S21C.DP0466"}]
["CB100B2.S21C.DP0467",{"$f":"'21C Market Risk - IRR Gen.'!$I$120","v":"S21C.DP0467"}]
["CB100B2.S21C.DP0468",{"$f":"'21C Market Risk - IRR Gen.'!$I$122","v":"S21C.DP0468"}]
["CB100B2.S21C.DP0469",{"$f":"'21C Market Risk - IRR Gen.'!$J$106","v":"S21C.DP0469"}]
["CB100B2.S21C.DP0470",{"$f":"'21C Market Risk - IRR Gen.'!$J$107","v":"S21C.DP0470"}]
["CB100B2.S21C.DP0471",{"$f":"'21C Market Risk - IRR Gen.'!$J$109","v":"S21C.DP0471"}]
["CB100B2.S21C.DP0472",{"$f":"'21C Market Risk - IRR Gen.'!$J$110","v":"S21C.DP0472"}]
["CB100B2.S21C.DP0473",{"$f":"'21C Market Risk - IRR Gen.'!$J$111","v":"S21C.DP0473"}]
["CB100B2.S21C.DP0474",{"$f":"'21C Market Risk - IRR Gen.'!$J$112","v":"S21C.DP0474"}]
["CB100B2.S21C.DP0475",{"$f":"'21C Market Risk - IRR Gen.'!$J$114","v":"S21C.DP0475"}]
["CB100B2.S21C.DP0476",{"$f":"'21C Market Risk - IRR Gen.'!$K$106","v":"S21C.DP0476"}]
["CB100B2.S21C.DP0477",{"$f":"'21C Market Risk - IRR Gen.'!$K$107","v":"S21C.DP0477"}]
["CB100B2.S21C.DP0478",{"$f":"'21C Market Risk - IRR Gen.'!$K$109","v":"S21C.DP0478"}]
["CB100B2.S21C.DP0479",{"$f":"'21C Market Risk - IRR Gen.'!$K$110","v":"S21C.DP0479"}]
["CB100B2.S21C.DP0480",{"$f":"'21C Market Risk - IRR Gen.'!$K$111","v":"S21C.DP0480"}]
["CB100B2.S21C.DP0481",{"$f":"'21C Market Risk - IRR Gen.'!$K$112","v":"S21C.DP0481"}]
["CB100B2.S21C.DP0482",{"$f":"'21C Market Risk - IRR Gen.'!$K$114","v":"S21C.DP0482"}]
["CB100B2.S21C.DP0483",{"$f":"'21C Market Risk - IRR Gen.'!$L$106","v":"S21C.DP0483"}]
["CB100B2.S21C.DP0484",{"$f":"'21C Market Risk - IRR Gen.'!$L$107","v":"S21C.DP0484"}]
["CB100B2.S21C.DP0485",{"$f":"'21C Market Risk - IRR Gen.'!$L$109","v":"S21C.DP0485"}]
["CB100B2.S21C.DP0486",{"$f":"'21C Market Risk - IRR Gen.'!$L$110","v":"S21C.DP0486"}]
["CB100B2.S21C.DP0487",{"$f":"'21C Market Risk - IRR Gen.'!$L$111","v":"S21C.DP0487"}]
["CB100B2.S21C.DP0488",{"$f":"'21C Market Risk - IRR Gen.'!$L$112","v":"S21C.DP0488"}]
["CB100B2.S21C.DP0489",{"$f":"'21C Market Risk - IRR Gen.'!$L$114","v":"S21C.DP0489"}]
["CB100B2.S21C.DP0490",{"$f":"'21C Market Risk - IRR Gen.'!$M$106","v":"S21C.DP0490"}]
["CB100B2.S21C.DP0491",{"$f":"'21C Market Risk - IRR Gen.'!$M$107","v":"S21C.DP0491"}]
["CB100B2.S21C.DP0492",{"$f":"'21C Market Risk - IRR Gen.'!$M$109","v":"S21C.DP0492"}]
["CB100B2.S21C.DP0493",{"$f":"'21C Market Risk - IRR Gen.'!$M$110","v":"S21C.DP0493"}]
["CB100B2.S21C.DP0494",{"$f":"'21C Market Risk - IRR Gen.'!$M$111","v":"S21C.DP0494"}]
["CB100B2.S21C.DP0495",{"$f":"'21C Market Risk - IRR Gen.'!$M$112","v":"S21C.DP0495"}]
["CB100B2.S21C.DP0496",{"$f":"'21C Market Risk - IRR Gen.'!$M$114","v":"S21C.DP0496"}]
["CB100B2.S21C.DP0497",{"$f":"'21C Market Risk - IRR Gen.'!$N$106","v":"S21C.DP0497"}]
["CB100B2.S21C.DP0498",{"$f":"'21C Market Risk - IRR Gen.'!$N$107","v":"S21C.DP0498"}]
["CB100B2.S21C.DP0499",{"$f":"'21C Market Risk - IRR Gen.'!$N$109","v":"S21C.DP0499"}]
["CB100B2.S21C.DP0500",{"$f":"'21C Market Risk - IRR Gen.'!$N$110","v":"S21C.DP0500"}]
["CB100B2.S21C.DP0501",{"$f":"'21C Market Risk - IRR Gen.'!$N$111","v":"S21C.DP0501"}]
["CB100B2.S21C.DP0502",{"$f":"'21C Market Risk - IRR Gen.'!$N$112","v":"S21C.DP0502"}]
["CB100B2.S21C.DP0503",{"$f":"'21C Market Risk - IRR Gen.'!$N$114","v":"S21C.DP0503"}]
["CB100B2.S21C.DP0504",{"$f":"'21C Market Risk - IRR Gen.'!$O$106","v":"S21C.DP0504"}]
["CB100B2.S21C.DP0505",{"$f":"'21C Market Risk - IRR Gen.'!$O$107","v":"S21C.DP0505"}]
["CB100B2.S21C.DP0506",{"$f":"'21C Market Risk - IRR Gen.'!$O$109","v":"S21C.DP0506"}]
["CB100B2.S21C.DP0507",{"$f":"'21C Market Risk - IRR Gen.'!$O$110","v":"S21C.DP0507"}]
["CB100B2.S21C.DP0508",{"$f":"'21C Market Risk - IRR Gen.'!$O$111","v":"S21C.DP0508"}]
["CB100B2.S21C.DP0509",{"$f":"'21C Market Risk - IRR Gen.'!$O$112","v":"S21C.DP0509"}]
["CB100B2.S21C.DP0510",{"$f":"'21C Market Risk - IRR Gen.'!$O$114","v":"S21C.DP0510"}]
["CB100B2.S21C.DP0511",{"$f":"'21C Market Risk - IRR Gen.'!$P$106","v":"S21C.DP0511"}]
["CB100B2.S21C.DP0512",{"$f":"'21C Market Risk - IRR Gen.'!$P$107","v":"S21C.DP0512"}]
["CB100B2.S21C.DP0513",{"$f":"'21C Market Risk - IRR Gen.'!$P$109","v":"S21C.DP0513"}]
["CB100B2.S21C.DP0514",{"$f":"'21C Market Risk - IRR Gen.'!$P$110","v":"S21C.DP0514"}]
["CB100B2.S21C.DP0515",{"$f":"'21C Market Risk - IRR Gen.'!$P$111","v":"S21C.DP0515"}]
["CB100B2.S21C.DP0516",{"$f":"'21C Market Risk - IRR Gen.'!$P$112","v":"S21C.DP0516"}]
["CB100B2.S21C.DP0517",{"$f":"'21C Market Risk - IRR Gen.'!$P$114","v":"S21C.DP0517"}]
["CB100B2.S21C.DP0518",{"$f":"'21C Market Risk - IRR Gen.'!$Q$106","v":"S21C.DP0518"}]
["CB100B2.S21C.DP0519",{"$f":"'21C Market Risk - IRR Gen.'!$Q$107","v":"S21C.DP0519"}]
["CB100B2.S21C.DP0520",{"$f":"'21C Market Risk - IRR Gen.'!$Q$109","v":"S21C.DP0520"}]
["CB100B2.S21C.DP0521",{"$f":"'21C Market Risk - IRR Gen.'!$Q$110","v":"S21C.DP0521"}]
["CB100B2.S21C.DP0522",{"$f":"'21C Market Risk - IRR Gen.'!$Q$111","v":"S21C.DP0522"}]
["CB100B2.S21C.DP0523",{"$f":"'21C Market Risk - IRR Gen.'!$Q$112","v":"S21C.DP0523"}]
["CB100B2.S21C.DP0524",{"$f":"'21C Market Risk - IRR Gen.'!$Q$114","v":"S21C.DP0524"}]
["CB100B2.S21C.DP0525",{"$f":"'21C Market Risk - IRR Gen.'!$Q$115","v":"S21C.DP0525"}]
["CB100B2.S21C.DP0526",{"$f":"'21C Market Risk - IRR Gen.'!$Q$116","v":"S21C.DP0526"}]
["CB100B2.S21C.DP0527",{"$f":"'21C Market Risk - IRR Gen.'!$Q$118","v":"S21C.DP0527"}]
["CB100B2.S21C.DP0528",{"$f":"'21C Market Risk - IRR Gen.'!$Q$119","v":"S21C.DP0528"}]
["CB100B2.S21C.DP0529",{"$f":"'21C Market Risk - IRR Gen.'!$Q$120","v":"S21C.DP0529"}]
["CB100B2.S21C.DP0530",{"$f":"'21C Market Risk - IRR Gen.'!$Q$122","v":"S21C.DP0530"}]
["CB100B2.S21C.DP0531",{"$f":"'21C Market Risk - IRR Gen.'!$Q$123","v":"S21C.DP0531"}]
["CB100B2.S21C.DP0532",{"$f":"'21C Market Risk - IRR Gen.'!$Q$124","v":"S21C.DP0532"}]
["CB100B2.S21C.DP0533",{"$f":"'21C Market Risk - IRR Gen.'!$Q$126","v":"S21C.DP0533"}]
["CB100B2.S21C.DP0534",{"$f":"'21C Market Risk - IRR Gen.'!$R$114","v":"S21C.DP0534"}]
["CB100B2.S21C.DP0535",{"$f":"'21C Market Risk - IRR Gen.'!$R$118","v":"S21C.DP0535"}]
["CB100B2.S21C.DP0536",{"$f":"'21C Market Risk - IRR Gen.'!$R$122","v":"S21C.DP0536"}]
["CB100B2.S21C.DP0537",{"$f":"'21C Market Risk - IRR Gen.'!$R$126","v":"S21C.DP0537"}]
["CB100B2.S21C.DP0538",{"$f":"'21C Market Risk - IRR Gen.'!$R$127","v":"S21C.DP0538"}]
["CB100B2.S21C.DP0539",{"$f":"'21C Market Risk - IRR Gen.'!$R$128","v":"S21C.DP0539"}]
["CB100B2.S21C.DP0540",{"$f":"'21C Market Risk - IRR Gen.'!$R$129","v":"S21C.DP0540"}]
["CB100B2.S21C.DP0541",{"$f":"'21C Market Risk - IRR Gen.'!$C$138","v":"S21C.DP0541"}]
["CB100B2.S21C.DP0542",{"$f":"'21C Market Risk - IRR Gen.'!$C$139","v":"S21C.DP0542"}]
["CB100B2.S21C.DP0543",{"$f":"'21C Market Risk - IRR Gen.'!$C$141","v":"S21C.DP0543"}]
["CB100B2.S21C.DP0544",{"$f":"'21C Market Risk - IRR Gen.'!$C$142","v":"S21C.DP0544"}]
["CB100B2.S21C.DP0545",{"$f":"'21C Market Risk - IRR Gen.'!$C$143","v":"S21C.DP0545"}]
["CB100B2.S21C.DP0546",{"$f":"'21C Market Risk - IRR Gen.'!$C$144","v":"S21C.DP0546"}]
["CB100B2.S21C.DP0547",{"$f":"'21C Market Risk - IRR Gen.'!$C$146","v":"S21C.DP0547"}]
["CB100B2.S21C.DP0548",{"$f":"'21C Market Risk - IRR Gen.'!$C$159","v":"S21C.DP0548"}]
["CB100B2.S21C.DP0549",{"$f":"'21C Market Risk - IRR Gen.'!$C$160","v":"S21C.DP0549"}]
["CB100B2.S21C.DP0550",{"$f":"'21C Market Risk - IRR Gen.'!$D$138","v":"S21C.DP0550"}]
["CB100B2.S21C.DP0551",{"$f":"'21C Market Risk - IRR Gen.'!$D$139","v":"S21C.DP0551"}]
["CB100B2.S21C.DP0552",{"$f":"'21C Market Risk - IRR Gen.'!$D$141","v":"S21C.DP0552"}]
["CB100B2.S21C.DP0553",{"$f":"'21C Market Risk - IRR Gen.'!$D$142","v":"S21C.DP0553"}]
["CB100B2.S21C.DP0554",{"$f":"'21C Market Risk - IRR Gen.'!$D$143","v":"S21C.DP0554"}]
["CB100B2.S21C.DP0555",{"$f":"'21C Market Risk - IRR Gen.'!$D$144","v":"S21C.DP0555"}]
["CB100B2.S21C.DP0556",{"$f":"'21C Market Risk - IRR Gen.'!$D$146","v":"S21C.DP0556"}]
["CB100B2.S21C.DP0557",{"$f":"'21C Market Risk - IRR Gen.'!$D$159","v":"S21C.DP0557"}]
["CB100B2.S21C.DP0558",{"$f":"'21C Market Risk - IRR Gen.'!$D$160","v":"S21C.DP0558"}]
["CB100B2.S21C.DP0559",{"$f":"'21C Market Risk - IRR Gen.'!$E$138","v":"S21C.DP0559"}]
["CB100B2.S21C.DP0560",{"$f":"'21C Market Risk - IRR Gen.'!$E$139","v":"S21C.DP0560"}]
["CB100B2.S21C.DP0561",{"$f":"'21C Market Risk - IRR Gen.'!$E$141","v":"S21C.DP0561"}]
["CB100B2.S21C.DP0562",{"$f":"'21C Market Risk - IRR Gen.'!$E$142","v":"S21C.DP0562"}]
["CB100B2.S21C.DP0563",{"$f":"'21C Market Risk - IRR Gen.'!$E$143","v":"S21C.DP0563"}]
["CB100B2.S21C.DP0564",{"$f":"'21C Market Risk - IRR Gen.'!$E$144","v":"S21C.DP0564"}]
["CB100B2.S21C.DP0565",{"$f":"'21C Market Risk - IRR Gen.'!$E$146","v":"S21C.DP0565"}]
["CB100B2.S21C.DP0566",{"$f":"'21C Market Risk - IRR Gen.'!$F$138","v":"S21C.DP0566"}]
["CB100B2.S21C.DP0567",{"$f":"'21C Market Risk - IRR Gen.'!$F$139","v":"S21C.DP0567"}]
["CB100B2.S21C.DP0568",{"$f":"'21C Market Risk - IRR Gen.'!$F$141","v":"S21C.DP0568"}]
["CB100B2.S21C.DP0569",{"$f":"'21C Market Risk - IRR Gen.'!$F$142","v":"S21C.DP0569"}]
["CB100B2.S21C.DP0570",{"$f":"'21C Market Risk - IRR Gen.'!$F$143","v":"S21C.DP0570"}]
["CB100B2.S21C.DP0571",{"$f":"'21C Market Risk - IRR Gen.'!$F$144","v":"S21C.DP0571"}]
["CB100B2.S21C.DP0572",{"$f":"'21C Market Risk - IRR Gen.'!$F$146","v":"S21C.DP0572"}]
["CB100B2.S21C.DP0573",{"$f":"'21C Market Risk - IRR Gen.'!$F$147","v":"S21C.DP0573"}]
["CB100B2.S21C.DP0574",{"$f":"'21C Market Risk - IRR Gen.'!$F$148","v":"S21C.DP0574"}]
["CB100B2.S21C.DP0575",{"$f":"'21C Market Risk - IRR Gen.'!$F$150","v":"S21C.DP0575"}]
["CB100B2.S21C.DP0576",{"$f":"'21C Market Risk - IRR Gen.'!$G$138","v":"S21C.DP0576"}]
["CB100B2.S21C.DP0577",{"$f":"'21C Market Risk - IRR Gen.'!$G$139","v":"S21C.DP0577"}]
["CB100B2.S21C.DP0578",{"$f":"'21C Market Risk - IRR Gen.'!$G$141","v":"S21C.DP0578"}]
["CB100B2.S21C.DP0579",{"$f":"'21C Market Risk - IRR Gen.'!$G$142","v":"S21C.DP0579"}]
["CB100B2.S21C.DP0580",{"$f":"'21C Market Risk - IRR Gen.'!$G$143","v":"S21C.DP0580"}]
["CB100B2.S21C.DP0581",{"$f":"'21C Market Risk - IRR Gen.'!$G$144","v":"S21C.DP0581"}]
["CB100B2.S21C.DP0582",{"$f":"'21C Market Risk - IRR Gen.'!$G$146","v":"S21C.DP0582"}]
["CB100B2.S21C.DP0583",{"$f":"'21C Market Risk - IRR Gen.'!$G$161","v":"S21C.DP0583"}]
["CB100B2.S21C.DP0584",{"$f":"'21C Market Risk - IRR Gen.'!$H$138","v":"S21C.DP0584"}]
["CB100B2.S21C.DP0585",{"$f":"'21C Market Risk - IRR Gen.'!$H$139","v":"S21C.DP0585"}]
["CB100B2.S21C.DP0586",{"$f":"'21C Market Risk - IRR Gen.'!$H$141","v":"S21C.DP0586"}]
["CB100B2.S21C.DP0587",{"$f":"'21C Market Risk - IRR Gen.'!$H$142","v":"S21C.DP0587"}]
["CB100B2.S21C.DP0588",{"$f":"'21C Market Risk - IRR Gen.'!$H$143","v":"S21C.DP0588"}]
["CB100B2.S21C.DP0589",{"$f":"'21C Market Risk - IRR Gen.'!$H$144","v":"S21C.DP0589"}]
["CB100B2.S21C.DP0590",{"$f":"'21C Market Risk - IRR Gen.'!$H$146","v":"S21C.DP0590"}]
["CB100B2.S21C.DP0591",{"$f":"'21C Market Risk - IRR Gen.'!$I$138","v":"S21C.DP0591"}]
["CB100B2.S21C.DP0592",{"$f":"'21C Market Risk - IRR Gen.'!$I$139","v":"S21C.DP0592"}]
["CB100B2.S21C.DP0593",{"$f":"'21C Market Risk - IRR Gen.'!$I$141","v":"S21C.DP0593"}]
["CB100B2.S21C.DP0594",{"$f":"'21C Market Risk - IRR Gen.'!$I$142","v":"S21C.DP0594"}]
["CB100B2.S21C.DP0595",{"$f":"'21C Market Risk - IRR Gen.'!$I$143","v":"S21C.DP0595"}]
["CB100B2.S21C.DP0596",{"$f":"'21C Market Risk - IRR Gen.'!$I$144","v":"S21C.DP0596"}]
["CB100B2.S21C.DP0597",{"$f":"'21C Market Risk - IRR Gen.'!$I$146","v":"S21C.DP0597"}]
["CB100B2.S21C.DP0598",{"$f":"'21C Market Risk - IRR Gen.'!$I$147","v":"S21C.DP0598"}]
["CB100B2.S21C.DP0599",{"$f":"'21C Market Risk - IRR Gen.'!$I$148","v":"S21C.DP0599"}]
["CB100B2.S21C.DP0600",{"$f":"'21C Market Risk - IRR Gen.'!$I$150","v":"S21C.DP0600"}]
["CB100B2.S21C.DP0601",{"$f":"'21C Market Risk - IRR Gen.'!$I$151","v":"S21C.DP0601"}]
["CB100B2.S21C.DP0602",{"$f":"'21C Market Risk - IRR Gen.'!$I$152","v":"S21C.DP0602"}]
["CB100B2.S21C.DP0603",{"$f":"'21C Market Risk - IRR Gen.'!$I$154","v":"S21C.DP0603"}]
["CB100B2.S21C.DP0604",{"$f":"'21C Market Risk - IRR Gen.'!$J$138","v":"S21C.DP0604"}]
["CB100B2.S21C.DP0605",{"$f":"'21C Market Risk - IRR Gen.'!$J$139","v":"S21C.DP0605"}]
["CB100B2.S21C.DP0606",{"$f":"'21C Market Risk - IRR Gen.'!$J$141","v":"S21C.DP0606"}]
["CB100B2.S21C.DP0607",{"$f":"'21C Market Risk - IRR Gen.'!$J$142","v":"S21C.DP0607"}]
["CB100B2.S21C.DP0608",{"$f":"'21C Market Risk - IRR Gen.'!$J$143","v":"S21C.DP0608"}]
["CB100B2.S21C.DP0609",{"$f":"'21C Market Risk - IRR Gen.'!$J$144","v":"S21C.DP0609"}]
["CB100B2.S21C.DP0610",{"$f":"'21C Market Risk - IRR Gen.'!$J$146","v":"S21C.DP0610"}]
["CB100B2.S21C.DP0611",{"$f":"'21C Market Risk - IRR Gen.'!$K$138","v":"S21C.DP0611"}]
["CB100B2.S21C.DP0612",{"$f":"'21C Market Risk - IRR Gen.'!$K$139","v":"S21C.DP0612"}]
["CB100B2.S21C.DP0613",{"$f":"'21C Market Risk - IRR Gen.'!$K$141","v":"S21C.DP0613"}]
["CB100B2.S21C.DP0614",{"$f":"'21C Market Risk - IRR Gen.'!$K$142","v":"S21C.DP0614"}]
["CB100B2.S21C.DP0615",{"$f":"'21C Market Risk - IRR Gen.'!$K$143","v":"S21C.DP0615"}]
["CB100B2.S21C.DP0616",{"$f":"'21C Market Risk - IRR Gen.'!$K$144","v":"S21C.DP0616"}]
["CB100B2.S21C.DP0617",{"$f":"'21C Market Risk - IRR Gen.'!$K$146","v":"S21C.DP0617"}]
["CB100B2.S21C.DP0618",{"$f":"'21C Market Risk - IRR Gen.'!$L$138","v":"S21C.DP0618"}]
["CB100B2.S21C.DP0619",{"$f":"'21C Market Risk - IRR Gen.'!$L$139","v":"S21C.DP0619"}]
["CB100B2.S21C.DP0620",{"$f":"'21C Market Risk - IRR Gen.'!$L$141","v":"S21C.DP0620"}]
["CB100B2.S21C.DP0621",{"$f":"'21C Market Risk - IRR Gen.'!$L$142","v":"S21C.DP0621"}]
["CB100B2.S21C.DP0622",{"$f":"'21C Market Risk - IRR Gen.'!$L$143","v":"S21C.DP0622"}]
["CB100B2.S21C.DP0623",{"$f":"'21C Market Risk - IRR Gen.'!$L$144","v":"S21C.DP0623"}]
["CB100B2.S21C.DP0624",{"$f":"'21C Market Risk - IRR Gen.'!$L$146","v":"S21C.DP0624"}]
["CB100B2.S21C.DP0625",{"$f":"'21C Market Risk - IRR Gen.'!$M$138","v":"S21C.DP0625"}]
["CB100B2.S21C.DP0626",{"$f":"'21C Market Risk - IRR Gen.'!$M$139","v":"S21C.DP0626"}]
["CB100B2.S21C.DP0627",{"$f":"'21C Market Risk - IRR Gen.'!$M$141","v":"S21C.DP0627"}]
["CB100B2.S21C.DP0628",{"$f":"'21C Market Risk - IRR Gen.'!$M$142","v":"S21C.DP0628"}]
["CB100B2.S21C.DP0629",{"$f":"'21C Market Risk - IRR Gen.'!$M$143","v":"S21C.DP0629"}]
["CB100B2.S21C.DP0630",{"$f":"'21C Market Risk - IRR Gen.'!$M$144","v":"S21C.DP0630"}]
["CB100B2.S21C.DP0631",{"$f":"'21C Market Risk - IRR Gen.'!$M$146","v":"S21C.DP0631"}]
["CB100B2.S21C.DP0632",{"$f":"'21C Market Risk - IRR Gen.'!$N$138","v":"S21C.DP0632"}]
["CB100B2.S21C.DP0633",{"$f":"'21C Market Risk - IRR Gen.'!$N$139","v":"S21C.DP0633"}]
["CB100B2.S21C.DP0634",{"$f":"'21C Market Risk - IRR Gen.'!$N$141","v":"S21C.DP0634"}]
["CB100B2.S21C.DP0635",{"$f":"'21C Market Risk - IRR Gen.'!$N$142","v":"S21C.DP0635"}]
["CB100B2.S21C.DP0636",{"$f":"'21C Market Risk - IRR Gen.'!$N$143","v":"S21C.DP0636"}]
["CB100B2.S21C.DP0637",{"$f":"'21C Market Risk - IRR Gen.'!$N$144","v":"S21C.DP0637"}]
["CB100B2.S21C.DP0638",{"$f":"'21C Market Risk - IRR Gen.'!$N$146","v":"S21C.DP0638"}]
["CB100B2.S21C.DP0639",{"$f":"'21C Market Risk - IRR Gen.'!$O$138","v":"S21C.DP0639"}]
["CB100B2.S21C.DP0640",{"$f":"'21C Market Risk - IRR Gen.'!$O$139","v":"S21C.DP0640"}]
["CB100B2.S21C.DP0641",{"$f":"'21C Market Risk - IRR Gen.'!$O$141","v":"S21C.DP0641"}]
["CB100B2.S21C.DP0642",{"$f":"'21C Market Risk - IRR Gen.'!$O$142","v":"S21C.DP0642"}]
["CB100B2.S21C.DP0643",{"$f":"'21C Market Risk - IRR Gen.'!$O$143","v":"S21C.DP0643"}]
["CB100B2.S21C.DP0644",{"$f":"'21C Market Risk - IRR Gen.'!$O$144","v":"S21C.DP0644"}]
["CB100B2.S21C.DP0645",{"$f":"'21C Market Risk - IRR Gen.'!$O$146","v":"S21C.DP0645"}]
["CB100B2.S21C.DP0646",{"$f":"'21C Market Risk - IRR Gen.'!$P$138","v":"S21C.DP0646"}]
["CB100B2.S21C.DP0647",{"$f":"'21C Market Risk - IRR Gen.'!$P$139","v":"S21C.DP0647"}]
["CB100B2.S21C.DP0648",{"$f":"'21C Market Risk - IRR Gen.'!$P$141","v":"S21C.DP0648"}]
["CB100B2.S21C.DP0649",{"$f":"'21C Market Risk - IRR Gen.'!$P$142","v":"S21C.DP0649"}]
["CB100B2.S21C.DP0650",{"$f":"'21C Market Risk - IRR Gen.'!$P$143","v":"S21C.DP0650"}]
["CB100B2.S21C.DP0651",{"$f":"'21C Market Risk - IRR Gen.'!$P$144","v":"S21C.DP0651"}]
["CB100B2.S21C.DP0652",{"$f":"'21C Market Risk - IRR Gen.'!$P$146","v":"S21C.DP0652"}]
["CB100B2.S21C.DP0653",{"$f":"'21C Market Risk - IRR Gen.'!$Q$138","v":"S21C.DP0653"}]
["CB100B2.S21C.DP0654",{"$f":"'21C Market Risk - IRR Gen.'!$Q$139","v":"S21C.DP0654"}]
["CB100B2.S21C.DP0655",{"$f":"'21C Market Risk - IRR Gen.'!$Q$141","v":"S21C.DP0655"}]
["CB100B2.S21C.DP0656",{"$f":"'21C Market Risk - IRR Gen.'!$Q$142","v":"S21C.DP0656"}]
["CB100B2.S21C.DP0657",{"$f":"'21C Market Risk - IRR Gen.'!$Q$143","v":"S21C.DP0657"}]
["CB100B2.S21C.DP0658",{"$f":"'21C Market Risk - IRR Gen.'!$Q$144","v":"S21C.DP0658"}]
["CB100B2.S21C.DP0659",{"$f":"'21C Market Risk - IRR Gen.'!$Q$146","v":"S21C.DP0659"}]
["CB100B2.S21C.DP0660",{"$f":"'21C Market Risk - IRR Gen.'!$Q$147","v":"S21C.DP0660"}]
["CB100B2.S21C.DP0661",{"$f":"'21C Market Risk - IRR Gen.'!$Q$148","v":"S21C.DP0661"}]
["CB100B2.S21C.DP0662",{"$f":"'21C Market Risk - IRR Gen.'!$Q$150","v":"S21C.DP0662"}]
["CB100B2.S21C.DP0663",{"$f":"'21C Market Risk - IRR Gen.'!$Q$151","v":"S21C.DP0663"}]
["CB100B2.S21C.DP0664",{"$f":"'21C Market Risk - IRR Gen.'!$Q$152","v":"S21C.DP0664"}]
["CB100B2.S21C.DP0665",{"$f":"'21C Market Risk - IRR Gen.'!$Q$154","v":"S21C.DP0665"}]
["CB100B2.S21C.DP0666",{"$f":"'21C Market Risk - IRR Gen.'!$Q$155","v":"S21C.DP0666"}]
["CB100B2.S21C.DP0667",{"$f":"'21C Market Risk - IRR Gen.'!$Q$156","v":"S21C.DP0667"}]
["CB100B2.S21C.DP0668",{"$f":"'21C Market Risk - IRR Gen.'!$Q$158","v":"S21C.DP0668"}]
["CB100B2.S21C.DP0669",{"$f":"'21C Market Risk - IRR Gen.'!$R$146","v":"S21C.DP0669"}]
["CB100B2.S21C.DP0670",{"$f":"'21C Market Risk - IRR Gen.'!$R$150","v":"S21C.DP0670"}]
["CB100B2.S21C.DP0671",{"$f":"'21C Market Risk - IRR Gen.'!$R$154","v":"S21C.DP0671"}]
["CB100B2.S21C.DP0672",{"$f":"'21C Market Risk - IRR Gen.'!$R$158","v":"S21C.DP0672"}]
["CB100B2.S21C.DP0673",{"$f":"'21C Market Risk - IRR Gen.'!$R$159","v":"S21C.DP0673"}]
["CB100B2.S21C.DP0674",{"$f":"'21C Market Risk - IRR Gen.'!$R$160","v":"S21C.DP0674"}]
["CB100B2.S21C.DP0675",{"$f":"'21C Market Risk - IRR Gen.'!$R$161","v":"S21C.DP0675"}]
["CB100B2.S21C.DP0676",{"$f":"'21C Market Risk - IRR Gen.'!$C$170","v":"S21C.DP0676"}]
["CB100B2.S21C.DP0677",{"$f":"'21C Market Risk - IRR Gen.'!$C$171","v":"S21C.DP0677"}]
["CB100B2.S21C.DP0678",{"$f":"'21C Market Risk - IRR Gen.'!$C$173","v":"S21C.DP0678"}]
["CB100B2.S21C.DP0679",{"$f":"'21C Market Risk - IRR Gen.'!$C$174","v":"S21C.DP0679"}]
["CB100B2.S21C.DP0680",{"$f":"'21C Market Risk - IRR Gen.'!$C$175","v":"S21C.DP0680"}]
["CB100B2.S21C.DP0681",{"$f":"'21C Market Risk - IRR Gen.'!$C$176","v":"S21C.DP0681"}]
["CB100B2.S21C.DP0682",{"$f":"'21C Market Risk - IRR Gen.'!$C$178","v":"S21C.DP0682"}]
["CB100B2.S21C.DP0683",{"$f":"'21C Market Risk - IRR Gen.'!$C$191","v":"S21C.DP0683"}]
["CB100B2.S21C.DP0684",{"$f":"'21C Market Risk - IRR Gen.'!$C$192","v":"S21C.DP0684"}]
["CB100B2.S21C.DP0685",{"$f":"'21C Market Risk - IRR Gen.'!$D$170","v":"S21C.DP0685"}]
["CB100B2.S21C.DP0686",{"$f":"'21C Market Risk - IRR Gen.'!$D$171","v":"S21C.DP0686"}]
["CB100B2.S21C.DP0687",{"$f":"'21C Market Risk - IRR Gen.'!$D$173","v":"S21C.DP0687"}]
["CB100B2.S21C.DP0688",{"$f":"'21C Market Risk - IRR Gen.'!$D$174","v":"S21C.DP0688"}]
["CB100B2.S21C.DP0689",{"$f":"'21C Market Risk - IRR Gen.'!$D$175","v":"S21C.DP0689"}]
["CB100B2.S21C.DP0690",{"$f":"'21C Market Risk - IRR Gen.'!$D$176","v":"S21C.DP0690"}]
["CB100B2.S21C.DP0691",{"$f":"'21C Market Risk - IRR Gen.'!$D$178","v":"S21C.DP0691"}]
["CB100B2.S21C.DP0692",{"$f":"'21C Market Risk - IRR Gen.'!$D$191","v":"S21C.DP0692"}]
["CB100B2.S21C.DP0693",{"$f":"'21C Market Risk - IRR Gen.'!$D$192","v":"S21C.DP0693"}]
["CB100B2.S21C.DP0694",{"$f":"'21C Market Risk - IRR Gen.'!$E$170","v":"S21C.DP0694"}]
["CB100B2.S21C.DP0695",{"$f":"'21C Market Risk - IRR Gen.'!$E$171","v":"S21C.DP0695"}]
["CB100B2.S21C.DP0696",{"$f":"'21C Market Risk - IRR Gen.'!$E$173","v":"S21C.DP0696"}]
["CB100B2.S21C.DP0697",{"$f":"'21C Market Risk - IRR Gen.'!$E$174","v":"S21C.DP0697"}]
["CB100B2.S21C.DP0698",{"$f":"'21C Market Risk - IRR Gen.'!$E$175","v":"S21C.DP0698"}]
["CB100B2.S21C.DP0699",{"$f":"'21C Market Risk - IRR Gen.'!$E$176","v":"S21C.DP0699"}]
["CB100B2.S21C.DP0700",{"$f":"'21C Market Risk - IRR Gen.'!$E$178","v":"S21C.DP0700"}]
["CB100B2.S21C.DP0701",{"$f":"'21C Market Risk - IRR Gen.'!$F$170","v":"S21C.DP0701"}]
["CB100B2.S21C.DP0702",{"$f":"'21C Market Risk - IRR Gen.'!$F$171","v":"S21C.DP0702"}]
["CB100B2.S21C.DP0703",{"$f":"'21C Market Risk - IRR Gen.'!$F$173","v":"S21C.DP0703"}]
["CB100B2.S21C.DP0704",{"$f":"'21C Market Risk - IRR Gen.'!$F$174","v":"S21C.DP0704"}]
["CB100B2.S21C.DP0705",{"$f":"'21C Market Risk - IRR Gen.'!$F$175","v":"S21C.DP0705"}]
["CB100B2.S21C.DP0706",{"$f":"'21C Market Risk - IRR Gen.'!$F$176","v":"S21C.DP0706"}]
["CB100B2.S21C.DP0707",{"$f":"'21C Market Risk - IRR Gen.'!$F$178","v":"S21C.DP0707"}]
["CB100B2.S21C.DP0708",{"$f":"'21C Market Risk - IRR Gen.'!$F$179","v":"S21C.DP0708"}]
["CB100B2.S21C.DP0709",{"$f":"'21C Market Risk - IRR Gen.'!$F$180","v":"S21C.DP0709"}]
["CB100B2.S21C.DP0710",{"$f":"'21C Market Risk - IRR Gen.'!$F$182","v":"S21C.DP0710"}]
["CB100B2.S21C.DP0711",{"$f":"'21C Market Risk - IRR Gen.'!$G$170","v":"S21C.DP0711"}]
["CB100B2.S21C.DP0712",{"$f":"'21C Market Risk - IRR Gen.'!$G$171","v":"S21C.DP0712"}]
["CB100B2.S21C.DP0713",{"$f":"'21C Market Risk - IRR Gen.'!$G$173","v":"S21C.DP0713"}]
["CB100B2.S21C.DP0714",{"$f":"'21C Market Risk - IRR Gen.'!$G$174","v":"S21C.DP0714"}]
["CB100B2.S21C.DP0715",{"$f":"'21C Market Risk - IRR Gen.'!$G$175","v":"S21C.DP0715"}]
["CB100B2.S21C.DP0716",{"$f":"'21C Market Risk - IRR Gen.'!$G$176","v":"S21C.DP0716"}]
["CB100B2.S21C.DP0717",{"$f":"'21C Market Risk - IRR Gen.'!$G$178","v":"S21C.DP0717"}]
["CB100B2.S21C.DP0718",{"$f":"'21C Market Risk - IRR Gen.'!$G$193","v":"S21C.DP0718"}]
["CB100B2.S21C.DP0719",{"$f":"'21C Market Risk - IRR Gen.'!$H$170","v":"S21C.DP0719"}]
["CB100B2.S21C.DP0720",{"$f":"'21C Market Risk - IRR Gen.'!$H$171","v":"S21C.DP0720"}]
["CB100B2.S21C.DP0721",{"$f":"'21C Market Risk - IRR Gen.'!$H$173","v":"S21C.DP0721"}]
["CB100B2.S21C.DP0722",{"$f":"'21C Market Risk - IRR Gen.'!$H$174","v":"S21C.DP0722"}]
["CB100B2.S21C.DP0723",{"$f":"'21C Market Risk - IRR Gen.'!$H$175","v":"S21C.DP0723"}]
["CB100B2.S21C.DP0724",{"$f":"'21C Market Risk - IRR Gen.'!$H$176","v":"S21C.DP0724"}]
["CB100B2.S21C.DP0725",{"$f":"'21C Market Risk - IRR Gen.'!$H$178","v":"S21C.DP0725"}]
["CB100B2.S21C.DP0726",{"$f":"'21C Market Risk - IRR Gen.'!$I$170","v":"S21C.DP0726"}]
["CB100B2.S21C.DP0727",{"$f":"'21C Market Risk - IRR Gen.'!$I$171","v":"S21C.DP0727"}]
["CB100B2.S21C.DP0728",{"$f":"'21C Market Risk - IRR Gen.'!$I$173","v":"S21C.DP0728"}]
["CB100B2.S21C.DP0729",{"$f":"'21C Market Risk - IRR Gen.'!$I$174","v":"S21C.DP0729"}]
["CB100B2.S21C.DP0730",{"$f":"'21C Market Risk - IRR Gen.'!$I$175","v":"S21C.DP0730"}]
["CB100B2.S21C.DP0731",{"$f":"'21C Market Risk - IRR Gen.'!$I$176","v":"S21C.DP0731"}]
["CB100B2.S21C.DP0732",{"$f":"'21C Market Risk - IRR Gen.'!$I$178","v":"S21C.DP0732"}]
["CB100B2.S21C.DP0733",{"$f":"'21C Market Risk - IRR Gen.'!$I$179","v":"S21C.DP0733"}]
["CB100B2.S21C.DP0734",{"$f":"'21C Market Risk - IRR Gen.'!$I$180","v":"S21C.DP0734"}]
["CB100B2.S21C.DP0735",{"$f":"'21C Market Risk - IRR Gen.'!$I$182","v":"S21C.DP0735"}]
["CB100B2.S21C.DP0736",{"$f":"'21C Market Risk - IRR Gen.'!$I$183","v":"S21C.DP0736"}]
["CB100B2.S21C.DP0737",{"$f":"'21C Market Risk - IRR Gen.'!$I$184","v":"S21C.DP0737"}]
["CB100B2.S21C.DP0738",{"$f":"'21C Market Risk - IRR Gen.'!$I$186","v":"S21C.DP0738"}]
["CB100B2.S21C.DP0739",{"$f":"'21C Market Risk - IRR Gen.'!$J$170","v":"S21C.DP0739"}]
["CB100B2.S21C.DP0740",{"$f":"'21C Market Risk - IRR Gen.'!$J$171","v":"S21C.DP0740"}]
["CB100B2.S21C.DP0741",{"$f":"'21C Market Risk - IRR Gen.'!$J$173","v":"S21C.DP0741"}]
["CB100B2.S21C.DP0742",{"$f":"'21C Market Risk - IRR Gen.'!$J$174","v":"S21C.DP0742"}]
["CB100B2.S21C.DP0743",{"$f":"'21C Market Risk - IRR Gen.'!$J$175","v":"S21C.DP0743"}]
["CB100B2.S21C.DP0744",{"$f":"'21C Market Risk - IRR Gen.'!$J$176","v":"S21C.DP0744"}]
["CB100B2.S21C.DP0745",{"$f":"'21C Market Risk - IRR Gen.'!$J$178","v":"S21C.DP0745"}]
["CB100B2.S21C.DP0746",{"$f":"'21C Market Risk - IRR Gen.'!$K$170","v":"S21C.DP0746"}]
["CB100B2.S21C.DP0747",{"$f":"'21C Market Risk - IRR Gen.'!$K$171","v":"S21C.DP0747"}]
["CB100B2.S21C.DP0748",{"$f":"'21C Market Risk - IRR Gen.'!$K$173","v":"S21C.DP0748"}]
["CB100B2.S21C.DP0749",{"$f":"'21C Market Risk - IRR Gen.'!$K$174","v":"S21C.DP0749"}]
["CB100B2.S21C.DP0750",{"$f":"'21C Market Risk - IRR Gen.'!$K$175","v":"S21C.DP0750"}]
["CB100B2.S21C.DP0751",{"$f":"'21C Market Risk - IRR Gen.'!$K$176","v":"S21C.DP0751"}]
["CB100B2.S21C.DP0752",{"$f":"'21C Market Risk - IRR Gen.'!$K$178","v":"S21C.DP0752"}]
["CB100B2.S21C.DP0753",{"$f":"'21C Market Risk - IRR Gen.'!$L$170","v":"S21C.DP0753"}]
["CB100B2.S21C.DP0754",{"$f":"'21C Market Risk - IRR Gen.'!$L$171","v":"S21C.DP0754"}]
["CB100B2.S21C.DP0755",{"$f":"'21C Market Risk - IRR Gen.'!$L$173","v":"S21C.DP0755"}]
["CB100B2.S21C.DP0756",{"$f":"'21C Market Risk - IRR Gen.'!$L$174","v":"S21C.DP0756"}]
["CB100B2.S21C.DP0757",{"$f":"'21C Market Risk - IRR Gen.'!$L$175","v":"S21C.DP0757"}]
["CB100B2.S21C.DP0758",{"$f":"'21C Market Risk - IRR Gen.'!$L$176","v":"S21C.DP0758"}]
["CB100B2.S21C.DP0759",{"$f":"'21C Market Risk - IRR Gen.'!$L$178","v":"S21C.DP0759"}]
["CB100B2.S21C.DP0760",{"$f":"'21C Market Risk - IRR Gen.'!$M$170","v":"S21C.DP0760"}]
["CB100B2.S21C.DP0761",{"$f":"'21C Market Risk - IRR Gen.'!$M$171","v":"S21C.DP0761"}]
["CB100B2.S21C.DP0762",{"$f":"'21C Market Risk - IRR Gen.'!$M$173","v":"S21C.DP0762"}]
["CB100B2.S21C.DP0763",{"$f":"'21C Market Risk - IRR Gen.'!$M$174","v":"S21C.DP0763"}]
["CB100B2.S21C.DP0764",{"$f":"'21C Market Risk - IRR Gen.'!$M$175","v":"S21C.DP0764"}]
["CB100B2.S21C.DP0765",{"$f":"'21C Market Risk - IRR Gen.'!$M$176","v":"S21C.DP0765"}]
["CB100B2.S21C.DP0766",{"$f":"'21C Market Risk - IRR Gen.'!$M$178","v":"S21C.DP0766"}]
["CB100B2.S21C.DP0767",{"$f":"'21C Market Risk - IRR Gen.'!$N$170","v":"S21C.DP0767"}]
["CB100B2.S21C.DP0768",{"$f":"'21C Market Risk - IRR Gen.'!$N$171","v":"S21C.DP0768"}]
["CB100B2.S21C.DP0769",{"$f":"'21C Market Risk - IRR Gen.'!$N$173","v":"S21C.DP0769"}]
["CB100B2.S21C.DP0770",{"$f":"'21C Market Risk - IRR Gen.'!$N$174","v":"S21C.DP0770"}]
["CB100B2.S21C.DP0771",{"$f":"'21C Market Risk - IRR Gen.'!$N$175","v":"S21C.DP0771"}]
["CB100B2.S21C.DP0772",{"$f":"'21C Market Risk - IRR Gen.'!$N$176","v":"S21C.DP0772"}]
["CB100B2.S21C.DP0773",{"$f":"'21C Market Risk - IRR Gen.'!$N$178","v":"S21C.DP0773"}]
["CB100B2.S21C.DP0774",{"$f":"'21C Market Risk - IRR Gen.'!$O$170","v":"S21C.DP0774"}]
["CB100B2.S21C.DP0775",{"$f":"'21C Market Risk - IRR Gen.'!$O$171","v":"S21C.DP0775"}]
["CB100B2.S21C.DP0776",{"$f":"'21C Market Risk - IRR Gen.'!$O$173","v":"S21C.DP0776"}]
["CB100B2.S21C.DP0777",{"$f":"'21C Market Risk - IRR Gen.'!$O$174","v":"S21C.DP0777"}]
["CB100B2.S21C.DP0778",{"$f":"'21C Market Risk - IRR Gen.'!$O$175","v":"S21C.DP0778"}]
["CB100B2.S21C.DP0779",{"$f":"'21C Market Risk - IRR Gen.'!$O$176","v":"S21C.DP0779"}]
["CB100B2.S21C.DP0780",{"$f":"'21C Market Risk - IRR Gen.'!$O$178","v":"S21C.DP0780"}]
["CB100B2.S21C.DP0781",{"$f":"'21C Market Risk - IRR Gen.'!$P$170","v":"S21C.DP0781"}]
["CB100B2.S21C.DP0782",{"$f":"'21C Market Risk - IRR Gen.'!$P$171","v":"S21C.DP0782"}]
["CB100B2.S21C.DP0783",{"$f":"'21C Market Risk - IRR Gen.'!$P$173","v":"S21C.DP0783"}]
["CB100B2.S21C.DP0784",{"$f":"'21C Market Risk - IRR Gen.'!$P$174","v":"S21C.DP0784"}]
["CB100B2.S21C.DP0785",{"$f":"'21C Market Risk - IRR Gen.'!$P$175","v":"S21C.DP0785"}]
["CB100B2.S21C.DP0786",{"$f":"'21C Market Risk - IRR Gen.'!$P$176","v":"S21C.DP0786"}]
["CB100B2.S21C.DP0787",{"$f":"'21C Market Risk - IRR Gen.'!$P$178","v":"S21C.DP0787"}]
["CB100B2.S21C.DP0788",{"$f":"'21C Market Risk - IRR Gen.'!$Q$170","v":"S21C.DP0788"}]
["CB100B2.S21C.DP0789",{"$f":"'21C Market Risk - IRR Gen.'!$Q$171","v":"S21C.DP0789"}]
["CB100B2.S21C.DP0790",{"$f":"'21C Market Risk - IRR Gen.'!$Q$173","v":"S21C.DP0790"}]
["CB100B2.S21C.DP0791",{"$f":"'21C Market Risk - IRR Gen.'!$Q$174","v":"S21C.DP0791"}]
["CB100B2.S21C.DP0792",{"$f":"'21C Market Risk - IRR Gen.'!$Q$175","v":"S21C.DP0792"}]
["CB100B2.S21C.DP0793",{"$f":"'21C Market Risk - IRR Gen.'!$Q$176","v":"S21C.DP0793"}]
["CB100B2.S21C.DP0794",{"$f":"'21C Market Risk - IRR Gen.'!$Q$178","v":"S21C.DP0794"}]
["CB100B2.S21C.DP0795",{"$f":"'21C Market Risk - IRR Gen.'!$Q$179","v":"S21C.DP0795"}]
["CB100B2.S21C.DP0796",{"$f":"'21C Market Risk - IRR Gen.'!$Q$180","v":"S21C.DP0796"}]
["CB100B2.S21C.DP0797",{"$f":"'21C Market Risk - IRR Gen.'!$Q$182","v":"S21C.DP0797"}]
["CB100B2.S21C.DP0798",{"$f":"'21C Market Risk - IRR Gen.'!$Q$183","v":"S21C.DP0798"}]
["CB100B2.S21C.DP0799",{"$f":"'21C Market Risk - IRR Gen.'!$Q$184","v":"S21C.DP0799"}]
["CB100B2.S21C.DP0800",{"$f":"'21C Market Risk - IRR Gen.'!$Q$186","v":"S21C.DP0800"}]
["CB100B2.S21C.DP0801",{"$f":"'21C Market Risk - IRR Gen.'!$Q$187","v":"S21C.DP0801"}]
["CB100B2.S21C.DP0802",{"$f":"'21C Market Risk - IRR Gen.'!$Q$188","v":"S21C.DP0802"}]
["CB100B2.S21C.DP0803",{"$f":"'21C Market Risk - IRR Gen.'!$Q$190","v":"S21C.DP0803"}]
["CB100B2.S21C.DP0804",{"$f":"'21C Market Risk - IRR Gen.'!$R$178","v":"S21C.DP0804"}]
["CB100B2.S21C.DP0805",{"$f":"'21C Market Risk - IRR Gen.'!$R$182","v":"S21C.DP0805"}]
["CB100B2.S21C.DP0806",{"$f":"'21C Market Risk - IRR Gen.'!$R$186","v":"S21C.DP0806"}]
["CB100B2.S21C.DP0807",{"$f":"'21C Market Risk - IRR Gen.'!$R$190","v":"S21C.DP0807"}]
["CB100B2.S21C.DP0808",{"$f":"'21C Market Risk - IRR Gen.'!$R$191","v":"S21C.DP0808"}]
["CB100B2.S21C.DP0809",{"$f":"'21C Market Risk - IRR Gen.'!$R$192","v":"S21C.DP0809"}]
["CB100B2.S21C.DP0810",{"$f":"'21C Market Risk - IRR Gen.'!$R$193","v":"S21C.DP0810"}]
["CB100B2.S21D.DP0001",{"$f":"'21D Market Risk - Equity & Com.'!$C$10","v":"S21D.DP0001"}]
["CB100B2.S21D.DP0002",{"$f":"'21D Market Risk - Equity & Com.'!$D$10","v":"S21D.DP0002"}]
["CB100B2.S21D.DP0003",{"$f":"'21D Market Risk - Equity & Com.'!$E$10","v":"S21D.DP0003"}]
["CB100B2.S21D.DP0004",{"$f":"'21D Market Risk - Equity & Com.'!$F$10","v":"S21D.DP0004"}]
["CB100B2.S21D.DP0005",{"$f":"'21D Market Risk - Equity & Com.'!$G$10","v":"S21D.DP0005"}]
["CB100B2.S21D.DP0006",{"$f":"'21D Market Risk - Equity & Com.'!$H$10","v":"S21D.DP0006"}]
["CB100B2.S21D.DP0007",{"$f":"'21D Market Risk - Equity & Com.'!$H$11","v":"S21D.DP0007"}]
["CB100B2.S21D.DP0008",{"$f":"'21D Market Risk - Equity & Com.'!$H$12","v":"S21D.DP0008"}]
["CB100B2.S21D.DP0009",{"$f":"'21D Market Risk - Equity & Com.'!$H$13","v":"S21D.DP0009"}]
["CB100B2.S21D.DP0010",{"$f":"'21D Market Risk - Equity & Com.'!$H$14","v":"S21D.DP0010"}]
["CB100B2.S21D.DP0011",{"$f":"'21D Market Risk - Equity & Com.'!$H$15","v":"S21D.DP0011"}]
["CB100B2.S21D.DP0012",{"$f":"'21D Market Risk - Equity & Com.'!$C$24","v":"S21D.DP0012"}]
["CB100B2.S21D.DP0013",{"$f":"'21D Market Risk - Equity & Com.'!$D$24","v":"S21D.DP0013"}]
["CB100B2.S21D.DP0014",{"$f":"'21D Market Risk - Equity & Com.'!$E$24","v":"S21D.DP0014"}]
["CB100B2.S21D.DP0015",{"$f":"'21D Market Risk - Equity & Com.'!$F$24","v":"S21D.DP0015"}]
["CB100B2.S21D.DP0016",{"$f":"'21D Market Risk - Equity & Com.'!$G$24","v":"S21D.DP0016"}]
["CB100B2.S21D.DP0017",{"$f":"'21D Market Risk - Equity & Com.'!$H$24","v":"S21D.DP0017"}]
["CB100B2.S21D.DP0018",{"$f":"'21D Market Risk - Equity & Com.'!$H$25","v":"S21D.DP0018"}]
["CB100B2.S21D.DP0019",{"$f":"'21D Market Risk - Equity & Com.'!$H$26","v":"S21D.DP0019"}]
["CB100B2.S21D.DP0020",{"$f":"'21D Market Risk - Equity & Com.'!$H$27","v":"S21D.DP0020"}]
["CB100B2.S21D.DP0021",{"$f":"'21D Market Risk - Equity & Com.'!$H$28","v":"S21D.DP0021"}]
["CB100B2.S21D.DP0022",{"$f":"'21D Market Risk - Equity & Com.'!$H$29","v":"S21D.DP0022"}]
["CB100B2.S21E.DP0001",{"$f":"'21E Market Risk - Options'!$B$14","v":"S21E.DP0001"}]
["CB100B2.S21E.DP0002",{"$f":"'21E Market Risk - Options'!$B$16","v":"S21E.DP0002"}]
["CB100B2.S21E.DP0003",{"$f":"'21E Market Risk - Options'!$C$14","v":"S21E.DP0003"}]
["CB100B2.S21E.DP0004",{"$f":"'21E Market Risk - Options'!$C$16","v":"S21E.DP0004"}]
["CB100B2.S21E.DP0005",{"$f":"'21E Market Risk - Options'!$D$14","v":"S21E.DP0005"}]
["CB100B2.S21E.DP0006",{"$f":"'21E Market Risk - Options'!$D$16","v":"S21E.DP0006"}]
["CB100B2.S21E.DP0007",{"$f":"'21E Market Risk - Options'!$E$14","v":"S21E.DP0007"}]
["CB100B2.S21E.DP0008",{"$f":"'21E Market Risk - Options'!$E$16","v":"S21E.DP0008"}]
["CB100B2.S21E.DP0009",{"$f":"'21E Market Risk - Options'!$F$14","v":"S21E.DP0009"}]
["CB100B2.S21E.DP0010",{"$f":"'21E Market Risk - Options'!$F$16","v":"S21E.DP0010"}]
["CB100B2.S21E.DP0011",{"$f":"'21E Market Risk - Options'!$G$14","v":"S21E.DP0011"}]
["CB100B2.S21E.DP0012",{"$f":"'21E Market Risk - Options'!$G$16","v":"S21E.DP0012"}]
["CB100B2.S21E.DP0013",{"$f":"'21E Market Risk - Options'!$H$14","v":"S21E.DP0013"}]
["CB100B2.S21E.DP0014",{"$f":"'21E Market Risk - Options'!$H$16","v":"S21E.DP0014"}]
["CB100B2.S21E.DP0015",{"$f":"'21E Market Risk - Options'!$I$14","v":"S21E.DP0015"}]
["CB100B2.S21E.DP0016",{"$f":"'21E Market Risk - Options'!$I$16","v":"S21E.DP0016"}]
["CB100B2.S21E.DP0017",{"$f":"'21E Market Risk - Options'!$J$14","v":"S21E.DP0017"}]
["CB100B2.S21E.DP0018",{"$f":"'21E Market Risk - Options'!$J$16","v":"S21E.DP0018"}]
["CB100B2.S21E.DP0019",{"$f":"'21E Market Risk - Options'!$K$14","v":"S21E.DP0019"}]
["CB100B2.S21E.DP0020",{"$f":"'21E Market Risk - Options'!$K$16","v":"S21E.DP0020"}]
["CB100B2.S21E.DP0021",{"$f":"'21E Market Risk - Options'!$L$14","v":"S21E.DP0021"}]
["CB100B2.S21E.DP0022",{"$f":"'21E Market Risk - Options'!$L$16","v":"S21E.DP0022"}]
["CB100B2.S21E.DP0023",{"$f":"'21E Market Risk - Options'!$M$14","v":"S21E.DP0023"}]
["CB100B2.S21E.DP0024",{"$f":"'21E Market Risk - Options'!$M$16","v":"S21E.DP0024"}]
["CB100B2.S21E.DP0025",{"$f":"'21E Market Risk - Options'!$N$14","v":"S21E.DP0025"}]
["CB100B2.S21E.DP0026",{"$f":"'21E Market Risk - Options'!$N$16","v":"S21E.DP0026"}]
["CB100B2.S21E.DP0027",{"$f":"'21E Market Risk - Options'!$O$14","v":"S21E.DP0027"}]
["CB100B2.S21E.DP0028",{"$f":"'21E Market Risk - Options'!$O$16","v":"S21E.DP0028"}]
["CB100B2.S21E.DP0029",{"$f":"'21E Market Risk - Options'!$P$14","v":"S21E.DP0029"}]
["CB100B2.S21E.DP0030",{"$f":"'21E Market Risk - Options'!$P$16","v":"S21E.DP0030"}]
["CB100B2.S21E.DP0031",{"$f":"'21E Market Risk - Options'!$F$30","v":"S21E.DP0031"}]
["CB100B2.S21E.DP0032",{"$f":"'21E Market Risk - Options'!$F$42","v":"S21E.DP0032"}]
["CB100B2.S21E.DP0033",{"$f":"'21E Market Risk - Options'!$F$54","v":"S21E.DP0033"}]
["CB100B2.S21E.DP0034",{"$f":"'21E Market Risk - Options'!$F$66","v":"S21E.DP0034"}]
["CB100B2.S21E.DP0035",{"$f":"'21E Market Risk - Options'!$F$69","v":"S21E.DP0035"}]
["CB100B2.S21E.DP0036",{"$f":"'21E Market Risk - Options'!$F$86","v":"S21E.DP0036"}]
["CB100B2.S21E.DP0037",{"$f":"'21E Market Risk - Options'!$F$98","v":"S21E.DP0037"}]
["CB100B2.S21E.DP0038",{"$f":"'21E Market Risk - Options'!$F$110","v":"S21E.DP0038"}]
["CB100B2.S21E.DP0039",{"$f":"'21E Market Risk - Options'!$F$122","v":"S21E.DP0039"}]
["CB100B2.S21E.DP0040",{"$f":"'21E Market Risk - Options'!$F$124","v":"S21E.DP0040"}]
["CB100B2.S21E.DP0041",{"$f":"'21E Market Risk - Options'!$F$141","v":"S21E.DP0041"}]
["CB100B2.S21E.DP0042",{"$f":"'21E Market Risk - Options'!$F$153","v":"S21E.DP0042"}]
["CB100B2.S21E.DP0043",{"$f":"'21E Market Risk - Options'!$F$165","v":"S21E.DP0043"}]
["CB100B2.S21E.DP0044",{"$f":"'21E Market Risk - Options'!$F$177","v":"S21E.DP0044"}]
["CB100B2.S21E.DP0045",{"$f":"'21E Market Risk - Options'!$F$179","v":"S21E.DP0045"}]
["CB100B2.S21E.DP0046",{"$f":"'21E Market Risk - Options'!$F$196","v":"S21E.DP0046"}]
["CB100B2.S21E.DP0047",{"$f":"'21E Market Risk - Options'!$F$208","v":"S21E.DP0047"}]
["CB100B2.S21E.DP0048",{"$f":"'21E Market Risk - Options'!$F$220","v":"S21E.DP0048"}]
["CB100B2.S21E.DP0049",{"$f":"'21E Market Risk - Options'!$F$232","v":"S21E.DP0049"}]
["CB100B2.S21E.DP0050",{"$f":"'21E Market Risk - Options'!$F$234","v":"S21E.DP0050"}]
["CB100B2.S22.DP0001",{"$f":"'22 Op Risk'!$D$9","v":"S22.DP0001"}]
["CB100B2.S22.DP0002",{"$f":"'22 Op Risk'!$D$10","v":"S22.DP0002"}]
["CB100B2.S22.DP0003",{"$f":"'22 Op Risk'!$D$11","v":"S22.DP0003"}]
["CB100B2.S22.DP0004",{"$f":"'22 Op Risk'!$D$12","v":"S22.DP0004"}]
["CB100B2.S22.DP0005",{"$f":"'22 Op Risk'!$D$13","v":"S22.DP0005"}]
["CB100B2.S22.DP0006",{"$f":"'22 Op Risk'!$D$14","v":"S22.DP0006"}]
["CB100B2.S22.DP0007",{"$f":"'22 Op Risk'!$D$15","v":"S22.DP0007"}]
["CB100B2.S22.DP0008",{"$f":"'22 Op Risk'!$D$16","v":"S22.DP0008"}]
["CB100B2.S22.DP0009",{"$f":"'22 Op Risk'!$D$17","v":"S22.DP0009"}]
["CB100B2.S22.DP0010",{"$f":"'22 Op Risk'!$D$18","v":"S22.DP0010"}]
["CB100B2.S22.DP0011",{"$f":"'22 Op Risk'!$E$9","v":"S22.DP0011"}]
["CB100B2.S22.DP0012",{"$f":"'22 Op Risk'!$E$10","v":"S22.DP0012"}]
["CB100B2.S22.DP0013",{"$f":"'22 Op Risk'!$E$11","v":"S22.DP0013"}]
["CB100B2.S22.DP0014",{"$f":"'22 Op Risk'!$E$12","v":"S22.DP0014"}]
["CB100B2.S22.DP0015",{"$f":"'22 Op Risk'!$E$13","v":"S22.DP0015"}]
["CB100B2.S22.DP0016",{"$f":"'22 Op Risk'!$E$14","v":"S22.DP0016"}]
["CB100B2.S22.DP0017",{"$f":"'22 Op Risk'!$E$15","v":"S22.DP0017"}]
["CB100B2.S22.DP0018",{"$f":"'22 Op Risk'!$E$16","v":"S22.DP0018"}]
["CB100B2.S22.DP0019",{"$f":"'22 Op Risk'!$E$17","v":"S22.DP0019"}]
["CB100B2.S22.DP0020",{"$f":"'22 Op Risk'!$E$18","v":"S22.DP0020"}]
["CB100B2.S22.DP0021",{"$f":"'22 Op Risk'!$E$19","v":"S22.DP0021"}]
["CB100B2.S22.DP0022",{"$f":"'22 Op Risk'!$G$9","v":"S22.DP0022"}]
["CB100B2.S22.DP0023",{"$f":"'22 Op Risk'!$G$10","v":"S22.DP0023"}]
["CB100B2.S22.DP0024",{"$f":"'22 Op Risk'!$G$11","v":"S22.DP0024"}]
["CB100B2.S22.DP0025",{"$f":"'22 Op Risk'!$G$12","v":"S22.DP0025"}]
["CB100B2.S22.DP0026",{"$f":"'22 Op Risk'!$G$13","v":"S22.DP0026"}]
["CB100B2.S22.DP0027",{"$f":"'22 Op Risk'!$G$14","v":"S22.DP0027"}]
["CB100B2.S22.DP0028",{"$f":"'22 Op Risk'!$G$15","v":"S22.DP0028"}]
["CB100B2.S22.DP0029",{"$f":"'22 Op Risk'!$G$16","v":"S22.DP0029"}]
["CB100B2.S22.DP0030",{"$f":"'22 Op Risk'!$G$17","v":"S22.DP0030"}]
["CB100B2.S22.DP0031",{"$f":"'22 Op Risk'!$G$18","v":"S22.DP0031"}]
["CB100B2.S22.DP0032",{"$f":"'22 Op Risk'!$H$9","v":"S22.DP0032"}]
["CB100B2.S22.DP0033",{"$f":"'22 Op Risk'!$H$10","v":"S22.DP0033"}]
["CB100B2.S22.DP0034",{"$f":"'22 Op Risk'!$H$11","v":"S22.DP0034"}]
["CB100B2.S22.DP0035",{"$f":"'22 Op Risk'!$H$12","v":"S22.DP0035"}]
["CB100B2.S22.DP0036",{"$f":"'22 Op Risk'!$H$13","v":"S22.DP0036"}]
["CB100B2.S22.DP0037",{"$f":"'22 Op Risk'!$H$14","v":"S22.DP0037"}]
["CB100B2.S22.DP0038",{"$f":"'22 Op Risk'!$H$15","v":"S22.DP0038"}]
["CB100B2.S22.DP0039",{"$f":"'22 Op Risk'!$H$16","v":"S22.DP0039"}]
["CB100B2.S22.DP0040",{"$f":"'22 Op Risk'!$H$17","v":"S22.DP0040"}]
["CB100B2.S22.DP0041",{"$f":"'22 Op Risk'!$H$18","v":"S22.DP0041"}]
["CB100B2.S22.DP0042",{"$f":"'22 Op Risk'!$H$19","v":"S22.DP0042"}]
["CB100B2.S22.DP0043",{"$f":"'22 Op Risk'!$J$9","v":"S22.DP0043"}]
["CB100B2.S22.DP0044",{"$f":"'22 Op Risk'!$J$10","v":"S22.DP0044"}]
["CB100B2.S22.DP0045",{"$f":"'22 Op Risk'!$J$11","v":"S22.DP0045"}]
["CB100B2.S22.DP0046",{"$f":"'22 Op Risk'!$J$12","v":"S22.DP0046"}]
["CB100B2.S22.DP0047",{"$f":"'22 Op Risk'!$J$13","v":"S22.DP0047"}]
["CB100B2.S22.DP0048",{"$f":"'22 Op Risk'!$J$14","v":"S22.DP0048"}]
["CB100B2.S22.DP0049",{"$f":"'22 Op Risk'!$J$15","v":"S22.DP0049"}]
["CB100B2.S22.DP0050",{"$f":"'22 Op Risk'!$J$16","v":"S22.DP0050"}]
["CB100B2.S22.DP0051",{"$f":"'22 Op Risk'!$J$17","v":"S22.DP0051"}]
["CB100B2.S22.DP0052",{"$f":"'22 Op Risk'!$J$18","v":"S22.DP0052"}]
["CB100B2.S22.DP0053",{"$f":"'22 Op Risk'!$K$9","v":"S22.DP0053"}]
["CB100B2.S22.DP0054",{"$f":"'22 Op Risk'!$K$10","v":"S22.DP0054"}]
["CB100B2.S22.DP0055",{"$f":"'22 Op Risk'!$K$11","v":"S22.DP0055"}]
["CB100B2.S22.DP0056",{"$f":"'22 Op Risk'!$K$12","v":"S22.DP0056"}]
["CB100B2.S22.DP0057",{"$f":"'22 Op Risk'!$K$13","v":"S22.DP0057"}]
["CB100B2.S22.DP0058",{"$f":"'22 Op Risk'!$K$14","v":"S22.DP0058"}]
["CB100B2.S22.DP0059",{"$f":"'22 Op Risk'!$K$15","v":"S22.DP0059"}]
["CB100B2.S22.DP0060",{"$f":"'22 Op Risk'!$K$16","v":"S22.DP0060"}]
["CB100B2.S22.DP0061",{"$f":"'22 Op Risk'!$K$17","v":"S22.DP0061"}]
["CB100B2.S22.DP0062",{"$f":"'22 Op Risk'!$K$18","v":"S22.DP0062"}]
["CB100B2.S22.DP0063",{"$f":"'22 Op Risk'!$K$19","v":"S22.DP0063"}]
["CB100B2.S22.DP0064",{"$f":"'22 Op Risk'!$K$21","v":"S22.DP0064"}]
["CB100B2.S23.DP0001",{"$f":"'23 Obligor - Guarantor'!$B$9","v":"S23.DP0001"}]
["CB100B2.S23.DP0002",{"$f":"'23 Obligor - Guarantor'!$B$10","v":"S23.DP0002"}]
["CB100B2.S23.DP0003",{"$f":"'23 Obligor - Guarantor'!$B$11","v":"S23.DP0003"}]
["CB100B2.S23.DP0004",{"$f":"'23 Obligor - Guarantor'!$B$12","v":"S23.DP0004"}]
["CB100B2.S23.DP0005",{"$f":"'23 Obligor - Guarantor'!$B$13","v":"S23.DP0005"}]
["CB100B2.S23.DP0006",{"$f":"'23 Obligor - Guarantor'!$B$14","v":"S23.DP0006"}]
["CB100B2.S23.DP0007",{"$f":"'23 Obligor - Guarantor'!$B$15","v":"S23.DP0007"}]
["CB100B2.S23.DP0008",{"$f":"'23 Obligor - Guarantor'!$B$16","v":"S23.DP0008"}]
["CB100B2.S23.DP0009",{"$f":"'23 Obligor - Guarantor'!$B$17","v":"S23.DP0009"}]
["CB100B2.S23.DP0010",{"$f":"'23 Obligor - Guarantor'!$B$18","v":"S23.DP0010"}]
["CB100B2.S23.DP0011",{"$f":"'23 Obligor - Guarantor'!$B$19","v":"S23.DP0011"}]
["CB100B2.S23.DP0012",{"$f":"'23 Obligor - Guarantor'!$B$20","v":"S23.DP0012"}]
["CB100B2.S23.DP0013",{"$f":"'23 Obligor - Guarantor'!$B$22","v":"S23.DP0013"}]
["CB100B2.S23.DP0014",{"$f":"'23 Obligor - Guarantor'!$D$9","v":"S23.DP0014"}]
["CB100B2.S23.DP0015",{"$f":"'23 Obligor - Guarantor'!$D$10","v":"S23.DP0015"}]
["CB100B2.S23.DP0016",{"$f":"'23 Obligor - Guarantor'!$D$11","v":"S23.DP0016"}]
["CB100B2.S23.DP0017",{"$f":"'23 Obligor - Guarantor'!$D$12","v":"S23.DP0017"}]
["CB100B2.S23.DP0018",{"$f":"'23 Obligor - Guarantor'!$D$13","v":"S23.DP0018"}]
["CB100B2.S23.DP0019",{"$f":"'23 Obligor - Guarantor'!$D$14","v":"S23.DP0019"}]
["CB100B2.S23.DP0020",{"$f":"'23 Obligor - Guarantor'!$D$15","v":"S23.DP0020"}]
["CB100B2.S23.DP0021",{"$f":"'23 Obligor - Guarantor'!$D$16","v":"S23.DP0021"}]
["CB100B2.S23.DP0022",{"$f":"'23 Obligor - Guarantor'!$D$17","v":"S23.DP0022"}]
["CB100B2.S23.DP0023",{"$f":"'23 Obligor - Guarantor'!$D$18","v":"S23.DP0023"}]
["CB100B2.S23.DP0024",{"$f":"'23 Obligor - Guarantor'!$D$19","v":"S23.DP0024"}]
["CB100B2.S23.DP0025",{"$f":"'23 Obligor - Guarantor'!$D$20","v":"S23.DP0025"}]
["CB100B2.S23.DP0026",{"$f":"'23 Obligor - Guarantor'!$D$22","v":"S23.DP0026"}]
["CB100B2.S23.DP0027",{"$f":"'23 Obligor - Guarantor'!$E$9","v":"S23.DP0027"}]
["CB100B2.S23.DP0028",{"$f":"'23 Obligor - Guarantor'!$E$10","v":"S23.DP0028"}]
["CB100B2.S23.DP0029",{"$f":"'23 Obligor - Guarantor'!$E$11","v":"S23.DP0029"}]
["CB100B2.S23.DP0030",{"$f":"'23 Obligor - Guarantor'!$E$12","v":"S23.DP0030"}]
["CB100B2.S23.DP0031",{"$f":"'23 Obligor - Guarantor'!$E$13","v":"S23.DP0031"}]
["CB100B2.S23.DP0032",{"$f":"'23 Obligor - Guarantor'!$E$14","v":"S23.DP0032"}]
["CB100B2.S23.DP0033",{"$f":"'23 Obligor - Guarantor'!$E$15","v":"S23.DP0033"}]
["CB100B2.S23.DP0034",{"$f":"'23 Obligor - Guarantor'!$E$16","v":"S23.DP0034"}]
["CB100B2.S23.DP0035",{"$f":"'23 Obligor - Guarantor'!$E$17","v":"S23.DP0035"}]
["CB100B2.S23.DP0036",{"$f":"'23 Obligor - Guarantor'!$E$18","v":"S23.DP0036"}]
["CB100B2.S23.DP0037",{"$f":"'23 Obligor - Guarantor'!$E$19","v":"S23.DP0037"}]
["CB100B2.S23.DP0038",{"$f":"'23 Obligor - Guarantor'!$E$20","v":"S23.DP0038"}]
["CB100B2.S23.DP0039",{"$f":"'23 Obligor - Guarantor'!$E$22","v":"S23.DP0039"}]
["CB100B2.S23.DP0040",{"$f":"'23 Obligor - Guarantor'!$F$9","v":"S23.DP0040"}]
["CB100B2.S23.DP0041",{"$f":"'23 Obligor - Guarantor'!$F$10","v":"S23.DP0041"}]
["CB100B2.S23.DP0042",{"$f":"'23 Obligor - Guarantor'!$F$11","v":"S23.DP0042"}]
["CB100B2.S23.DP0043",{"$f":"'23 Obligor - Guarantor'!$F$12","v":"S23.DP0043"}]
["CB100B2.S23.DP0044",{"$f":"'23 Obligor - Guarantor'!$F$13","v":"S23.DP0044"}]
["CB100B2.S23.DP0045",{"$f":"'23 Obligor - Guarantor'!$F$14","v":"S23.DP0045"}]
["CB100B2.S23.DP0046",{"$f":"'23 Obligor - Guarantor'!$F$15","v":"S23.DP0046"}]
["CB100B2.S23.DP0047",{"$f":"'23 Obligor - Guarantor'!$F$16","v":"S23.DP0047"}]
["CB100B2.S23.DP0048",{"$f":"'23 Obligor - Guarantor'!$F$17","v":"S23.DP0048"}]
["CB100B2.S23.DP0049",{"$f":"'23 Obligor - Guarantor'!$F$18","v":"S23.DP0049"}]
["CB100B2.S23.DP0050",{"$f":"'23 Obligor - Guarantor'!$F$19","v":"S23.DP0050"}]
["CB100B2.S23.DP0051",{"$f":"'23 Obligor - Guarantor'!$F$20","v":"S23.DP0051"}]
["CB100B2.S23.DP0052",{"$f":"'23 Obligor - Guarantor'!$F$22","v":"S23.DP0052"}]
["CB100B2.S23.DP0053",{"$f":"'23 Obligor - Guarantor'!$G$9","v":"S23.DP0053"}]
["CB100B2.S23.DP0054",{"$f":"'23 Obligor - Guarantor'!$G$10","v":"S23.DP0054"}]
["CB100B2.S23.DP0055",{"$f":"'23 Obligor - Guarantor'!$G$11","v":"S23.DP0055"}]
["CB100B2.S23.DP0056",{"$f":"'23 Obligor - Guarantor'!$G$12","v":"S23.DP0056"}]
["CB100B2.S23.DP0057",{"$f":"'23 Obligor - Guarantor'!$G$13","v":"S23.DP0057"}]
["CB100B2.S23.DP0058",{"$f":"'23 Obligor - Guarantor'!$G$14","v":"S23.DP0058"}]
["CB100B2.S23.DP0059",{"$f":"'23 Obligor - Guarantor'!$G$15","v":"S23.DP0059"}]
["CB100B2.S23.DP0060",{"$f":"'23 Obligor - Guarantor'!$G$16","v":"S23.DP0060"}]
["CB100B2.S23.DP0061",{"$f":"'23 Obligor - Guarantor'!$G$17","v":"S23.DP0061"}]
["CB100B2.S23.DP0062",{"$f":"'23 Obligor - Guarantor'!$G$18","v":"S23.DP0062"}]
["CB100B2.S23.DP0063",{"$f":"'23 Obligor - Guarantor'!$G$19","v":"S23.DP0063"}]
["CB100B2.S23.DP0064",{"$f":"'23 Obligor - Guarantor'!$G$20","v":"S23.DP0064"}]
["CB100B2.S23.DP0065",{"$f":"'23 Obligor - Guarantor'!$G$22","v":"S23.DP0065"}]
["CB100B2.S23.DP0066",{"$f":"'23 Obligor - Guarantor'!$H$9","v":"S23.DP0066"}]
["CB100B2.S23.DP0067",{"$f":"'23 Obligor - Guarantor'!$H$10","v":"S23.DP0067"}]
["CB100B2.S23.DP0068",{"$f":"'23 Obligor - Guarantor'!$H$11","v":"S23.DP0068"}]
["CB100B2.S23.DP0069",{"$f":"'23 Obligor - Guarantor'!$H$12","v":"S23.DP0069"}]
["CB100B2.S23.DP0070",{"$f":"'23 Obligor - Guarantor'!$H$13","v":"S23.DP0070"}]
["CB100B2.S23.DP0071",{"$f":"'23 Obligor - Guarantor'!$H$14","v":"S23.DP0071"}]
["CB100B2.S23.DP0072",{"$f":"'23 Obligor - Guarantor'!$H$15","v":"S23.DP0072"}]
["CB100B2.S23.DP0073",{"$f":"'23 Obligor - Guarantor'!$H$16","v":"S23.DP0073"}]
["CB100B2.S23.DP0074",{"$f":"'23 Obligor - Guarantor'!$H$17","v":"S23.DP0074"}]
["CB100B2.S23.DP0075",{"$f":"'23 Obligor - Guarantor'!$H$18","v":"S23.DP0075"}]
["CB100B2.S23.DP0076",{"$f":"'23 Obligor - Guarantor'!$H$19","v":"S23.DP0076"}]
["CB100B2.S23.DP0077",{"$f":"'23 Obligor - Guarantor'!$H$20","v":"S23.DP0077"}]
["CB100B2.S23.DP0078",{"$f":"'23 Obligor - Guarantor'!$H$22","v":"S23.DP0078"}]
["CB100B2.S23.DP0079",{"$f":"'23 Obligor - Guarantor'!$I$9","v":"S23.DP0079"}]
["CB100B2.S23.DP0080",{"$f":"'23 Obligor - Guarantor'!$I$10","v":"S23.DP0080"}]
["CB100B2.S23.DP0081",{"$f":"'23 Obligor - Guarantor'!$I$11","v":"S23.DP0081"}]
["CB100B2.S23.DP0082",{"$f":"'23 Obligor - Guarantor'!$I$12","v":"S23.DP0082"}]
["CB100B2.S23.DP0083",{"$f":"'23 Obligor - Guarantor'!$I$13","v":"S23.DP0083"}]
["CB100B2.S23.DP0084",{"$f":"'23 Obligor - Guarantor'!$I$14","v":"S23.DP0084"}]
["CB100B2.S23.DP0085",{"$f":"'23 Obligor - Guarantor'!$I$15","v":"S23.DP0085"}]
["CB100B2.S23.DP0086",{"$f":"'23 Obligor - Guarantor'!$I$16","v":"S23.DP0086"}]
["CB100B2.S23.DP0087",{"$f":"'23 Obligor - Guarantor'!$I$17","v":"S23.DP0087"}]
["CB100B2.S23.DP0088",{"$f":"'23 Obligor - Guarantor'!$I$18","v":"S23.DP0088"}]
["CB100B2.S23.DP0089",{"$f":"'23 Obligor - Guarantor'!$I$19","v":"S23.DP0089"}]
["CB100B2.S23.DP0090",{"$f":"'23 Obligor - Guarantor'!$I$20","v":"S23.DP0090"}]
["CB100B2.S23.DP0091",{"$f":"'23 Obligor - Guarantor'!$I$22","v":"S23.DP0091"}]
["CB100B2.S23.DP0092",{"$f":"'23 Obligor - Guarantor'!$K$9","v":"S23.DP0092"}]
["CB100B2.S23.DP0093",{"$f":"'23 Obligor - Guarantor'!$K$10","v":"S23.DP0093"}]
["CB100B2.S23.DP0094",{"$f":"'23 Obligor - Guarantor'!$K$11","v":"S23.DP0094"}]
["CB100B2.S23.DP0095",{"$f":"'23 Obligor - Guarantor'!$K$12","v":"S23.DP0095"}]
["CB100B2.S23.DP0096",{"$f":"'23 Obligor - Guarantor'!$K$13","v":"S23.DP0096"}]
["CB100B2.S23.DP0097",{"$f":"'23 Obligor - Guarantor'!$K$14","v":"S23.DP0097"}]
["CB100B2.S23.DP0098",{"$f":"'23 Obligor - Guarantor'!$K$15","v":"S23.DP0098"}]
["CB100B2.S23.DP0099",{"$f":"'23 Obligor - Guarantor'!$K$16","v":"S23.DP0099"}]
["CB100B2.S23.DP0100",{"$f":"'23 Obligor - Guarantor'!$K$17","v":"S23.DP0100"}]
["CB100B2.S23.DP0101",{"$f":"'23 Obligor - Guarantor'!$K$18","v":"S23.DP0101"}]
["CB100B2.S23.DP0102",{"$f":"'23 Obligor - Guarantor'!$K$19","v":"S23.DP0102"}]
["CB100B2.S23.DP0103",{"$f":"'23 Obligor - Guarantor'!$K$20","v":"S23.DP0103"}]
["CB100B2.S23.DP0104",{"$f":"'23 Obligor - Guarantor'!$K$22","v":"S23.DP0104"}]
["CB100B2.S24.DP0001",{"$f":"'24 Reconciliation'!$E$9","v":"S24.DP0001"}]
["CB100B2.S24.DP0002",{"$f":"'24 Reconciliation'!$E$10","v":"S24.DP0002"}]
["CB100B2.S24.DP0003",{"$f":"'24 Reconciliation'!$E$11","v":"S24.DP0003"}]
["CB100B2.S24.DP0004",{"$f":"'24 Reconciliation'!$E$12","v":"S24.DP0004"}]
["CB100B2.S24.DP0005",{"$f":"'24 Reconciliation'!$E$13","v":"S24.DP0005"}]
["CB100B2.S24.DP0006",{"$f":"'24 Reconciliation'!$E$14","v":"S24.DP0006"}]
["CB100B2.S24.DP0007",{"$f":"'24 Reconciliation'!$E$15","v":"S24.DP0007"}]
["CB100B2.S24.DP0008",{"$f":"'24 Reconciliation'!$E$16","v":"S24.DP0008"}]
["CB100B2.S24.DP0009",{"$f":"'24 Reconciliation'!$E$17","v":"S24.DP0009"}]
["CB100B2.S24.DP0010",{"$f":"'24 Reconciliation'!$E$18","v":"S24.DP0010"}]
["CB100B2.S24.DP0011",{"$f":"'24 Reconciliation'!$E$19","v":"S24.DP0011"}]
["CB100B2.S24.DP0012",{"$f":"'24 Reconciliation'!$E$20","v":"S24.DP0012"}]
["CB100B2.S24.DP0013",{"$f":"'24 Reconciliation'!$E$21","v":"S24.DP0013"}]
["CB100B2.S24.DP0014",{"$f":"'24 Reconciliation'!$E$22","v":"S24.DP0014"}]
["CB100B2.S24.DP0015",{"$f":"'24 Reconciliation'!$E$23","v":"S24.DP0015"}]
["CB100B2.S24.DP0016",{"$f":"'24 Reconciliation'!$E$24","v":"S24.DP0016"}]
["CB100B2.S24.DP0017",{"$f":"'24 Reconciliation'!$E$25","v":"S24.DP0017"}]
["CB100B2.S24.DP0018",{"$f":"'24 Reconciliation'!$F$9","v":"S24.DP0018"}]
["CB100B2.S24.DP0019",{"$f":"'24 Reconciliation'!$F$10","v":"S24.DP0019"}]
["CB100B2.S24.DP0020",{"$f":"'24 Reconciliation'!$F$11","v":"S24.DP0020"}]
["CB100B2.S24.DP0021",{"$f":"'24 Reconciliation'!$F$12","v":"S24.DP0021"}]
["CB100B2.S24.DP0022",{"$f":"'24 Reconciliation'!$F$13","v":"S24.DP0022"}]
["CB100B2.S24.DP0023",{"$f":"'24 Reconciliation'!$F$14","v":"S24.DP0023"}]
["CB100B2.S24.DP0024",{"$f":"'24 Reconciliation'!$F$15","v":"S24.DP0024"}]
["CB100B2.S24.DP0025",{"$f":"'24 Reconciliation'!$F$19","v":"S24.DP0025"}]
["CB100B2.S24.DP0026",{"$f":"'24 Reconciliation'!$F$23","v":"S24.DP0026"}]
["CB100B2.S24.DP0027",{"$f":"'24 Reconciliation'!$F$24","v":"S24.DP0027"}]
["CB100B2.S24.DP0028",{"$f":"'24 Reconciliation'!$F$25","v":"S24.DP0028"}]
["CB100B2.S24.DP0029",{"$f":"'24 Reconciliation'!$G$9","v":"S24.DP0029"}]
["CB100B2.S24.DP0030",{"$f":"'24 Reconciliation'!$G$10","v":"S24.DP0030"}]
["CB100B2.S24.DP0031",{"$f":"'24 Reconciliation'!$G$11","v":"S24.DP0031"}]
["CB100B2.S24.DP0032",{"$f":"'24 Reconciliation'!$G$12","v":"S24.DP0032"}]
["CB100B2.S24.DP0033",{"$f":"'24 Reconciliation'!$G$13","v":"S24.DP0033"}]
["CB100B2.S24.DP0034",{"$f":"'24 Reconciliation'!$G$14","v":"S24.DP0034"}]
["CB100B2.S24.DP0035",{"$f":"'24 Reconciliation'!$G$15","v":"S24.DP0035"}]
["CB100B2.S24.DP0036",{"$f":"'24 Reconciliation'!$G$16","v":"S24.DP0036"}]
["CB100B2.S24.DP0037",{"$f":"'24 Reconciliation'!$G$17","v":"S24.DP0037"}]
["CB100B2.S24.DP0038",{"$f":"'24 Reconciliation'!$G$18","v":"S24.DP0038"}]
["CB100B2.S24.DP0039",{"$f":"'24 Reconciliation'!$G$19","v":"S24.DP0039"}]
["CB100B2.S24.DP0040",{"$f":"'24 Reconciliation'!$G$20","v":"S24.DP0040"}]
["CB100B2.S24.DP0041",{"$f":"'24 Reconciliation'!$G$21","v":"S24.DP0041"}]
["CB100B2.S24.DP0042",{"$f":"'24 Reconciliation'!$G$22","v":"S24.DP0042"}]
["CB100B2.S24.DP0043",{"$f":"'24 Reconciliation'!$G$23","v":"S24.DP0043"}]
["CB100B2.S24.DP0044",{"$f":"'24 Reconciliation'!$G$24","v":"S24.DP0044"}]
["CB100B2.S24.DP0045",{"$f":"'24 Reconciliation'!$G$25","v":"S24.DP0045"}]
["CB100B2.S24.DP0046",{"$f":"'24 Reconciliation'!$H$9","v":"S24.DP0046"}]
["CB100B2.S24.DP0047",{"$f":"'24 Reconciliation'!$H$10","v":"S24.DP0047"}]
["CB100B2.S24.DP0048",{"$f":"'24 Reconciliation'!$H$11","v":"S24.DP0048"}]
["CB100B2.S24.DP0049",{"$f":"'24 Reconciliation'!$H$12","v":"S24.DP0049"}]
["CB100B2.S24.DP0050",{"$f":"'24 Reconciliation'!$H$13","v":"S24.DP0050"}]
["CB100B2.S24.DP0051",{"$f":"'24 Reconciliation'!$H$14","v":"S24.DP0051"}]
["CB100B2.S24.DP0052",{"$f":"'24 Reconciliation'!$H$15","v":"S24.DP0052"}]
["CB100B2.S24.DP0053",{"$f":"'24 Reconciliation'!$H$16","v":"S24.DP0053"}]
["CB100B2.S24.DP0054",{"$f":"'24 Reconciliation'!$H$17","v":"S24.DP0054"}]
["CB100B2.S24.DP0055",{"$f":"'24 Reconciliation'!$H$18","v":"S24.DP0055"}]
["CB100B2.S24.DP0056",{"$f":"'24 Reconciliation'!$H$19","v":"S24.DP0056"}]
["CB100B2.S24.DP0057",{"$f":"'24 Reconciliation'!$H$20","v":"S24.DP0057"}]
["CB100B2.S24.DP0058",{"$f":"'24 Reconciliation'!$H$21","v":"S24.DP0058"}]
["CB100B2.S24.DP0059",{"$f":"'24 Reconciliation'!$H$22","v":"S24.DP0059"}]
["CB100B2.S24.DP0060",{"$f":"'24 Reconciliation'!$H$23","v":"S24.DP0060"}]
["CB100B2.S24.DP0061",{"$f":"'24 Reconciliation'!$H$25","v":"S24.DP0061"}]
["CB100B2.S24.DP0062",{"$f":"'24 Reconciliation'!$I$9","v":"S24.DP0062"}]
["CB100B2.S24.DP0063",{"$f":"'24 Reconciliation'!$I$10","v":"S24.DP0063"}]
["CB100B2.S24.DP0064",{"$f":"'24 Reconciliation'!$I$11","v":"S24.DP0064"}]
["CB100B2.S24.DP0065",{"$f":"'24 Reconciliation'!$I$12","v":"S24.DP0065"}]
["CB100B2.S24.DP0066",{"$f":"'24 Reconciliation'!$I$13","v":"S24.DP0066"}]
["CB100B2.S24.DP0067",{"$f":"'24 Reconciliation'!$I$14","v":"S24.DP0067"}]
["CB100B2.S24.DP0068",{"$f":"'24 Reconciliation'!$I$15","v":"S24.DP0068"}]
["CB100B2.S24.DP0069",{"$f":"'24 Reconciliation'!$I$16","v":"S24.DP0069"}]
["CB100B2.S24.DP0070",{"$f":"'24 Reconciliation'!$I$17","v":"S24.DP0070"}]
["CB100B2.S24.DP0071",{"$f":"'24 Reconciliation'!$I$18","v":"S24.DP0071"}]
["CB100B2.S24.DP0072",{"$f":"'24 Reconciliation'!$I$19","v":"S24.DP0072"}]
["CB100B2.S24.DP0073",{"$f":"'24 Reconciliation'!$I$20","v":"S24.DP0073"}]
["CB100B2.S24.DP0074",{"$f":"'24 Reconciliation'!$I$21","v":"S24.DP0074"}]
["CB100B2.S24.DP0075",{"$f":"'24 Reconciliation'!$I$22","v":"S24.DP0075"}]
["CB100B2.S24.DP0076",{"$f":"'24 Reconciliation'!$I$23","v":"S24.DP0076"}]
["CB100B2.S24.DP0077",{"$f":"'24 Reconciliation'!$I$24","v":"S24.DP0077"}]
["CB100B2.S24.DP0078",{"$f":"'24 Reconciliation'!$I$25","v":"S24.DP0078"}]
["CB100B2.S24.DP0079",{"$f":"'24 Reconciliation'!$E$28","v":"S24.DP0079"}]
["CB100B2.S24.DP0080",{"$f":"'24 Reconciliation'!$E$29","v":"S24.DP0080"}]
["CB100B2.S24.DP0081",{"$f":"'24 Reconciliation'!$E$30","v":"S24.DP0081"}]
["CB100B2.S24.DP0082",{"$f":"'24 Reconciliation'!$E$31","v":"S24.DP0082"}]
["CB100B2.S24.DP0083",{"$f":"'24 Reconciliation'!$E$32","v":"S24.DP0083"}]
["CB100B2.S24.DP0084",{"$f":"'24 Reconciliation'!$F$29","v":"S24.DP0084"}]
["CB100B2.S24.DP0085",{"$f":"'24 Reconciliation'!$F$30","v":"S24.DP0085"}]
["CB100B2.S24.DP0086",{"$f":"'24 Reconciliation'!$F$32","v":"S24.DP0086"}]
["CB100B2.S24.DP0087",{"$f":"'24 Reconciliation'!$G$28","v":"S24.DP0087"}]
["CB100B2.S24.DP0088",{"$f":"'24 Reconciliation'!$G$29","v":"S24.DP0088"}]
["CB100B2.S24.DP0089",{"$f":"'24 Reconciliation'!$G$30","v":"S24.DP0089"}]
["CB100B2.S24.DP0090",{"$f":"'24 Reconciliation'!$G$31","v":"S24.DP0090"}]
["CB100B2.S24.DP0091",{"$f":"'24 Reconciliation'!$G$32","v":"S24.DP0091"}]
["CB100B2.S24.DP0092",{"$f":"'24 Reconciliation'!$I$28","v":"S24.DP0092"}]
["CB100B2.S24.DP0093",{"$f":"'24 Reconciliation'!$I$29","v":"S24.DP0093"}]
["CB100B2.S24.DP0094",{"$f":"'24 Reconciliation'!$I$30","v":"S24.DP0094"}]
["CB100B2.S24.DP0095",{"$f":"'24 Reconciliation'!$I$31","v":"S24.DP0095"}]
["CB100B2.S24.DP0096",{"$f":"'24 Reconciliation'!$I$32","v":"S24.DP0096"}]
["CB100B2.S24.DP0097",{"$f":"'24 Reconciliation'!$F$35","v":"S24.DP0097"}]
["CB100B2.S24.DP0098",{"$f":"'24 Reconciliation'!$G$35","v":"S24.DP0098"}]
["CB100B2.S24.DP0099",{"$f":"'24 Reconciliation'!$I$35","v":"S24.DP0099"}]
["CB100B2.S24.DP0100",{"$f":"'24 Reconciliation'!$E$37","v":"S24.DP0100"}]
["CB100B2.S24.DP0101",{"$f":"'24 Reconciliation'!$F$37","v":"S24.DP0101"}]
["CB100B2.S24.DP0102",{"$f":"'24 Reconciliation'!$G$37","v":"S24.DP0102"}]
["CB100B2.S24.DP0103",{"$f":"'24 Reconciliation'!$I$37","v":"S24.DP0103"}]
["CB100B2.S24.DP0104",{"$f":"'24 Reconciliation'!$I$40","v":"S24.DP0104"}]
["CB100B2.S24.DP0105",{"$f":"'24 Reconciliation'!$I$41","v":"S24.DP0105"}]
["CB100B2.S24.DP0106",{"$f":"'24 Reconciliation'!$I$43","v":"S24.DP0106"}]
["CB100B2.S24.DP0107",{"$f":"'24 Reconciliation'!$I$44","v":"S24.DP0107"}]
["CB100B2.S24.DP0108",{"$f":"'24 Reconciliation'!$H$48","v":"S24.DP0108"}]
["CB100B2.S24.DP0109",{"$f":"'24 Reconciliation'!$H$49","v":"S24.DP0109"}]
["CB100B2.S24.DP0110",{"$f":"'24 Reconciliation'!$H$50","v":"S24.DP0110"}]
["CB100B2.S24.DP0111",{"$f":"'24 Reconciliation'!$I$51","v":"S24.DP0111"}]
["CB100B2.S24.DP0112",{"$f":"'24 Reconciliation'!$I$52","v":"S24.DP0112"}]
["CB100B2.S24.DP0113",{"$f":"'24 Reconciliation'!$I$55","v":"S24.DP0113"}]
["CB100B2.S24.DP0114",{"$f":"'24 Reconciliation'!$I$56","v":"S24.DP0114"}]
["CB100B2.S24.DP0115",{"$f":"'24 Reconciliation'!$I$59","v":"S24.DP0115"}]
["CB100B2.S24.DP0116",{"$f":"'24 Reconciliation'!$I$60","v":"S24.DP0116"}]
["CB100B2.S24.DP0117",{"$f":"'24 Reconciliation'!$I$62","v":"S24.DP0117"}]

{"sheet":"Lists","index":35,"n_rows":241,"n_cols":3,"rows_kept":241,"cut":false,"hidden":true,"merged":[]}
["Select Institution","FAME Code","Select Return Date"]
["Bank of Baroda ","BBDA","2017-01-31"]
["Citibank ","CITI","2017-02-28"]
["First Citizens Bank ","FCB","2017-03-31"]
["FirstCaribbean International Bank","FCIB","2017-04-30"]
["JMMB Bank","ICBL","2017-05-31"]
["RBC Royal Bank ","RBTT","2017-06-30"]
["Republic Bank ","RBL","2017-07-31"]
["Scotiabank","BNS","2017-08-31"]
["NCB Global Finance  ","NCBGF","2017-09-30"]
["ANSA Merchant Bank  ","AMAL","2017-10-31"]
["Caribbean Finance Company ","CFC","2017-11-30"]
["Citicorp Merchant Bank ","CMBL","2017-12-31"]
["Development Finance  ","DFL","2018-01-31"]
["Fidelity Finance & Leasing Co.  ","FFL","2018-02-28"]
["First Citizens Asset Management  ","FCMT","2018-03-31"]
["First Citizens Trustee Services   ","FCTS","2018-04-30"]
["Massy Finance GFC  ","GFC","2018-05-31"]
["Guardian Group Trust","GAM","2018-06-30"]
["Intercommercial Trust and Merchant Bank ","ITBM","2018-07-31"]
["Island Finance Trinidad & Tobago ","ISFL","2018-08-31"]
["RBC Investment Management (Caribbean) ","RBAM","2018-09-30"]
["RBC Merchant Bank (Caribbean)  ","RMBF","2018-10-31"]
["RBC Trust ","RBT","2018-11-30"]
["Republic Finance & Merchant Bank  ","RFMB","2018-12-31"]
["Scotia Investments Trinidad and Tobago  ","SITT","2019-01-31"]
["Scotiatrust and Merchant Bank ","BNST","2019-02-28"]
[null,null,"2019-03-31"]
[null,null,"2019-04-30"]
[null,null,"2019-05-31"]
[null,null,"2019-06-30"]
[null,null,"2019-07-31"]
[null,null,"2019-08-31"]
[null,null,"2019-09-30"]
[null,null,"2019-10-31"]
[null,null,"2019-11-30"]
[null,null,"2019-12-31"]
[null,null,"2020-01-31"]
[null,null,"2020-02-29"]
[null,null,"2020-03-31"]
[null,null,"2020-04-30"]
[null,null,"2020-05-31"]
[null,null,"2020-06-30"]
[null,null,"2020-07-31"]
[null,null,"2020-08-31"]
[null,null,"2020-09-30"]
[null,null,"2020-10-31"]
[null,null,"2020-11-30"]
[null,null,"2020-12-31"]
[null,null,"2021-01-31"]
[null,null,"2021-02-28"]
[null,null,"2021-03-31"]
[null,null,"2021-04-30"]
[null,null,"2021-05-31"]
[null,null,"2021-06-30"]
[null,null,"2021-07-31"]
[null,null,"2021-08-31"]
[null,null,"2021-09-30"]
[null,null,"2021-10-31"]
[null,null,"2021-11-30"]
[null,null,"2021-12-31"]
[null,null,"2022-01-31"]
[null,null,"2022-02-28"]
[null,null,"2022-03-31"]
[null,null,"2022-04-30"]
[null,null,"2022-05-31"]
[null,null,"2022-06-30"]
[null,null,"2022-07-31"]
[null,null,"2022-08-31"]
[null,null,"2022-09-30"]
[null,null,"2022-10-31"]
[null,null,"2022-11-30"]
[null,null,"2022-12-31"]
[null,null,"2023-01-31"]
[null,null,"2023-02-28"]
[null,null,"2023-03-31"]
[null,null,"2023-04-30"]
[null,null,"2023-05-31"]
[null,null,"2023-06-30"]
[null,null,"2023-07-31"]
[null,null,"2023-08-31"]
[null,null,"2023-09-30"]
[null,null,"2023-10-31"]
[null,null,"2023-11-30"]
[null,null,"2023-12-31"]
[null,null,"2024-01-31"]
[null,null,"2024-02-29"]
[null,null,"2024-03-31"]
[null,null,"2024-04-30"]
[null,null,"2024-05-31"]
[null,null,"2024-06-30"]
[null,null,"2024-07-31"]
[null,null,"2024-08-31"]
[null,null,"2024-09-30"]
[null,null,"2024-10-31"]
[null,null,"2024-11-30"]
[null,null,"2024-12-31"]
[null,null,"2025-01-31"]
[null,null,"2025-02-28"]
[null,null,"2025-03-31"]
[null,null,"2025-04-30"]
[null,null,"2025-05-31"]
[null,null,"2025-06-30"]
[null,null,"2025-07-31"]
[null,null,"2025-08-31"]
[null,null,"2025-09-30"]
[null,null,"2025-10-31"]
[null,null,"2025-11-30"]
[null,null,"2025-12-31"]
[null,null,"2026-01-31"]
[null,null,"2026-02-28"]
[null,null,"2026-03-31"]
[null,null,"2026-04-30"]
[null,null,"2026-05-31"]
[null,null,"2026-06-30"]
[null,null,"2026-07-31"]
[null,null,"2026-08-31"]
[null,null,"2026-09-30"]
[null,null,"2026-10-31"]
[null,null,"2026-11-30"]
[null,null,"2026-12-31"]
[null,null,"2027-01-31"]
[null,null,"2027-02-28"]
[null,null,"2027-03-31"]
[null,null,"2027-04-30"]
[null,null,"2027-05-31"]
[null,null,"2027-06-30"]
[null,null,"2027-07-31"]
[null,null,"2027-08-31"]
[null,null,"2027-09-30"]
[null,null,"2027-10-31"]
[null,null,"2027-11-30"]
[null,null,"2027-12-31"]
[null,null,"2028-01-31"]
[null,null,"2028-02-29"]
[null,null,"2028-03-31"]
[null,null,"2028-04-30"]
[null,null,"2028-05-31"]
[null,null,"2028-06-30"]
[null,null,"2028-07-31"]
[null,null,"2028-08-31"]
[null,null,"2028-09-30"]
[null,null,"2028-10-31"]
[null,null,"2028-11-30"]
[null,null,"2028-12-31"]
[null,null,"2029-01-31"]
[null,null,"2029-02-28"]
[null,null,"2029-03-31"]
[null,null,"2029-04-30"]
[null,null,"2029-05-31"]
[null,null,"2029-06-30"]
[null,null,"2029-07-31"]
[null,null,"2029-08-31"]
[null,null,"2029-09-30"]
[null,null,"2029-10-31"]
[null,null,"2029-11-30"]
[null,null,"2029-12-31"]
[null,null,"2030-01-31"]
[null,null,"2030-02-28"]
[null,null,"2030-03-31"]
[null,null,"2030-04-30"]
[null,null,"2030-05-31"]
[null,null,"2030-06-30"]
[null,null,"2030-07-31"]
[null,null,"2030-08-31"]
[null,null,"2030-09-30"]
[null,null,"2030-10-31"]
[null,null,"2030-11-30"]
[null,null,"2030-12-31"]
[null,null,"2031-01-31"]
[null,null,"2031-02-28"]
[null,null,"2031-03-31"]
[null,null,"2031-04-30"]
[null,null,"2031-05-31"]
[null,null,"2031-06-30"]
[null,null,"2031-07-31"]
[null,null,"2031-08-31"]
[null,null,"2031-09-30"]
[null,null,"2031-10-31"]
[null,null,"2031-11-30"]
[null,null,"2031-12-31"]
[null,null,"2032-01-31"]
[null,null,"2032-02-29"]
[null,null,"2032-03-31"]
[null,null,"2032-04-30"]
[null,null,"2032-05-31"]
[null,null,"2032-06-30"]
[null,null,"2032-07-31"]
[null,null,"2032-08-31"]
[null,null,"2032-09-30"]
[null,null,"2032-10-31"]
[null,null,"2032-11-30"]
[null,null,"2032-12-31"]
[null,null,"2033-01-31"]
[null,null,"2033-02-28"]
[null,null,"2033-03-31"]
[null,null,"2033-04-30"]
[null,null,"2033-05-31"]
[null,null,"2033-06-30"]
[null,null,"2033-07-31"]
[null,null,"2033-08-31"]
[null,null,"2033-09-30"]
[null,null,"2033-10-31"]
[null,null,"2033-11-30"]
[null,null,"2033-12-31"]
[null,null,"2034-01-31"]
[null,null,"2034-02-28"]
[null,null,"2034-03-31"]
[null,null,"2034-04-30"]
[null,null,"2034-05-31"]
[null,null,"2034-06-30"]
[null,null,"2034-07-31"]
[null,null,"2034-08-31"]
[null,null,"2034-09-30"]
[null,null,"2034-10-31"]
[null,null,"2034-11-30"]
[null,null,"2034-12-31"]
[null,null,"2035-01-31"]
[null,null,"2035-02-28"]
[null,null,"2035-03-31"]
[null,null,"2035-04-30"]
[null,null,"2035-05-31"]
[null,null,"2035-06-30"]
[null,null,"2035-07-31"]
[null,null,"2035-08-31"]
[null,null,"2035-09-30"]
[null,null,"2035-10-31"]
[null,null,"2035-11-30"]
[null,null,"2035-12-31"]
[null,null,"2036-01-31"]
[null,null,"2036-02-29"]
[null,null,"2036-03-31"]
[null,null,"2036-04-30"]
[null,null,"2036-05-31"]
[null,null,"2036-06-30"]
[null,null,"2036-07-31"]
[null,null,"2036-08-31"]
[null,null,"2036-09-30"]
[null,null,"2036-10-31"]
[null,null,"2036-11-30"]
[null,null,"2036-12-31"]