Workbook
Name ACCOUNTS_REVEIVABLE_FINANCING_1402: [1]PG_18!#REF!
Name ACCOUNTS_REVEIVABLE_FINANCING_1402: [1]PG_18!#REF!
Name BLOCK_DISCOUNTING_140203: [1]PG_18!#REF!
Name BLOCK_DISCOUNTING_140203: [1]PG_18!#REF!
Name BRIDGING_FINANCE_140301: [1]PG_18!#REF!
Name BRIDGING_FINANCE_140301: [1]PG_18!#REF!
Name CENTRAL_GOVERNMENT_14010101: [1]PG_18!#REF!
Name CENTRAL_GOVERNMENT_14010101: [1]PG_18!#REF!
Name CENTRAL_GOVERNMENT_14010201: [1]PG_18!#REF!
Name CENTRAL_GOVERNMENT_14010201: [1]PG_18!#REF!
Name CENTRAL_GOVERNMENT_14010301: [1]PG_18!#REF!
Name CENTRAL_GOVERNMENT_14010401: [1]PG_18!#REF!
Name CENTRAL_GOVERNMENT_14010501: [1]PG_18!#REF!
Name CENTRAL_GOVERNMENT_14020101: [1]PG_18!#REF!
Name CENTRAL_GOVERNMENT_14020201: [1]PG_18!#REF!
Name CENTRAL_GOVERNMENT_14020301: [1]PG_18!#REF!
Name CENTRAL_GOVERNMENT_14030101: [1]PG_18!#REF!
Name COMMERCIAL_BANKS_14010105: [1]PG_18!#REF!
Name COMMERCIAL_BANKS_14010205: [1]PG_18!#REF!
Name COMMERCIAL_BANKS_14010305: [1]PG_18!#REF!
Name COMMERCIAL_BANKS_14010405: [1]PG_18!#REF!
Name COMMERCIAL_BANKS_14010505: [1]PG_18!#REF!
Name COMMERCIAL_BANKS_14020105: [1]PG_18!#REF!
Name COMMERCIAL_BANKS_14020205: [1]PG_18!#REF!
Name COMMERCIAL_BANKS_14020305: [1]PG_18!#REF!
Name COMMERCIAL_BANKS_14030105: [1]PG_18!#REF!
Name CONSUMERS_14010110: [1]PG_18!#REF!
Name CONSUMERS_14010210: [1]PG_18!#REF!
Name CONSUMERS_14010310: [1]PG_18!#REF!
Name CONSUMERS_14010410: [1]PG_18!#REF!
Name CONSUMERS_14010510: [1]PG_18!#REF!
Name CONSUMERS_14020110: [1]PG_18!#REF!
Name CONSUMERS_14020210: [1]PG_18!#REF!
Name CONSUMERS_14020310: [1]PG_18!#REF!
Name DEMAND_140102: [1]PG_18!#REF!
Name DISCOUNTS_140105: [1]PG_18!#REF!
Name dot: "."
Name FACTORING_140201: [1]PG_18!#REF!
Name INCORPORATED_BUSINESS_14010108: [1]PG_18!#REF!
Name INCORPORATED_BUSINESS_14010208: [1]PG_18!#REF!
Name INCORPORATED_BUSINESS_14010308: [1]PG_18!#REF!
Name INCORPORATED_BUSINESS_14010408: [1]PG_18!#REF!
Name INCORPORATED_BUSINESS_14010508: [1]PG_18!#REF!
Name INCORPORATED_BUSINESS_14020108: [1]PG_18!#REF!
Name INCORPORATED_BUSINESS_14020208: [1]PG_18!#REF!
Name INCORPORATED_BUSINESS_14020308: [1]PG_18!#REF!
Name INSTALMENT_140104: [1]PG_18!#REF!
Name institution: #REF!
Name institution: #REF!
Name Institutions: [2]Codes!$C$1:$C$13
Name LOANS_14: [1]PG_18!#REF!
Name LOANS_ADVANCES___DISCOUNTS_1401: [1]PG_18!#REF!
Name LOCAL_GOVERNMENT_14010102: [1]PG_18!#REF!
Name LOCAL_GOVERNMENT_14010202: [1]PG_18!#REF!
Name LOCAL_GOVERNMENT_14010302: [1]PG_18!#REF!
Name LOCAL_GOVERNMENT_14010402: [1]PG_18!#REF!
Name LOCAL_GOVERNMENT_14010502: [1]PG_18!#REF!
Name LOCAL_GOVERNMENT_14020102: [1]PG_18!#REF!
Name LOCAL_GOVERNMENT_14020202: [1]PG_18!#REF!
Name LOCAL_GOVERNMENT_14020302: [1]PG_18!#REF!

Sheet COVER PAGE
B2: CENTRAL BANK OF TRINIDAD AND TOBAGO
B3: CB 01/2 - V1.0
B4: COMMERCIAL BANKS' FOREIGN CURRENCY TRANSACTIONS -
D5: PRIVATE TRANSFERS
B6: INFLOW ANALYSIS - SALES OF FOREIGN CURRENCY (CASH AND NON-CASH)
B7: FOR
B8: Select Institution
B9: For the Month Ended:
B10: Month | D10: June
C11: Year | D11: 2024
B12: Date Submitted:
C13: 45592
D14: Type - mm/dd/yyyy
B15: File Date Check
B16: =TEXT(DATE(LEFT(MID(LEFT(TEXT(MID(CELL("filename",'COVER PAGE'!A1),FIND("[",CELL("filename",'COVER PAGE'!A1))+1,FIND("]",CELL("filename",'COVER PAGE'!A1))-FIND("[",CELL("filename",'COVER PAGE'!A1))-1),LEN(MID(CELL("filename",'COVER PAGE'!A1),FIND("[",CELL("filename",'COVER PAGE'!A1))+1,FIND("]",CELL("filename",'COVER PAGE'!A1))-FIND("[",CELL("filename",'COVER PAGE'!A1))-1))),FIND(".xlsx",TEXT(MID(CELL("filename",'COVER PAGE'!A1),FIND("[",CELL("filename",'COVER PAGE'!A1))+1,FIND("]",CELL("filename",'COVER PAGE'!A1))-FIND("[",CELL("filename",'COVER PAGE'!A1))-1),LEN(MID(CELL("filename",'COVER PAGE'!A1),FIND("[",CELL("filename",'COVER PAGE'!A1))+1,FIND("]",CELL("filename",'COVER PAGE'!A1))-FIND("[",CELL("filename",'COVER PAGE'!A1))-1))))-1),FIND("~",SUBSTITUTE(TEXT(MID(CELL("filename",'COVER PAGE'!A1),FIND("[",CELL("filename",'COVER PAGE'!A1))+1,FIND("]",CELL("filename",'COVER PAGE'!A1))-FIND("[",CELL("filename",'COVER PAGE'!A1))-1),LEN(MID(CELL("filename",'COVER PAGE'!A1),FIND("[",CELL("filename",'COVER PAGE'!A1))+1,FIND("]",CELL("filename",'COVER PAGE'!A1))-FIND("[",CELL("filename",'COVER PAGE'!A1))-1))),"_","~",3))+1,LEN(TEXT(MID(CELL("filename",'COVER PAGE'!A1),FIND("[",CELL("filename",'COVER PAGE'!A1))+1,FIND("]",CELL("filename",'COVER PAGE'!A1))-FIND("[",CELL("filename",'COVER PAGE'!A1))-1),LEN(MID(CELL("filename",'COVER PAGE'!A1),FIND("[",CELL("filename",'COVER PAGE'!A1))+1,FIND("]",CELL("filename",'COVER PAGE'!A1))-FIND("[",CELL("filename",'COVER PAGE'!A1))-1))))),4),MID(MID(LEFT(TEXT(MID(CELL("filename",'COVER PAGE'!A1),FIND("[",CELL("filename",'COVER PAGE'!A1))+1,FIND("]",CELL("filename",'COVER PAGE'!A1))-FIND("[",CELL("filename",'COVER PAGE'!A1))-1),LEN(MID(CELL("filename",'COVER PAGE'!A1),FIND("[",CELL("filename",'COVER PAGE'!A1))+1,FIND("]",CELL("filename",'COVER PAGE'!A1))-FIND("[",CELL("filename",'COVER PAGE'!A1))-1))),FIND(".xlsx",TEXT(MID(CELL("filename",'COVER PAGE'!A1),FIND("[",CELL("filename",'COVER PAGE'!A1))+1,FIND("]",CELL("filename",'COVER PAGE'!A1))-FIND("[",CELL("filename",'COVER PAGE'!A1))-1),LEN(MID(CELL("filename",'COVER PAGE'!A1),FIND("[",CELL("filename",'COVER PAGE'!A1))+1,FIND("]",CELL("filename",'COVER PAGE'!A1))-FIND("[",CELL("filename",'COVER PAGE'!A1))-1))))-1),FIND("~",SUBSTITUTE(TEXT(MID(CELL("filename",'COVER PAGE'!A1),FIND("[",CELL("filename",'COVER PAGE'!A1))+1,FIND("]",CELL("filename",'COVER PAGE'!A1))-FIND("[",CELL("filename",'COVER PAGE'!A1))-1),LEN(MID(CELL("filename",'COVER PAGE'!A1),FIND("[",CELL("filename",'COVER PAGE'!A1))+1,FIND("]",CELL("filename",'COVER PAGE'!A1))-FIND("[",CELL("filename",'COVER PAGE'!A1))-1))),"_","~",3))+1,LEN(TEXT(MID(CELL("filename",'COVER PAGE'!A1),FIND("[",CELL("filename",'COVER PAGE'!A1))+1,FIND("]",CELL("filename",'COVER PAGE'!A1))-FIND("[",CELL("filename",'COVER PAGE'!A1))-1),LEN(MID(CELL("filename",'COVER PAGE'!A1),FIND("[",CELL("filename",'COVER PAGE'!A1))+1,FIND("]",CELL("filename",'COVER PAGE'!A1))-FIND("[",CELL("filename",'COVER PAGE'!A1))-1))))),5+1,LEN(MID(LEFT(TEXT(MID(CELL("filename",'COVER PAGE'!A1),FIND("[",CELL("filename",'COVER PAGE'!A1))+1,FIND("]",CELL("filename",'COVER PAGE'!A1))-FIND("[",CELL("filename",'COVER PAGE'!A1))-1),LEN(MID(CELL("filename",'COVER PAGE'!A1),FIND("[",CELL("filename",'COVER PAGE'!A1))+1,FIND("]",CELL("filename",'COVER PAGE'!A1))-FIND("[",CELL("filename",'COVER PAGE'!A1))-1))),FIND(".xlsx",TEXT(MID(CELL("filename",'COVER PAGE'!A1),FIND("[",CELL("filename",'COVER PAGE'!A1))+1,FIND("]",CELL("filename",'COVER PAGE'!A1))-FIND("[",CELL("filename",'COVER PAGE'!A1))-1),LEN(MID(CELL("filename",'COVER PAGE'!A1),FIND("[",CELL("filename",'COVER PAGE'!A1))+1,FIND("]",CELL("filename",'COVER PAGE'!A1))-FIND("[",CELL("filename",'COVER PAGE'!A1))-1))))-1),FIND("~",SUBSTITUTE(TEXT(MID(CELL("filename",'COVER PAGE'!A1),FIND("[",CELL("filename",'COVER PAGE'!A1))+1,FIND("]",CELL("filename",'COVER PAGE'!A1))-FIND("[",CELL("filename",'COVER PAGE'!A1))-1),LEN(MID(CELL("filename",'COVER PAGE'!A1),FIND("[",CELL("filename",'COVER PAGE'!A1))+1,FIND("]",CELL("filename",'COVER PAGE'!A1))-FIND("[",CELL("filename",'COVER PAGE'!A1))-1))),"_","~",3))+1,LEN(TEXT(MID(CELL("filename",'COVER PAGE'!A1),FIND("[",CELL("filename",'COVER PAGE'!A1))+1,FIND("]",CELL("filename",'COVER PAGE'!A1))-FIND("[",CELL("filename",'COVER PAGE'!A1))-1),LEN(MID(CELL("filename",'COVER PAGE'!A1),FIND("[",CELL("filename",'COVER PAGE'!A1))+1,FIND("]",CELL("filename",'COVER PAGE'!A1))-FIND("[",CELL("filename",'COVER PAGE'!A1))-1))))))),"1"),"yyyy-MM-dd") =(TEXT(TEXT(DATE('COVER PAGE'!D11,MONTH(DATEVALUE('COVER PAGE'!D10 & 1)),"1"),"MMM-YYYY"),"yyyy-MM-dd")) -> #VALUE!

Sheet General Instructions
K4: CONFIDENTIAL
K5: CB 01/2 - V1.0
A7: Commercial Banks’ Foreign Currency Transactions – Private Transfers
B8: (Please read instructions carefully)
A10: Required under authority of the Statistics Act, Chapter 19:02 and Section 3 (3), (b), (e) of the Central Bank Act, Chapter 79:02
C12: Name of Institution: | E12: ='COVER PAGE'!B8 -> Select Institution
C13: Department:
C14: Contact Person:
C15: Email:
C16: Telephone:
C17: Fax:
C18: Reporting Period: | E18: =CONCATENATE('COVER PAGE'!D10," ",'COVER PAGE'!D11) -> June 2024
C19: Date Submitted: | E19: ='COVER PAGE'!C13 -> 45592
C20: Company Stamp:
B23: Instructions:
B24: This reporting form is intended to obtain information related to all foreign currency transactions between residents and non-residents of Trinidad and Tobago. A resident individual is a person residing in Trinidad and Tobago for one year or more, regardless of nationality. Non-residents are essentially all other persons living or operating (or intending to live or operate) outside of Trinidad and Tobago for a year or more, even if they hold Trinidad and Tobago nationality. Section I relates to a series of different types of transactions, some of which are defined in this Instruction tab. Section II requires information on migrant remittances only.
B25: 1. | C25: This form is to be completed monthly and should be submitted within ten (10) working days from the end of the period to which it relates to:
D26: The Manager
D27: Statistics Department
D28: Central Bank of Trinidad and Tobago
D29: P.O. Box 1250
D30: PORT OF SPAIN
D31: Attention: BOP Unit
C33: Or | D33: Email to: bop@central-bank.org.tt | J33: Or | K33: Fax to: 627-4010.
B36: 2. | C36: All enquires should be directed to: Balance of Payments Unit, Statistics Department.
C38: Contact Name | F38: Telephone
C39: Darryl Gouveia | F39: 621-CBTT(2288), ext. 4896
C40: Krishendath Ramlochan | F40: 621-CBTT(2288), ext. 4894
B43: 3. | C43: Please submit all data in thousands of United States Dollars (US$ '000s), unless otherwise specified. This reporting form requires data concerning all foreign transactions (including both cash/over-the-counter transactions and account-to-account/non-cash transactions), converted to and reported in US dollars.
B44: 4. | C44: Select the "Convert to (.xlsx) and Save" button at the top of this page to save the final version for submission.
B45: 5. | C45: Use the file name structure "Company Code_CB01_V1.0_YYYYM##" (example - 2023M12 is the date format for December 2023). Note all files sent to institutions will have the company code.
B46: 6. | C46: After saving as an 'xlsx' file with the file name structure above, select the date on the 'COVER PAGE' which must be consistent with the date in the name of the file. Click 'save'. The 'Date Check' must be 'TRUE'.
B47: 7. | C47: Once the steps above are completed the submission can be uploaded into GoAnywhere.
B48: 8. | C48: Do not amend the structure/format.
B50: Selected Definitions of Types of Transactions
B51: Code 02: Transactions for Travel include expenditure for goods and services for own use or to be given away, acquired from an economy, by non-residents during visits to that economy. Visits can be any length of stay, provided that there is no change in residence. Travel transactions include payments by all persons going abroad for holidays, recreational and cultural activities, visits to friends and relations, and pilgrimages.
B53: Code 03: Medical Expenses include expenditure for medical services, other health care, food, accommodation and local transport, acquired by persons travelling for medical reasons.
B55: Code 04: Education includes expenditure for tuition, food, accommodation, local transport and health services, acquired by non-resident students.
B56: Code 05: Management/Professional Fees include payments for the following:
B57: legal services (legal advisory and representation services in any legal, judicial and statutory procedures; drafting services for legal documentation and instruments; certification consultancy; and escrow and settlement services);
...

Sheet DATA
I5: CONFIDENTIAL
I6: CB 01/2 - V1.0
E8: COMMERCIAL BANKS' FOREIGN CURRENCY TRANSACTIONS -
E9: PRIVATE TRANSFERS
E10: INFLOW ANALYSIS - PURCHASES OF FOREIGN CURRENCY (CASH AND NON-CASH)
E13: NAME OF INSTITUTION : | H13: ='COVER PAGE'!B8 -> Select Institution
E14: REPORTING PERIOD : | H14: =CONCATENATE('COVER PAGE'!D10, " ",'COVER PAGE'!D11) -> June 2024
E16: SECTION I
E17: Please refer to the General Instructions tab for selected definitions of types of transactions
E19: CODE | G19: TYPE OF TRANSACTION | H19: CASH TRANSACTIONS US$'000 | I19: NON-CASH TRANSACTIONS US$'000
E20: 01 | G20: Goods
E21: 02 | G21: Travel
E22: 03 | G22: Medical Expenses
E23: 04 | G23: Education
E24: 05 | G24: Management/Professional Fees
E25: 06 | G25: Royalties, Copyright, Patent Fees
E26: 07 | G26: Non-merchandise Insurance
E27: 08 | G27: Dividends, Profits
E28: 09 | G28: Interest
E29: 10 | G29: Migrant Remittances
E30: 11 | G30: Gifts and Donations
E31: 12 | G31: Repayment of Loans
... E35: 16 | G35: Credit Cards
E36: 17 | G36: Other (please specify)
G37: TOTAL | H37: =SUM(H20:H36) -> 0 | I37: =SUM(I20:I36) -> 0
E49: SECTION II
E50: Section II refers to Migrant Remittances ONLY
E52: MONEY TRANSFERS RECEIVED FROM ABROAD | H52: CASH TRANSACTIONS | I52: NON-CASH TRANSACTIONS
E53: Total VOLUME (number) of Transactions - '000s
E54: Of which transfers to (Please list top 5 countries)
E61: Total VALUE of Transactions - US$'000
E62: Of which transfers to (Please list top 5 countries)
E69: Average Transaction Size of Funds Received in TT$
E70: Cross Border Transaction
E71: Domestic Transaction
E73: Bank Fee/ Service Charge
E74: How much does the customer pay to receive the following sums of money from the United States of America?
E75: equivalent to US$10
E76: equivalent to US$200
E77: equivalent to US$500
...

Sheet For Official Use Only
A1: CODE | B1: TYPE OF TRANSACTION | C1: CASH | D1: NON-CASH
A2: 01 | B2: Goods | C2: =DATA!H20 -> 0 | D2: =DATA!I20 -> 0
A3: 02 | B3: Travel | C3: =DATA!H21 -> 0 | D3: =DATA!I21 -> 0
A4: 03 | B4: Medical Expenses | C4: =DATA!H22 -> 0 | D4: =DATA!I22 -> 0
A5: 04 | B5: Education | C5: =DATA!H23 -> 0 | D5: =DATA!I23 -> 0
A6: 05 | B6: Management/Professional Fees | C6: =DATA!H24 -> 0 | D6: =DATA!I24 -> 0
A7: 06 | B7: Royalties, Copyright, Patent Fees | C7: =DATA!H25 -> 0 | D7: =DATA!I25 -> 0
A8: 07 | B8: Non-merchandise Insurance | C8: =DATA!H26 -> 0 | D8: =DATA!I26 -> 0
A9: 08 | B9: Dividends, Profits | C9: =DATA!H27 -> 0 | D9: =DATA!I27 -> 0
A10: 09 | B10: Interest | C10: =DATA!H28 -> 0 | D10: =DATA!I28 -> 0
A11: 10 | B11: Migrant Remittances | C11: =DATA!H29 -> 0 | D11: =DATA!I29 -> 0
A12: 11 | B12: Gifts and Donations | C12: =DATA!H30 -> 0 | D12: =DATA!I30 -> 0
A13: 12 | B13: Repayment of Loans | C13: =DATA!H31 -> 0 | D13: =DATA!I31 -> 0
... A16: 15 | B16: Compensation of employees | C16: =DATA!H34 -> 0 | D16: =DATA!I34 -> 0
A17: 17 | B17: Other (please specify) | C17: =DATA!H36 -> 0 | D17: =DATA!I36 -> 0
B19: MONEY TRANSFERS SENT ABROAD | C19: CASH | D19: NON-CASH
B20: Total VOLUME (number) of Transactions - '000s | C20: =DATA!H53 -> 0 | D20: =DATA!I53 -> 0
B22: Total VALUE of Transactions - US$'000 | C22: =DATA!H61 -> 0 | D22: =DATA!I61 -> 0
B24: Average Transaction size of funds sent in TT$ | C24: =DATA!H69 -> 0 | D24: =DATA!I69 -> 0
B25: Cross Border Transaction | C25: =DATA!H70 -> 0 | D25: =DATA!I70 -> 0
B26: Domestic Transaction | C26: =DATA!H71 -> 0 | D26: =DATA!I71 -> 0
B28: Bank Fee/ Service Charge
B29: How much does the customer pay to send the following sums of money to the United States of America?
B30: equivalent to US$10 | C30: =DATA!H75 -> 0 | D30: =DATA!I75 -> 0
B31: equivalent to US$200 | C31: =DATA!H76 -> 0 | D31: =DATA!I76 -> 0
B32: equivalent to US$500 | C32: =DATA!H77 -> 0 | D32: =DATA!I77 -> 0
B33: equivalent to US$1,000 | C33: =DATA!H78 -> 0 | D33: =DATA!I78 -> 0
B34: equivalent to US$5,000 | C34: =DATA!H79 -> 0 | D34: =DATA!I79 -> 0
A36: CODE | B36: TYPE OF TRANSACTION | C36: CASH | D36: NON-CASH
A37: 16 | B37: Credit Cards | C37: =DATA!H35 -> 0 | D37: =DATA!I35 -> 0

Sheet Institution_Codes
A1: Select Institution | B1: - | D1: Quarter | H1: Year
A2: ANSA Bank Limited | B2: BBDA | D2: Select Month | H2: Select Year | I2: 00
A3: CIBC Caribbean Bank Limited (Trinidad and Tobago) | B3: CITI | D3: January | E3: 1 | H3: 2000 | I3: 01
A4: Citibank (Trinidad & Tobago) Limited | B4: CITI | D4: February | E4: 2 | H4: 2001 | I4: 02
A5: First Citizens Bank Limited | B5: FCB | D5: March | E5: 3 | H5: 2002 | I5: 03
A6: JMMB Bank (T&T) Limited | B6: ICBL | D6: April | E6: 4 | H6: 2003 | I6: 04
A7: RBC Royal Bank (Trinidad and Tobago) Limited | B7: RBTT | D7: May | E7: 5 | H7: 2004 | I7: 05
A8: Republic Bank Limited | B8: RBL | D8: June | E8: 6 | H8: 2005 | I8: 06
A9: Scotiabank Trinidad and Tobago Limited | B9: BNS | D9: July | E9: 7 | H9: 2006 | I9: 07
D10: August | E10: 8 | H10: 2007 | I10: 08
D11: September | E11: 9 | H11: 2008 | I11: 09
D12: October | E12: 10 | H12: 2009 | I12: 10
D13: November | E13: 11 | H13: 2010 | I13: 11
D14: December | E14: 12 | H14: 2011 | I14: 12
H15: 2012 | I15: 13
H16: 2013 | I16: 14
H17: 2014 | I17: 15
H18: 2015 | I18: 16
H19: 2016 | I19: 17
H20: 2017 | I20: 18
H21: 2018 | I21: 19
H22: 2019 | I22: 20
H23: 2020 | I23: 21
H24: 2021 | I24: 22
H25: 2022 | I25: 23
H26: 2023 | I26: 24
... H52: 2049 | I52: 50
H53: 2050

Sheet country name list
A2: Afghanistan
A3: Albania
A4: Algeria
A5: Angola
A6: Antigua and Barbuda
A7: Argentina
A8: Armenia
A9: Australia
A10: Austria
A11: Azerbaijan
A12: The Bahamas
A13: Bahrain
... A194: Zimbabwe
