Workbook
Name OLE_LINK1: 'Table E.3'!$P$6
Name page_58: 'Table E.1 '!$A$1:$L$63
Name page_60: 'Table E.2'!$A$1:$O$74
Name page_62: 'Table E.4'!$A$1:$K$114

Sheet Table E.1 
A1: Table E.1
A2: FISCAL OPERATIONS - 1955-1985
A3: (TT$ Mn)
A5: Year | B5: REVENUE | K5: EXPENDITURE | W5: Current Account Surplus (+) / Deficit (-) | X5: Overall Surplus (+) / Deficit (-) | Y5: Overall Surplus (+)/ Deficit (-) as a Per cent of GDP (Current Prices)
B6: TOTAL REVENUE | C6: Total Revenue as a Per cent of GDP (Current Prices) | D6: Capital Revenue | E6: Current Revenue | K6: TOTAL EXPENDITURE | L6: Total Expenditure as a Per cent of GDP (Current Prices) | M6: Current Expenditure | U6: Capital Expenditure
E7: Current Revenue | F7: of which: Oil | G7: Direct Taxes | I7: Indirect Taxes | J7: Non-Tax Revenue | M7: of which: | U7: Capital Expenditure | V7: Capital Expenditure as a Per cent of GDP
G8: of which: | M8: Current Expenditure | N8: Wages and Salaries | O8: Transfers and Subsidies | P8: Loans and Grants to Public Utilities | Q8: Pensions and Gratuities | R8: Total Interest | S8: of which: Foreign Interest | T8: Goods and Services
G9: Individuals | H9: Total Income Taxes
A10: 1955 | B10: 81.9 | C10: 16.2 | D10: 0.6 | E10: 81.3 | F10: 39.1 | G10: 4.2 | H10: 31 | I10: 28.7 | J10: 21.6 | K10: 89 | L10: 17.6 | M10: 70.4 | N10: 25.7 | O10: 12.3 | P10: 2.8 | Q10: 2.4 | R10: 3.1 | S10: 2 | T10: 29.3 | U10: 18.6 | V10: 4.1 | W10: 10.9 | X10: -7.1 | Y10: -1.4
A11: 1956 | B11: 88.6 | C11: 15 | D11: 0.6 | E11: 87.9 | F11: 44 | G11: 4.4 | H11: 35.1 | I11: 29.8 | J11: 23 | K11: 98.3 | L11: 14.8 | M11: 74.8 | N11: 27.3 | O11: 12.7 | P11: 2.8 | Q11: 2 | R11: 3.5 | S11: 2 | T11: 31.3 | U11: 23.5 | V11: 2.2 | W11: 13.1 | X11: -9.7 | Y11: -1.6
A12: 1957 | B12: 101.6 | C12: 14.6 | D12: 0.5 | E12: 101.1 | F12: 54.9 | G12: 5.4 | H12: 42.2 | I12: 32.8 | J12: 26.1 | K12: 103.7 | L12: 16.1 | M12: 81.5 | N12: 35.8 | O12: 14 | P12: 3.4 | Q12: 3.2 | R12: 2.8 | S12: 2 | T12: 28.9 | U12: 22.2 | V12: 3.6 | W12: 19.6 | X12: -2.1 | Y12: -0.3
A13: 1958 | B13: 130.1 | C13: 17 | D13: 0.2 | E13: 129.9 | F13: 69.9 | G13: 8.5 | H13: 57.4 | I13: 41.6 | J13: 30.9 | K13: 132.6 | L13: 17.4 | M13: 95.6 | N13: 32.2 | O13: 16.6 | P13: 3.5 | Q13: 3.7 | R13: 2.8 | S13: 2 | T13: 44 | U13: 37 | V13: 5.1 | W13: 34.3 | X13: -2.5 | Y13: -0.3
A14: 1959 | B14: 137 | C14: 16.2 | D14: 1.6 | E14: 135.4 | F14: 64.6 | G14: 8.4 | H14: 53 | I14: 44.2 | J14: 38.2 | K14: 134.7 | L14: 17.2 | M14: 105.2 | N14: 40.2 | O14: 15.8 | P14: 3.8 | Q14: 4.3 | R14: 2.8 | S14: 2 | T14: 46.4 | U14: 29.5 | V14: 5.1 | W14: 30.2 | X14: 2.3 | Y14: 0.3
A15: 1960 | B15: 149.9 | C15: 16.3 | D15: 1.3 | E15: 148.6 | F15: 68 | G15: 12.2 | H15: 56.6 | I15: 51.4 | J15: 40.6 | K15: 156.3 | L15: 17 | M15: 118.9 | N15: 43.6 | O15: 18.1 | P15: 3.3 | Q15: 5 | R15: 3.3 | S15: 2 | T15: 53.9 | U15: 37.4 | V15: 4.4 | W15: 29.7 | X15: -6.4 | Y15: -0.7
A16: 1961 | B16: 145.9 | C16: 14.5 | D16: 0.4 | E16: 145.5 | F16: 70.6 | G16: 13.6 | H16: 57.5 | I16: 49.5 | J16: 38.5 | K16: 201.9 | L16: 20.1 | M16: 140.2 | N16: 48.4 | O16: 21.5 | P16: 4.4 | Q16: 4.1 | R16: 4.1 | S16: 2 | T16: 66.2 | U16: 61.7 | V16: 6.7 | W16: 5.3 | X16: -56 | Y16: -5.6
A17: 1962 | B17: 183 | C17: 17.2 | D17: 8.2 | E17: 174.8 | F17: 72.6 | G17: 14.7 | H17: 63.3 | I17: 61.2 | J17: 50.3 | K17: 211.9 | L17: 20 | M17: 154.1 | N17: 53.6 | O17: 25.4 | P17: 6.9 | Q17: 5.2 | R17: 5.3 | S17: 2.4 | T17: 69.8 | U17: 57.8 | V17: 5.8 | W17: 20.7 | X17: -28.9 | Y17: -2.7
A18: 1963 | B18: 186.1 | C18: 16 | D18: 0.7 | E18: 185.4 | F18: 77.7 | G18: 19.5 | H18: 69.2 | I18: 73.6 | J18: 41.6 | K18: 228.5 | L18: 19.7 | M18: 168.9 | N18: 56.9 | O18: 31.2 | P18: 8 | Q18: 5.7 | R18: 7.3 | S18: 3.8 | T18: 73.5 | U18: 59.6 | V18: 5.4 | W18: 16.5 | X18: -42.4 | Y18: -3.6
A19: 1964 | B19: 204.9 | C19: 16.8 | D19: 2 | E19: 202.9 | F19: 86.5 | G19: 23.5 | H19: 81 | I19: 82.1 | J19: 41.4 | K19: 268 | L19: 21.7 | M19: 189.5 | N19: 60.5 | O19: 38.7 | P19: 11.7 | Q19: 6.4 | R19: 8.3 | S19: 4.8 | T19: 82 | U19: 78.5 | V19: 6.4 | W19: 13.4 | X19: -63.4 | Y19: -5.2
A20: 1965 | B20: 232.4 | C20: 18.4 | D20: 26.2 | E20: 206.2 | F20: 85.3 | G20: 24.1 | H20: 75.4 | I20: 85.9 | J20: 44.9 | K20: 250.7 | L20: 19.9 | M20: 193.1 | N20: 63.5 | O20: 35.3 | P20: 7 | Q20: 6.6 | R20: 11.4 | S20: 5.7 | T20: 82.9 | U20: 57.6 | V20: 4.8 | W20: 13.1 | X20: -18.3 | Y20: -1.4
A21: 1966 | B21: 228.4 | C21: 18.4 | D21: 14 | E21: 214.4 | F21: 85.2 | G21: 27.8 | H21: 76.8 | I21: 87.1 | J21: 50.5 | K21: 266.5 | L21: 21.6 | M21: 203.6 | N21: 83.3 | O21: 42.5 | P21: 14 | Q21: 7.5 | R21: 12 | S21: 6 | T21: 65.8 | U21: 62.9 | V21: 4.9 | W21: 10.8 | X21: -38.1 | Y21: -3.1
... A40: 1985 | B40: 6361.2 | C40: 35.2 | D40: 0 | E40: 6361.2 | F40: 2457.1 | G40: 1411.5 | H40: 3879.5 | I40: 1528 | J40: 953.7 | K40: 7723 | L40: 42.7 | M40: 6077.9 | N40: 2760.7 | O40: 2674.1 | P40: 541.3 | Q40: 240.9 | R40: 277.9 | S40: 201.7 | T40: 365.2 | U40: 1645.1 | V40: 9.1 | W40: 283.3 | X40: -1361.8 | Y40: -7.5
A41: Sources: Ministry of Finance and Central Bank of Trinidad and Tobago

Sheet Table E.2
A1: Table E.2
A2: CENTRAL GOVERNMENT FISCAL OPERATIONS - CALENDAR YEARS 1986- 2025
A3: (TT$ Mn)
B5: 1986 | C5: 1987 | D5: 1988 | E5: 1989 | F5: 1990 | G5: 1991 | H5: 1992 | I5: 1993 | J5: 1994 | K5: 1995 | L5: 1996 | M5: 1997 | N5: 1998 | O5: 1999 | P5: 2000 | Q5: 2001 | R5: 2002 | S5: 2003 | T5: 2004 | U5: 2005 | V5: 2006 | W5: 2007 | X5: 2008 | Y5: 2009 | Z5: 2010 | AA5: 2011 | AB5: 2012 | AC5: 2013 | AD5: 2014 | AE5: 2015 | AF5: 2016 | AG5: 2017 | AH5: 2018 | AI5: 2019 | AJ5: 2020 | AK5: 2021 | AL5: 2022 | AM5: 2023 | AN5: 2024r | AO5: 2025p
A6: Current Revenue | B6: 5234.6 | C6: 5232 | D6: 4936.9 | E6: 4972.3 | F6: 5534 | G6: 6734.4 | H6: 6083.2 | I6: 6721 | J6: 7504.8 | K6: 8455.8 | L6: 9536.8 | M6: 9126 | N6: 9629.4 | O6: 9613.2 | P6: 13006.7 | Q6: 13379.9 | R6: 14517162 | S6: 17852633 | T6: 22020132 | U6: 31910465 | V6: 38553497 | W6: 40666207 | X6: 57784551 | Y6: 38543499 | Z6: 44835440 | AA6: 49784202 | AB6: 47030.2 | AC6: 56048.5 | AD6: 55351.9 | AE6: 49841.6 | AF6: 38302.3 | AG6: 36487.7 | AH6: 44521.293 | AI6: 44530.453 | AJ6: 32409.1 | AK6: 39394.161 | AL6: 57548.003 | AM6: 51875.333 | AN6: 48792.678 | AO6: 46424.466
A7: Oil | B7: 1690.6 | C7: 1958 | D7: 1538.3 | E7: 2004.2 | F7: 2317.5 | G7: 2717.5 | H7: 1817.6 | I7: 1802.5 | J7: 1895.9 | K7: 2535.9 | L7: 3060.7 | M7: 2069.8 | N7: 1706.9 | O7: 1999.7 | P7: 4475.6 | Q7: 3693.5 | R7: 3931034 | S7: 6904717.8 | T7: 8159380.1 | U7: 15851818 | V7: 21111512 | W7: 19365429 | X7: 31100511 | Y7: 14825536 | Z7: 19216421 | AA7: 23471.021 | AB7: 17349.2 | AC7: 20837.8 | AD7: 21025.557 | AE7: 10530.5 | AF7: 3263.5297 | AG7: 4936.3458 | AH7: 6685.724 | AI7: 11972.772 | AJ7: 5126.2 | AK7: 8618.91 | AL7: 26014.694 | AM7: 18618.285 | AN7: 11310.98 | AO7: 11452.107
A8: Non-Oil | B8: 3544 | C8: 3274 | D8: 3398.6 | E8: 2968.1 | F8: 3216.5 | G8: 4016.9 | H8: 4265.6 | I8: 4918.5 | J8: 5608.9 | K8: 5919.9 | L8: 6476.1 | M8: 7056.2 | N8: 7922.5 | O8: 7613.4 | P8: 8531.1 | Q8: 9686.4 | R8: 10586128 | S8: 10947915 | T8: 13860752 | U8: 16058647 | V8: 17441986 | W8: 21300778 | X8: 26684040 | Y8: 23717963 | Z8: 25619019 | AA8: 26313.182 | AB8: 29681 | AC8: 35210.7 | AD8: 34326.344 | AE8: 39311.1 | AF8: 35038.8 | AG8: 31566.06 | AH8: 37835.568 | AI8: 32557.682 | AJ8: 27282.9 | AK8: 30775.252 | AL8: 31533.176 | AM8: 33257.047 | AN8: 37481.696 | AO8: 34972.359
A9: Income | B9: 1775.1 | C9: 1630 | D9: 1730.8 | E9: 1304.8 | F9: 1113.4 | G9: 1475.1 | H9: 1813.2 | I9: 2087.6 | J9: 2286.6 | K9: 2686 | L9: 3035.5 | M9: 3134.3 | N9: 3388.5 | O9: 3448.8 | P9: 3919 | Q9: 4534.9 | R9: 4788486 | S9: 5419614.2 | T9: 6878111.5 | U9: 8219241.9 | V9: 7627361.7 | W9: 9767639.2 | X9: 13605526 | Y9: 10366408 | Z9: 12554346 | AA9: 15067382 | AB9: 15550.2 | AC9: 17189.7 | AD9: 18203.473 | AE9: 17553.3 | AF9: 15591.263 | AG9: 15938.04 | AH9: 17586.312 | AI9: 16926.615 | AJ9: 13006.344 | AK9: 15540.651 | AL9: 19918.648 | AM9: 17488.879 | AN9: 15916.4 | AO9: 17468.8
A10: Property | B10: 27.2 | C10: 23.8 | D10: 25.6 | E10: 37.1 | F10: 40.6 | G10: 44 | H10: 39.8 | I10: 72.3 | J10: 109.6 | K10: 61 | L10: 58.9 | M10: 56.8 | N10: 60.1 | O10: 61.5 | P10: 62.3 | Q10: 69.5 | R10: 84924 | S10: 77022 | T10: 85922 | U10: 64584 | V10: 72817 | W10: 75972 | X10: 82980 | Y10: 72356 | Z10: 17750 | AA10: 10270 | AB10: 4.1 | AC10: 4.3 | AD10: 3 | AE10: 3.5 | AF10: 2.864 | AG10: 3.222 | AH10: 3.756 | AI10: 49.804 | AJ10: 1.694711 | AK10: 2.3379 | AL10: 1.82724 | AM10: 1.409329 | AN10: 126.529 | AO10: 12.672
A11: Goods and Services | B11: 628.9 | C11: 679.2 | D11: 697.9 | E11: 745 | F11: 1362.7 | G11: 1431.3 | H11: 1437 | I11: 1629.1 | J11: 1819.5 | K11: 1974.8 | L11: 2101.6 | M11: 2422.5 | N11: 3072 | O11: 2543.7 | P11: 2906.2 | Q11: 3109.7 | R11: 3387306 | S11: 3344778 | T11: 4207704 | U11: 4329356 | V11: 5776480.2 | W11: 6794401 | X11: 7556209.8 | Y11: 6891878.4 | Z11: 7194.2148 | AA11: 6777.5179 | AB11: 8229.7119 | AC11: 7925.9533 | AD11: 7780.2598 | AE11: 9863.9 | AF11: 8329.5 | AG11: 7577.6594 | AH11: 8368.3934 | AI11: 7806.8111 | AJ11: 8689.5086 | AK11: 10168.188 | AL11: 6487.4393 | AM11: 9137.2992 | AN11: 11512.5 | AO11: 9956.4
A12: International Trade | B12: 487.2 | C12: 374.3 | D12: 336.3 | E12: 344.9 | F12: 463 | G12: 547.6 | H12: 569.1 | I12: 628.5 | J12: 578.8 | K12: 494 | L12: 496.2 | M12: 570 | N12: 695.3 | O12: 698.5 | P12: 765.3 | Q12: 834.8 | R12: 885337 | S12: 1040532 | T12: 1319240 | U12: 1550645 | V12: 1970151 | W12: 2021034 | X12: 2172912 | Y12: 1715153 | Z12: 1986092 | AA12: 2152845 | AB12: 2374.16 | AC12: 2736.8 | AD12: 2757.6 | AE12: 3240 | AF12: 2889.908 | AG12: 2640.786 | AH12: 2741.827 | AI12: 2659.239 | AJ12: 2325.7133 | AK12: 2254.0675 | AL12: 2678.8127 | AM12: 2687.5014 | AN12: 2823.6297 | AO12: 2763.509
A13: Non-Tax revenue | B13: 625.6 | C13: 566.7 | D13: 608 | E13: 536.3 | F13: 236.9 | G13: 518.8 | H13: 406.5 | I13: 501 | J13: 814.4 | K13: 704.1 | L13: 783.9 | M13: 872.6 | N13: 706.6 | O13: 861 | P13: 878.3 | Q13: 1137.6 | R13: 1440075 | S13: 1065969 | T13: 1369774 | U13: 1894820 | V13: 1995176 | W13: 2641732 | X13: 3266412 | Y13: 4672167 | Z13: 3866616 | AA13: 2305.167 | AB13: 3522.8 | AC13: 7353.9 | AD13: 5582.0718 | AE13: 8650.4 | AF13: 8225.3 | AG13: 5406.353 | AH13: 9135.28 | AI13: 5115.212 | AJ13: 3259.6886 | AK13: 2810.0077 | AL13: 2446.4484 | AM13: 3941.9581 | AN13: 7102.6187 | AO13: 4771
A14: Current Expenditure | B14: 5636.3 | C14: 5629 | D14: 5543.3 | E14: 5202.9 | F14: 5438.2 | G14: 6060.6 | H14: 6,279.2' | I14: 6482.8 | J14: 7103.4 | K14: 7836 | L14: 8791 | M14: 8770 | N14: 9539.7 | O14: 10541.9 | P14: 10993.5 | Q14: 12594.9 | R14: 13697390 | S14: 15179376 | T14: 18448145 | U14: 22444639 | V14: 27142652 | W14: 31573317 | X14: 36097866 | Y14: 36752805 | Z14: 37700037 | AA14: 42105488 | AB14: 45193.1 | AC14: 50333.5 | AD14: 55069.4 | AE14: 52457.4 | AF14: 47267.209 | AG14: 45290.106 | AH14: 46314.521 | AI14: 46998.5 | AJ14: 46879.401 | AK14: 47239.301 | AL14: 52271.116 | AM14: 52514.5 | AN14: 53488.138 | AO14: 53711.625
A15: Wages and Salaries | B15: 2791.8 | C15: 2410.2 | D15: 2422.4 | E15: 2011.5 | F15: 1982.8 | G15: 2223.9 | H15: 2501.7 | I15: 2572.7 | J15: 2591.9 | K15: 2884.4 | L15: 3154.7 | M15: 3218.9 | N15: 3521.6 | O15: 3657 | P15: 3190.1 | Q15: 4091.3 | R15: 4140758 | S15: 4627866 | T15: 5009974 | U15: 5304481 | V15: 5492650 | W15: 6564455 | X15: 6915227 | Y15: 6684896 | Z15: 6676194 | AA15: 7246030 | AB15: 7291.89 | AC15: 9469.5312 | AD15: 8652.958 | AE15: 10186.9 | AF15: 9661.404 | AG15: 9859.457 | AH15: 9122.158 | AI15: 9207.34 | AJ15: 9181.9076 | AK15: 9079.0929 | AL15: 9158.5349 | AM15: 10167.62 | AN15: 9823.554 | AO15: 9973.737
A16: Goods and Services | B16: 368.6 | C16: 382.2 | D16: 478.2 | E16: 447.2 | F16: 585.6 | G16: 637.8 | H16: 465.3 | I16: 518.7 | J16: 753.8 | K16: 887.5 | L16: 918.9 | M16: 938.3 | N16: 959.8 | O16: 1111 | P16: 1205.4 | Q16: 1542.2 | R16: 1810893 | S16: 2059544 | T16: 2538512 | U16: 3158959 | V16: 3941638 | W16: 4459776 | X16: 5287884 | Y16: 6146786 | Z16: 6254132 | AA16: 6524717 | AB16: 6994.2 | AC16: 7530.7 | AD16: 8065.5 | AE16: 7855.4 | AF16: 7228.617 | AG16: 5482.307 | AH16: 6197.236 | AI16: 6430.336 | AJ16: 5805.938 | AK16: 5485.317 | AL16: 6201.249 | AM16: 6103.784 | AN16: 6139.731 | AO16: 6663.541
A17: Interest | B17: 479.9 | C17: 530.8 | D17: 671.7 | E17: 902.7 | F17: 989.1 | G17: 1079.1 | H17: 1235.1 | I17: 1446.7 | J17: 1574.4 | K17: 1576.9 | L17: 1580.6 | M17: 1690.1 | N17: 1916 | O17: 2344.1 | P17: 2429.7 | Q17: 2222.2 | R17: 2468990 | S17: 2459273 | T17: 2357790 | U17: 2501892 | V17: 2411987 | W17: 2815764 | X17: 3183222 | Y17: 3389881 | Z17: 3085280 | AA17: 2842831 | AB17: 2745.715 | AC17: 3018.2 | AD17: 3023.207 | AE17: 3570 | AF17: 3719.31 | AG17: 4569.947 | AH17: 4951.067 | AI17: 4946.627 | AJ17: 5049.667 | AK17: 5194.377 | AL17: 4824.038 | AM17: 5787.915 | AN17: 7376.686 | AO17: 6258.45
A18: Transfers and Subsidies | B18: 1996 | C18: 2305.8 | D18: -983.7 | E18: 1841.5 | F18: 1880.7 | G18: 2119.8 | H18: 2077.1 | I18: 1944.7 | J18: 2183.3 | K18: 2487.2 | L18: 3136.8 | M18: 2922.8 | N18: 3142.3 | O18: 3429.7 | P18: 4168.3 | Q18: 4739.3 | R18: 5276749 | S18: 6032693 | T18: 8541869 | U18: 11479307 | V18: 15296377 | W18: 17733322 | X18: 20711533 | Y18: 20531242 | Z18: 21684431 | AA18: 25491910 | AB18: 28161.3 | AC18: 30315.4 | AD18: 35327.684 | AE18: 30845.1 | AF18: 26657.878 | AG18: 25378.395 | AH18: 26043.934 | AI18: 26414.197 | AJ18: 26841.889 | AK18: 27480.514 | AL18: 32087.294 | AM18: 30455.181 | AN18: 30148.167 | AO18: 30815.897
A19: Current Account Surplus (+) / Deficit (-) | B19: -401.7 | C19: -397 | D19: -606.4 | E19: -230.6 | F19: 95.8 | G19: 673.8 | H19: -196 | I19: 238.3 | J19: 401.5 | K19: 619.8 | L19: 745.8 | M19: 355.9 | N19: -983.7 | O19: -928.7 | P19: 2013.2 | Q19: 785 | R19: 819772 | S19: 2673257 | T19: 3571986.6 | U19: 9465826 | V19: 11410846 | W19: 9092890 | X19: 21686685 | Y19: 1790694 | Z19: 7135403 | AA19: 7678714 | AB19: 1837.1 | AC19: 5715 | AD19: 282.5 | AE19: -2615.8 | AF19: -8964.9 | AG19: -8787.7005 | AH19: -1793.3022 | AI19: -2468.0466 | AJ19: -14470.245 | AK19: -7845.1403 | AL19: 5276.887 | AM19: -639.16722 | AN19: -4695.46 | AO19: -7287.159
A20: Capital Revenue | B20: 0.3 | C20: 0.7 | D20: 9.6 | E20: 39.7 | F20: 87 | G20: 17.7 | H20: 18 | I20: 22.5 | J20: 59.9 | K20: 56 | L20: 5.7 | M20: 827.8 | N20: 29 | O20: 100.8 | P20: 29.9 | Q20: 35.6 | R20: 38729 | S20: 5816 | T20: 6117 | U20: 7200 | V20: 4660 | W20: 30390 | X20: 36894 | Y20: 54475 | Z20: 228506 | AA20: 300251 | AB20: 31.9 | AC20: 1569.3 | AD20: 334.3 | AE20: 5861.8 | AF20: 3434.476 | AG20: 735.643 | AH20: 939.302 | AI20: 871.714 | AJ20: 989.14757 | AK20: 458.61138 | AL20: 761.30983 | AM20: 584.18731 | AN20: -479.2842 | AO20: 1483.143
A21: Capital Expenditure and Net Lending | B21: 876.7 | C21: 776.9 | D21: 387.5 | E21: 439.1 | F21: 455.7 | G21: 744.7 | H21: 449.6 | I21: 300.6 | J21: 467.6 | K21: 622.5 | L21: 580.4 | M21: 1142.3 | N21: 859.8 | O21: 527.4 | P21: 1224 | Q21: 861.2 | R21: 671699 | S21: 844071 | T21: 1645354 | U21: 3157270 | V21: 4757657 | W21: 8490532 | X21: 9876950 | Y21: 8375004 | Z21: 5906499 | AA21: 6888516 | AB21: 7091 | AC21: 8036.3 | AD21: 8881 | AE21: 7059.4 | AF21: 4134.7 | AG21: 3239.616 | AH21: 3671.854 | AI21: 3762.325 | AJ21: 3862.588 | AK21: 3269.755 | AL21: 3381.677 | AM21: 4022.194 | AN21: 4386.878 | AO21: 3355.474
A22: Overall Surplus (+) / Deficit (-) | B22: -1278.1 | C22: -1173.2 | D22: -984.3 | E22: -630 | F22: -272.9 | G22: -53.2 | H22: -627.7 | I22: -39.8 | J22: -6.2 | K22: 53.3 | L22: 171 | M22: 41.4 | N22: -741 | O22: -1355.3 | P22: 819.1 | Q22: -40.6 | R22: 186.802 | S22: 1835.002 | T22: 1932.7496 | U22: 6315.756 | V22: 6657.8486 | W22: 632.748 | X22: 11846.629 | Y22: -6529.835 | Z22: 1457.41 | AA22: 1090.449 | AB22: -5222 | AC22: -752 | AD22: -8264.2 | AE22: -3813.4 | AF22: -9665 | AG22: -11291.674 | AH22: -4525.7 | AI22: -5358.6576 | AJ22: -17343.6 | AK22: -10656.284 | AL22: 2656.5199 | AM22: -4077.1739 | AN22: -9561.6222 | AO22: -9159.49
A23: Total Financing (Net) | B23: 1278.1 | C23: 1173.2 | D23: 984.3 | E23: 630 | F23: 272.9 | G23: 53.2 | H23: 627.7 | I23: 39.8 | J23: 6.2 | K23: -53.3 | L23: -171 | M23: -41.4 | N23: 741 | O23: 1355.3 | P23: -819.1 | Q23: 40.6 | R23: -186802 | S23: -1835002 | T23: -1932749.6 | U23: -6315756 | V23: -6657848.6 | W23: -632748 | X23: -11846629 | Y23: 6529835 | Z23: -1457410 | AA23: -1090449 | AB23: 5222 | AC23: 752 | AD23: 8264.2 | AE23: 3813.4 | AF23: 9644.2 | AG23: 11291.7 | AH23: 4525.7 | AI23: 5358.7 | AJ23: 17343.554 | AK23: 10656.284 | AL23: -2656.5199 | AM23: 4077.1739 | AN23: 9561.7 | AO23: 9159.3
A24: External Financing (Net) | B24: -302.2 | C24: -2.8 | D24: 33.4 | E24: -239.8 | F24: -393.8 | G24: -480.2 | H24: -237.5 | I24: 475.6 | J24: 302.3 | K24: -902.6 | L24: 133.4 | M24: -1500.5 | N24: -435.8 | O24: 896.7 | P24: 878.4 | Q24: -6.4 | R24: -215725 | S24: -240360 | T24: -1151947 | U24: -256800 | V24: -354732 | W24: 732797 | X24: -92500 | Y24: -1357800 | Z24: 966200 | AA24: -187700 | AB24: 2198.1 | AC24: 2939.9 | AD24: -283.4 | AE24: -244 | AF24: 8946.3 | AG24: 3212.7 | AH24: 2080.8 | AI24: 338.5 | AJ24: 14503.1 | AK24: 3516.1 | AL24: 626.7 | AM24: 1439.9 | AN24: 7027.7 | AO24: 2594.7
A25: Net External Borrowing | B25: -302.2 | C25: -2.8 | D25: 33.4 | E25: -239.8 | F25: -393.8 | G25: -480.2 | H25: -237.5 | I25: -16.8 | J25: -287 | K25: -902.6 | L25: 133.4 | M25: -1500.5 | N25: -473.4 | O25: 842.8 | P25: 846.9 | Q25: -6.4 | R25: -215727 | S25: -240360 | T25: -1151947 | U25: -256800 | V25: -354732 | W25: 732797 | X25: -92500 | Y25: -1357800 | Z25: 966200 | AA25: -187700 | AB25: 1055.3 | AC25: 2939.9 | AD25: -283.4 | AE25: -244 | AF25: 6983.5 | AG25: 1500.5 | AH25: 2080.8 | AI25: 338.5 | AJ25: 6519.7 | AK25: -1176.5 | AL25: 626.7 | AM25: 356.5 | AN25: 4599.7 | AO25: -853.9
A26: Disbursements | B26: 56.3 | C26: 602.5 | D26: 474.7 | E26: 111.9 | F26: 248.8 | G26: 101.2 | H26: 649.3 | I26: 1180.3 | J26: 1331.9 | K26: 140.4 | L26: 1283.6 | M26: 368.4 | N26: 359.9 | O26: 1802.3 | P26: 2344.3 | Q26: 157.1 | R26: 210700 | S26: 192572 | T26: 212556 | U26: 332100 | V26: 1200668 | W26: 1021497 | X26: 1176000 | Y26: 505900 | Z26: 1423200 | AA26: 493500 | AB26: 1765.6 | AC26: 3678 | AD26: 190.4 | AE26: 341.1 | AF26: 6983.5 | AG26: 2102.5 | AH26: 2734.7 | AI26: 1148.1 | AJ26: 7654.9 | AK26: 11.9 | AL26: 1690.7 | AM26: 3096 | AN26: 8202.5 | AO26: 537.6
... A28: Transfers from the Heritage and Stabilisation Fund | B28: 0 | C28: 0 | D28: 0 | E28: 0 | F28: 0 | G28: 0 | H28: 0 | I28: 0 | J28: 0 | K28: 0 | L28: 0 | M28: 0 | N28: 0 | O28: 0 | P28: 0 | Q28: 0 | R28: 0 | S28: 0 | T28: 0 | U28: 0 | V28: 0 | W28: 0 | X28: 0 | Y28: 0 | Z28: 0 | AA28: 0 | AB28: 0 | AC28: 0 | AD28: 0 | AE28: 0 | AF28: 2498.4 | AG28: 1712.2 | AH28: 0 | AI28: 0 | AJ28: 7983.4 | AK28: 4692.6 | AL28: 0 | AM28: 1083.4 | AN28: 2428 | AO28: 3448.6
A29: Divestments Proceeds | B29: 0 | C29: 0 | D29: 0 | E29: 0,0 | F29: 0 | G29: 0 | H29: 0 | I29: 492.4 | J29: 589.3 | K29: 0 | L29: 0 | M29: 0 | N29: 37.6 | O29: 53.9 | P29: 31.5 | Q29: 0 | R29: 2 | S29: 0 | T29: 0 | U29: 0 | V29: 0 | W29: 0 | X29: 0 | Y29: 0 | Z29: 0 | AA29: 0 | AB29: 0 | AC29: 0 | AD29: 0 | AE29: 0 | AF29: 0 | AG29: 0 | AH29: 0 | AI29: 0 | AJ29: 0 | AK29: 0 | AL29: 0 | AM29: 0 | AN29: 0 | AO29: 0
A30: Domestic Financing (Net) | B30: 1580.3 | C30: 1176 | D30: 950.9 | E30: 869.8 | F30: 666.7 | G30: 533.4 | H30: 865.2 | I30: -435.8 | J30: -296.1 | K30: 849.3 | L30: -304.4 | M30: 1459.1 | N30: 1176.9 | O30: 458.6 | P30: -1697.5 | Q30: 47 | R30: 28923 | S30: -1594642 | T30: -780802.6 | U30: -6058956 | V30: -6303116.6 | W30: -1365545 | X30: -11754129 | Y30: 7887635 | Z30: -2423610 | AA30: -902749 | AB30: 3023.9 | AC30: -2187.9 | AD30: 8547.6 | AE30: 4057.4 | AF30: 718.7 | AG30: 8079 | AH30: 2444.8 | AI30: 5020.1 | AJ30: 2840.5 | AK30: 7140.1839 | AL30: -3283.2199 | AM30: 2637.2739 | AN30: 2534 | AO30: 6564.6
A31: Treasury Bills (Net) | B31: 31.8 | C31: 662 | D31: 0 | E31: 0 | F31: 0 | G31: 0 | H31: 0 | I31: 0 | J31: 8 | K31: 0 | L31: 0 | M31: 0 | N31: 0 | O31: 0 | P31: 0 | Q31: 0 | R31: 3 | S31: 0 | T31: 0 | U31: 0 | V31: 0 | W31: 0 | X31: 0 | Y31: 0 | Z31: 0 | AA31: 0 | AB31: 0 | AC31: 0 | AD31: 0 | AE31: 0 | AF31: 0 | AG31: 1105 | AH31: 0 | AI31: 2570 | AJ31: 1661 | AK31: 500 | AL31: 0 | AM31: -892.9 | AN31: 414.4 | AO31: 671.5
A32: Bonds (Net) | B32: 218.4 | C32: 502.8 | D32: 165.5 | E32: 504.9 | F32: 565.2 | G32: 765.8 | H32: 303.9 | I32: 337.1 | J32: 203.9 | K32: 752.2 | L32: -8.7 | M32: 1661.7 | N32: -370 | O32: 347 | P32: 56.8 | Q32: 480 | R32: 222500 | S32: -402454 | T32: 91734 | U32: -693500 | V32: -289200 | W32: 556100 | X32: -686200 | Y32: 816000 | Z32: -801600 | AA32: -868400 | AB32: 1759.3 | AC32: -2781.9 | AD32: -369.1 | AE32: 1089.5 | AF32: 3456.1 | AG32: 5596.4 | AH32: 2090 | AI32: 3621.1 | AJ32: 204.9 | AK32: 8672.2 | AL32: -797 | AM32: 3458.2 | AN32: 4451.8 | AO32: 3919.7
A33: Disbursements | B33: 267.9 | C33: 571.2 | D33: 259.3 | E33: 612.4 | F33: 652.5 | G33: 1301.6 | H33: 434.2 | I33: 436.9 | J33: 442.1 | K33: 903.5 | L33: 27.1 | M33: 1894.2 | N33: 941.8 | O33: 904.7 | P33: 895.4 | Q33: 1696.1 | R33: 1117900 | S33: 2640000 | T33: 1116000 | U33: 808000 | V33: 700000 | W33: 1692000 | X33: 1200000 | Y33: 2148100 | Z33: 301300 | AA33: 446600 | AB33: 2880.9 | AC33: 1500 | AD33: 1729.1 | AE33: 3757.2 | AF33: 6623.2 | AG33: 10188.5 | AH33: 6680 | AI33: 7370.2 | AJ33: 8919 | AK33: 13038.1 | AL33: 2657.5 | AM33: 12283.8 | AN33: 8337.2 | AO33: 8627.3
A34: Repayments | B34: 49.5 | C34: 68.4 | D34: 93.8 | E34: 107.5 | F34: 87.3 | G34: 535.8 | H34: 130.3 | I34: 99.8 | J34: 238.2 | K34: 151.3 | L34: 35.8 | M34: 232.5 | N34: 1311.8 | O34: 557.7 | P34: 838.6 | Q34: 1216.1 | R34: 895400 | S34: 3042454 | T34: 1024266 | U34: 1501500 | V34: 989200 | W34: 1135900 | X34: 1886200 | Y34: 1332100 | Z34: 1102900 | AA34: 1315000 | AB34: 1121.6 | AC34: 4281.9 | AD34: 2098.2 | AE34: 2667.7 | AF34: 3167.1 | AG34: 4592.1 | AH34: 4590 | AI34: 3749.1 | AJ34: 8714.1 | AK34: 4365.9 | AL34: 3454.5 | AM34: 8825.6 | AN34: 3885.4 | AO34: 4707.6
A35: Divestments Proceeds | B35: 0 | C35: 0 | D35: 0 | E35: 0 | F35: 0 | G35: 0,0 | H35: 5.9 | I35: 29.8 | J35: 20.8 | K35: 51.1 | L35: 28.2 | M35: 0 | N35: 78.4 | O35: 0 | P35: 0 | Q35: 194 | R35: 250001 | S35: 0 | T35: 0 | U35: 0 | V35: 0 | W35: 0 | X35: 0 | Y35: 0 | Z35: 0 | AA35: 0 | AB35: 0 | AC35: 0 | AD35: 0 | AE35: 0 | AF35: 0 | AG35: 0 | AH35: 0 | AI35: 0 | AJ35: 0 | AK35: 0 | AL35: 0 | AM35: 0 | AN35: 0 | AO35: 0
A36: Uncashed Balances (Net) | B36: 1330.1 | C36: 11.2 | D36: 785.4 | E36: 364.9 | F36: 101.5 | G36: -232.4 | H36: 555.4 | I36: -802.7 | J36: -528.8 | K36: 46 | L36: -323.9 | M36: -202.6 | N36: 1468.5 | O36: 111.6 | P36: -1754.2 | Q36: -627 | R36: -443581 | S36: -1192188 | T36: -872536.6 | U36: -5365456 | V36: -6013916.6 | W36: -1921645 | X36: -11067929 | Y36: 7071635 | Z36: -1622010 | AA36: -34349 | AB36: 1264.6 | AC36: 594 | AD36: 8916.7 | AE36: 2967.9 | AF36: -2737.4 | AG36: 1377.6 | AH36: 354.8 | AI36: -1171 | AJ36: 974.6 | AK36: -2032.0161 | AL36: -2486.2199 | AM36: 71.973918 | AN36: -2332.2 | AO36: 1973.4
A38: Memo Item:
A39: Overall Surplus (+) / Deficit (-) (Per cent of GDP)1 | B39: -7.4051113 | C39: -6.7925359 | D39: -5.6946317 | E39: -3.4289633 | F39: -1.2669864 | G39: -0.23583024 | H39: -2.7151885 | I39: -0.15928346 | J39: -0.021151963 | K39: 0.16815471 | L39: 0.49441113 | M39: 0.11541421 | N39: -1.9466651 | O39: -3.1600104 | P39: 1.5944918 | Q39: -0.07380852 | R39: 0.33185646 | S39: 2.5783726 | T39: 2.3104505 | U39: 6.2729743 | V39: 5.7419452 | W39: 0.46202004 | X39: 6.7584109 | Y39: -5.3840411 | Z39: 1 | AA39: 0.7251618 | AB39: -2.9917498 | AC39: -0.40868467 | AD39: -4.374842 | AE39: -2.2277417 | AF39: -6.1345852 | AG39: -6.9841145 | AH39: -2.7980314 | AI39: -3.3634278 | AJ39: -12.3 | AK39: -6.7 | AL39: 1.3795629 | AM39: -2.369624 | AN39: -5.5 | AO39: -5.2
A40: Sources: Ministry of Finance and Central Bank of Trinidad and Tobago
A41: 1 GDP data used for ratios to GDP are sourced from the CSO.
A42: r Revised.
A43: p Provisional.
...

Sheet Table E.3
A1: Table E.3
A2: CENTRAL GOVERNMENT FISCAL OPERATIONS - FISCAL YEARS 1998/99 - 2024/25
A3: (TT$ Mn)
B5: 1998/99 | C5: 1999/00 | D5: 2000/01 | E5: 2001/02 | F5: 2002/03 | G5: 2003/04 | H5: 2004/05 | I5: 2005/06 | J5: 2006/07 | K5: 2007/08 | L5: 2008/09 | M5: 2009/10 | N5: 2010/11 | O5: 2011/12 | P5: 2012/13 | Q5: 2013/14 | R5: 2014/15 | S5: 2015/16 | T5: 2016/17 | U5: 2017/18 | V5: 2018/19 | W5: 2019/20 | X5: 2020/21 | Y5: 2021/22 | Z5: 2022/23 | AA5: 2023/24r | AB5: 2024/25p
A6: Current Revenue | B6: 9476095 | C6: 11954102 | D6: 13956501 | E6: 13825 | F6: 16754.2 | G6: 20625.6 | H6: 29638.8 | I6: 38906.9 | J6: 40034.9 | K6: 56810.3 | L6: 38993.5 | M6: 43632 | N6: 47213.6 | O6: 49234.6 | P6: 52258.719 | Q6: 57061.859 | R6: 52244.5 | S6: 41158.884 | T6: 34870.1 | U6: 42331.9 | V6: 45768.8 | W6: 33842.3 | X6: 36345.539 | Y6: 53921.293 | Z6: 54525.014 | AA6: 47821.155 | AB6: 47628.201
A7: Oil | B7: 1703602 | C7: 3761060 | D7: 4583772 | E7: 3249.4 | F7: 6182.5 | G7: 7641.7 | H7: 13961.3 | I7: 21416 | J7: 20025.9 | K7: 30267.1 | L7: 15457.3 | M7: 18478.2 | N7: 20794.957 | O7: 20560.7 | P7: 19987.2 | Q7: 21528.285 | R7: 13696.4 | S7: 3805.4797 | T7: 4268.6 | U7: 6275.9 | V7: 11577.4 | W7: 5951.8878 | X7: 6878.0215 | Y7: 21748.258 | Z7: 22509.54 | AA7: 10552.319 | AB7: 12748.133
A8: Non-Oil | B8: 7772493 | C8: 8193042 | D8: 9372729 | E8: 10575.6 | F8: 10571.7 | G8: 12983.9 | H8: 15677.4 | I8: 17490.9 | J8: 20009 | K8: 26543.1 | L8: 23536.2 | M8: 25153.8 | N8: 26418.67 | O8: 28673.8 | P8: 32271.568 | Q8: 35533.574 | R8: 38548.1 | S8: 37353.4 | T8: 30601.5 | U8: 36056 | V8: 34191.4 | W8: 27890.428 | X8: 29467.518 | Y8: 32172.902 | Z8: 32015.474 | AA8: 37268.832 | AB8: 34880.069
A9: Income | B9: 3443204 | C9: 3764979 | D9: 4533673 | E9: 4530 | F9: 5359.6 | G9: 6304.5 | H9: 8141.2 | I9: 7922.5 | J9: 8936.1 | K9: 13057.3 | L9: 10476.3 | M9: 12103.8 | N9: 15105.6 | O9: 15206.3 | P9: 16910.947 | Q9: 17836.5 | R9: 18060.6 | S9: 15759.014 | T9: 15209.3 | U9: 17482 | V9: 17902.4 | W9: 13527.932 | X9: 13983.71 | Y9: 19960.861 | Z9: 17884.263 | AA9: 16229.2 | AB9: 17266.466
A10: Property | B10: 61731 | C10: 63542 | D10: 59123 | E10: 94.3 | F10: 77.6 | G10: 85.4 | H10: 62.7 | I10: 64.4 | J10: 83.7 | K10: 83.8 | L10: 71.4 | M10: 22.1 | N10: 10.6 | O10: 4.7 | P10: 4.2 | Q10: 3.5 | R10: 3.3 | S10: 3.249 | T10: 3 | U10: 3.9 | V10: 49.6 | W10: 1.820711 | X10: 2.0249 | Y10: 2.43124 | Z10: 1.440329 | AA10: 100.43 | AB10: 38.562
A11: Goods and Services | B11: 2753353 | C11: 2712397 | D11: 3053103 | E11: 3436.4 | F11: 3087.6 | G11: 4103 | H11: 4200.8 | I11: 5591.1 | J11: 6288.5 | K11: 7993.5 | L11: 6525.2 | M11: 7503.4 | N11: 6471.4 | O11: 8041.1 | P11: 8438.3 | Q11: 7575.7 | R11: 9218.4 | S11: 8949.5093 | T11: 6830.1 | U11: 9084.9 | V11: 7662.9 | W11: 8274.3557 | X11: 9958.3583 | Y11: 6904.084 | Z11: 8407.928 | AA11: 2785.5027 | AB11: 10073.045
A12: International Trade | B12: 687651 | C12: 752531 | D12: 813731 | E12: 855.4 | F12: 994.1 | G12: 1242.7 | H12: 1473.5 | I12: 1836.3 | J12: 2006.5 | K12: 2171.9 | L12: 1828.5 | M12: 1905.5 | N12: 2167.8 | O12: 2319.4 | P12: 2587.7 | Q12: 2861.5 | R12: 3014.2 | S12: 3016.349 | T12: 2684.8 | U12: 2732.5 | V12: 2672.3 | W12: 2301.1643 | X12: 2287.1625 | Y12: 2608.3567 | Z12: 2740.4924 | AA12: 2785.5027 | AB12: 2778.328
A13: Non-Tax Revenue | B13: 826554 | C13: 899593 | D13: 913099 | E13: 1659.6 | F13: 1052.9 | G13: 1248.1 | H13: 1799.1 | I13: 2076.7 | J13: 2693.6 | K13: 3236.7 | L13: 4634.7 | M13: 3619 | N13: 2663.1931 | O13: 3102.4 | P13: 4330.4 | Q13: 7256.4819 | R13: 8251.6 | S13: 9625.3 | T13: 5874.3 | U13: 6752.7 | V13: 5904.2 | W13: 3785.1556 | X13: 3236.2617 | Y13: 2697.1694 | Z13: 2981.3501 | AA13: 6750.7827 | AB13: 4723.668
A14: Current Expenditure | B14: 10008325 | C14: 10878962 | D14: 12173284 | E14: 13544.4 | F14: 15007.4 | G14: 17498.5 | H14: 21842.4 | I14: 26582.6 | J14: 29984 | K14: 35030.6 | L14: 37316.9 | M14: 37275.7 | N14: 41649.9 | O14: 44487.1 | P14: 49228.7 | Q14: 54386.3 | R14: 52322.9 | S14: 48546.443 | T14: 46263.5 | U14: 45374.4 | V14: 46986.8 | W14: 47081.2 | X14: 46482.3 | Y14: 50061.6 | Z14: 53620.277 | AA14: 52710.164 | AB14: 53478.782
A15: Wages and Salaries | B15: 3665072 | C15: 3143718 | D15: 3772847 | E15: 4188.9 | F15: 4537.8 | G15: 4849.2 | H15: 5309.2 | I15: 5455.6 | J15: 6221.3 | K15: 6946.9 | L15: 6620.3 | M15: 6711 | N15: 7179.7 | O15: 7282.3 | P15: 9171.5 | Q15: 8590.8 | R15: 10077.1 | S15: 9601.877 | T15: 9937.8 | U15: 9094.4 | V15: 9137.2 | W15: 9247.9926 | X15: 9093.6 | Y15: 9148.5159 | Z15: 9420.072 | AA15: 10431.864 | AB15: 9792.111
A16: Goods and Services | B16: 1095417 | C16: 1191660 | D16: 1533687 | E16: 1759.8 | F16: 2012.4 | G16: 2374.5 | H16: 3170.1 | I16: 3843.2 | J16: 4283.7 | K16: 5002.4 | L16: 6023 | M16: 6441.2 | N16: 6504.3 | O16: 7061.6 | P16: 7180.1 | Q16: 8008.8 | R16: 8105.4 | S16: 7326.1 | T16: 5827.2 | U16: 6102.1 | V16: 6426.4 | W16: 5861.644 | X16: 5570.9 | Y16: 5911.669 | Z16: 6106.191 | AA16: 6061.15 | AB16: 6667.453
A17: Interest | B17: 1986232 | C17: 2563400 | D17: 2311399 | E17: 2409 | F17: 2493.8 | G17: 2364.3 | H17: 2541.5 | I17: 2453.3 | J17: 2698.1 | K17: 2967.3 | L17: 3499.9 | M17: 3290.3 | N17: 2866.4 | O17: 2937.1 | P17: 2808.7 | Q17: 3122.6 | R17: 3438.4 | S17: 3762.4 | T17: 4468.4 | U17: 4786.8 | V17: 5045.5 | W17: 5062.03 | X17: 4938.147 | Y17: 4927.443 | Z17: 5779.733 | AA17: 6581.765 | AB17: 6227.694
... A36: Uncashed Balances (Net) | B36: -243480 | C36: -1809586 | D36: -888901 | E36: -74.9 | F36: 114.3 | G36: -2138.4 | H36: -2777.7 | I36: -6371.2 | J36: -4256.7 | K36: -12345.2 | L36: 8223.4 | M36: 242.9 | N36: 1474.5 | O36: -611.4 | P36: 5370.3 | Q36: 953.9 | R36: 1763.9 | S36: -4997.9 | T36: 5994.1 | U36: 3291.5 | V36: -1741 | W36: -266 | X36: -159.88061 | Y36: -3622.8176 | Z36: 2275.4292 | AA36: -2707.8 | AB36: 933.7
A37: Memorandum:
A38: Overall Balance/GDP1 | B38: -2.2767021 | C38: -0.19654733 | D38: 1.6468246 | E38: -0.63302561 | F38: 1.4209202 | G38: 1.8751639 | H38: 5.1925533 | I38: 6.8784776 | J38: 1.7452259 | K38: 7.3219323 | L38: -4.9605745 | M38: 0.14360548 | N38: -0.69929526 | O38: -1.2797826 | P38: -2.7022626 | Q38: -2.3669219 | R38: -1.5431434 | S38: -4.9529674 | T38: -8.4231761 | U38: -3.522446 | V38: -2.5192047 | W38: -11.5 | X38: -7.8178662 | Y38: 0.71943594 | Z38: -1.7905122 | AA38: -5.2 | AB38: -4.6184829
A39: Sources: Ministry of Finance and Central Bank of Trinidad and Tobago
A40: 1 GDP data used for ratios to GDP are sourced from the CSO.
A41: r Revised.
A42: p Provisional..

Sheet Table E.4
A1: Table E.4
A2: CENTRAL GOVERNMENT - DEBT OUTSTANDING, DISBURSEMENTS, REPAYMENTS AND DEBT RATIOS - CALENDAR YEARS 1955-2025*
A3: (TT$ Mn)
B5: DEBT OUTSTANDING | E5: EXTERNAL DEBT | I5: DEBT RATIOS
A6: Year | B6: Total Debt Outstanding1 | C6: Total Internal Debt Outstanding1 | D6: of which… Treasury Bills2 | E6: Disbursements | F6: Repayments | G6: Total Outstanding | I6: External Debt Service (%) | J6: Total Debt to GDP 3 (%)
G7: TT$ | H7: US$
A8: 1955 | B8: 73.1 | C8: 12.5 | D8: - | E8: - | F8: - | G8: 60.6 | H8: 35.3 | I8: - | J8: 14.5
A9: 1956 | B9: 72.9 | C9: 12.3 | D9: - | E9: - | F9: - | G9: 60.6 | H9: 35.3 | I9: - | J9: 12.4
A10: 1957 | B10: 72.9 | C10: 12.3 | D10: - | E10: - | F10: - | G10: 60.6 | H10: 35.3 | I10: - | J10: 10.5
A11: 1958 | B11: 72.9 | C11: 12.3 | D11: - | E11: - | F11: - | G11: 60.6 | H11: 35.3 | I11: - | J11: 9.5
A12: 1959 | B12: 85.2 | C12: 24.6 | D12: - | E12: - | F12: - | G12: 60.6 | H12: 35.3 | I12: - | J12: 10.1
A13: 1960 | B13: 97.9 | C13: 37.3 | D13: - | E13: - | F13: - | G13: 60.6 | H13: 35.3 | I13: - | J13: 10.7
A14: 1961 | B14: 99.9 | C14: 39.3 | D14: - | E14: - | F14: - | G14: 60.6 | H14: 35.3 | I14: - | J14: 10
A15: 1962 | B15: 117.1 | C15: 44.4 | D15: 20.8 | E15: - | F15: - | G15: 72.7 | H15: 42.4 | I15: - | J15: 11
A16: 1963 | B16: 156.8 | C16: 44.9 | D16: 23.5 | E16: - | F16: - | G16: 111.9 | H16: 65.3 | I16: - | J16: 13.5
A17: 1964 | B17: 214.3 | C17: 93.4 | D17: 24.8 | E17: 45.2 | F17: 19.1 | G17: 121 | H17: 70.6 | I17: - | J17: 17.6
A18: 1965 | B18: 234.6 | C18: 108 | D18: 32.4 | E18: 8.8 | F18: 5.3 | G18: 124.5 | H18: 74 | I18: - | J18: 18.43
A19: 1966 | B19: 266.1 | C19: 129.8 | D19: 49 | E19: 15.9 | F19: 4.1 | G19: 136.3 | H19: 79.5 | I19: - | J19: 21.4
A20: 1967 | B20: 298.2 | C20: 154.8 | D20: 53.5 | E20: 12.7 | F20: 5.6 | G20: 143.4 | H20: 71.7 | I20: - | J20: 22.5
A21: 1968 | B21: 338.8 | C21: 181.6 | D21: 54 | E21: 26 | F21: 12.2 | G21: 157.2 | H21: 78.6 | I21: - | J21: 22.3
A22: 1969 | B22: 370.5 | C22: 202.6 | D22: 57 | E22: 17.8 | F22: 7.1 | G22: 167.9 | H22: 84 | I22: - | J22: 23.8
A23: 1970 | B23: 392.6 | C23: 234.4 | D23: 73.6 | E23: 7.7 | F23: 17.4 | G23: 158.2 | H23: 79.1 | I23: 2.8 | J23: 23.9
A24: 1971 | B24: 438 | C24: 275.9 | D24: 80 | E24: 40.4 | F24: 36.5 | G24: 162.1 | H24: 88 | I24: 2.6 | J24: 24.7
A25: 1972 | B25: 533.1 | C25: 333.9 | D25: 99.8 | E25: 46.5 | F25: 9.4 | G25: 199.2 | H25: 108.1 | I25: 2.2 | J25: 25.6
A26: 1973 | B26: 625.9 | C26: 370.2 | D26: 102.8 | E26: 65.8 | F26: 9.3 | G26: 255.7 | H26: 123.8 | I26: 2 | J26: 20.5
A27: 1974 | B27: 628.6 | C27: 387.2 | D27: 97.2 | E27: 47.8 | F27: 31.3 | G27: 241.4 | H27: 118.1 | I27: 3.4 | J27: 15
A28: 1975 | B28: 636 | C28: 413.5 | D28: 101.2 | E28: 11 | F28: 29.8 | G28: 222.5 | H28: 93.8 | I28: 1.8 | J28: 12
A29: 1976 | B29: 613.5 | C29: 484.6 | D29: 101.2 | E29: 9.9 | F29: 77.1 | G29: 128.9 | H29: 56.5 | I29: 3 | J29: 10.1
A30: 1977 | B30: 1057.2 | C30: 557.6 | D30: 101.2 | E30: 382.1 | F30: 11.4 | G30: 499.6 | H30: 208.2 | I30: 2.7 | J30: 14
A31: 1978 | B31: 1355.6 | C31: 599.1 | D31: 101.2 | E31: 268.5 | F31: 11.6 | G31: 756.5 | H31: 315.2 | I31: 1.5 | J31: 15.9
A32: 1979 | B32: 1535.6 | C32: 637.1 | D32: 101.2 | E32: 153.2 | F32: 11.2 | G32: 898.5 | H32: 374.4 | I32: 1.9 | J32: 13.9
A33: 1980 | B33: 1709.7 | C33: 661.8 | D33: 101.2 | E33: 556.8 | F33: 407.4 | G33: 1047.9 | H33: 436.6 | I33: 5.8 | J33: 11.4
A34: 1981 | B34: 1706.1 | C34: 631.2 | D34: 101.2 | E34: 57 | F34: 35 | G34: 1083.5 | H34: 451.5 | I34: 2.2 | J34: 10.4
... A45: 1992 | B45: 11591.2 | C45: 5023.2 | D45: 975 | E45: 827.5 | F45: 886.6 | G45: 6568 | H45: 1547.3 | I45: 26.7 | J45: 50.139069
A46: 1993 | B46: 14782.2 | C46: 5360.8 | D46: 975 | E46: 1410.4 | F46: 1197.1 | G46: 9421.9 | H46: 1627.2 | I46: 30.6 | J46: =(B46/24986.9)*100 -> 59.1598
A47: 1994 | B47: 15678.2 | C47: 5572.2 | D47: 983 | E47: 1816.8 | F47: 1651.6 | G47: 10106 | H47: 1737.4 | I47: 25.2 | J47: 53.487856
A48: 1995 | B48: =C48+G48 -> 16166.2 | C48: 6324.4 | D48: 983 | E48: 642.6 | F48: 1056.3 | G48: 9841.8 | H48: 1674.7 | I48: 15 | J48: 51.002303
A49: 1996 | B49: =C49+G49 -> 17208 | C49: 6995.4 | D49: 983 | E49: 1492.1 | F49: 1180.2 | G49: 10212.6 | H49: 1673.1 | I49: 13.4 | J49: 49.753373
A50: 1997 | B50: 17271.1 | C50: 8663.7 | D50: 983 | E50: 374 | F50: 2001.6 | G50: 8670.4 | H50: 1397.4 | I50: 15.4 | J50: 48.148076
A51: 1998 | B51: =C51+G51 -> 16924.8 | C51: 8918.3 | D51: 983 | E51: 366.7 | F51: 1030.6 | G51: 8006.5 | H51: 1313.2 | I51: 9.9 | J51: 44.462776
...

Sheet Table E.5
A1: Table E.5
A2: CENTRAL GOVERNMENT - DEBT OUTSTANDING, DISBURSEMENTS, REPAYMENTS AND DEBT RATIOS - Fiscal Years 1998/99 - 2024/25*
A3: (TT$ Mn)
A5: Year | B5: DEBT OUTSTANDING | E5: EXTERNAL DEBT | I5: DEBT RATIOS
B6: Total Debt Outstanding1 | C6: Total Internal Debt Outstanding1 | D6: of which… Treasury Bills2 | E6: Disbursements | F6: Repayments | G6: Total Outstanding | I6: External Debt Service (%) | J6: Total Debt to GDP3 (%)
G7: TT$ | H7: US$
A8: 1998/99 | B8: 17525.3 | C8: 8835.3 | D8: 800 | E8: 1868.9 | F8: 1083.3 | G8: 8690 | H8: 1561.5 | I8: 8.3940887 | J8: 42.044138
A9: 1999/00 | B9: 20139.9 | C9: 10016.6 | D9: 800 | E9: 2361.4 | F9: 928.1 | G9: 10123.3 | H9: 1793.7 | I9: 5.4146798 | J9: 40.893011
A10: 2000/01 | B10: 19913.7 | C10: 10719.8 | D10: 800 | E10: 215.8 | F10: 1145.2 | G10: 9193.9 | H10: 1664.3 | I10: 6.3411269 | J10: 36.810384
A11: 2001/02 | B11: 20770.6 | C11: 11393.5 | D11: 800 | E11: 234.1 | F11: 378.4 | G11: 9377.1 | H11: 1668.8 | I11: 4.2672293 | J11: 37.110702
A12: 2002/03 | B12: 20734.3 | C12: 11302 | D12: 800 | E12: 519.1 | F12: 464.1 | G12: 9432.3 | H12: 1578.5 | I12: 3.4228179 | J12: 30.740594
A13: 2003/04 | B13: 20487 | C13: 10967.4 | D13: 800 | E13: 221.9 | F13: 560.4 | G13: 9519.6 | H13: 1526.8 | I13: 3.2123994 | J13: 25.439695
A14: 2004/05 | B14: 18417.8 | C14: 10523.8 | D14: 800 | E14: 359.8 | F14: 1555.4 | G14: 7894 | H14: 1335.3063 | I14: 1.8625617 | J14: 19.100722
A15: 2005/06 | B15: 17774.8 | C15: 10160.3 | D15: 800 | E15: 324.7 | F15: 604.2 | G15: 7614.5 | H15: 1285.1025 | I15: 1.3 | J15: 15.851417
A16: 2006/07 | B16: 18565.8 | C16: 10342.8 | D16: 800 | E16: 1968.5 | F16: 1360 | G16: 8223 | H16: 1391.9944 | I16: 2 | J16: 14.096809
A17: 2007/08 | B17: 18813.2 | C17: 9849.9 | D17: 800 | E17: 1059.3 | F17: 403.4 | G17: 8963.3 | H17: 1495.2393 | I17: 0.96790733 | J17: 11.35353
A18: 2008/09 | B18: 18997.7 | C18: 10617.2 | D18: 800 | E18: 1588.1 | F18: 2170.9 | G18: 8380.5 | H18: 1318.7809 | I18: 3.6886224 | J18: 14.09505
A19: 2009/10 | B19: 24135.3 | C19: 14913.2 | D19: 800 | E19: 1272.4 | F19: 430.8 | G19: 9222.1 | H19: 1419.0004 | I19: 1.115458 | J19: 17.7
... A21: 2011/12 | B21: 37896.3 | C21: 26762.869 | D21: 800 | E21: 2133.6 | F21: 711.3 | G21: 11133.4 | H21: 1720.4534 | I21: 0.94840859 | J21: 22.07612
A22: 2012/13 | B22: 39241.081 | C22: 28789.891 | D22: 800 | E22: 1044.3 | F22: 1,726.5** | G22: 10451.19 | H22: 1537.8948 | I22: 0.98837258 | J22: 21.603721
A23: 2013/14 | B23: 43824.559 | C23: 29644.2 | D23: 800 | E23: 4254.8 | F23: 525.6 | G23: 14180.39 | H23: 2127.3291 | I23: 1.0186606 | J23: 23.350886
A24: 2014/15 | B24: 45508.7 | C24: 31749.1 | D24: 800 | E24: 1228.2 | F24: 543.6 | G24: 13759.6 | H24: 2236.3332 | I24: 1.215414 | J24: 25.914776
A25: 2015/16 | B25: 57046.5 | C25: 35685.7 | D25: 800 | E25: 6988.7 | F25: 517.8 | G25: 21360.8 | H25: 3214.4301 | I25: 1.7665623 | J25: 35.4421
A26: 2016/17 | B26: 64370.5 | C26: 40837.4 | D26: 1905 | E26: 2650.1 | F26: 542.5 | G26: 23533.1 | H26: 3535.7677 | I26: 2.0790411 | J26: 40.070063
A27: 2017/18 | B27: 67069.2 | C27: 42327.6 | D27: 1905 | E27: 1745.4 | F27: 700.1 | G27: 24741.6 | H27: 3695.8361 | I27: 2.1545546 | J27: 41.470235
A28: 2018/19 | B28: 73324.762 | C28: 46976.362 | D28: 3340 | E28: 2435 | F28: 817.2 | G28: 26348.4 | H28: 3939.4 | I28: 2.9104896 | J28: 46
A29: 2019/20 | B29: 88109.736 | C29: 56490.236 | D29: 6136 | E29: 8569.4 | F29: 3410 | G29: 31619.5 | H29: 4707.3305 | I29: 9.7279829 | J29: 60.7
A30: 2020/21 | B30: 95635.6 | C30: 64468.3 | D30: 6136 | E30: 882.8 | F30: 1079.7 | G30: 31167.309 | H30: 4659.4986 | I30: 3.3169456 | J30: 60.536112
A31: 2021/22 | B31: 98176.881 | C31: 66201.886 | D31: 6636 | E31: 2027.2 | F31: 1149.5 | G31: 31974.995 | H31: 4792.7168 | I31: 1.7708926 | J31: 53.2
A32: 2022/23 | B32: 105107.18 | C32: 70540.93 | D32: 6634 | E32: 5068.88 | F32: 2730.51 | G32: 34566.253 | H32: 5121.3 | I32: 5.0167607 | J32: 60
A33: 2023/24 | B33: 110945.16 | C33: 73999.751 | D33: 6350 | E33: 5923 | F33: 3452.48 | G33: 36945.413 | H33: 5482.5 | I33: 7.1 | J33: 63.9
A34: 2024/25p | B34: 118374.73 | C34: 81400.458 | D34: 6864 | E34: 1277.3 | F34: 1348.62 | G34: 36974.276 | H34: 5476.7 | I34: 4.3 | J34: 67.7
A35: Sources: Ministry of Finance and Central Bank of Trinidad and Tobago
A36: 1 Includes Treasury Bills issued for Debt Management but excludes Treasury Bills and Notes issued for OMOs, as well as Treasury Bonds issued for Liquidity absorption.
A37: 2 Refers to Debt Management Bills only.
A38: 3 GDP data used for ratios to GDP are sourced from the CSO.
A39: * Data from FY1999/2000 have been revised to include all components of internal debt with the exception of Treasury Bills, Treasury Notes and Treasury Bonds issued for Open Market Operations.
A40: ** Includes the cancelation of the loans for the Offshore Patrol Vessels.
A41: p Provisional.

Sheet Table E.6
A1: Table E.6a
A2: CENTRAL GOVERNMENT - CURRENCY COMPOSITION, EXTERNAL DEBT -
A3: CALENDAR YEARS 1988-2025
A4: (US$ Mn)
B6: 1988 | C6: 1989 | D6: 1990 | E6: 1991 | F6: 1992 | G6: 1993 | H6: 1994 | I6: 1995 | J6: 1996 | K6: 1997 | L6: 1998 | M6: 1999 | N6: 2000 | O6: 2001 | P6: 2002 | Q6: 2003 | R6: 2004 | S6: 2005 | T6: 2006 | U6: 2007 | V6: 2008 | W6: 2009 | X6: 2010 | Y6: 2011 | Z6: 2012 | AA6: 2013 | AB6: 2014 | AC6: 2015 | AD6: 2016 | AE6: 2017 | AF6: 2018 | AG6: 2019 | AH6: 2020 | AI6: 2021 | AJ6: 2022 | AK6: 2023 | AL6: 2024r | AM6: 2025p
A7: United States Dollar | B7: =B19-B8-B9-B10-B11-B12-B13-B14-B15-B16-B17-B18 -> 929.3 | C7: =C19-C8-C9-C10-C11-C12-C13-C14-C15-C16-C17-C18 -> 1115.6 | D7: =D19-D8-D9-D10-D11-D12-D13-D14-D15-D16-D17-D18 -> 1163.2 | E7: =E19-E8-E9-E10-E11-E12-E13-E14-E15-E16-E17-E18 -> 1104.7 | F7: =F19-F8-F9-F10-F11-F12-F13-F14-F15-F16-F17-F18 -> 1095.5 | G7: =G19-G8-G9-G10-G11-G12-G13-G14-G15-G16-G17-G18 -> 1262.01 | H7: =H19-H8-H9-H10-H11-H12-H13-H14-H15-H16-H17-H18 -> 1422.31 | I7: =I19-I8-I9-I10-I11-I12-I13-I14-I15-I16-I17-I18 -> 1401.11 | ... M7: =M19-M8-M9-M10-M11-M12-M13-M14-M15-M16-M17-M18 -> 1320.16 | N7: 1438 | O7: 1440.2 | P7: 1322.4 | Q7: 1348.9 | R7: =R19-R8-R9-R10-R11-R12-R13-R14-R15-R16-R17-R18 -> 1195.4162 | S7: =S19-S8-S9-S10-S11-S12-S13-S14-S15-S16-S17-S18 -> 1176.1162 | T7: 1114.2 | U7: 1118.8 | V7: 1101.4 | W7: 839.3 | X7: 968.9 | Y7: 1182.7 | Z7: 1183.4 | AA7: 1740.2 | AB7: 1775.3 | AC7: 1822.9 | AD7: 2809.7 | AE7: 3173.3 | AF7: 3430.8 | AG7: 3508.6 | AH7: 4234.5 | AI7: 4335.8059 | AJ7: 4359.1 | AK7: 4714.4 | AL7: 5153 | AM7: 5093.1
A8: Chinese Renmindi | B8: 0 | C8: 0 | D8: 0 | E8: 0 | F8: 0 | G8: 0 | H8: 0 | I8: 0 | J8: 0 | K8: 3.6 | L8: 3.6 | M8: 3.6 | N8: 3.6 | O8: 3.6 | P8: 3.6 | Q8: 3.6 | R8: 3.6 | S8: 3.6 | T8: 32.4 | U8: 70.6 | V8: 103 | W8: 122.7 | X8: 131.1 | Y8: 165.9 | Z8: 157.4 | AA8: 204.8 | AB8: 210.9 | AC8: 238.4 | AD8: 269.9 | AE8: 267.2 | AF8: 300.8 | AG8: 359.4 | AH8: 334.9 | AI8: 328.62455 | AJ8: 324.1 | AK8: 301.6 | AL8: 280.9 | AM8: 247.3
A9: Japanese Yen | B9: 731.5 | C9: 767.2 | D9: 736.9 | E9: 696.4 | F9: 607.9 | G9: 484 | H9: 334.3 | I9: 252 | J9: 178.7 | K9: 121 | L9: 99.4 | M9: 65.1 | N9: 133.5 | O9: 126 | P9: 122.5 | Q9: =9.1+111.3 -> 120.4 | R9: 111.28385 | S9: 111.28385 | T9: 100 | U9: 100 | V9: 100 | W9: 100 | X9: 100 | Y9: 100 | Z9: 100 | AA9: 100 | AB9: 100 | AC9: 100 | AD9: 100 | AE9: 100 | AF9: 100 | AG9: 100 | AH9: 0 | AI9: 0 | AJ9: 0 | AK9: 0 | AL9: 0 | AM9: 0
A10: Australian Dollars | B10: 0 | C10: 0 | D10: 0 | E10: 0 | F10: 0 | G10: 0 | H10: 0 | I10: 0 | J10: 0 | K10: 0 | L10: 0 | M10: 0 | N10: 0 | O10: 0 | P10: 0 | Q10: 0 | R10: 0 | S10: 0 | T10: 0 | U10: 0 | V10: 13.7985 | W10: 60.2 | X10: 60.5 | Y10: 55.4 | Z10: 53.4 | AA10: 45.9 | AB10: 38.5 | AC10: 24.1 | AD10: 16.7 | AE10: 10.4 | AF10: 0 | AG10: 0 | AH10: 4.2 | AI10: 4.2341463 | AJ10: 4.2341463 | AK10: 4.2341463 | AL10: 4.2341463 | AM10: 4.2341463
A11: Great British Pound | B11: 95.3 | C11: 57.1 | D11: 67.8 | E11: 65.9 | F11: 54.8 | G11: 54.2 | H11: 54.7 | I11: 55 | J11: 59.9 | K11: 56 | L11: 55.8 | M11: 54 | N11: 49.7 | O11: 48.4 | P11: 53.6 | Q11: 51 | R11: 49.7 | S11: 49.7 | T11: 46.7 | U11: 119.9 | V11: 210.1 | W11: 240.7 | X11: 272.2 | Y11: 242.3 | Z11: 34.9 | AA11: 0 | AB11: 0 | AC11: 0 | AD11: 0 | AE11: 0 | AF11: 0 | AG11: 0 | AH11: 0 | AI11: 0 | AJ11: 0 | AK11: 0 | AL11: 0 | AM11: 0
A12: European Dollar | B12: 0 | C12: 0 | D12: 0 | E12: 0 | F12: 0 | G12: =H12-2.1-1.5 -> 5.99 | H12: =I12-2.1-1.5 -> 9.59 | I12: =J12-2.1-1.5 -> 13.19 | J12: =K12-2.1-1.5 -> 16.79 | K12: =L12+0.15-1.5 -> 20.39 | L12: =M12+0.3-1.5 -> 21.74 | M12: =N12+0.3-1.5 -> 22.94 | N12: =O12+0.18+0.3 -> 24.14 | O12: =P12+0.19+0.3 -> 23.66 | P12: =Q12+0.22+0.3 -> 23.17 | Q12: =R12+0.25+0.3 -> 22.65 | R12: =6.3+S12 -> 22.1 | S12: =6.8+T12 -> 15.8 | T12: 9 | U12: 8.1 | V12: 7.1 | W12: 6.5 | X12: 6.2 | Y12: 5.9 | Z12: 5.7 | AA12: 38.1 | AB12: 49.4 | AC12: 45.3 | AD12: 42.8 | AE12: 38.6 | AF12: 82.3 | AG12: 102.1 | AH12: 131 | AI12: 167.63174 | AJ12: 164.91071 | AK12: 162.21178 | AL12: 137.40846 | AM12: 112.6
A13: Canadian Dollar | B13: 0 | C13: 6.6 | D13: 6.6 | E13: 6.6 | F13: 6 | G13: 5.8 | H13: 0 | I13: 0 | J13: 0 | K13: 0 | L13: 0 | M13: 0 | N13: 0 | O13: 0 | P13: 0 | Q13: 0 | R13: 0 | S13: 0 | T13: 0 | U13: 0 | V13: 0 | W13: 0 | X13: 0 | Y13: 0 | Z13: 0 | AA13: 0 | AB13: 0 | AC13: 0 | AD13: 0 | AE13: 0 | AF13: 0 | AG13: 0 | AH13: 0 | AI13: 0 | AJ13: 0 | AK13: 0 | AL13: 0 | AM13: 0
A14: Swiss Franc | B14: 74.2 | C14: 72.5 | D14: 1.8 | E14: 0.3 | F14: 2.4 | G14: 2.3 | H14: 2.7 | I14: 2.9 | J14: 2.4 | K14: 2 | L14: 2 | M14: 1.7 | N14: 1.7 | O14: 1.7 | P14: 2 | Q14: 2 | R14: 0 | S14: 0 | T14: 0 | U14: 0 | V14: 0 | W14: 0 | X14: 0 | Y14: 0 | Z14: 0 | AA14: 0 | AB14: 0 | AC14: 0 | AD14: 0 | AE14: 0 | AF14: 0 | AG14: 0 | AH14: 0 | AI14: 0 | AJ14: 0 | AK14: 0 | AL14: 0 | AM14: 0
A15: French Franc | B15: 61.3 | C15: 64.6 | D15: 72.6 | E15: 58.1 | F15: 51.6 | G15: 45.7 | H15: 48.1 | I15: 44.9 | J15: 31.3 | K15: 17.3 | L15: 11.3 | M15: 2.8 | N15: 0 | O15: 0 | P15: 0 | Q15: 0 | R15: 0 | S15: 0 | T15: 0 | U15: 0 | V15: 0 | W15: 0 | X15: 0 | Y15: 0 | Z15: 0 | AA15: 0 | AB15: 0 | AC15: 0 | AD15: 0 | AE15: 0 | AF15: 0 | AG15: 0 | AH15: 0 | AI15: 0 | AJ15: 0 | AK15: 0 | AL15: 0 | AM15: 0
A16: Deutsche Mark | B16: 104.6 | C16: 103.2 | D16: 103.3 | E16: 87.3 | F16: 67.6 | G16: 54 | H16: 54.5 | I16: 50 | J16: 36.6 | K16: 24.1 | L16: 18.5 | M16: 12.1 | N16: 9.4 | O16: 8.8 | P16: 9 | Q16: 8.1 | R16: 0 | S16: 0 | T16: 0 | U16: 0 | V16: 0 | W16: 0 | X16: 0 | Y16: 0 | Z16: 0 | AA16: 0 | AB16: 0 | AC16: 0 | AD16: 0 | AE16: 0 | AF16: 0 | AG16: 0 | AH16: 0 | AI16: 0 | AJ16: 0 | AK16: 0 | AL16: 0 | AM16: 0
A17: SDR | B17: 0 | C17: 205.7 | D17: 327.3 | E17: 384.7 | F17: 284.4 | G17: 156 | H17: 90.6 | I17: 50.1 | J17: 24.8 | K17: 5.4 | L17: 1.2 | M17: 1.1 | N17: 1.1 | O17: 1 | P17: 1.1 | Q17: 0 | R17: 0 | S17: 0 | T17: 0 | U17: 0 | V17: 0 | W17: 0 | X17: 0 | Y17: 0 | Z17: 0 | AA17: 0 | AB17: 0 | AC17: 0 | AD17: 0 | AE17: 0 | AF17: 0 | AG17: 0 | AH17: 0 | AI17: 0 | AJ17: 0 | AK17: 0 | AL17: 0 | AM17: 0
A18: Other | B18: 15.6 | C18: 8.4 | D18: 27.8 | E18: 26.8 | F18: 25.2 | G18: 25.6 | H18: 35.7 | I18: 36 | J18: 41 | K18: 30.8 | L18: 40.4 | M18: 27.5 | N18: 19.3 | O18: 14.2 | P18: 11.6 | Q18: 11 | R18: 0 | S18: 0 | T18: 0 | U18: 0 | V18: 0 | W18: 0 | X18: 0 | Y18: 0 | Z18: 0 | AA18: 0 | AB18: 0 | AC18: 0 | AD18: 0 | AE18: 0 | AF18: 0 | AG18: 0 | AH18: 0 | AI18: 0 | AJ18: 0 | AK18: 0 | AL18: 0 | AM18: 0
A19: TOTAL | B19: 2011.8 | C19: 2400.9 | D19: 2507.3 | E19: 2430.8 | F19: 2195.4 | G19: 2095.6 | H19: 2052.5 | I19: 1905.2 | J19: 1875.7 | K19: 1526.8 | L19: 1429.8 | M19: 1511 | N19: 1680.4 | O19: 1667.6 | P19: 1549 | Q19: 1567.6 | R19: 1382.1 | S19: 1356.5 | T19: 1302.2548 | U19: 1417.4 | V19: 1535.3869 | W19: 1369.3227 | X19: 1538.7657 | Y19: 1752.1381 | Z19: 1534.7824 | AA19: 2129.0115 | AB19: 2174.1009 | AC19: 2230.6561 | AD19: 3239.0412 | AE19: 3589.5334 | AF19: 3913.8951 | AG19: 4070.1 | AH19: 4704.6302 | AI19: 4836.2964 | AJ19: 4852.3232 | AK19: 5182.4 | AL19: 5575.5 | AM19: 5457.2
A20: Sources: Ministry of Finance and Central Bank of Trinidad and Tobago
A21: p Provisional.
A24: Table E.6b
A25: CENTRAL GOVERNMENT - CURRENCY COMPOSITION, EXTERNAL DEBT
A26: CALENDAR YEARS 1988-2025
A27: (In Per cent of Total External Debt (%))
B29: 1988 | C29: 1989 | D29: 1990 | E29: 1991 | F29: 1992 | G29: 1993 | H29: 1994 | I29: 1995 | J29: 1996 | K29: 1997 | L29: 1998 | M29: 1999 | N29: 2000 | O29: 2001 | P29: 2002 | Q29: 2003 | R29: 2004 | S29: 2005 | T29: 2006 | U29: 2007 | V29: 2008 | W29: 2009 | X29: 2010 | Y29: 2011 | Z29: 2012 | AA29: 2013 | AB29: 2014 | AC29: 2015 | AD29: 2016 | AE29: 2017 | AF29: 2018 | AG29: 2019 | AH29: 2020 | AI29: 2021 | AJ29: 2022 | AK29: 2023 | AL29: 2024r | AM29: 2025p
A30: United States Dollar | B30: =(B7/B19)*100 -> 46.192464 | C30: =(C7/C19)*100 -> 46.465909 | D30: =(D7/D19)*100 -> 46.392534 | E30: =(E7/E19)*100 -> 45.445944 | F30: =(F7/F19)*100 -> 49.89979 | G30: =(G7/G19)*100 -> 60.221893 | H30: =(H7/H19)*100 -> 69.296468 | I30: =(I7/I19)*100 -> 73.54136 | ... AC30: =(AC7/AC19)*100 -> 81.72035 | AD30: =(AD7/$AD$19)*100 -> 86.744807 | AE30: =(AE7/$AE$19)*100 -> 88.404247 | AF30: =(AF7/$AF$19)*100 -> 87.656923 | AG30: =(AG7/$AG$19)*100 -> 86.20427 | AH30: 89.988287 | AI30: 89.65137 | AJ30: 89.8 | AK30: 91 | AL30: 92.358275 | AM30: 93.3
A31: Chinese Renmindi | B31: =(B8/B19)*100 -> 0 | C31: =(C8/C19)*100 -> 0 | D31: =(D8/D19)*100 -> 0 | E31: =(E8/E19)*100 -> 0 | F31: =(F8/F19)*100 -> 0 | G31: =(G8/G19)*100 -> 0 | H31: =(H8/H19)*100 -> 0 | I31: =(I8/I19)*100 -> 0 | ... AC31: =(AC8/AC19)*100 -> 10.687438 | AD31: =(AD8/$AD$19)*100 -> 8.3327129 | AE31: =(AE8/$AE$19)*100 -> 7.4438644 | AF31: =(AF8/$AF$19)*100 -> 7.6854385 | AG31: =(AG8/$AG$19)*100 -> 8.8302499 | AH31: 7.1323608 | AI31: 6.794963 | AJ31: 6.7 | AK31: 5.8 | AL31: 5.1 | AM31: 4.5
A32: Japanese Yen | B32: =(B9/B19)*100 -> 36.360473 | C32: =(C9/C19)*100 -> 31.954684 | D32: =(D9/D19)*100 -> 29.390181 | E32: =(E9/E19)*100 -> 28.649004 | F32: =(F9/F19)*100 -> 27.689715 | G32: =(G9/G19)*100 -> 23.096011 | H32: =(H9/H19)*100 -> 16.287454 | I32: =(I9/I19)*100 -> 13.226958 | ... AC32: =(AC9/AC19)*100 -> 4.4829859 | AD32: =(AD9/$AD$19)*100 -> 3.0873334 | AE32: =(AE9/$AE$19)*100 -> 2.7858774 | AF32: =(AF9/$AF$19)*100 -> 2.5549995 | AG32: =(AG9/$AG$19)*100 -> 2.4569421 | AH32: 0 | AI32: 0 | AJ32: 0 | AK32: 0 | AL32: 0 | AM32: 0
A33: Australian Dollars | B33: =(B10/B19)*100 -> 0 | C33: =(C10/C19)*100 -> 0 | D33: =(D10/D19)*100 -> 0 | E33: =(E10/E19)*100 -> 0 | F33: =(F10/F19)*100 -> 0 | G33: =(G10/G19)*100 -> 0 | H33: =(H10/H19)*100 -> 0 | I33: =(I10/I19)*100 -> 0 | ... AC33: =(AC10/AC19)*100 -> 1.0803996 | AD33: =(AD10/$AD$19)*100 -> 0.51558468 | AE33: =(AE10/$AE$19)*100 -> 0.28973125 | AF33: =(AF10/$AF$19)*100 -> 0 | AG33: =(AG10/$AG$19)*100 -> 0 | AH33: 0.089447343 | AI33: 0.087549356 | AJ33: 0.087260188 | AK33: 0.08133241 | AL33: 0.075778964 | AM33: 0.075778964
A34: Great British Pound | B34: =(B11/B19)*100 -> 4.7370514 | C34: =(C11/C19)*100 -> 2.3782748 | D34: =(D11/D19)*100 -> 2.704104 | E34: =(E11/E19)*100 -> 2.7110416 | F34: =(F11/F19)*100 -> 2.4961283 | G34: =(G11/G19)*100 -> 2.5863714 | H34: =(H11/H19)*100 -> 2.6650426 | I34: =(I11/I19)*100 -> 2.886836 | ... AC34: =(AC11/AC19)*100 -> 0 | AD34: =(AD11/$AD$19)*100 -> 0 | AE34: =(AE11/$AE$19)*100 -> 0 | AF34: =(AF11/$AF$19)*100 -> 0 | AG34: =(AG11/$AG$19)*100 -> 0 | AH34: 0 | AI34: 0 | AJ34: 0 | AK34: 0 | AL34: 0 | AM34: 0
A35: European Dollar | B35: =(B12/B19)*100 -> 0 | C35: =(C12/C19)*100 -> 0 | D35: =(D12/D19)*100 -> 0 | E35: =(E12/E19)*100 -> 0 | F35: =(F12/F19)*100 -> 0 | G35: =(G12/G19)*100 -> 0.28583699 | H35: =(H12/H19)*100 -> 0.46723508 | I35: =(I12/I19)*100 -> 0.69231577 | ... AC35: =(AC12/AC19)*100 -> 2.0307926 | AD35: =(AD12/$AD$19)*100 -> 1.3213787 | AE35: =(AE12/$AE$19)*100 -> 1.0753487 | AF35: =(AF12/$AF$19)*100 -> 2.1027646 | AG35: =(AG12/$AG$19)*100 -> 2.5085379 | AH35: 2.7899052 | AI35: 3.466118 | AJ35: 3.3985928 | AK35: 3.115876 | AL35: 2.4592137 | AM35: 2.1
A36: Canadian Dollar | B36: =(B13/B19)*100 -> 0 | C36: =(C13/C19)*100 -> 0.27489691 | D36: =(D13/D19)*100 -> 0.26323136 | E36: =(E13/E19)*100 -> 0.27151555 | F36: =(F13/F19)*100 -> 0.27329872 | G36: =(G13/G19)*100 -> 0.27677038 | H36: =(H13/H19)*100 -> 0 | I36: =(I13/I19)*100 -> 0 | ... S36: =(S13/S19)*100 -> 0 | T36: 0 | U36: 0 | V36: 0 | W36: 0 | X36: 0 | Y36: 0 | Z36: 0 | AA36: 0 | AB36: 0 | AC36: 0 | AD36: =(AD13/$AD$19)*100 -> 0 | AE36: =(AE13/$AE$19)*100 -> 0 | AF36: =(AF13/$AF$19)*100 -> 0 | AG36: =(AG13/$AG$19)*100 -> 0 | AH36: 0 | AI36: 0 | AJ36: 0 | AK36: 0 | AL36: 0 | AM36: 0
A37: Swiss Franc | B37: =(B14/B19)*100 -> 3.6882394 | C37: =(C14/C19)*100 -> 3.0197009 | D37: =(D14/D19)*100 -> 0.071790372 | E37: =(E14/E19)*100 -> 0.012341616 | F37: =(F14/F19)*100 -> 0.10931949 | G37: =(G14/G19)*100 -> 0.10975377 | H37: =(H14/H19)*100 -> 0.13154689 | I37: =(I14/I19)*100 -> 0.15221499 | ... S37: =(S14/S19)*100 -> 0 | T37: 0 | U37: 0 | V37: 0 | W37: 0 | X37: 0 | Y37: 0 | Z37: 0 | AA37: 0 | AB37: 0 | AC37: 0 | AD37: =(AD14/$AD$19)*100 -> 0 | AE37: =(AE14/$AE$19)*100 -> 0 | AF37: =(AF14/$AF$19)*100 -> 0 | AG37: =(AG14/$AG$19)*100 -> 0 | AH37: 0 | AI37: 0 | AJ37: 0 | AK37: 0 | AL37: 0 | AM37: 0
A38: French Franc | B38: =(B15/B19)*100 -> 3.0470226 | C38: =(C15/C19)*100 -> 2.6906577 | D38: =(D15/D19)*100 -> 2.895545 | E38: =(E15/E19)*100 -> 2.3901596 | F38: =(F15/F19)*100 -> 2.350369 | G38: =(G15/G19)*100 -> 2.1807597 | H38: =(H15/H19)*100 -> 2.3434836 | I38: =(I15/I19)*100 -> 2.356708 | ... S38: =(S15/S19)*100 -> 0 | T38: 0 | U38: 0 | V38: 0 | W38: 0 | X38: 0 | Y38: 0 | Z38: 0 | AA38: 0 | AB38: 0 | AC38: 0 | AD38: =(AD15/$AD$19)*100 -> 0 | AE38: =(AE15/$AE$19)*100 -> 0 | AF38: =(AF15/$AF$19)*100 -> 0 | AG38: =(AG15/$AG$19)*100 -> 0 | AH38: 0 | AI38: 0 | AJ38: 0 | AK38: 0 | AL38: 0 | AM38: 0
A39: Deutsche Mark | B39: =(B16/B19)*100 -> 5.199324 | C39: =(C16/C19)*100 -> 4.2983881 | D39: =(D16/D19)*100 -> 4.1199697 | E39: =(E16/E19)*100 -> 3.5914102 | F39: =(F16/F19)*100 -> 3.0791655 | G39: =(G16/G19)*100 -> 2.5768276 | H39: =(H16/H19)*100 -> 2.6552984 | I39: =(I16/I19)*100 -> 2.6243964 | ... S39: =(S16/S19)*100 -> 0 | T39: 0 | U39: 0 | V39: 0 | W39: 0 | X39: 0 | Y39: 0 | Z39: 0 | AA39: 0 | AB39: 0 | AC39: 0 | AD39: =(AD16/$AD$19)*100 -> 0 | AE39: =(AE16/$AE$19)*100 -> 0 | AF39: =(AF16/$AF$19)*100 -> 0 | AG39: =(AG16/$AG$19)*100 -> 0 | AH39: 0 | AI39: 0 | AJ39: 0 | AK39: 0 | AL39: 0 | AM39: 0
A40: SDR | B40: =(B17/B19)*100 -> 0 | C40: =(C17/C19)*100 -> 8.5676205 | D40: =(D17/D19)*100 -> 13.053883 | E40: =(E17/E19)*100 -> 15.826065 | F40: =(F17/F19)*100 -> 12.954359 | G40: =(G17/G19)*100 -> 7.4441687 | H40: =(H17/H19)*100 -> 4.4141291 | I40: =(I17/I19)*100 -> 2.6296452 | ... S40: =(S17/S19)*100 -> 0 | T40: 0 | U40: 0 | V40: 0 | W40: 0 | X40: 0 | Y40: 0 | Z40: 0 | AA40: 0 | AB40: 0 | AC40: 0 | AD40: =(AD17/$AD$19)*100 -> 0 | AE40: =(AE17/$AE$19)*100 -> 0 | AF40: =(AF17/$AF$19)*100 -> 0 | AG40: =(AG17/$AG$19)*100 -> 0 | AH40: 0 | AI40: 0 | AJ40: 0 | AK40: 0 | AL40: 0 | AM40: 0
A41: Other | B41: =(B18/B19)*100 -> 0.77542499 | C41: =(C18/C19)*100 -> 0.3498688 | D41: =(D18/D19)*100 -> 1.1087624 | E41: =(E18/E19)*100 -> 1.1025177 | F41: =(F18/F19)*100 -> 1.1478546 | G41: =(G18/G19)*100 -> 1.2216072 | H41: =(H18/H19)*100 -> 1.7393423 | I41: =(I18/I19)*100 -> 1.8895654 | ... S41: =(S18/S19)*100 -> 0 | T41: 0 | U41: 0 | V41: 0 | W41: 0 | X41: 0 | Y41: 0 | Z41: 0 | AA41: 0 | AB41: 0 | AC41: 0 | AD41: =(AD18/$AD$19)*100 -> 0 | AE41: =(AE18/$AE$19)*100 -> 0 | AF41: =(AF18/$AF$19)*100 -> 0 | AG41: =(AG18/$AG$19)*100 -> 0 | AH41: 0 | AI41: 0 | AJ41: 0 | AK41: 0 | AL41: 0 | AM41: 0
A42: TOTAL | B42: =SUM(B30:B41) -> 100 | C42: =SUM(C30:C41) -> 100 | D42: =SUM(D30:D41) -> 100 | E42: =SUM(E30:E41) -> 100 | F42: =SUM(F30:F41) -> 100 | G42: =SUM(G30:G41) -> 100 | H42: =SUM(H30:H41) -> 100 | I42: =SUM(I30:I41) -> 100 | ... AH42: =SUM(AH30:AH41) -> 100 | AI42: 100 | AJ42: 100 | AK42: 100 | AL42: 100 | AM42: 100
A43: Sources: Ministry of Finance and Central Bank of Trinidad and Tobago
A44: p Provisional.

Sheet Table E.7
A1: Table E.7
A2: CENTRAL GOVERNMENT - CREDITOR COMPOSITION, EXTERNAL DEBT - CALENDAR YEARS 1988 - 2025
A3: (US$ Mn)
A5: Year | B5: Multilateral | C5: Bilateral | D5: Commercial Banks | E5: Bonds | F5: Financial Leases | G5: Other | H5: TOTAL
A6: 1988 | B6: 109.4 | C6: 570.6 | D6: 668.9 | E6: 654 | F6: 0 | G6: 8.9 | H6: =B6+C6+D6+E6+F6+G6 -> 2011.8
A7: 1989 | B7: 310.3 | C7: 392.8 | D7: 829.7 | E7: 540.3 | F7: 228.6 | G7: 99.2 | H7: =B7+C7+D7+E7+F7+G7 -> 2400.9
A8: 1990 | B8: 468.1 | C8: 501.1 | D8: 821.5 | E8: 445 | F8: 218.2 | G8: 53.4 | H8: =B8+C8+D8+E8+F8+G8 -> 2507.3
A9: 1991 | B9: 561.9 | C9: 491 | D9: 718.8 | E9: 411.6 | F9: 224.5 | G9: 23 | H9: =B9+C9+D9+E9+F9+G9 -> 2430.8
A10: 1992 | B10: 511.8 | C10: 456 | D10: 661.4 | E10: 352.8 | F10: 209.6 | G10: 3.8 | H10: =B10+C10+D10+E10+F10+G10 -> 2195.4
A11: 1993 | B11: 472.2 | C11: 439.9 | D11: 615.1 | E11: 392.6 | F11: 173.6 | G11: 2.2 | H11: =B11+C11+D11+E11+F11+G11 -> 2095.6
A12: 1994 | B12: 490.1 | C12: 437.8 | D12: 520.7 | E12: 472.7 | F12: 129.4 | G12: 1.8 | H12: =B12+C12+D12+E12+F12+G12 -> 2052.5
A13: 1995 | B13: 549.8 | C13: 385.3 | D13: 417.1 | E13: 472.2 | F13: 79 | G13: 1.8 | H13: =B13+C13+D13+E13+F13+G13 -> 1905.2
A14: 1996 | B14: 611 | C14: 282.7 | D14: 455.6 | E14: 477.1 | F14: 47.6 | G14: 1.7 | H14: =B14+C14+D14+E14+F14+G14 -> 1875.7
A15: 1997 | B15: 584.7 | C15: 194 | D15: 394 | E15: 325.1 | F15: 27.3 | G15: 1.7 | H15: =B15+C15+D15+E15+F15+G15 -> 1526.8
A16: 1998 | B16: 592.4 | C16: 139.1 | D16: 350.2 | E16: 325.6 | F16: 20.8 | G16: 1.7 | H16: =B16+C16+D16+E16+F16+G16 -> 1429.8
A17: 1999 | B17: 567 | C17: 77.5 | D17: 529.6 | E17: 324.1 | F17: 11.1 | G17: 1.7 | H17: =B17+C17+D17+E17+F17+G17 -> 1511
... A35: 2017 | B35: 1069.5347 | C35: 373.7 | D35: 96.3 | E35: 2050 | F35: 0 | G35: 0 | H35: =B35+C35+D35+E35+F35+G35 -> 3589.5347
A36: 2018 | B36: 1385.1994 | C36: 354.94132 | D36: 123.75433 | E36: 2050 | F36: 0 | G36: 0 | H36: 3913.8951
A37: 2019 | B37: 1527.3468 | C37: 359.3781 | D37: 133.39886 | E37: 2050 | F37: 0 | G37: 0 | H37: 4070.1237
A38: 2020 | B38: 1840.3084 | C38: 334.92718 | D38: 328.79053 | E38: 2200 | F38: 0 | G38: 0 | H38: 4704.0261
A39: 2021 | B39: 1938.3315 | C39: 328.62455 | D39: 369.34028 | E39: 2200 | F39: 0 | G39: 0 | H39: 4836.2964
A40: 2022 | B40: 1957.6922 | C40: 324.07058 | D40: 345.27243 | E40: 2200 | F40: 0 | G40: 0 | H40: 4852.3232
A41: 2023 | B41: 2025.379 | C41: 301.57749 | D41: 323.25653 | E41: 2532.218 | F41: 0 | G41: 0 | H41: 5182.4
A42: 2024 | B42: 2055.4062 | C42: 280.94292 | D42: 279.13123 | E42: 2960 | F42: 0 | G42: 0 | H42: 5575.5
A43: 2025p | B43: 2012.5 | C43: 247.3 | D43: 237.4 | E43: 2960 | F43: 0 | G43: 0 | H43: 5457.2
A44: Sources: Ministry of Finance and Central Bank of Trinidad and Tobago

Sheet Sheet1
B2: Nominal GDP (TT$M)1
A3: 1990 | B3: 21539.3 | C3: -272.9 | D3: =(C3/B3)*100 -> -1.2669864
A4: 1991 | B4: 22558.6 | C4: -53.2 | D4: =(C4/B4)*100 -> -0.23583024
A5: 1992 | B5: 23118.1 | C5: -627.7 | D5: =(C5/B5)*100 -> -2.7151885
A6: 1993 | B6: 24986.9 | C6: -39.8 | D6: =(C6/B6)*100 -> -0.15928346
A7: 1994 | B7: 29311.7 | C7: -6.2 | D7: =(C7/B7)*100 -> -0.021151963
A8: 1995 | B8: 31697 | C8: 53.3 | D8: =(C8/B8)*100 -> 0.16815471
A9: 1996 | B9: 34586.6 | C9: 171 | D9: =(C9/B9)*100 -> 0.49441113
A10: 1997 | B10: 35870.8 | C10: 41.4 | D10: =(C10/B10)*100 -> 0.11541421
A11: 1998 | B11: 38065.1 | C11: -741 | D11: =(C11/B11)*100 -> -1.9466651
A12: 1999 | B12: 42889.1 | C12: -1355.3 | D12: =(C12/B12)*100 -> -3.1600104
A13: 2000 | B13: 51370.6 | C13: 819.1 | D13: =(C13/B13)*100 -> 1.5944918
A14: 2001 | B14: 55007.2 | C14: -40.6 | D14: =(C14/B14)*100 -> -0.07380852
... A24: 2011 | B24: 150373.2 | C24: 1090.449 | D24: =(C24/B24)*100 -> 0.7251618
A25: 2012 | B25: 153587.7
A26: 2013 | B26: 165188.8
A28: 1 Sourced from the Review of the Economy

Sheet Sheet2
A2: External Debt Service Ratio (%)
B3: Interest (US$M) | C3: Principal (US$M) | D3: Exports (US$M) | E3: Debt Service Ratio
A4: 2000 | B4: 114 | C4: 270.3 | D4: 4844.1 | E4: =((B4+C4)/D4)*100 -> 7.9333622
A5: 2001 | B5: 121.4 | C5: 61.1 | D5: 4907.8 | E5: =((B5+C5)/D5)*100 -> 3.7185704
A6: 2002 | B6: 129.7 | C6: 68.6 | D6: 4557 | E6: =((B6+C6)/D6)*100 -> 4.3515471
A7: 2003 | B7: 116.7 | C7: 89.7 | D7: 5890.1 | E7: =((B7+C7)/D7)*100 -> 3.504185
A8: 2004 | B8: 109.9 | C8: 226.1 | D8: 7396.2 | E8: =((B8+C8)/D8)*100 -> 4.5428734
A9: 2005 | B9: 93.6 | C9: 92.3 | D9: 10892.547 | E9: =((B9+C9)/D9)*100 -> 1.7066716
A10: 2006 | B10: 103.8 | C10: 247.3 | D10: 14899.222 | E10: =((B10+C10)/D10)*100 -> 2.3564989
A11: 2007 | B11: 89 | C11: 61.9 | D11: 14138.961 | E11: =((B11+C11)/D11)*100 -> 1.0672637
A12: 2008 | B12: 117.9 | C12: 66.2 | D12: 19582.829 | E12: =((B12+C12)/D12)*100 -> 0.94010932
A13: 2009 | B13: 94.5 | C13: 339.9 | D13: 9986.176 | E13: =((B13+C13)/D13)*100 -> 4.3500134
