Workbook
Name \a: #N/A
Name \b: #N/A
Name \c: #N/A
Name \d: #N/A
Name \e: #N/A
Name \f: #N/A
Name \g: #N/A
Name \h: #N/A
Name \i: #N/A
Name \j: #N/A
Name \k: #N/A
Name \l: #N/A
Name \p: #N/A
Name _____________CAR1: #N/A
Name _____________CAR2: #N/A
Name _____________CAR3: #N/A
Name _____________CAR4: #N/A
Name _____________CAR5: #N/A
Name ____________CAR1: #N/A
Name ____________CAR2: #N/A
Name ____________CAR3: #N/A
Name ____________CAR4: #N/A
Name ____________CAR5: #N/A
Name ___________CAR1: #N/A
Name ___________CAR2: #N/A
Name ___________CAR3: #N/A
Name ___________CAR4: #N/A
Name ___________CAR5: #N/A
Name __________CAR1: #N/A
Name __________CAR2: #N/A
Name __________CAR3: #N/A
Name __________CAR4: #N/A
Name __________CAR5: #N/A
Name _________CAR1: #N/A
Name _________CAR2: #N/A
Name _________CAR3: #N/A
Name _________CAR4: #N/A
Name _________CAR5: #N/A
Name ________CAR1: #N/A
Name ________CAR2: #N/A
Name ________CAR3: #N/A
Name ________CAR4: #N/A
Name ________CAR5: #N/A
Name _______CAR1: #N/A
Name _______CAR2: #N/A
Name _______CAR3: #N/A
Name _______CAR4: #N/A
Name _______CAR5: #N/A
Name ______CAR1: #N/A
Name ______CAR2: #N/A
Name ______CAR3: #N/A
Name ______CAR4: #N/A
Name ______CAR5: #N/A
Name _____CAR1: #N/A
Name _____CAR2: #N/A
Name _____CAR3: #N/A
Name _____CAR4: #N/A
Name _____CAR5: #N/A
Name ____CAR1: #N/A
Name ____CAR2: #N/A

Sheet Cover
AM1: Select Name of Insurer / Financial Holding Company
A2: OWN RISK AND SOLVENCY ASSESSMENT (ORSA) KEY METRICS REPORT (KMR) | AM2: Assuria Life (T&T) Ltd
AM3: Bancassurance Caribbean Limited
A4: Of | AM4: Bankers Insurance Company of Trinidad and Tobago Limited
A5: Trinidad & Tobago Insurers & Financial Holding Companies | AM5: British American Insurance Company (Trinidad) Limited
AM6: Capital Insurance limited
AM7: Caribbean Atlantic Life Insurance Company Limited (CALICO)
AM8: CG United Insurance TT Ltd.
AM9: Colonial Fire & General Insurance Company Limited
AM10: Colonial Life Insurance Company (Trinidad) Limited
A11: Select Name of Insurer / Financial Holding Company | AM11: Cuna Caribbean Insurance Society Limited
A12: Please Enter the Address of the Insurer / Financial Holding Company | AM12: Export-Import Bank of Trinidad and Tobago (Eximbank) Limited
D13: Postal Code | AM13: Furness Anchorage General Insurance Limited
AM14: General Accident Insurance Company (Trinidad and Tobago) Limited
AM15: Guardian General Insurance Limited
AM16: Guardian Life of the Caribbean Limited
A17: For The Year | AM17: Gulf Insurance Limited
AM18: Maritime General Insurance Company Limited
A19: YYYY | AM19: Maritime Life (Caribbean) Limited
AM20: NAGICO Insurance (Trinidad and Tobago) Limited
AM21: Nationwide Insurance Company Limited
A22: Date of the ORSA: | AM22: Pan-American Life Insurance Company of Trinidad and Tobago Limited
A23: 45573 | AM23: Republic Life Insurance Company Limited
A24: DD/MMM/YYYY | AM24: Sagicor General Insurance Trinidad & Tobago Limited
A25: Date Submitted | AM25: Sagicor Life Insurance Trinidad & Tobago Limited
AM26: ScotiaLife Trinidad and Tobago Limited
AM27: Tatil Life Assurance Limited
AM28: The Beacon Insurance Company Limited
AM29: The Demerara Life Assurance Company of Trinidad and Tobago Limited
A30: DD/MMM/YYYY | AM30: The Great Northern Insurance Company Limited
AM31: The Insurance Company of the West Indies (Trinidad) Limited
AM32: The New India Assurance Company (Trinidad and Tobago) Limited
AM33: The Presidential Insurance Company Limited
AM34: Trinidad and Tobago Insurance Limited
AM35: Trinre Insurance Company Limited
A36: Insurance Act, 2018 | E36: V1.0, Last updated: September 2024 | AM36: United Security Life Insurance Company Limited
AM37: ScotiaLife Trinidad and Tobago Limited
C38: Annual Return approved by the Central Bank of Trinidad and Tobago | AM38: Tatil Life Assurance Limited
AM39: The Beacon Insurance Company Limited
AM40: The Demerara Life Assurance Company of Trinidad and Tobago Limited
...

Sheet ToC
A1: ToC
A3: =Cover!A11 -> Select Name of Insurer / Financial Holding Company
A4: ORSA Key Metrics Report
A5: TABLE OF CONTENTS
A7: Tab | B7: Description
A8: Cover | B8: Includes relevant insurer / financial holding company information
A9: ToC | B9: Table of Contents
A10: Instructions | B10: A guide on how to complete the Tables 1-3 in the KMR tab
A11: KMR | B11: An overview of the results of the insurer’s ORSA process for determining own capital needs and Internal Capital Targets, as well as a comparison with regulatory capital
A12: Notes | B12: Any additional information relevant to the ORSA
B13: ORSA Key Metrics Report
B14: (Next page is Instructions)

Sheet Instructions
A1: Instructions
A3: =Cover!A11 -> Select Name of Insurer / Financial Holding Company
A4: ORSA Key Metrics Report
A5: INSTRUCTIONS
A7: General Instructions for Completing the Key Metrics Report ("KMR") Tab:
A9: All insurers are required to complete a KMR. The KMR form must be submitted to the Central Bank at least annually and within one (1) month of the Own Risk and Solvency Assessment (ORSA) report being reviewed and approved by the insurer’s Board of Directors. The KMR (Excel and PDF) must be emailed to insurance_reports@central-bank.org.tt. The PDF version must include the signature of the insurer’s Chief Risk Officer or other Officer having responsibility for the oversight of the insurer’s ERM framework and the ORSA process.
A11: All amounts should be reported in Trinidad and Tobago dollars rounded to the nearest dollar.
A13: The reporting entity is only required to enter data in the white cells in this document. Cells coded blue contain formulae and cannot accept data entry. Cells coded yellow cannot accept data entry.
A15: The name, signature, and job title of the person completing the "KMR" tab, as well as the date of completion, must also be included in the relevant spaces at the bottom of that tab.
A17: Please conduct a quality check prior to submission, including, but not limited to, a data quality/integrity check (e.g. data entered in all required cells, correct unit used, consistent information with the other parts of the submission), file naming convention, etc.
A19: Instructions for Completing "TABLE 1: Calculation of Capital Resources" in the "KMR" Tab:
A21: Regulatory Capital: The amounts reported as "Regulatory Capital" should be those calculated per the Insurance (Capital Adequacy) Regulations.
A23: ORSA Capital: The amounts reported as "ORSA Capital" reflects the insurer's assessment of its own capital needs for all material risks.
A25: ORSA Report Page Reference: The insurer must include page references to the sections of the ORSA report that: 1) provide a description of how the risk or element was quantified in the ORSA process; and 2) explain the methods used.
... A49: ORSA Capital Ratios as at: This is the insurer's Capital Ratio for Net Tier 1 Capital and for Total Capital as at the date of the ORSA, calculated through the ORSA process described in the ORSA Guideline.
B51: ORSA Key Metrics Report
B52: (Next page is KMR)

Sheet KMR
A1: KMR
A3: =Cover!A11 -> Select Name of Insurer / Financial Holding Company
A4: ORSA Key Metrics Report
A5: =Cover!A23 -> 45573
A7: TABLE 1: Calculation of Capital Resources | C7: Regulatory Capital | D7: ORSA Capital | E7: ORSA Report Page Reference
C8: $ | D8: $
A9: Regulatory Capital Adequacy Risks
B10: Insurance Risk – Long-Term Insurance Business | C10: =SUM(C11:C17) -> 0
B11: Asset Liability Mismatch Risk
B12: Mortality Risk
B13: Morbidity Risk
B14: Lapse Risk
B15: Interest Margin Pricing Risk
B16: Liquidity and Operational Risk
B17: Guarantee Risk
B18: Insurance Risk – General Insurance Business | C18: =SUM(C19:C21) -> 0
B19: Margin for Unexpired Coverage Risk
B20: Liability for Incurred Claims Risk
B21: Catastrophe Risk
B22: Credit Risk | C22: =SUM(C23:C25) -> 0
B23: Asset Default Risk
B24: Off-balance Sheet Risk
B25: Foreign Currency Mismatch Risk
B26: Market Risk | C26: =SUM(C27) -> 0
B27: Investment Volatility Risk
A28: Regulatory Capital Required | C28: =SUM(C10,C18,C22,C26) -> 0
A29: Other Risks
B30: Asset Concentration Risk
B31: Operational Risk
B32: Liquidity Risk
B33: Group Risk
B34: Mismatch Risk
B35: Basis Risk
B36: Reputational Risk
B37: Strategic / Business Risk
B38: Pension Risk
B39: Climate Risk
B40: Technology / Cyber Risk
B41: Other (Specify)1
A49: ORSA Adjustments
...

Sheet KMR (2)
A1: KMR
A3: =Cover!A11 -> Select Name of Insurer / Financial Holding Company
A5: ORSA Key Metric Report
A6: For Year Ended: | E6: =Cover!A23 -> 45573
A8: KEY METRIC REPORT
A10: TABLE 1: Calculation of Capital Resources | C10: Regulatory Capital | D10: ORSA Capital | E10: ORSA Page Reference
C11: $ | D11: $
A12: Regulatory Capital Adequacy Risks
B13: Insurance Risk – Long-Term Insurance Business | C13: =SUM(C14:C20) -> 0 | D13: =SUM(D14:D20) -> 0
B14: Asset Liability Mismatch Risk
B15: Mortality Risk
B16: Morbidity Risk
B17: Lapse Risk
B18: Interest Margin Pricing Risk
B19: Liquidity and Operational Risk
B20: Guarantee Risk
B21: Insurance Risk – General Insurance Business | C21: =SUM(C22:C24) -> 0 | D21: =SUM(D22:D24) -> 0
B22: Margin for Unexpired Coverage Risk
B23: Liability for Incurred Claims Risk
B24: Catastrophe Risk
B25: Credit Risk | C25: =SUM(C26:C28) -> 0 | D25: =SUM(D26:D28) -> 0
B26: Asset Default Risk
B27: Off-balance Sheet Risk
B28: Foreign Currency Mismatch Risk
B29: Market Risk | C29: =SUM(C30) -> 0 | D29: =SUM(D30) -> 0
B30: Investment Volatility Risk
A31: Base Capital Required | C31: =SUM(C13,C21,C25,C29) -> 0 | D31: =SUM(D13,D21,D25,D29) -> 0
A32: Other Risks | D32: =SUM(D33:D48) -> 0
B33: Asset Concentration Risk
B34: Operational Risk
B35: Liquidity Risk
B36: Group Risk
B37: Mismatch Risk
B38: Basis Risk
B39: Reputational Risk
B40: Strategic / Business Risk
B41: Pension Risk
B42: Climate Risk
B43: Technology / Cyber Risk
B44: Other (specify)1
...

Sheet Notes
A1: Notes
A3: =Cover!A11 -> Select Name of Insurer / Financial Holding Company
A4: Notes to the ORSA Key Metrics Report
A5: =Cover!A23 -> 45573
